{"text_format":"1","workbook":"xlsx","n_sheets":65,"sheets":["START","Instructions","Template names","Lookup and lists","Org structure","Contacts","A1-Sum","A2-FinPerf SC","A2A","A3-FinPerf V","A3A","A4-FinPerf RE","A5-Capex","A5A","Chart1","A6-FinPos","A7-CFlow","A8-ResRecon","A9-Asset","A10-SerDel","SA1","SA2","SA3","SA4","SA5","SA6","SA7","SA8","SA9","SA10","SA11","SA12a","SA12b","SA13a","SA13b","SA14","SA15","SA16","SA17","SA18","SA19","SA20","SA21","SA22","SA23","SA24","SA25","SA26","SA27","SA28","SA29","SA30","SA31","SA32","SA33","SA34a","SA34b","SA34c","SA34d","SA34e","SA35","SA36","SA37","SA38","LGDB_EXPORT"],"not_rendered":{"charts":2,"images":17,"macros":1,"external_links":7,"defined_names":1917,"comments":0,"pivot_tables":0},"unopened":[{"sheet":"Chart1","index":14,"reason":"not_a_worksheet"}],"bounds":{"document_bytes":16777216,"sheet_cells":100000,"rows_first":2000,"rows_last":500,"rows_between":2000,"halvings":0,"cell_chars":16384,"cell_head_chars":4096},"cells_cut":0,"cells_raw":0,"read":"whole","date_system":"1900"}

{"sheet":"START","index":0,"n_rows":0,"n_cols":0,"rows_kept":0,"cut":false,"hidden":false,"merged":[]}

{"sheet":"Instructions","index":1,"n_rows":36,"n_cols":24,"rows_kept":36,"cut":false,"hidden":false,"merged":[]}
[]
[null,null,null,2020]
[]
[null,null,null,null,null,null,null,null,null,null,null,null,null,null,null,null,null,null,null,null,null,null,null,"Yes"]
[null,null,null,null,null,null,null,null,null,null,null,null,null,null,null,null,null,null,null,null,null,null,null,"No"]
[]
[null,null,null,null,null,null,null,null,null,null,null,null,null,null,null,null,null,null,null,null,null,null,"Type of Entities Range:"]
[null,null,null,null,null,null,null,null,null,null,null,null,null,null,null,null,null,null,null,null,null,null,null,"Parent Municipality"]
[null,null,null,null,null,null,null,null,null,null,null,null,null,null,null,null,null,null,null,null,null,null,null,"Consolidated Information"]
[]
[]
[]
[]
[]
[]
[]
[null,null,null,null,null,null,null,null,null,null,null,null,null,null,null,null,null,null,null,null,null,null,"MTREF Range:",2008]
[null,null,null,null,null,null,null,null,null,null,null,null,null,null,null,null,null,null,null,null,null,null,null,2009]
[null,null,null,null,null,null,null,null,null,null,null,null,null,null,null,null,null,null,null,null,null,null,null,2010]
[null,null,null,null,null,null,null,null,null,null,null,null,null,null,null,null,null,null,null,null,null,null,null,2011]
[null,null,null,null,null,null,null,null,null,null,null,null,null,null,null,null,null,null,null,null,null,null,null,2012]
[null,null,null,null,null,null,null,null,null,null,null,null,null,null,null,null,null,null,null,null,null,null,null,2013]
[null,null,null,null,null,null,null,null,null,null,null,null,null,null,null,null,null,null,null,null,null,null,null,2014]
[null,null,null,null,null,null,null,null,null,null,null,null,null,null,null,null,null,null,null,null,null,null,null,2015]
[null,null,null,null,null,null,null,null,null,null,null,null,null,null,null,null,null,null,null,null,null,null,null,2016]
[null,null,null,null,null,null,null,null,null,null,null,null,null,null,null,null,null,null,null,null,null,null,null,2017]
[null,null,null,null,null,null,null,null,null,null,null,null,null,null,null,null,null,null,null,null,null,null,null,2018]
[null,null,null,null,null,null,null,null,null,null,null,null,null,null,null,null,null,null,null,null,null,null,null,2019]
[null,null,null,null,null,null,null,null,null,null,null,null,null,null,null,null,null,null,null,null,null,null,null,2020]
[null,null,null,null,null,null,null,null,null,null,null,null,null,null,null,null,null,null,null,null,null,null,null,2021]
[null,null,null,null,null,null,null,null,null,null,null,null,null,null,null,null,null,null,null,null,null,null,null,2022]
[]
[null,null,null,null,null,null,null,null,null,null,null,null,null,null,null,null,null,null,null,null,null,null,"MTREF Linked:",13]
[null,null,null,null,null,null,null,null,null,null,null,null,null,null,null,null,null,null,null,null,null,null,"MTREF:",{"$f":"INDEX(X17:X31,X33,1)","v":2020}]
[]
[null,null,null,null,null,null,null,null,null,null,null,null,null,null,null,null,null,null,null,null,null,null,"Fin Year:",{"$f":"MTREF&\"/\"&RIGHT(MTREF,2)+1","v":"2020/21"}]

{"sheet":"Template names","index":2,"n_rows":179,"n_cols":6,"rows_kept":179,"cut":false,"hidden":true,"merged":[[0,0,0,3],[86,0,86,1],[109,0,109,1],[98,0,98,1],[91,0,91,3]]}
["Common sheet headings"]
["Head1",{"$f":"HLOOKUP(MTREF,Headings,2)","v":"2018/19"},"Prior year -1"]
["Head1A",{"$f":"HLOOKUP(MTREF,Headings,3)","v":"2017/18"},"Prior year -2"]
["Head1B",{"$f":"HLOOKUP(MTREF,Headings,4)","v":"2016/17"},"Prior year -3"]
["Head2",{"$f":"HLOOKUP(MTREF,Headings,5)","v":"Current Year 2019/20"},"Year in which budget is being prepared"]
["Head2A",{"$f":"HLOOKUP(MTREF,Headings,6)","v":"2019/20"},"Year in which budget is being prepared"]
["Head3",{"$f":"HLOOKUP(MTREF,Headings,7)","v":"2020/21 Medium Term Revenue & Expenditure Framework"},"MTREF name"]
["Head4","LTFS","Long term financial strategy"]
["Head5","Audited Outcome"]
["Head5A","Outcome"]
["Head5B","Pre-audit outcome"]
["Head6","Original Budget"]
["Head7","Adjusted Budget"]
["Head8","Full Year Forecast"]
["Head9",{"$f":"HLOOKUP(MTREF,Headings,8)","v":"Budget Year 2020/21"},"1st year of MTREF","Year1"]
["Head10",{"$f":"HLOOKUP(MTREF,Headings,9)","v":"Budget Year +1 2021/22"},"2nd year of MTREF","Year2"]
["Head11",{"$f":"HLOOKUP(MTREF,Headings,10)","v":"Budget Year +2 2022/23"},"3rd year of MTREF","Year3"]
["Head12",{"$f":"HLOOKUP(MTREF,Headings,11)","v":"Forecast 2023/24"},"1st yr of long term forecast","Year4"]
["Head13",{"$f":"HLOOKUP(MTREF,Headings,12)","v":"Forecast 2024/25"},"Next yr of long term forecast","Year5"]
["Head14",{"$f":"HLOOKUP(MTREF,Headings,13)","v":"Forecast 2025/26"},"Next yr of long term forecast","Year6"]
["Head15",{"$f":"HLOOKUP(MTREF,Headings,14)","v":"Forecast 2026/27"},"Next yr of long term forecast","Year7"]
["Head16",{"$f":"HLOOKUP(MTREF,Headings,15)","v":"Forecast 2027/28"},"Next yr of long term forecast","Year8"]
["Head17",{"$f":"HLOOKUP(MTREF,Headings,16)","v":"Forecast 2028/29"},"Next yr of long term forecast","Year9"]
["Head18",{"$f":"HLOOKUP(MTREF,Headings,17)","v":"Forecast 2029/30"},"Next yr of long term forecast","Year10"]
["Head19",{"$f":"HLOOKUP(MTREF,Headings,18)","v":"Forecast 2030/31"},"Next yr of long term forecast","Year11"]
["Head20",{"$f":"HLOOKUP(MTREF,Headings,19)","v":"Forecast 2031/32"},"Next yr of long term forecast","Year12"]
["Head21",{"$f":"HLOOKUP(MTREF,Headings,20)","v":"Forecast 2032/33"},"Next yr of long term forecast","Year13"]
["Head22",{"$f":"HLOOKUP(MTREF,Headings,21)","v":"Forecast 2033/34"},"Next yr of long term forecast","Year14"]
["Head23",{"$f":"HLOOKUP(MTREF,Headings,22)","v":"Forecast 2034/35"},"Next yr of long term forecast","Year15"]
["Head24","Description"]
["Head25"]
["Head26","Vote Description"]
["Head27","Ref"]
["Head27a","References"]
["Head28","Surplus/(Deficit) for the year",null,"Result"]
["Head29",{"$f":"HLOOKUP(MTREF,Headings,23)","v":"Annual target 2020/21"}]
["Head30",{"$f":"HLOOKUP(MTREF,Headings,24)","v":"Revised target 2020/21"}]
["Head31","Quarter ended 30 September"]
["Head32","Quarter ended 31 December"]
["Head33","Quarter ended 31 March"]
["Head34","Quarter ended 30 June"]
["Head35","Variance explanation"]
["Head36","YTD  Actual 31 Dec"]
["Head37","YTD  Budget 31 Dec"]
["Head38","Monthly actual"]
["Head39","YTD actual"]
["Head40","YTD budget"]
["Head41","YTD variance"]
["Head42","Surplus/ (Deficit) for the yr/period"]
["Head43",{"$f":"Head3&\" Summary\"","v":"2020/21 Medium Term Revenue & Expenditure Framework Summary"}]
["Head44","2001 Census"]
["Head45","2011 Census"]
["Head46"," - Adjustments Budget - January 2007"]
["Head47","Previous target year to complete"]
["Head48","Present value"]
["Head49"]
["Head50","Other Adjusts."]
["Head51","Accum. Funds"]
["Head52","Multi-year capital"]
["Head53","Unfore. Unavoid."]
["Head54","Prior Adjusted"]
["Head55","Nat. or Prov. Govt"]
["Head56","Total Adjusts."]
["SFPerf1","Budgeted Financial Performance"]
["SFPerf2","Forecast Financial Performance"]
["SFPos1","Budgeted Financial Position"]
["SFPos2","Forecast Financial Position"]
["Cash1","Budget Cash Flow"]
["Cash2","Forecast Cash Flow"]
["RandM","Expenditure includes repairs & maintenance of R'000"]
["Depart1","Department 1 - ",null,"DEP1"]
["Depart2","Department 2 - ",null,"DEP2"]
["Depart3","Department 3 - ",null,"DEP3"]
["Depart4","Department 4 - ",null,"DEP4"]
["Depart5","Department 5 - ",null,"DEP5"]
["Depart6","Department 6 - ",null,"DEP6"]
["Depart7","Department 7 - ",null,"DEP7"]
["Depart8","Department 8 - ",null,"DEP8"]
["Depart9","Department 9 - ",null,"DEP9"]
["Depart10","Department 10 - ",null,"DEP10"]
["Depart11","Department 11 - ",null,"DEP11"]
["Depart12","Department 12 - ",null,"DEP12"]
["Depart13","Department 13 - ",null,"DEP13"]
["Depart14","Department 14 - ",null,"DEP14"]
[]
[]
["Base year of forecast column selection names"]
["Choose","ACT"]
[null,"APP"]
[null,"ADJ"]
[]
["Standard nomenclature"]
["Muni",{"$f":"'Lookup and lists'!B28","v":"DC15 O .R. Tambo"}]
["Municipal Entities",1,"Type of report:",2]
[{"$f":"IF((MuniEntities=1)*(MuniType=2),\"YES\",\"NO\")","v":"YES"},"Does this municipality have entities (consolidated budget and entity budgets required)? YES/NO"]
["Entity 1","(Pty) Ltd Example 1 - Municipal entity - ",null,"Ent1"]
["Entity 2","(Pty) Ltd Example 2 - Municipal entity - ",null,"Ent2"]
["Entity 3","Municipal Entity Example 3",null,"Ent3"]
["Budget approval tables",null,"Chart x-ref","Sch/Tab/Ch","Alternative for municipalities without entities","Alternative for municipalities without entities"]
[null,{"$f":"IF(Consolques=\"YES\",E100,F100)","v":"Table A1 Consolidated Budget Summary"},null,"Table A1 ",{"$f":"D100&\"Consolidated Budget Summary\"","v":"Table A1 Consolidated Budget Summary"},{"$f":"D100&\"Budget Summary\"","v":"Table A1 Budget Summary"}]
[null,"Table A2 Consolidated Budgeted Financial Performance (revenue and expenditure by functional classification)","Charts 5, 6","Table A2 ",{"$f":"D101&\"Consolidated Budgeted Financial Performance (revenue and expenditure by functional classification)\"","v":"Table A2 Consolidated Budgeted Financial Performance (revenue and expenditure by functional classification)"},{"$f":"D101&\"Budgeted Financial Performance (revenue and expenditure by functional classification)\"","v":"Table A2 Budgeted Financial Performance (revenue and expenditure by functional classification)"}]
[null,"Table A3 Consolidated Budgeted Financial Performance (revenue and expenditure by municipal vote)",null,"Table A3 ",{"$f":"D102&\"Consolidated Budgeted Financial Performance (revenue and expenditure by municipal vote)\"","v":"Table A3 Consolidated Budgeted Financial Performance (revenue and expenditure by municipal vote)"},{"$f":"D102&\"Budgeted Financial Performance (revenue and expenditure by municipal vote)\"","v":"Table A3 Budgeted Financial Performance (revenue and expenditure by municipal vote)"}]
[null,"Table A4 Consolidated Budgeted Financial Performance (revenue and expenditure)","Charts 1, 2, 3, 4","Table A4 ",{"$f":"D103&\"Consolidated Budgeted Financial Performance (revenue and expenditure)\"","v":"Table A4 Consolidated Budgeted Financial Performance (revenue and expenditure)"},{"$f":"D103&\"Budgeted Financial Performance (revenue and expenditure)\"","v":"Table A4 Budgeted Financial Performance (revenue and expenditure)"}]
[null,"Table A5 Consolidated Budgeted Capital Expenditure by vote, functional classification and funding","Charts 7, 8, 9, 10, 20","Table A5 ",{"$f":"D104&\"Consolidated Budgeted Capital Expenditure by vote, functional classification and funding\"","v":"Table A5 Consolidated Budgeted Capital Expenditure by vote, functional classification and funding"},{"$f":"D104&\"Budgeted Capital Expenditure by vote, functional classification and funding\"","v":"Table A5 Budgeted Capital Expenditure by vote, functional classification and funding"}]
[null,"Table A6 Consolidated Budgeted Financial Position",null,"Table A6 ",{"$f":"D105&\"Consolidated Budgeted Financial Position\"","v":"Table A6 Consolidated Budgeted Financial Position"},{"$f":"D105&\"Budgeted Financial Position\"","v":"Table A6 Budgeted Financial Position"}]
[null,"Table A7 Consolidated Budgeted Cash Flows",null,"Table A7 ",{"$f":"D106&\"Consolidated Budgeted Cash Flows\"","v":"Table A7 Consolidated Budgeted Cash Flows"},{"$f":"D106&\"Budgeted Cash Flows\"","v":"Table A7 Budgeted Cash Flows"}]
[null,"Table A8 Consolidated Cash backed reserves/accumulated surplus reconciliation",null,"Table A8 ",{"$f":"D107&\"Consolidated Cash backed reserves/accumulated surplus reconciliation\"","v":"Table A8 Consolidated Cash backed reserves/accumulated surplus reconciliation"},{"$f":"D107&\"Cash backed reserves/accumulated surplus reconciliation\"","v":"Table A8 Cash backed reserves/accumulated surplus reconciliation"}]
[null,"Table A9 Consolidated Asset Management",null,"Table A9 ",{"$f":"D108&\"Consolidated Asset Management\"","v":"Table A9 Consolidated Asset Management"},{"$f":"D108&\"Asset Management\"","v":"Table A9 Asset Management"}]
[null,"Table A10 Consolidated basic service delivery measurement",null,"Table A10 ",{"$f":"D109&\"Consolidated basic service delivery measurement\"","v":"Table A10 Consolidated basic service delivery measurement"},{"$f":"D109&\"Basic service delivery measurement\"","v":"Table A10 Basic service delivery measurement"}]
["Supportinging Tables to the Budget Approval Tables",null,{"$f":"$C$99","v":"Chart x-ref"},{"$f":"$D$99","v":"Sch/Tab/Ch"}]
["Supporting Table SA1",{"$f":"A111&\" Supportinging detail to 'Budgeted Financial Performance'\"","v":"Supporting Table SA1 Supportinging detail to 'Budgeted Financial Performance'"}]
["Supporting Table SA2 ",{"$f":"IF(Consolques=\"YES\",E112,F112)","v":"Supporting Table SA2 Consolidated Matrix Financial Performance Budget (revenue source/expenditure type & dept.)"},null,null,{"$f":"A112&\"Consolidated Matrix Financial Performance Budget (revenue source/expenditure type & dept.)\"","v":"Supporting Table SA2 Consolidated Matrix Financial Performance Budget (revenue source/expenditure type & dept.)"},{"$f":"A112&\"Matrix Financial Performance Budget (revenue source/expenditure type and dept.)\"","v":"Supporting Table SA2 Matrix Financial Performance Budget (revenue source/expenditure type and dept.)"}]
["Supporting Table SA3 ",{"$f":"A113&\"Supportinging detail to 'Budgeted Financial Position'\"","v":"Supporting Table SA3 Supportinging detail to 'Budgeted Financial Position'"}]
["Supporting Table SA4 ",{"$f":"A114&\"Reconciliation of IDP strategic objectives and budget (revenue)\"","v":"Supporting Table SA4 Reconciliation of IDP strategic objectives and budget (revenue)"},"Chart 11"]
["Supporting Table SA5 ",{"$f":"A115&\"Reconciliation of IDP strategic objectives and budget (operating expenditure)\"","v":"Supporting Table SA5 Reconciliation of IDP strategic objectives and budget (operating expenditure)"},"Chart 12"]
["Supporting Table SA6 ",{"$f":"A116&\"Reconciliation of IDP strategic objectives and budget (capital expenditure)\"","v":"Supporting Table SA6 Reconciliation of IDP strategic objectives and budget (capital expenditure)"},"Chart 13"]
["Supporting Table SA7",{"$f":"A117&\" Measureable performance objectives\"","v":"Supporting Table SA7 Measureable performance objectives"}]
["Supporting Table SA8",{"$f":"A118&\" Performance indicators and benchmarks\"","v":"Supporting Table SA8 Performance indicators and benchmarks"},"Chts 15-19"]
["Supporting Table SA9",{"$f":"A119&\" Social, economic and demographic statistics and assumptions\"","v":"Supporting Table SA9 Social, economic and demographic statistics and assumptions"}]
["Supporting Table SA10",{"$f":"A120&\" Funding measurement\"","v":"Supporting Table SA10 Funding measurement"},"Chart 14"]
["Supporting Table SA11",{"$f":"A121&\" Property rates summary\"","v":"Supporting Table SA11 Property rates summary"}]
["Supporting Table SA12a",{"$f":"A122&\" Property rates by category (current year)\"","v":"Supporting Table SA12a Property rates by category (current year)"}]
["Supporting Table SA12b",{"$f":"A123&\" Property rates by category (budget year)\"","v":"Supporting Table SA12b Property rates by category (budget year)"}]
["Supporting Table SA13a",{"$f":"A124&\" Service Tariffs by category\"","v":"Supporting Table SA13a Service Tariffs by category"}]
["Supporting Table SA13b",{"$f":"A125&\" Service Tariffs by category - explanatory\"","v":"Supporting Table SA13b Service Tariffs by category - explanatory"}]
["Supporting Table SA14",{"$f":"A126&\" Household bills\"","v":"Supporting Table SA14 Household bills"}]
["Supporting Table SA15",{"$f":"A127&\" Investment particulars by type\"","v":"Supporting Table SA15 Investment particulars by type"}]
["Supporting Table SA16",{"$f":"A128&\" Investment particulars by maturity\"","v":"Supporting Table SA16 Investment particulars by maturity"}]
["Supporting Table SA17",{"$f":"A129&\" Borrowing\"","v":"Supporting Table SA17 Borrowing"}]
["Supporting Table SA18",{"$f":"A130&\" Transfers and grant receipts\"","v":"Supporting Table SA18 Transfers and grant receipts"}]
["Supporting Table SA19",{"$f":"A131&\" Expenditure on transfers and grant programme\"","v":"Supporting Table SA19 Expenditure on transfers and grant programme"}]
["Supporting Table SA20",{"$f":"A132&\" Reconciliation of transfers, grant receipts and unspent funds\"","v":"Supporting Table SA20 Reconciliation of transfers, grant receipts and unspent funds"}]
["Supporting Table SA21",{"$f":"A133&\" Transfers and grants made by the municipality\"","v":"Supporting Table SA21 Transfers and grants made by the municipality"}]
["Supporting Table SA22",{"$f":"A134&\" Summary councillor and staff benefits\"","v":"Supporting Table SA22 Summary councillor and staff benefits"}]
["Supporting Table SA23",{"$f":"A135&\" Salaries, allowances & benefits (political office bearers/councillors/senior managers)\"","v":"Supporting Table SA23 Salaries, allowances & benefits (political office bearers/councillors/senior managers)"}]
["Supporting Table SA24",{"$f":"A136&\" Summary of personnel numbers\"","v":"Supporting Table SA24 Summary of personnel numbers"}]
["Supporting Table SA25",{"$f":"IF(Consolques=\"YES\",E137,F137)","v":"Supporting Table SA25 Consolidated budgeted monthly revenue and expenditure"},null,null,{"$f":"A137&\" Consolidated budgeted monthly revenue and expenditure\"","v":"Supporting Table SA25 Consolidated budgeted monthly revenue and expenditure"},{"$f":"A137&\" Budgeted monthly revenue and expenditure\"","v":"Supporting Table SA25 Budgeted monthly revenue and expenditure"}]
["Supporting Table SA26","Supporting Table SA26 Consolidated budgeted monthly revenue and expenditure (municipal vote)",null,null,{"$f":"A138&\" Consolidated budgeted monthly revenue and expenditure (municipal vote)\"","v":"Supporting Table SA26 Consolidated budgeted monthly revenue and expenditure (municipal vote)"},{"$f":"A138&\" Budgeted monthly revenue and expenditure (municipal vote)\"","v":"Supporting Table SA26 Budgeted monthly revenue and expenditure (municipal vote)"}]
["Supporting Table SA27","Supporting Table SA27 Consolidated budgeted monthly revenue and expenditure (functional classification)",null,null,{"$f":"A139&\" Consolidated budgeted monthly revenue and expenditure (functional classification)\"","v":"Supporting Table SA27 Consolidated budgeted monthly revenue and expenditure (functional classification)"},{"$f":"A139&\" Budgeted monthly revenue and expenditure (functional classification)\"","v":"Supporting Table SA27 Budgeted monthly revenue and expenditure (functional classification)"}]
["Supporting Table SA28","Supporting Table SA28 Consolidated budgeted monthly capital expenditure (municipal vote)",null,null,{"$f":"A140&\" Consolidated budgeted monthly capital expenditure (municipal vote)\"","v":"Supporting Table SA28 Consolidated budgeted monthly capital expenditure (municipal vote)"},{"$f":"A140&\" Budgeted monthly capital expenditure (municipal vote)\"","v":"Supporting Table SA28 Budgeted monthly capital expenditure (municipal vote)"}]
["Supporting Table SA29","Supporting Table SA29 Consolidated budgeted monthly capital expenditure (functional classification)",null,null,{"$f":"A141&\" Consolidated budgeted monthly capital expenditure (functional classification)\"","v":"Supporting Table SA29 Consolidated budgeted monthly capital expenditure (functional classification)"},{"$f":"A141&\" Budgeted monthly capital expenditure (functional classification)\"","v":"Supporting Table SA29 Budgeted monthly capital expenditure (functional classification)"}]
["Supporting Table SA30","Supporting Table SA30 Consolidated budgeted monthly cash flow",null,null,{"$f":"A142&\" Consolidated budgeted monthly cash flow\"","v":"Supporting Table SA30 Consolidated budgeted monthly cash flow"},{"$f":"A142&\" Budgeted monthly cash flow\"","v":"Supporting Table SA30 Budgeted monthly cash flow"}]
["Supporting Table SA31","Supporting Table SA31 Aggregated entity budget",null,null,{"$f":"A143&\" Aggregated entity budget\"","v":"Supporting Table SA31 Aggregated entity budget"},"NOT REQUIRED - municipality does not have entities"]
["Supporting Table SA32",{"$f":"A144&\" List of external mechanisms\"","v":"Supporting Table SA32 List of external mechanisms"}]
["Supporting Table SA33",{"$f":"A145&\" Contracts having future budgetary implications\"","v":"Supporting Table SA33 Contracts having future budgetary implications"}]
["Supporting Table SA34a",{"$f":"IF(Consolques=\"YES\",E146,F146)","v":"Supporting Table SA34a Consolidated capital expenditure on new assets by asset class"},null,null,{"$f":"A146&\" Consolidated capital expenditure on new assets by asset class\"","v":"Supporting Table SA34a Consolidated capital expenditure on new assets by asset class"},{"$f":"A146&\" Capital expenditure on new assets by asset class\"","v":"Supporting Table SA34a Capital expenditure on new assets by asset class"}]
["Supporting Table SA34b","Supporting Table SA34b Consolidated capital expenditure on the renewal of existing assets by asset class",null,null,{"$f":"A147&\" Consolidated capital expenditure on the renewal of existing assets by asset class\"","v":"Supporting Table SA34b Consolidated capital expenditure on the renewal of existing assets by asset class"},{"$f":"A147&\" Capital expenditure on the renewal of existing assets by asset class\"","v":"Supporting Table SA34b Capital expenditure on the renewal of existing assets by asset class"}]
["Supporting Table SA34c","Supporting Table SA34c Consolidated repairs and maintenance by asset class",null,null,{"$f":"A148&\" Consolidated repairs and maintenance by asset class\"","v":"Supporting Table SA34c Consolidated repairs and maintenance by asset class"},{"$f":"A148&\" Repairs and maintenance expenditure by asset class\"","v":"Supporting Table SA34c Repairs and maintenance expenditure by asset class"}]
["Supporting Table SA34d",{"$f":"IF(Consolques=\"YES\",E149,F149)","v":"Supporting Table SA34d Consolidated Depreciation by asset class"},null,null,{"$f":"A149&\" Consolidated Depreciation by asset class\"","v":"Supporting Table SA34d Consolidated Depreciation by asset class"},{"$f":"A149&\" Depreciation by asset class\"","v":"Supporting Table SA34d Depreciation by asset class"}]
["Supporting Table SA34e",{"$f":"IF(Consolques=\"YES\",E150,F150)","v":"Supporting Table SA34e Consolidated capital expenditure on the upgrading of existing assets by asset class"},null,null,{"$f":"A150&\" Consolidated capital expenditure on the upgrading of existing assets by asset class\"","v":"Supporting Table SA34e Consolidated capital expenditure on the upgrading of existing assets by asset class"},{"$f":"A150&\" Capital expenditure on the upgrading of existing assets by asset class\"","v":"Supporting Table SA34e Capital expenditure on the upgrading of existing assets by asset class"}]
["Supporting Table SA35","Supporting Table SA35 Consolidated future financial implications of the capital budget",null,null,{"$f":"A151&\" Consolidated future financial implications of the capital budget\"","v":"Supporting Table SA35 Consolidated future financial implications of the capital budget"},{"$f":"A151& \" Future financial implications of the capital budget\"","v":"Supporting Table SA35 Future financial implications of the capital budget"}]
["Supporting Table SA36","Supporting Table SA36 Consolidated detailed capital budget",null,null,{"$f":"A152&\" Consolidated detailed capital budget\"","v":"Supporting Table SA36 Consolidated detailed capital budget"},{"$f":"A152& \" Detailed capital budget\"","v":"Supporting Table SA36 Detailed capital budget"}]
["Supporting Table SA37","Supporting Table SA37 Consolidated projects delayed from previous financial year/s",null,null,{"$f":"A153&\" Consolidated projects delayed from previous financial year/s\"","v":"Supporting Table SA37 Consolidated projects delayed from previous financial year/s"},{"$f":"A153& \" Projects delayed from previous financial year/s\"","v":"Supporting Table SA37 Projects delayed from previous financial year/s"}]
["Supporting Table SA38",{"$f":"IF(Consolques=\"YES\",E154,F154)","v":"Supporting Table SA38 Consolidated detailed operational projects"},null,null,{"$f":"A154&\" Consolidated detailed operational projects\"","v":"Supporting Table SA38 Consolidated detailed operational projects"},{"$f":"A154& \" Detailed operational projects\"","v":"Supporting Table SA38 Detailed operational projects"}]
[]
["Budget Charts","Charts","Cross reference"]
["Chart A1 ",{"$f":"A157&\"Revenue by Municipal Vote\"","v":"Chart A1 Revenue by Municipal Vote"}]
["Chart A2 ",{"$f":"A158&\"Expenditure by Municipal Vote\"","v":"Chart A2 Expenditure by Municipal Vote"}]
["Chart A3 ",{"$f":"A159&\"Revenue by Standard Classification\"","v":"Chart A3 Revenue by Standard Classification"},"A2"]
["Chart A4 ",{"$f":"A160&\"Expenditure by Standard Classification\"","v":"Chart A4 Expenditure by Standard Classification"},"A2"]
["Chart A5 ",{"$f":"A161&\"Revenue by Major Source (refer 'Minor' source for 'Other Revenue' allocation\"","v":"Chart A5 Revenue by Major Source (refer 'Minor' source for 'Other Revenue' allocation"},"A3"]
["Chart A6 ",{"$f":"A162&\"Revenue by Minor Source (Other)\"","v":"Chart A6 Revenue by Minor Source (Other)"},"A3"]
["Chart A7 ",{"$f":"A163&\"Expenditure by Major Type\"","v":"Chart A7 Expenditure by Major Type"},"A3"]
["Chart A8 ",{"$f":"A164&\"Expenditure by Minor Type (Other)\"","v":"Chart A8 Expenditure by Minor Type (Other)"},"A3"]
["Chart A9 ",{"$f":"A165&\"Capital Expenditure by Municipal Vote/Appropriation (Major)\"","v":"Chart A9 Capital Expenditure by Municipal Vote/Appropriation (Major)"},"A5"]
["Chart A10 ",{"$f":"A166&\"Capital Expenditure by Municipal Vote/Appropriation (Minor)\"","v":"Chart A10 Capital Expenditure by Municipal Vote/Appropriation (Minor)"},"A5"]
["Chart A11 ",{"$f":"A166&\"Capital Expenditure by Standard Classification\"","v":"Chart A10 Capital Expenditure by Standard Classification"},"A5"]
["Chart A12 ",{"$f":"A168&\"Capital expenditure performance trend\"","v":"Chart A12 Capital expenditure performance trend"},"A5"]
["Chart A13 ",{"$f":"A169&\"Capital funding by Source\"","v":"Chart A13 Capital funding by Source"},"A5"]
["Chart A14 ",{"$f":"A170&\"Cash flow trend\"","v":"Chart A14 Cash flow trend"},"A7"]
["Chart A15 ",{"$f":"A171&\"IDP Strategic Objective - Revenue\"","v":"Chart A15 IDP Strategic Objective - Revenue"},"Table A4"]
["Chart A16 ",{"$f":"A172&\"IDP Strategic Objective - Expenditure\"","v":"Chart A16 IDP Strategic Objective - Expenditure"},"Table A5"]
["Chart A17 ",{"$f":"A173&\"IDP Strategic Objective - Capital Expenditure\"","v":"Chart A17 IDP Strategic Objective - Capital Expenditure"},"Table A6"]
["Chart A18 ",{"$f":"A174&\"Debt (borrowing to Total Revenue)\"","v":"Chart A18 Debt (borrowing to Total Revenue)"},"Table A8"]
["Chart A19 ",{"$f":"A175&\"Debtors' trend analysis\"","v":"Chart A19 Debtors' trend analysis"},"Table A8"]
["Chart A20 ",{"$f":"A176&\"Distribution losses\"","v":"Chart A20 Distribution losses"},"Table A8"]
["Chart A21 ",{"$f":"A177&\"Borrowed funding of capital expenditure\"","v":"Chart A21 Borrowed funding of capital expenditure"},"Table A8"]
["Chart A22 ",{"$f":"A178&\"Expenditure analysis (% of Revenue)\"","v":"Chart A22 Expenditure analysis (% of Revenue)"},"Table A8"]
["Chart A23 ",{"$f":"A179&\"Increases in service charges\"","v":"Chart A23 Increases in service charges"},"Table A10"]

{"sheet":"Lookup and lists","index":3,"n_rows":308,"n_cols":30,"rows_kept":308,"cut":false,"hidden":true,"merged":[]}
["Description",2007,2008,2009,2010,2011,2012,2013,2014,2015,2016,2017,2018,2019,2020,null,"Lists",null,null,null,null,null,null,null,"Grants:","National - opex","Provincial - opex","National - capex","Provincial - capex"]
[{"$f":"'Template names'!C2","v":"Prior year -1"},"2005/06","2006/07","2007/08",{"$f":"E1-2&\"/\"&RIGHT(E1,2)-1","v":"2008/9"},"2009/10","2010/11","2011/12","2012/13","2013/14","2014/15","2015/16","2016/17","2017/18","2018/19",null,"Yes","<1","<4","Market","Land & impr.","Yes","Uniform","Yrs",null,"Local Government Equitable Share","Health subsidy"," Municipal Infrastructure Grant (MIG)","Agriculture"]
[{"$f":"'Template names'!C3","v":"Prior year -2"},"2004/05","2005/06","2006/07",{"$f":"E1-3&\"/\"&RIGHT(E1,2)-2","v":"2007/8"},"2008/9","2009/10","2010/11","2011/12","2012/13","2013/14","2014/15","2015/16","2016/17","2017/18",null,"No",1,4,"Dep.Replace","Land only","No","Variable","Mths",null,"RSC Levy Replacement ","Ambulance subsidy"," Public Transport and Systems","Education"]
[{"$f":"'Template names'!C4","v":"Prior year -3"},"2003/04","2004/05","2005/06",{"$f":"E1-4&\"/\"&RIGHT(E1,2)-3","v":"2006/7"},"2007/8","2008/9","2009/10","2010/11","2011/12","2012/13","2013/14","2014/15","2015/16","2016/17",null,null,2,5,"Other","Other",null,null,null,null,"Finance Management ","Housing","Rural Transport Services and Infrastructure","Health"]
[{"$f":"'Template names'!C5","v":"Year in which budget is being prepared"},"Current Year 2006/07","Current Year 2007/08","Current Year 2008/09",{"$f":"\"Current Year \"& E1-1&\"/\"&RIGHT(E1,2)","v":"Current Year 2009/10"},"Current Year 2010/11","Current Year 2011/12","Current Year 2012/13","Current Year 2013/14","Current Year 2014/15","Current Year 2015/16","Current Year 2016/17","Current Year 2017/18","Current Year 2018/19","Current Year 2019/20",null,null,3,6,null,null,null,null,null,null,"Municipal Systems Improvement","Sport and Recreation","Regional Bulk Infrastructure","Housing and Local Government "]
[{"$f":"'Template names'!C6","v":"Year in which budget is being prepared"},"2006/07","2007/08","2008/09",{"$f":"E1-1&\"/\"&RIGHT(E1,2)","v":"2009/10"},"2010/11","2011/12","2012/13","2013/14","2014/15","2015/16","2016/17","2017/18","2018/19","2019/20",null,null,4,"6-10",null,null,null,null,null,null,"Water Services Operating Subsidy ",null,"Rural Households Infrastructure ","Other Departments"]
[{"$f":"'Template names'!C7","v":"MTREF name"},"2007/08 Medium Term Revenue & Expenditure Framework","2008/09 Medium Term Revenue & Expenditure Framework","2009/10 Medium Term Revenue & Expenditure Framework",{"$f":"E1&\"/\"&RIGHT(E1,2)+1&\" Medium Term Revenue & Expenditure Framework\"","v":"2010/11 Medium Term Revenue & Expenditure Framework"},"2011/12 Medium Term Revenue & Expenditure Framework","2012/13 Medium Term Revenue & Expenditure Framework","2013/14 Medium Term Revenue & Expenditure Framework","2014/15 Medium Term Revenue & Expenditure Framework","2015/16 Medium Term Revenue & Expenditure Framework","2016/17 Medium Term Revenue & Expenditure Framework","2017/18 Medium Term Revenue & Expenditure Framework","2018/19 Medium Term Revenue & Expenditure Framework","2019/20 Medium Term Revenue & Expenditure Framework","2020/21 Medium Term Revenue & Expenditure Framework",null,null,5,">10",null,null,null,null,null,null,"Energy Efficiency  and Demand Management",null,"Neighbourhood Development Partnership","Public Works, Roads, Transport "]
[{"$f":"'Template names'!C15","v":"1st year of MTREF"},"Budget Year 2007/08","Budget Year 2008/09","Budget Year 2009/10",{"$f":"\"Budget Year \"&E1&\"/\"&RIGHT(E1,2)+1","v":"Budget Year 2010/11"},"Budget Year 2011/12","Budget Year 2012/13","Budget Year 2013/14","Budget Year 2014/15","Budget Year 2015/16","Budget Year 2016/17","Budget Year 2017/18","Budget Year 2018/19","Budget Year 2019/20","Budget Year 2020/21",null,null,">5",null,null,null,null,null,null,null,"Integrated National Electrification Programme",null,"2010 FIFA World Cup Stadiums Development","Sport and Recreation"]
[{"$f":"'Template names'!C16","v":"2nd year of MTREF"},"Budget Year +1 2008/09","Budget Year +1 2009/10","Budget Year +1 2010/11",{"$f":"\"Budget Year +1 \"&E1+1&\"/\"&RIGHT(E1,2)+2","v":"Budget Year +1 2011/12"},"Budget Year +1 2012/13","Budget Year +1 2013/14","Budget Year +1 2014/15","Budget Year +1 2015/16","Budget Year +1 2016/17","Budget Year +1 2017/18","Budget Year +1 2018/19","Budget Year +1 2019/20","Budget Year +1 2020/21","Budget Year +1 2021/22",null,null,null,null,null,null,null,null,null,null,"Municipal Drought Relief "]
[{"$f":"'Template names'!C17","v":"3rd year of MTREF"},"Budget Year +2 2009/10","Budget Year +2 2010/11","Budget Year +2 2011/12",{"$f":"\"Budget Year +2 \"&E1+2&\"/\"&RIGHT(E1,2)+3","v":"Budget Year +2 2012/13"},"Budget Year +2 2013/14","Budget Year +2 2014/15","Budget Year +2 2015/16","Budget Year +2 2016/17","Budget Year +2 2017/18","Budget Year +2 2018/19","Budget Year +2 2019/20","Budget Year +2 2020/21","Budget Year +2 2021/22","Budget Year +2 2022/23",null,null,null,null,null,null,null,null,null,null,"2010 FIFA World Cup Operating"]
[{"$f":"'Template names'!C18","v":"1st yr of long term forecast"},"Forecast 2010/11","Forecast 2011/12","Forecast 2012/13",{"$f":"\"Forecast \"&E1+3&\"/\"&RIGHT(E1,2)+4","v":"Forecast 2013/14"},"Forecast 2014/15","Forecast 2015/16","Forecast 2016/17","Forecast 2017/18","Forecast 2018/19","Forecast 2019/20","Forecast 2020/21","Forecast 2021/22","Forecast 2022/23","Forecast 2023/24",null,null,null,null,null,null,null,null,null,null,"Electricity Demand Side Management"]
[{"$f":"'Template names'!C19","v":"Next yr of long term forecast"},"Forecast 2011/12","Forecast 2012/13","Forecast 2013/14",{"$f":"\"Forecast \"&E1+4&\"/\"&RIGHT(E1,2)+5","v":"Forecast 2014/15"},"Forecast 2015/16","Forecast 2016/17","Forecast 2017/18","Forecast 2018/19","Forecast 2019/20","Forecast 2020/21","Forecast 2021/22","Forecast 2022/23","Forecast 2023/24","Forecast 2024/25",null,null,null,null,null,null,null,null,null,null,"EPWP Incentive"]
[{"$f":"'Template names'!C20","v":"Next yr of long term forecast"},"Forecast 2012/13","Forecast 2013/14","Forecast 2014/15",{"$f":"\"Forecast \"&E1+5&\"/\"&RIGHT(E1,2)+6","v":"Forecast 2015/16"},"Forecast 2016/17","Forecast 2017/18","Forecast 2018/19","Forecast 2019/20","Forecast 2020/21","Forecast 2021/22","Forecast 2022/23","Forecast 2023/24","Forecast 2024/25","Forecast 2025/26"]
[{"$f":"'Template names'!C21","v":"Next yr of long term forecast"},"Forecast 2013/14","Forecast 2014/15","Forecast 2015/16",{"$f":"\"Forecast \"&E1+6&\"/\"&RIGHT(E1,2)+7","v":"Forecast 2016/17"},"Forecast 2017/18","Forecast 2018/19","Forecast 2019/20","Forecast 2020/21","Forecast 2021/22","Forecast 2022/23","Forecast 2023/24","Forecast 2024/25","Forecast 2025/26","Forecast 2026/27",null,null,null,null,null,null,null,null,null,null,"Asset Class","Asset sub-class old","Asset sub-class","IUDF","MTSF"]
[{"$f":"'Template names'!C22","v":"Next yr of long term forecast"},"Forecast 2014/15","Forecast 2015/16","Forecast 2016/17",{"$f":"\"Forecast \"&E1+7&\"/\"&RIGHT(E1,2)+8","v":"Forecast 2017/18"},"Forecast 2018/19","Forecast 2019/20","Forecast 2020/21","Forecast 2021/22","Forecast 2022/23","Forecast 2023/24","Forecast 2024/25","Forecast 2025/26","Forecast 2026/27","Forecast 2027/28"]
[{"$f":"'Template names'!C23","v":"Next yr of long term forecast"},"Forecast 2015/16","Forecast 2016/17","Forecast 2017/18",{"$f":"\"Forecast \"&E1+8&\"/\"&RIGHT(E1,2)+9","v":"Forecast 2018/19"},"Forecast 2019/20","Forecast 2020/21","Forecast 2021/22","Forecast 2022/23","Forecast 2023/24","Forecast 2024/25","Forecast 2025/26","Forecast 2026/27","Forecast 2027/28","Forecast 2028/29",null,null,null,null,null,null,null,null,null,null,"Roads Infrastructure","Roads, Pavements & Bridges","Roads","Spatial integration","Quality basic education"]
[{"$f":"'Template names'!C24","v":"Next yr of long term forecast"},"Forecast 2016/17","Forecast 2017/18","Forecast 2018/19",{"$f":"\"Forecast \"&E1+9&\"/\"&RIGHT(E1,2)+10","v":"Forecast 2019/20"},"Forecast 2020/21","Forecast 2021/22","Forecast 2022/23","Forecast 2023/24","Forecast 2024/25","Forecast 2025/26","Forecast 2026/27","Forecast 2027/28","Forecast 2028/29","Forecast 2029/30",null,null,null,null,null,null,null,null,null,null,"Storm water Infrastructure","Storm water","Road Structures","Inclusion and access","A long and healthy life for all South Africans"]
[{"$f":"'Template names'!C25","v":"Next yr of long term forecast"},"Forecast 2017/18","Forecast 2018/19","Forecast 2019/20",{"$f":"\"Forecast \"&E1+10&\"/\"&RIGHT(E1,2)+11","v":"Forecast 2020/21"},"Forecast 2021/22","Forecast 2022/23","Forecast 2023/24","Forecast 2024/25","Forecast 2025/26","Forecast 2026/27","Forecast 2027/28","Forecast 2028/29","Forecast 2029/30","Forecast 2030/31",null,null,null,null,null,null,null,null,null,null,"Electrical Infrastructure","Generation","Road Furniture","Growth","All people in South Africa are and feel safe"]
[{"$f":"'Template names'!C26","v":"Next yr of long term forecast"},"Forecast 2018/19","Forecast 2019/20","Forecast 2020/21",{"$f":"\"Forecast \"&E1+11&\"/\"&RIGHT(E1,2)+12","v":"Forecast 2021/22"},"Forecast 2022/23","Forecast 2023/24","Forecast 2024/25","Forecast 2025/26","Forecast 2026/27","Forecast 2027/28","Forecast 2028/29","Forecast 2029/30","Forecast 2030/31","Forecast 2031/32",null,null,null,null,null,null,null,null,null,null,"Water Supply Infrastructure","Transmission & Reticulation","Capital Spares","Governance","Decent employment through inclusive growth"]
[{"$f":"'Template names'!C27","v":"Next yr of long term forecast"},"Forecast 2019/20","Forecast 2020/21","Forecast 2021/22",{"$f":"\"Forecast \"&E1+12&\"/\"&RIGHT(E1,2)+13","v":"Forecast 2022/23"},"Forecast 2023/24","Forecast 2024/25","Forecast 2025/26","Forecast 2026/27","Forecast 2027/28","Forecast 2028/29","Forecast 2029/30","Forecast 2030/31","Forecast 2031/32","Forecast 2032/33",null,null,null,null,null,null,null,null,null,null,"Sanitation Infrastructure","Street Lighting","Drainage Collection",null,"A skilled and capable workforce to support an inclusive growth path"]
[{"$f":"'Template names'!C28","v":"Next yr of long term forecast"},"Forecast 2020/21","Forecast 2021/22","Forecast 2022/23",{"$f":"\"Forecast \"&E1+13&\"/\"&RIGHT(E1,2)+14","v":"Forecast 2023/24"},"Forecast 2024/25","Forecast 2025/26","Forecast 2026/27","Forecast 2027/28","Forecast 2028/29","Forecast 2029/30","Forecast 2030/31","Forecast 2031/32","Forecast 2032/33","Forecast 2033/34",null,null,null,null,null,null,null,null,null,null,"Solid Waste Infrastructure","Dams & Reservoirs","Storm water Conveyance",null,"An efficient, competitive and responsive economic infrastructure network"]
[{"$f":"'Template names'!C29","v":"Next yr of long term forecast"},"Forecast 2021/22","Forecast 2022/23","Forecast 2023/24",{"$f":"\"Forecast \"&E1+14&\"/\"&RIGHT(E1,2)+15","v":"Forecast 2024/25"},"Forecast 2025/26","Forecast 2026/27","Forecast 2027/28","Forecast 2028/29","Forecast 2029/30","Forecast 2030/31","Forecast 2031/32","Forecast 2032/33","Forecast 2033/34","Forecast 2034/35",null,null,null,null,null,null,null,null,null,null,"Rail Infrastructure","Water purification","Attenuation",null,"Vibrant, equitable, sustainable rural communities contributing towards food security for all"]
["Adjustments Budget","Annual target 2007/08","Annual target 2008/09","Annual target 2009/10",{"$f":"\"Annual target \" & E1&\"/\"&RIGHT(E1,2)+1","v":"Annual target 2010/11"},"Annual target 2011/12","Annual target 2012/13","Annual target 2013/14","Annual target 2014/15","Annual target 2015/16","Annual target 2016/17","Annual target 2017/18","Annual target 2018/19","Annual target 2019/20","Annual target 2020/21",null,null,null,null,null,null,null,null,null,null,"Coastal Infrastructure","Reticulation","Power Plants",null,"Sustainable human settlements and improved quality of household life"]
[{"$f":"A23","v":"Adjustments Budget"},"Revised target 2007/08","Revised target 2008/09","Revised target 2009/10",{"$f":"\"Revised target \"& E1&\"/\"&RIGHT(E1,2)+1","v":"Revised target 2010/11"},"Revised target 2011/12","Revised target 2012/13","Revised target 2013/14","Revised target 2014/15","Revised target 2015/16","Revised target 2016/17","Revised target 2017/18","Revised target 2018/19","Revised target 2019/20","Revised target 2020/21",null,null,null,null,null,null,null,null,null,null,"Information and Communication Infrastructure","Sewerage purification","HV Substations",null,"Responsive, accountable, effective and efficient local government"]
["NOTE: This sheet should not be directly amended - select headings from sheet 'S'",null,null,null,null,null,null,null,null,null,null,null,null,null,null,null,null,null,null,null,null,null,null,null,null,"Community Facilities","Waste Management","HV Switching Station",null,"Protect and enhance our environmental assets and natural resources"]
[null,null,null,null,null,null,null,null,null,null,null,null,null,null,null,null,null,null,null,null,null,null,null,null,null,"Sport and Recreation Facilities","Transportation","HV Transmission Conductors",null,"Create a better South Africa and contribute to a better Africa and a better world"]
["Name link",35,null,null,null,null,null,null,null,null,null,null,null,null,null,null,null,null,null,null,null,null,null,null,null,"Heritage assets","Gas","MV Substations",null,"An efficient, effective and development-oriented public service"]
["Name of Muni",{"$f":"INDEX(B29:B307,B27,1)","v":"DC15 O .R. Tambo"},null,null,null,null,null,null,null,null,null,null,null,null,null,null,null,null,null,null,null,null,null,null,null,"Revenue Generating","Parks & gardens","MV Switching Stations",null,"A comprehensive, responsive and sustainable social protection system"]
[null,"Choose name from list","Set name on 'Instructions' sheet",null,null,null,null,null,null,null,null,null,null,null,null,null,null,null,null,null,null,null,null,null,null,"Non-revenue Generating","Sportsfields & stadia","MV Networks",null,"A diverse, socially cohesive society with a common national identity"]
[null,"BUF Buffalo City","EC EASTERN CAPE",null,null,null,null,null,null,null,null,null,null,null,null,null,null,null,null,null,null,null,null,null,null,"Operational Buildings","Swimming pools","LV Networks"]
[null,"NMA Nelson Mandela Bay","EC EASTERN CAPE",null,null,null,null,null,null,null,null,null,null,null,null,null,null,null,null,null,null,null,null,null,null,"Housing","Community halls","Capital Spares"]
[null,"EC101 Dr Beyers Naude","EC EASTERN CAPE",null,null,null,null,null,null,null,null,null,null,null,null,null,null,null,null,null,null,null,null,null,null,"Biological or Cultivated Assets","Libraries","Dams and Weirs"]
[null,"EC102 Blue Crane Route","EC EASTERN CAPE",null,null,null,null,null,null,null,null,null,null,null,null,null,null,null,null,null,null,null,null,null,null,"Servitudes","Recreational facilities","Boreholes"]
[null,"EC104 Makana","EC EASTERN CAPE",null,null,null,null,null,null,null,null,null,null,null,null,null,null,null,null,null,null,null,null,null,null,"Licences and Rights","Fire, safety & emergency","Reservoirs"]
[null,"EC105 Ndlambe","EC EASTERN CAPE",null,null,null,null,null,null,null,null,null,null,null,null,null,null,null,null,null,null,null,null,null,null,"Computer Equipment","Security and policing","Pump Stations"]
[null,"EC106 Sundays River Valley","EC EASTERN CAPE",null,null,null,null,null,null,null,null,null,null,null,null,null,null,null,null,null,null,null,null,null,null,"Furniture and Office Equipment","Buses","Water Treatment Works"]
[null,"EC108 Kouga","EC EASTERN CAPE",null,null,null,null,null,null,null,null,null,null,null,null,null,null,null,null,null,null,null,null,null,null,"Machinery and Equipment","Clinics","Bulk Mains"]
[null,"EC109 Kou-Kamma","EC EASTERN CAPE",null,null,null,null,null,null,null,null,null,null,null,null,null,null,null,null,null,null,null,null,null,null,"Transport Assets","Museums & Art Galleries","Distribution"]
[null,"DC10 Sarah Baartman","EC EASTERN CAPE",null,null,null,null,null,null,null,null,null,null,null,null,null,null,null,null,null,null,null,null,null,null,"Land","Cemeteries","Distribution Points"]
[null,"EC121 Mbhashe","EC EASTERN CAPE",null,null,null,null,null,null,null,null,null,null,null,null,null,null,null,null,null,null,null,null,null,null,"Zoo's, Marine and Non-biological Animals","Social rental housing","PRV Stations"]
[null,"EC122 Mnquma","EC EASTERN CAPE",null,null,null,null,null,null,null,null,null,null,null,null,null,null,null,null,null,null,null,null,null,null,null,"Buildings","Capital Spares"]
[null,"EC123 Great Kei","EC EASTERN CAPE",null,null,null,null,null,null,null,null,null,null,null,null,null,null,null,null,null,null,null,null,null,null,null,"Housing development","Pump Station"]
[null,"EC124 Amahlathi","EC EASTERN CAPE",null,null,null,null,null,null,null,null,null,null,null,null,null,null,null,null,null,null,null,null,null,null,null,"General vehicles","Reticulation"]
[null,"EC126 Ngqushwa","EC EASTERN CAPE",null,null,null,null,null,null,null,null,null,null,null,null,null,null,null,null,null,null,null,null,null,null,null,"Specialised vehicles - Refuse","Waste Water Treatment Works"]
[null,"EC129 Raymond Mhlaba","EC EASTERN CAPE",null,null,null,null,null,null,null,null,null,null,null,null,null,null,null,null,null,null,null,null,null,null,null,"Specialised vehicles - Fire","Outfall Sewers"]
[null,"DC12 Amathole","EC EASTERN CAPE",null,null,null,null,null,null,null,null,null,null,null,null,null,null,null,null,null,null,null,null,null,null,null,"Specialised vehicles - Conservancy","Toilet Facilities"]
[null,"EC131 Inxuba Yethemba","EC EASTERN CAPE",null,null,null,null,null,null,null,null,null,null,null,null,null,null,null,null,null,null,null,null,null,null,null,"Specialised vehicles - Ambulances","Capital Spares"]
[null,"EC135 Intsika Yethu","EC EASTERN CAPE",null,null,null,null,null,null,null,null,null,null,null,null,null,null,null,null,null,null,null,null,null,null,null,"Plant & equipment","Landfill Sites"]
[null,"EC136 Emalahleni (Ec)","EC EASTERN CAPE",null,null,null,null,null,null,null,null,null,null,null,null,null,null,null,null,null,null,null,null,null,null,null,"Computers - hardware/equipment","Waste Transfer Stations"]
[null,"EC137 Engcobo","EC EASTERN CAPE",null,null,null,null,null,null,null,null,null,null,null,null,null,null,null,null,null,null,null,null,null,null,null,"Furniture and other office equipment","Waste Processing Facilities"]
[null,"EC138 Sakhisizwe","EC EASTERN CAPE",null,null,null,null,null,null,null,null,null,null,null,null,null,null,null,null,null,null,null,null,null,null,null,"Abattoirs","Waste Drop-off Points"]
[null,"EC139 Enoch Mgijima","EC EASTERN CAPE",null,null,null,null,null,null,null,null,null,null,null,null,null,null,null,null,null,null,null,null,null,null,null,"Markets","Waste Separation Facilities"]
[null,"DC13 Chris Hani","EC EASTERN CAPE",null,null,null,null,null,null,null,null,null,null,null,null,null,null,null,null,null,null,null,null,null,null,null,"Civic Land and Buildings","Electricity Generation Facilities"]
[null,"EC141 Elundini","EC EASTERN CAPE",null,null,null,null,null,null,null,null,null,null,null,null,null,null,null,null,null,null,null,null,null,null,null,"Other Buildings","Capital Spares"]
[null,"EC142 Senqu","EC EASTERN CAPE",null,null,null,null,null,null,null,null,null,null,null,null,null,null,null,null,null,null,null,null,null,null,null,"Other Land","Rail Lines"]
[null,"EC145 Walter Sisulu","EC EASTERN CAPE",null,null,null,null,null,null,null,null,null,null,null,null,null,null,null,null,null,null,null,null,null,null,null,"Surplus Assets - (Investment or Inventory)","Rail Structures"]
[null,"DC14 Joe Gqabi","EC EASTERN CAPE",null,null,null,null,null,null,null,null,null,null,null,null,null,null,null,null,null,null,null,null,null,null,null,"Computers - software & programming","Rail Furniture"]
[null,"EC153 Ngquza Hills","EC EASTERN CAPE",null,null,null,null,null,null,null,null,null,null,null,null,null,null,null,null,null,null,null,null,null,null,null,"Other","Drainage Collection"]
[null,"EC154 Port St Johns","EC EASTERN CAPE",null,null,null,null,null,null,null,null,null,null,null,null,null,null,null,null,null,null,null,null,null,null,null,null,"Storm water Conveyance"]
[null,"EC155 Nyandeni","EC EASTERN CAPE",null,null,null,null,null,null,null,null,null,null,null,null,null,null,null,null,null,null,null,null,null,null,"SA16 - Investments",null,"Attenuation"]
[null,"EC156 Mhlontlo","EC EASTERN CAPE",null,null,null,null,null,null,null,null,null,null,null,null,null,null,null,null,null,null,null,null,null,null,"Security","Interest rate","MV Substations"]
[null,"EC157 King Sabata Dalindyebo","EC EASTERN CAPE",null,null,null,null,null,null,null,null,null,null,null,null,null,null,null,null,null,null,null,null,null,null,"Yes","Fixed","LV Networks"]
[null,"DC15 O .R. Tambo","EC EASTERN CAPE",null,null,null,null,null,null,null,null,null,null,null,null,null,null,null,null,null,null,null,null,null,null,"No","Variable","Capital Spares"]
[null,"EC441 Matatiele","EC EASTERN CAPE",null,null,null,null,null,null,null,null,null,null,null,null,null,null,null,null,null,null,null,null,null,null,null,null,"Sand Pumps"]
[null,"EC442 Umzimvubu","EC EASTERN CAPE",null,null,null,null,null,null,null,null,null,null,null,null,null,null,null,null,null,null,null,null,null,null,null,null,"Piers"]
[null,"EC443 Mbizana","EC EASTERN CAPE",null,null,null,null,null,null,null,null,null,null,null,null,null,null,null,null,null,null,null,null,null,null,"SA36, SA37 - Capital projects",null,"Revetments"]
[null,"EC444 Ntabankulu","EC EASTERN CAPE",null,null,null,null,null,null,null,null,null,null,null,null,null,null,null,null,null,null,null,null,null,null,"Yes",null,"Promenades"]
[null,"DC44 Alfred Nzo","EC EASTERN CAPE",null,null,null,null,null,null,null,null,null,null,null,null,null,null,null,null,null,null,null,null,null,null,"No",null,"Capital Spares"]
[null,"MAN Mangaung","FS FREE STATE",null,null,null,null,null,null,null,null,null,null,null,null,null,null,null,null,null,null,null,null,null,null,null,null,"Data Centres"]
[null,"FS161 Letsemeng","FS FREE STATE",null,null,null,null,null,null,null,null,null,null,null,null,null,null,null,null,null,null,null,null,null,null,null,null,"Core Layers"]
[null,"FS162 Kopanong","FS FREE STATE",null,null,null,null,null,null,null,null,null,null,null,null,null,null,null,null,null,null,null,null,null,null,null,null,"Distribution Layers"]
[null,"FS163 Mohokare","FS FREE STATE",null,null,null,null,null,null,null,null,null,null,null,null,null,null,null,null,null,null,null,null,null,null,null,null,"Capital Spares"]
[null,"DC16 Xhariep","FS FREE STATE",null,null,null,null,null,null,null,null,null,null,null,null,null,null,null,null,null,null,null,null,null,null,null,null,"Halls"]
[null,"FS181 Masilonyana","FS FREE STATE",null,null,null,null,null,null,null,null,null,null,null,null,null,null,null,null,null,null,null,null,null,null,null,null,"Centres"]
[null,"FS182 Tokologo","FS FREE STATE",null,null,null,null,null,null,null,null,null,null,null,null,null,null,null,null,null,null,null,null,null,null,null,null,"Crèches"]
[null,"FS183 Tswelopele","FS FREE STATE",null,null,null,null,null,null,null,null,null,null,null,null,null,null,null,null,null,null,null,null,null,null,null,null,"Clinics/Care Centres"]
[null,"FS184 Matjhabeng","FS FREE STATE",null,null,null,null,null,null,null,null,null,null,null,null,null,null,null,null,null,null,null,null,null,null,null,null,"Fire/Ambulance Stations"]
[null,"FS185 Nala","FS FREE STATE",null,null,null,null,null,null,null,null,null,null,null,null,null,null,null,null,null,null,null,null,null,null,null,null,"Testing Stations"]
[null,"DC18 Lejweleputswa","FS FREE STATE",null,null,null,null,null,null,null,null,null,null,null,null,null,null,null,null,null,null,null,null,null,null,null,null,"Museums"]
[null,"FS191 Setsoto","FS FREE STATE",null,null,null,null,null,null,null,null,null,null,null,null,null,null,null,null,null,null,null,null,null,null,null,null,"Galleries"]
[null,"FS192 Dihlabeng","FS FREE STATE",null,null,null,null,null,null,null,null,null,null,null,null,null,null,null,null,null,null,null,null,null,null,null,null,"Theatres"]
[null,"FS193 Nketoana","FS FREE STATE",null,null,null,null,null,null,null,null,null,null,null,null,null,null,null,null,null,null,null,null,null,null,null,null,"Libraries"]
[null,"FS194 Maluti-a-Phofung","FS FREE STATE",null,null,null,null,null,null,null,null,null,null,null,null,null,null,null,null,null,null,null,null,null,null,null,null,"Cemeteries/Crematoria"]
[null,"FS195 Phumelela","FS FREE STATE",null,null,null,null,null,null,null,null,null,null,null,null,null,null,null,null,null,null,null,null,null,null,null,null,"Police"]
[null,"FS196 Mantsopa","FS FREE STATE",null,null,null,null,null,null,null,null,null,null,null,null,null,null,null,null,null,null,null,null,null,null,null,null,"Purls"]
[null,"DC19 Thabo Mofutsanyana","FS FREE STATE",null,null,null,null,null,null,null,null,null,null,null,null,null,null,null,null,null,null,null,null,null,null,null,null,"Public Open Space"]
[null,"FS201 Moqhaka","FS FREE STATE",null,null,null,null,null,null,null,null,null,null,null,null,null,null,null,null,null,null,null,null,null,null,null,null,"Nature Reserves"]
[null,"FS203 Ngwathe","FS FREE STATE",null,null,null,null,null,null,null,null,null,null,null,null,null,null,null,null,null,null,null,null,null,null,null,null,"Public Ablution Facilities"]
[null,"FS204 Metsimaholo","FS FREE STATE",null,null,null,null,null,null,null,null,null,null,null,null,null,null,null,null,null,null,null,null,null,null,null,null,"Markets"]
[null,"FS205 Mafube","FS FREE STATE",null,null,null,null,null,null,null,null,null,null,null,null,null,null,null,null,null,null,null,null,null,null,null,null,"Stalls"]
[null,"DC20 Fezile Dabi","FS FREE STATE",null,null,null,null,null,null,null,null,null,null,null,null,null,null,null,null,null,null,null,null,null,null,null,null,"Abattoirs"]
[null,"EKU City of Ekurhuleni","GT GAUTENG",null,null,null,null,null,null,null,null,null,null,null,null,null,null,null,null,null,null,null,null,null,null,null,null,"Airports"]
[null,"JHB City Of Johannesburg","GT GAUTENG",null,null,null,null,null,null,null,null,null,null,null,null,null,null,null,null,null,null,null,null,null,null,null,null,"Taxi Ranks/Bus Terminals"]
[null,"TSH City Of Tshwane","GT GAUTENG",null,null,null,null,null,null,null,null,null,null,null,null,null,null,null,null,null,null,null,null,null,null,null,null,"Capital Spares"]
[null,"GT421 Emfuleni","GT GAUTENG",null,null,null,null,null,null,null,null,null,null,null,null,null,null,null,null,null,null,null,null,null,null,null,null,"Indoor Facilities"]
[null,"GT422 Midvaal","GT GAUTENG",null,null,null,null,null,null,null,null,null,null,null,null,null,null,null,null,null,null,null,null,null,null,null,null,"Outdoor Facilities"]
[null,"GT423 Lesedi","GT GAUTENG",null,null,null,null,null,null,null,null,null,null,null,null,null,null,null,null,null,null,null,null,null,null,null,null,"Capital Spares"]
[null,"DC42 Sedibeng","GT GAUTENG",null,null,null,null,null,null,null,null,null,null,null,null,null,null,null,null,null,null,null,null,null,null,null,null,"Monuments"]
[null,"GT481 Mogale City","GT GAUTENG",null,null,null,null,null,null,null,null,null,null,null,null,null,null,null,null,null,null,null,null,null,null,null,null,"Historic Buildings"]
[null,"GT484 Merafong City","GT GAUTENG",null,null,null,null,null,null,null,null,null,null,null,null,null,null,null,null,null,null,null,null,null,null,null,null,"Works of Art"]
[null,"GT485 Rand West City","GT GAUTENG",null,null,null,null,null,null,null,null,null,null,null,null,null,null,null,null,null,null,null,null,null,null,null,null,"Conservation Areas"]
[null,"DC48 West Rand","GT GAUTENG",null,null,null,null,null,null,null,null,null,null,null,null,null,null,null,null,null,null,null,null,null,null,null,null,"Other Heritage"]
[null,"ETH eThekwini","KZN KWAZULU-NATAL",null,null,null,null,null,null,null,null,null,null,null,null,null,null,null,null,null,null,null,null,null,null,null,null,"Improved Property"]
[null,"KZN212 Umdoni","KZN KWAZULU-NATAL",null,null,null,null,null,null,null,null,null,null,null,null,null,null,null,null,null,null,null,null,null,null,null,null,"Unimproved Property"]
[null,"KZN213 Umzumbe","KZN KWAZULU-NATAL",null,null,null,null,null,null,null,null,null,null,null,null,null,null,null,null,null,null,null,null,null,null,null,null,"Municipal Offices"]
[null,"KZN214 uMuziwabantu","KZN KWAZULU-NATAL",null,null,null,null,null,null,null,null,null,null,null,null,null,null,null,null,null,null,null,null,null,null,null,null,"Pay/Enquiry Points"]
[null,"KZN216 Ray Nkonyeni","KZN KWAZULU-NATAL",null,null,null,null,null,null,null,null,null,null,null,null,null,null,null,null,null,null,null,null,null,null,null,null,"Building Plan Offices"]
[null,"DC21 Ugu","KZN KWAZULU-NATAL",null,null,null,null,null,null,null,null,null,null,null,null,null,null,null,null,null,null,null,null,null,null,null,null,"Workshops"]
[null,"KZN221 uMshwathi","KZN KWAZULU-NATAL",null,null,null,null,null,null,null,null,null,null,null,null,null,null,null,null,null,null,null,null,null,null,null,null,"Yards"]
[null,"KZN222 uMngeni","KZN KWAZULU-NATAL",null,null,null,null,null,null,null,null,null,null,null,null,null,null,null,null,null,null,null,null,null,null,null,null,"Stores"]
[null,"KZN223 Mpofana","KZN KWAZULU-NATAL",null,null,null,null,null,null,null,null,null,null,null,null,null,null,null,null,null,null,null,null,null,null,null,null,"Laboratories"]
[null,"KZN224 Impendle","KZN KWAZULU-NATAL",null,null,null,null,null,null,null,null,null,null,null,null,null,null,null,null,null,null,null,null,null,null,null,null,"Training Centres"]
[null,"KZN225 Msunduzi","KZN KWAZULU-NATAL",null,null,null,null,null,null,null,null,null,null,null,null,null,null,null,null,null,null,null,null,null,null,null,null,"Manufacturing Plant"]
[null,"KZN226 Mkhambathini","KZN KWAZULU-NATAL",null,null,null,null,null,null,null,null,null,null,null,null,null,null,null,null,null,null,null,null,null,null,null,null,"Depots"]
[null,"KZN227 Richmond","KZN KWAZULU-NATAL",null,null,null,null,null,null,null,null,null,null,null,null,null,null,null,null,null,null,null,null,null,null,null,null,"Capital Spares"]
[null,"DC22 uMgungundlovu","KZN KWAZULU-NATAL",null,null,null,null,null,null,null,null,null,null,null,null,null,null,null,null,null,null,null,null,null,null,null,null,"Staff Housing"]
[null,"KZN235 Okhahlamba","KZN KWAZULU-NATAL",null,null,null,null,null,null,null,null,null,null,null,null,null,null,null,null,null,null,null,null,null,null,null,null,"Social Housing"]
[null,"KZN237 Inkosi Langalibalele","KZN KWAZULU-NATAL",null,null,null,null,null,null,null,null,null,null,null,null,null,null,null,null,null,null,null,null,null,null,null,null,"Capital Spares"]
[null,"KZN238 Alfred Duma","KZN KWAZULU-NATAL",null,null,null,null,null,null,null,null,null,null,null,null,null,null,null,null,null,null,null,null,null,null,null,null,"Water Rights"]
[null,"DC23 Uthukela","KZN KWAZULU-NATAL",null,null,null,null,null,null,null,null,null,null,null,null,null,null,null,null,null,null,null,null,null,null,null,null,"Effluent Licenses"]
[null,"KZN241 Endumeni","KZN KWAZULU-NATAL",null,null,null,null,null,null,null,null,null,null,null,null,null,null,null,null,null,null,null,null,null,null,null,null,"Solid Waste Licenses"]
[null,"KZN242 Nquthu","KZN KWAZULU-NATAL",null,null,null,null,null,null,null,null,null,null,null,null,null,null,null,null,null,null,null,null,null,null,null,null,"Computer Software and Applications"]
[null,"KZN244 Msinga","KZN KWAZULU-NATAL",null,null,null,null,null,null,null,null,null,null,null,null,null,null,null,null,null,null,null,null,null,null,null,null,"Load Settlement Software Applications"]
[null,"KZN245 Umvoti","KZN KWAZULU-NATAL",null,null,null,null,null,null,null,null,null,null,null,null,null,null,null,null,null,null,null,null,null,null,null,null,"Unspecified"]
[null,"DC24 Umzinyathi","KZN KWAZULU-NATAL"]
[null,"KZN252 Newcastle","KZN KWAZULU-NATAL"]
[null,"KZN253 Emadlangeni","KZN KWAZULU-NATAL"]
[null,"KZN254 Dannhauser","KZN KWAZULU-NATAL"]
[null,"DC25 Amajuba","KZN KWAZULU-NATAL"]
[null,"KZN261 eDumbe","KZN KWAZULU-NATAL"]
[null,"KZN262 uPhongolo","KZN KWAZULU-NATAL"]
[null,"KZN263 Abaqulusi","KZN KWAZULU-NATAL"]
[null,"KZN265 Nongoma","KZN KWAZULU-NATAL"]
[null,"KZN266 Ulundi","KZN KWAZULU-NATAL"]
[null,"DC26 Zululand","KZN KWAZULU-NATAL"]
[null,"KZN271 Umhlabuyalingana","KZN KWAZULU-NATAL"]
[null,"KZN272 Jozini","KZN KWAZULU-NATAL"]
[null,"KZN275 Mtubatuba","KZN KWAZULU-NATAL"]
[null,"KZN276 Hlabisa Big Five","KZN KWAZULU-NATAL"]
[null,"DC27 Umkhanyakude","KZN KWAZULU-NATAL"]
[null,"KZN281 Mfolozi","KZN KWAZULU-NATAL"]
[null,"KZN282 uMhlathuze","KZN KWAZULU-NATAL"]
[null,"KZN284 uMlalazi","KZN KWAZULU-NATAL"]
[null,"KZN285 Mthonjaneni","KZN KWAZULU-NATAL"]
[null,"KZN286 Nkandla","KZN KWAZULU-NATAL"]
[null,"DC28 King Cetshwayo","KZN KWAZULU-NATAL"]
[null,"KZN291 Mandeni","KZN KWAZULU-NATAL"]
[null,"KZN292 KwaDukuza","KZN KWAZULU-NATAL"]
[null,"KZN293 Ndwedwe","KZN KWAZULU-NATAL"]
[null,"KZN294 Maphumulo","KZN KWAZULU-NATAL"]
[null,"DC29 iLembe","KZN KWAZULU-NATAL"]
[null,"KZN433 Greater Kokstad","KZN KWAZULU-NATAL"]
[null,"KZN434 Ubuhlebezwe","KZN KWAZULU-NATAL"]
[null,"KZN435 Umzimkhulu","KZN KWAZULU-NATAL"]
[null,"KZN436 Dr Nkosazana Dlamini Zuma","KZN KWAZULU-NATAL"]
[null,"DC43 Harry Gwala","KZN KWAZULU-NATAL"]
[null,"LIM331 Greater Giyani","LIM LIMPOPO"]
[null,"LIM332 Greater Letaba","LIM LIMPOPO"]
[null,"LIM333 Greater Tzaneen","LIM LIMPOPO"]
[null,"LIM334 Ba-Phalaborwa","LIM LIMPOPO"]
[null,"LIM335 Maruleng","LIM LIMPOPO"]
[null,"DC33 Mopani","LIM LIMPOPO"]
[null,"LIM341 Musina","LIM LIMPOPO"]
[null,"LIM343 Thulamela","LIM LIMPOPO"]
[null,"LIM344 Makhado","LIM LIMPOPO"]
[null,"LIM345 Collins Chabane","LIM LIMPOPO"]
[null,"DC34 Vhembe","LIM LIMPOPO"]
[null,"LIM351 Blouberg","LIM LIMPOPO"]
[null,"LIM353 Molemole","LIM LIMPOPO"]
[null,"LIM354 Polokwane","LIM LIMPOPO"]
[null,"LIM355 Lepelle-Nkumpi","LIM LIMPOPO"]
[null,"DC35 Capricorn","LIM LIMPOPO"]
[null,"LIM361 Thabazimbi","LIM LIMPOPO"]
[null,"LIM362 Lephalale","LIM LIMPOPO"]
[null,"LIM366 Bela Bela","LIM LIMPOPO"]
[null,"LIM367 Mogalakwena","LIM LIMPOPO"]
[null,"LIM368 Modimolle-Mookgopong","LIM LIMPOPO"]
[null,"DC36 Waterberg","LIM LIMPOPO"]
[null,"LIM471 Ephraim Mogale","LIM LIMPOPO"]
[null,"LIM472 Elias Motsoaledi","LIM LIMPOPO"]
[null,"LIM473 Makhuduthamaga","LIM LIMPOPO"]
[null,"LIM476 Tubatse Fetakgomo","LIM LIMPOPO"]
[null,"DC47 Sekhukhune","LIM LIMPOPO"]
[null,"MP301 Albert Luthuli","MP MPUMALANGA"]
[null,"MP302 Msukaligwa","MP MPUMALANGA"]
[null,"MP303 Mkhondo","MP MPUMALANGA"]
[null,"MP304 Pixley Ka Seme (MP)","MP MPUMALANGA"]
[null,"MP305 Lekwa","MP MPUMALANGA"]
[null,"MP306 Dipaleseng","MP MPUMALANGA"]
[null,"MP307 Govan Mbeki","MP MPUMALANGA"]
[null,"DC30 Gert Sibande","MP MPUMALANGA"]
[null,"MP311 Victor Khanye","MP MPUMALANGA"]
[null,"MP312 Emalahleni (Mp)","MP MPUMALANGA"]
[null,"MP313 Steve Tshwete","MP MPUMALANGA"]
[null,"MP314 Emakhazeni","MP MPUMALANGA"]
[null,"MP315 Thembisile Hani","MP MPUMALANGA"]
[null,"MP316 Dr J.S. Moroka","MP MPUMALANGA"]
[null,"DC31 Nkangala","MP MPUMALANGA"]
[null,"MP321 Thaba Chweu","MP MPUMALANGA"]
[null,"MP324 Nkomazi","MP MPUMALANGA"]
[null,"MP325 Bushbuckridge","MP MPUMALANGA"]
[null,"MP326 City of Mbombela","MP MPUMALANGA"]
[null,"DC32 Ehlanzeni","MP MPUMALANGA"]
[null,"NC451 Joe Morolong","NC NORTHERN CAPE"]
[null,"NC452 Ga-Segonyana","NC NORTHERN CAPE"]
[null,"NC453 Gamagara","NC NORTHERN CAPE"]
[null,"DC45 John Taolo Gaetsewe","NC NORTHERN CAPE"]
[null,"NC061 Richtersveld","NC NORTHERN CAPE"]
[null,"NC062 Nama Khoi","NC NORTHERN CAPE"]
[null,"NC064 Kamiesberg","NC NORTHERN CAPE"]
[null,"NC065 Hantam","NC NORTHERN CAPE"]
[null,"NC066 Karoo Hoogland","NC NORTHERN CAPE"]
[null,"NC067 Khai-Ma","NC NORTHERN CAPE"]
[null,"DC6 Namakwa","NC NORTHERN CAPE"]
[null,"NC071 Ubuntu","NC NORTHERN CAPE"]
[null,"NC072 Umsobomvu","NC NORTHERN CAPE"]
[null,"NC073 Emthanjeni","NC NORTHERN CAPE"]
[null,"NC074 Kareeberg","NC NORTHERN CAPE"]
[null,"NC075 Renosterberg","NC NORTHERN CAPE"]
[null,"NC076 Thembelihle","NC NORTHERN CAPE"]
[null,"NC077 Siyathemba","NC NORTHERN CAPE"]
[null,"NC078 Siyancuma","NC NORTHERN CAPE"]
[null,"DC7 Pixley Ka Seme (Nc)","NC NORTHERN CAPE"]
[null,"NC082 !Kai! Garib","NC NORTHERN CAPE"]
[null,"NC084 !Kheis","NC NORTHERN CAPE"]
[null,"NC085 Tsantsabane","NC NORTHERN CAPE"]
[null,"NC086 Kgatelopele","NC NORTHERN CAPE"]
[null,"NC087 Dawid Kruiper","NC NORTHERN CAPE"]
[null,"DC8 Z F Mgcawu","NC NORTHERN CAPE"]
[null,"NC091 Sol Plaatje","NC NORTHERN CAPE"]
[null,"NC092 Dikgatlong","NC NORTHERN CAPE"]
[null,"NC093 Magareng","NC NORTHERN CAPE"]
[null,"NC094 Phokwane","NC NORTHERN CAPE"]
[null,"DC9 Frances Baard","NC NORTHERN CAPE"]
[null,"NW371 Moretele","NW NORTH WEST"]
[null,"NW372 Madibeng","NW NORTH WEST"]
[null,"NW373 Rustenburg","NW NORTH WEST"]
[null,"NW374 Kgetlengrivier","NW NORTH WEST"]
[null,"NW375 Moses Kotane","NW NORTH WEST"]
[null,"DC37 Bojanala Platinum","NW NORTH WEST"]
[null,"NW381 Ratlou","NW NORTH WEST"]
[null,"NW382 Tswaing","NW NORTH WEST"]
[null,"NW383 Mafikeng","NW NORTH WEST"]
[null,"NW384 Ditsobotla","NW NORTH WEST"]
[null,"NW385 Ramotshere Moiloa","NW NORTH WEST"]
[null,"DC38 Ngaka Modiri Molema","NW NORTH WEST"]
[null,"NW392 Naledi (Nw)","NW NORTH WEST"]
[null,"NW393 Mamusa","NW NORTH WEST"]
[null,"NW394 Greater Taung","NW NORTH WEST"]
[null,"NW396 Lekwa-Teemane","NW NORTH WEST"]
[null,"NW397 Kagisano-Molopo","NW NORTH WEST"]
[null,"DC39 Dr Ruth Segomotsi Mompati","NW NORTH WEST"]
[null,"NW403 City Of Matlosana","NW NORTH WEST"]
[null,"NW404 Maquassi Hills","NW NORTH WEST"]
[null,"NW405 J B Marks","NW NORTH WEST"]
[null,"DC40 Dr Kenneth Kaunda","NW NORTH WEST"]
[null,"CPT Cape Town","WC WESTERN CAPE"]
[null,"WC011 Matzikama","WC WESTERN CAPE"]
[null,"WC012 Cederberg","WC WESTERN CAPE"]
[null,"WC013 Bergrivier","WC WESTERN CAPE"]
[null,"WC014 Saldanha Bay","WC WESTERN CAPE"]
[null,"WC015 Swartland","WC WESTERN CAPE"]
[null,"DC1 West Coast","WC WESTERN CAPE"]
[null,"WC022 Witzenberg","WC WESTERN CAPE"]
[null,"WC023 Drakenstein","WC WESTERN CAPE"]
[null,"WC024 Stellenbosch","WC WESTERN CAPE"]
[null,"WC025 Breede Valley","WC WESTERN CAPE"]
[null,"WC026 Langeberg","WC WESTERN CAPE"]
[null,"DC2 Cape Winelands DM","WC WESTERN CAPE"]
[null,"WC031 Theewaterskloof","WC WESTERN CAPE"]
[null,"WC032 Overstrand","WC WESTERN CAPE"]
[null,"WC033 Cape Agulhas","WC WESTERN CAPE"]
[null,"WC034 Swellendam","WC WESTERN CAPE"]
[null,"DC3 Overberg","WC WESTERN CAPE"]
[null,"WC041 Kannaland","WC WESTERN CAPE"]
[null,"WC042 Hessequa","WC WESTERN CAPE"]
[null,"WC043 Mossel Bay","WC WESTERN CAPE"]
[null,"WC044 George","WC WESTERN CAPE"]
[null,"WC045 Oudtshoorn","WC WESTERN CAPE"]
[null,"WC047 Bitou","WC WESTERN CAPE"]
[null,"WC048 Knysna","WC WESTERN CAPE"]
[null,"DC4 Garden Route","WC WESTERN CAPE"]
[null,"WC051 Laingsburg","WC WESTERN CAPE"]
[null,"WC052 Prince Albert","WC WESTERN CAPE"]
[null,"WC053 Beaufort West","WC WESTERN CAPE"]
[null,"DC5 Central Karoo","WC WESTERN CAPE"]
[]
[]
[]
[]
[]
[]
[]
[]
[]
[]
[]
[]
[]
[]
[]
[]
[]
[]
[]
[]
[]
[null,{"$f":"COUNTA(B30:B307)","v":257}]

{"sheet":"Org structure","index":4,"n_rows":61,"n_cols":5,"rows_kept":61,"cut":false,"hidden":false,"merged":[]}
["Organisational Structure Votes",null,"Organisational Structure Sub-Votes",null,"Display Sub-Votes"]
[{"$f":"B2&\" - \"&C2","v":"Vote 01 - Council & Committees"},"Vote 01","Council & Committees"]
[{"$f":"B10&\" - \"&C10","v":"Vote 02 - Finance & Administration"},"01.1","Speaker's Office",{"$f":"CONCATENATE(B3, \" - \", C3)","v":"01.1 - Speaker's Office"},"01.1 - Speaker's Office"]
[{"$f":"B25&\" - \"&C25","v":"Vote 03 - Planning & Development"},"01.2","Mayoral Office","01.2 - Mayoral Office","01.2 - Mayoral Office"]
[{"$f":"B30&\" - \"&C30","v":"Vote 04 - Health"},"01.3","Office Of The Municipal Manager","01.3 - Office Of The Municipal Manager","01.3 - Office Of The Municipal Manager"]
[{"$f":"B32&\" - \"&C32","v":"Vote 05 - Community & Social Services"},"01.4","Office Of The Executive Mayor","01.4 - Office Of The Executive Mayor","01.4 - Office Of The Executive Mayor"]
[{"$f":"B34&\" - \"&C34","v":"Vote 06 - Housing"},"01.5","Internal Audit","01.5 - Internal Audit","01.5 - Internal Audit"]
[{"$f":"B37&\" - \"&C37","v":"Vote 07 - Public Safety"},"01.6","Office Of The Chief Operating Officer","01.6 - Office Of The Chief Operating Officer","01.6 - Office Of The Chief Operating Officer"]
[{"$f":"B40&\" - \"&C40","v":"Vote 08 - Sports & Recreation"},"01.7","Legal Services","01.7 - Legal Services","01.7 - Legal Services"]
[{"$f":"B42&\" - \"&C42","v":"Vote 09 - Environmental"},"Vote 02","Finance & Administration"]
[{"$f":"B44&\" - \"&C44","v":"Vote 10 - Roads"},"02.1","Budget And Reporting Office",{"$f":"CONCATENATE(B11, \" - \", C11)","v":"02.1 - Budget And Reporting Office"},"02.1 - Budget And Reporting Office"]
[{"$f":"B47&\" - \"&C47","v":"Vote 11 - Water"},"02.2","Budget And Reporting Office","02.2 - Budget And Reporting Office","02.2 - Budget And Reporting Office"]
[{"$f":"B56&\" - \"&C56","v":"Vote 12 - Tourism"},"02.3","Human Resources","02.3 - Human Resources","02.3 - Human Resources"]
[{"$f":"B58&\" - \"&C58","v":"Vote 13 - Development Agency"},"02.4","Procurement And Asset Management","02.4 - Procurement And Asset Management","02.4 - Procurement And Asset Management"]
[{"$f":"B60&\" - \"&C60","v":"Vote 14 - "},"02.5","Information Technology","02.5 - Information Technology","02.5 - Information Technology"]
[{"$f":"B61&\" - \"&C61","v":"Vote 15 - Other"},"02.6","Municipal Records And Auxiliary Services","02.6 - Municipal Records And Auxiliary Services","02.6 - Municipal Records And Auxiliary Services"]
[null,"02.7","Geographical Information Systems","02.7 - Geographical Information Systems","02.7 - Geographical Information Systems"]
[null,"02.8","Security Services & Municipal Keypoints","02.8 - Security Services & Municipal Keypoints","02.8 - Security Services & Municipal Keypoints"]
[null,"02.9","Treasury And Revenue","02.9 - Treasury And Revenue","02.9 - Treasury And Revenue"]
[null,"02.10","Treasury And Revenue","02.10 - Treasury And Revenue","02.10 - Treasury And Revenue"]
[null,"02.11","Budget And Reporting","02.11 - Budget And Reporting","02.11 - Budget And Reporting"]
[null,"02.12","Budget And Reporting","02.12 - Budget And Reporting","02.12 - Budget And Reporting"]
[null,"02.13","Accounting Services","02.13 - Accounting Services","02.13 - Accounting Services"]
[null,"02.14","Wsa Finance","02.14 - Wsa Finance","02.14 - Wsa Finance"]
[null,"Vote 03","Planning & Development"]
[null,"03.1","Economic Development",{"$f":"CONCATENATE(B26, \" - \", C26)","v":"03.1 - Economic Development"},"03.1 - Economic Development"]
[null,"03.2","Survey And Planning",{"$f":"CONCATENATE(B27, \" - \", C27)","v":"03.2 - Survey And Planning"},"03.2 - Survey And Planning"]
[null,"03.3","Ntinga Development Agency",{"$f":"CONCATENATE(B28, \" - \", C28)","v":"03.3 - Ntinga Development Agency"},"03.3 - Ntinga Development Agency"]
[null,"03.4","Socio-Economic Development Facilitation",{"$f":"CONCATENATE(B29, \" - \", C29)","v":"03.4 - Socio-Economic Development Facilitation"},"03.4 - Socio-Economic Development Facilitation"]
[null,"Vote 04","Health"]
[null,"04.1","Municipal Health",{"$f":"CONCATENATE(B31, \" - \", C31)","v":"04.1 - Municipal Health"},"04.1 - Municipal Health"]
[null,"Vote 05","Community & Social Services"]
[null,"05.1","Social Development And Community Safety",{"$f":"CONCATENATE(B33, \" - \", C33)","v":"05.1 - Social Development And Community Safety"},"05.1 - Social Development And Community Safety"]
[null,"Vote 06","Housing"]
[null,"06.1","Housing Settlement",{"$f":"CONCATENATE(B35, \" - \", C35)","v":"06.1 - Housing Settlement"},"06.1 - Housing Settlement"]
[null,"06.2","Building And Technology",{"$f":"CONCATENATE(B36, \" - \", C36)","v":"06.2 - Building And Technology"},"06.2 - Building And Technology"]
[null,"Vote 07","Public Safety"]
[null,"07.1","Disaster Management",{"$f":"CONCATENATE(B38, \" - \", C38)","v":"07.1 - Disaster Management"},"07.1 - Disaster Management"]
[null,"07.2","Fire; Rescue And Emergency",{"$f":"CONCATENATE(B39, \" - \", C39)","v":"07.2 - Fire; Rescue And Emergency"},"07.2 - Fire; Rescue And Emergency"]
[null,"Vote 08","Sports & Recreation"]
[null,"08.1","Arts; Sports And Culture",{"$f":"CONCATENATE(B41, \" - \", C41)","v":"08.1 - Arts; Sports And Culture"},"08.1 - Arts; Sports And Culture"]
[null,"Vote 09","Environmental"]
[null,"09.1","Environmental Management",{"$f":"CONCATENATE(B43, \" - \", C43)","v":"09.1 - Environmental Management"},"09.1 - Environmental Management"]
[null,"Vote 10","Roads"]
[null,"10.1","Planner Transport Planning",{"$f":"CONCATENATE(B45, \" - \", C45)","v":"10.1 - Planner Transport Planning"},"10.1 - Planner Transport Planning"]
[null,"10.2","Public Works",{"$f":"CONCATENATE(B46, \" - \", C46)","v":"10.2 - Public Works"},"10.2 - Public Works"]
[null,"Vote 11","Water"]
[null,"11.1","Wsa Planning",{"$f":"CONCATENATE(B48, \" - \", C48)","v":"11.1 - Wsa Planning"},"11.1 - Wsa Planning"]
[null,"11.2","Wsa Monit. Env. Municipal Health Service","11.2 - Wsa Monit. Env. Municipal Health Service","11.2 - Wsa Monit. Env. Municipal Health Service"]
[null,"11.3","Wsu1","11.3 - Wsu1","11.3 - Wsu1"]
[null,"11.4","Wsu2","11.4 - Wsu2","11.4 - Wsu2"]
[null,"11.5","Wsu3","11.5 - Wsu3","11.5 - Wsu3"]
[null,"11.6","Wsu4","11.6 - Wsu4","11.6 - Wsu4"]
[null,"11.7","Wsa Communication Customer Relations","11.7 - Wsa Communication Customer Relations","11.7 - Wsa Communication Customer Relations"]
[null,"11.8","Wsa Capex Services","11.8 - Wsa Capex Services","11.8 - Wsa Capex Services"]
[null,"Vote 12","Tourism"]
[null,"12.1","Tourism",{"$f":"CONCATENATE(B57, \" - \", C57)","v":"12.1 - Tourism"},"12.1 - Tourism"]
[null,"Vote 13","Development Agency"]
[null,"13.1","Ntinga Development Agency",{"$f":"CONCATENATE(B59, \" - \", C59)","v":"13.1 - Ntinga Development Agency"},"13.1 - Ntinga Development Agency"]
[null,"Vote 14"]
[null,"Vote 15","Other"]

{"sheet":"Contacts","index":5,"n_rows":140,"n_cols":4,"rows_kept":140,"cut":false,"hidden":false,"merged":[[7,2,7,3],[13,0,13,1],[29,0,29,1],[10,2,10,3],[12,2,12,3],[84,2,84,3],[30,2,30,3],[29,2,29,3],[48,0,48,1],[100,2,100,3],[39,2,39,3],[48,2,48,3],[57,2,57,3],[92,0,92,1],[39,0,39,1],[132,0,132,1],[132,2,132,3],[76,0,76,1],[57,0,57,1],[76,2,76,3],[92,2,92,3],[67,2,67,3],[124,0,124,1],[124,2,124,3],[116,0,116,1],[116,2,116,3],[108,0,108,1],[108,2,108,3],[100,0,100,1],[58,2,58,3],[84,0,84,1]]}
[{"$f":"muni&\" - \"&\" Contact Information\"","v":"DC15 O .R. Tambo -  Contact Information"}]
[]
["A. GENERAL INFORMATION"]
["Municipality",{"$f":"muni","v":"DC15 O .R. Tambo"},{"$f":"IF(B4=\"Choose name from List\",\"Set name on 'Instructions' sheet\", \"\")","v":""}]
[]
["Grade"," 5","1 Grade in terms of the Remuneration of Public Office Bearers Act."]
[]
["Province",{"$f":"IF(B4>\" \",VLOOKUP(B4,'Lookup and lists'!B29:C307,2, FALSE),\" \")","v":"EC EASTERN CAPE"}]
[]
["Web Address","ortambodm,gov.za"]
[]
["e-mail Address",""]
[]
["B. CONTACT INFORMATION"]
["Postal address:"]
["P.O. Box","6043"]
["City / Town","MTHATHA"]
["Postal Code","5100"]
[]
["Street address"]
["Building","OR TAMBO HOUSE"]
["Street No. & Name","NELSON MANDELA DRIVE"]
["City / Town","MTHATHA"]
["Postal Code","51000"]
[]
["General Contacts"]
["Telephone number","047501656400"]
["Fax number","047 532 6518"]
[]
["C. POLITICAL LEADERSHIP"]
["Speaker:",null,"Secretary/PA to the Speaker:"]
["ID Number","7104235784082","ID Number","840815 56271 089"]
["Title","Mr","Title","Mr"]
["Name","XOLILIE  NKOMPELA","Name","SINDILE  STOYILE"]
["Telephone number","047 501 7001","Telephone number","047 501 7001"]
["Cell number","076 062 8714","Cell number"]
["Fax number",null,"Fax number"]
["E-mail address",null,"E-mail address"]
[]
["Mayor/Executive Mayor:",null,"Secretary/PA to the Mayor/Executive Mayor:"]
["ID Number","6304190877084","ID Number","8802060854081"]
["Title","Ms","Title","Ms"]
["Name","THOKOZILE SOKHANYILE","Name","SINALO MPAYIPHELI"]
["Telephone number","0475016451","Telephone number","0475011761"]
["Cell number","0828563796","Cell number","0739914715"]
["Fax number","","Fax number",""]
["E-mail address","sokanyilet@gmail.com","E-mail address","sinalo.mpayipheli@gmail.com"]
[]
["Deputy Mayor/Executive Mayor:",null,"Secretary/PA to the Deputy Mayor/Executive Mayor:"]
["ID Number","560801 5673 085","ID Number","890215 1208 088"]
["Title","Mr","Title","Ms"]
["Name","ROBERT NOGUMLA","Name","XOLISWA MENE"]
["Telephone number","0475016428","Telephone number",""]
["Cell number",null,"Cell number","072 339 1721"]
["Fax number",null,"Fax number"]
["E-mail address",null,"E-mail address"]
[]
["D. MANAGEMENT LEADERSHIP"]
["Municipal Manager:",null,"Secretary/PA to the Municipal Manager:"]
["ID Number","640204 5063 080","ID Number","930714 0866 088"]
["Title","Mr","Title","Ms"]
["Name","OWEN HLAZO","Name","MONGIKAZI MPAYIPHELI"]
["Telephone number","047 501 6404","Telephone number","047 501 6407"]
["Cell number","082 559 9536","Cell number"]
["Fax number","","Fax number"]
["E-mail address","owenhlazo@yahoo.com","E-mail address","mongikazim@ortambodm.gov.za"]
[]
["Chief Financial Officer",null,"Secretary/PA to the Chief Financial Officer"]
["ID Number","660103 6043 080","ID Number","800410 0494 081"]
["Title","Mr","Title","Ms"]
["Name","MOABI MOLEKO","Name","SIYANDA  NDUKWANA"]
["Telephone number","047 501 6447","Telephone number","047 501 6447"]
["Cell number","083 761 0195","Cell number","072 132 8257"]
["Fax number",null,"Fax number"]
["E-mail address","taum46@gmail.com","E-mail address","sb@galmail.co.za"]
[]
["Official responsible for submitting financial information",null,"Official responsible for submitting financial information"]
["ID Number","740703 5289 081","ID Number","8606095800088"]
["Title","Mr","Title","Mr"]
["Name","SIPHO  QEGU","Name","Vuyolwethu Bisha"]
["Telephone number","047 501 6546","Telephone number","047 501 6522"]
["Cell number","082 938 5775","Cell number"]
["Fax number",null,"Fax number"]
["E-mail address","sipho10@hotmail.com","E-mail address","vuyolwethubisha@gmail.com"]
["Official responsible for submitting financial information",null,"Official responsible for submitting financial information"]
["ID Number",null,"ID Number"]
["Title",null,"Title"]
["Name",null,"Name"]
["Telephone number",null,"Telephone number"]
["Cell number",null,"Cell number"]
["Fax number",null,"Fax number"]
["E-mail address",null,"E-mail address"]
["Official responsible for submitting financial information",null,"Official responsible for submitting financial information"]
["ID Number",null,"ID Number"]
["Title",null,"Title"]
["Name",null,"Name"]
["Telephone number",null,"Telephone number"]
["Cell number",null,"Cell number"]
["Fax number",null,"Fax number"]
["E-mail address",null,"E-mail address"]
["Official responsible for submitting financial information",null,"Official responsible for submitting financial information"]
["ID Number",null,"ID Number"]
["Title",null,"Title"]
["Name",null,"Name"]
["Telephone number",null,"Telephone number"]
["Cell number",null,"Cell number"]
["Fax number",null,"Fax number"]
["E-mail address",null,"E-mail address"]
["Official responsible for submitting financial information",null,"Official responsible for submitting financial information"]
["ID Number",null,"ID Number"]
["Title",null,"Title"]
["Name",null,"Name"]
["Telephone number",null,"Telephone number"]
["Cell number",null,"Cell number"]
["Fax number",null,"Fax number"]
["E-mail address",null,"E-mail address"]
["Official responsible for submitting financial information",null,"Official responsible for submitting financial information"]
["ID Number",null,"ID Number"]
["Title",null,"Title"]
["Name",null,"Name"]
["Telephone number",null,"Telephone number"]
["Cell number",null,"Cell number"]
["Fax number",null,"Fax number"]
["E-mail address",null,"E-mail address"]
["Official responsible for submitting financial information",null,"Official responsible for submitting financial information"]
["ID Number",null,"ID Number"]
["Title",null,"Title"]
["Name",null,"Name"]
["Telephone number",null,"Telephone number"]
["Cell number",null,"Cell number"]
["Fax number",null,"Fax number"]
["E-mail address",null,"E-mail address"]
["Official responsible for submitting financial information"]
["ID Number"]
["Title"]
["Name"]
["Telephone number"]
["Cell number"]
["Fax number"]
["E-mail address"]

{"sheet":"A1-Sum","index":6,"n_rows":65,"n_cols":11,"rows_kept":65,"cut":false,"hidden":false,"merged":[[1,8,1,10],[1,4,1,7],[0,0,0,2]]}
[{"$f":"muni&\" - \"&Approve1","v":"DC15 O .R. Tambo - Table A1 Consolidated Budget Summary"}]
[{"$f":"desc","v":"Description"},{"$f":"head1b","v":"2016/17"},{"$f":"head1A","v":"2017/18"},{"$f":"Head1","v":"2018/19"},{"$f":"Head2","v":"Current Year 2019/20"},null,null,null,{"$f":"Head3","v":"2020/21 Medium Term Revenue & Expenditure Framework"}]
["R thousands",{"$f":"Head5","v":"Audited Outcome"},{"$f":"Head5","v":"Audited Outcome"},{"$f":"Head5","v":"Audited Outcome"},{"$f":"Head6","v":"Original Budget"},{"$f":"Head7","v":"Adjusted Budget"},{"$f":"Head8","v":"Full Year Forecast"},{"$f":"Head5b","v":"Pre-audit outcome"},{"$f":"Head9","v":"Budget Year 2020/21"},{"$f":"Head10","v":"Budget Year +1 2021/22"},{"$f":"Head11","v":"Budget Year +2 2022/23"}]
["Financial Performance"]
["Property rates",{"$f":"'A4-FinPerf RE'!C5","v":0},{"$f":"'A4-FinPerf RE'!D5","v":0},{"$f":"'A4-FinPerf RE'!E5","v":0},{"$f":"'A4-FinPerf RE'!F5","v":0},{"$f":"'A4-FinPerf RE'!G5","v":0},{"$f":"'A4-FinPerf RE'!H5","v":0},{"$f":"'A4-FinPerf RE'!I5","v":0},{"$f":"'A4-FinPerf RE'!J5","v":0},{"$f":"'A4-FinPerf RE'!K5","v":0},{"$f":"'A4-FinPerf RE'!L5","v":0}]
["Service charges",{"$f":"SUM('A4-FinPerf RE'!C6:C9)","v":206822345},{"$f":"SUM('A4-FinPerf RE'!D6:D9)","v":230269381.04999998},{"$f":"SUM('A4-FinPerf RE'!E6:E9)","v":246651581.75999999},{"$f":"SUM('A4-FinPerf RE'!F6:F9)","v":307474028},{"$f":"SUM('A4-FinPerf RE'!G6:G9)","v":340974028},{"$f":"SUM('A4-FinPerf RE'!H6:H9)","v":340974028},{"$f":"SUM('A4-FinPerf RE'!I6:I9)","v":225392584.5},{"$f":"SUM('A4-FinPerf RE'!J6:J9)","v":367302470},{"$f":"SUM('A4-FinPerf RE'!K6:K9)","v":368384618},{"$f":"SUM('A4-FinPerf RE'!L6:L9)","v":390489695}]
["Investment revenue",{"$f":"'A4-FinPerf RE'!C12","v":39503639},{"$f":"'A4-FinPerf RE'!D12","v":52465123},{"$f":"'A4-FinPerf RE'!E12","v":41483463},{"$f":"'A4-FinPerf RE'!F12","v":36882200},{"$f":"'A4-FinPerf RE'!G12","v":23882200},{"$f":"'A4-FinPerf RE'!H12","v":23882200},{"$f":"'A4-FinPerf RE'!I12","v":22753738.77},{"$f":"'A4-FinPerf RE'!J12","v":29515576},{"$f":"'A4-FinPerf RE'!K12","v":38899639},{"$f":"'A4-FinPerf RE'!L12","v":40689023}]
["Transfers recognised - operational",{"$f":"'A4-FinPerf RE'!C18","v":648400220},{"$f":"'A4-FinPerf RE'!D18","v":728676577},{"$f":"'A4-FinPerf RE'!E18","v":793811821},{"$f":"'A4-FinPerf RE'!F18","v":863952000},{"$f":"'A4-FinPerf RE'!G18","v":900944560},{"$f":"'A4-FinPerf RE'!H18","v":900944560},{"$f":"'A4-FinPerf RE'!I18","v":842731747.72000003},{"$f":"'A4-FinPerf RE'!J18","v":976036181},{"$f":"'A4-FinPerf RE'!K18","v":1036542466},{"$f":"'A4-FinPerf RE'!L18","v":1104844272}]
["Other own revenue",{"$f":"'A4-FinPerf RE'!C11+'A4-FinPerf RE'!C13+'A4-FinPerf RE'!C14+'A4-FinPerf RE'!C15+'A4-FinPerf RE'!C16+'A4-FinPerf RE'!C17+'A4-FinPerf RE'!C19+'A4-FinPerf RE'!C20","v":184868591},{"$f":"'A4-FinPerf RE'!D11+'A4-FinPerf RE'!D13+'A4-FinPerf RE'!D14+'A4-FinPerf RE'!D15+'A4-FinPerf RE'!D16+'A4-FinPerf RE'!D17+'A4-FinPerf RE'!D19+'A4-FinPerf RE'!D20","v":73129025},{"$f":"'A4-FinPerf RE'!E11+'A4-FinPerf RE'!E13+'A4-FinPerf RE'!E14+'A4-FinPerf RE'!E15+'A4-FinPerf RE'!E16+'A4-FinPerf RE'!E17+'A4-FinPerf RE'!E19+'A4-FinPerf RE'!E20","v":61000283},{"$f":"'A4-FinPerf RE'!F11+'A4-FinPerf RE'!F13+'A4-FinPerf RE'!F14+'A4-FinPerf RE'!F15+'A4-FinPerf RE'!F16+'A4-FinPerf RE'!F17+'A4-FinPerf RE'!F19+'A4-FinPerf RE'!F20","v":291603206},{"$f":"'A4-FinPerf RE'!G11+'A4-FinPerf RE'!G13+'A4-FinPerf RE'!G14+'A4-FinPerf RE'!G15+'A4-FinPerf RE'!G16+'A4-FinPerf RE'!G17+'A4-FinPerf RE'!G19+'A4-FinPerf RE'!G20","v":356838414},{"$f":"'A4-FinPerf RE'!H11+'A4-FinPerf RE'!H13+'A4-FinPerf RE'!H14+'A4-FinPerf RE'!H15+'A4-FinPerf RE'!H16+'A4-FinPerf RE'!H17+'A4-FinPerf RE'!H19+'A4-FinPerf RE'!H20","v":356838414},{"$f":"'A4-FinPerf RE'!I11+'A4-FinPerf RE'!I13+'A4-FinPerf RE'!I14+'A4-FinPerf RE'!I15+'A4-FinPerf RE'!I16+'A4-FinPerf RE'!I17+'A4-FinPerf RE'!I19+'A4-FinPerf RE'!I20","v":22700451.989999998},{"$f":"'A4-FinPerf RE'!J11+'A4-FinPerf RE'!J13+'A4-FinPerf RE'!J14+'A4-FinPerf RE'!J15+'A4-FinPerf RE'!J16+'A4-FinPerf RE'!J17+'A4-FinPerf RE'!J19+'A4-FinPerf RE'!J20","v":375953280},{"$f":"'A4-FinPerf RE'!K11+'A4-FinPerf RE'!K13+'A4-FinPerf RE'!K14+'A4-FinPerf RE'!K15+'A4-FinPerf RE'!K16+'A4-FinPerf RE'!K17+'A4-FinPerf RE'!K19+'A4-FinPerf RE'!K20","v":347733290},{"$f":"'A4-FinPerf RE'!L11+'A4-FinPerf RE'!L13+'A4-FinPerf RE'!L14+'A4-FinPerf RE'!L15+'A4-FinPerf RE'!L16+'A4-FinPerf RE'!L17+'A4-FinPerf RE'!L19+'A4-FinPerf RE'!L20","v":332319311}]
[{"$f":"'A4-FinPerf RE'!A21","v":"Total Revenue (excluding capital transfers and contributions)"},{"$f":"SUM(B5:B9)","v":1079594795},1084540106.05,1142947148.76,1499911434,1622639202,1622639202,1113578522.98,1748807507,1791560013,1868342301]
["Employee costs",{"$f":"'A4-FinPerf RE'!C24","v":436330870},{"$f":"'A4-FinPerf RE'!D24","v":545660194.52999997},{"$f":"'A4-FinPerf RE'!E24","v":580576128.81000006},{"$f":"'A4-FinPerf RE'!F24","v":579709959},{"$f":"'A4-FinPerf RE'!G24","v":624867280},{"$f":"'A4-FinPerf RE'!H24","v":624867280},{"$f":"'A4-FinPerf RE'!I24","v":520522197.41999996},{"$f":"'A4-FinPerf RE'!J24","v":680160045},{"$f":"'A4-FinPerf RE'!K24","v":720651764},{"$f":"'A4-FinPerf RE'!L24","v":765566273}]
["Remuneration of councillors",{"$f":"'A4-FinPerf RE'!C25","v":17749620},{"$f":"'A4-FinPerf RE'!D25","v":20304599},{"$f":"'A4-FinPerf RE'!E25","v":23714415},{"$f":"'A4-FinPerf RE'!F25","v":22659098},{"$f":"'A4-FinPerf RE'!G25","v":22659098},{"$f":"'A4-FinPerf RE'!H25","v":22659098},{"$f":"'A4-FinPerf RE'!I25","v":15900351.449999999},{"$f":"'A4-FinPerf RE'!J25","v":24075294},{"$f":"'A4-FinPerf RE'!K25","v":25579999},{"$f":"'A4-FinPerf RE'!L25","v":27178747}]
["Depreciation & asset impairment",{"$f":"'A4-FinPerf RE'!C27","v":164455907},{"$f":"'A4-FinPerf RE'!D27","v":189380733},{"$f":"'A4-FinPerf RE'!E27","v":196525406},{"$f":"'A4-FinPerf RE'!F27","v":165748000},{"$f":"'A4-FinPerf RE'!G27","v":241121946},{"$f":"'A4-FinPerf RE'!H27","v":241121946},{"$f":"'A4-FinPerf RE'!I27","v":0},{"$f":"'A4-FinPerf RE'!J27","v":176963581},{"$f":"'A4-FinPerf RE'!K27","v":185858322},{"$f":"'A4-FinPerf RE'!L27","v":194022428}]
["Finance charges",{"$f":"'A4-FinPerf RE'!C28","v":12769623},{"$f":"'A4-FinPerf RE'!D28","v":9151978},{"$f":"'A4-FinPerf RE'!E28","v":9355557},{"$f":"'A4-FinPerf RE'!F28","v":0},{"$f":"'A4-FinPerf RE'!G28","v":0},{"$f":"'A4-FinPerf RE'!H28","v":0},{"$f":"'A4-FinPerf RE'!I28","v":122365.66},{"$f":"'A4-FinPerf RE'!J28","v":0},{"$f":"'A4-FinPerf RE'!K28","v":0},{"$f":"'A4-FinPerf RE'!L28","v":0}]
["Materials and bulk purchases",{"$f":"'A4-FinPerf RE'!C29+'A4-FinPerf RE'!C30","v":42406949},{"$f":"'A4-FinPerf RE'!D29+'A4-FinPerf RE'!D30","v":86246413},{"$f":"'A4-FinPerf RE'!E29+'A4-FinPerf RE'!E30","v":74571814},{"$f":"'A4-FinPerf RE'!F29+'A4-FinPerf RE'!F30","v":65903782},{"$f":"'A4-FinPerf RE'!G29+'A4-FinPerf RE'!G30","v":90462212},{"$f":"'A4-FinPerf RE'!H29+'A4-FinPerf RE'!H30","v":90462212},{"$f":"'A4-FinPerf RE'!I29+'A4-FinPerf RE'!I30","v":24672300.210000001},{"$f":"'A4-FinPerf RE'!J29+'A4-FinPerf RE'!J30","v":74407068},{"$f":"'A4-FinPerf RE'!K29+'A4-FinPerf RE'!K30","v":80451315},{"$f":"'A4-FinPerf RE'!L29+'A4-FinPerf RE'!L30","v":86130404}]
["Transfers and grants",{"$f":"'A4-FinPerf RE'!C32","v":112119877},{"$f":"'A4-FinPerf RE'!D32","v":66107346.519999988},{"$f":"'A4-FinPerf RE'!E32","v":92458694.329999998},{"$f":"'A4-FinPerf RE'!F32","v":71524657},{"$f":"'A4-FinPerf RE'!G32","v":87523211},{"$f":"'A4-FinPerf RE'!H32","v":87523211},{"$f":"'A4-FinPerf RE'!I32","v":56275810.299999997},{"$f":"'A4-FinPerf RE'!J32","v":97304786},{"$f":"'A4-FinPerf RE'!K32","v":91060295},{"$f":"'A4-FinPerf RE'!L32","v":93760687}]
["Other expenditure",{"$f":"'A4-FinPerf RE'!C26+'A4-FinPerf RE'!C31+'A4-FinPerf RE'!C33+'A4-FinPerf RE'!C34","v":602411401},{"$f":"'A4-FinPerf RE'!D26+'A4-FinPerf RE'!D31+'A4-FinPerf RE'!D33+'A4-FinPerf RE'!D34","v":653472575.99000001},{"$f":"'A4-FinPerf RE'!E26+'A4-FinPerf RE'!E31+'A4-FinPerf RE'!E33+'A4-FinPerf RE'!E34","v":705130750.75999999},{"$f":"'A4-FinPerf RE'!F26+'A4-FinPerf RE'!F31+'A4-FinPerf RE'!F33+'A4-FinPerf RE'!F34","v":527698232},{"$f":"'A4-FinPerf RE'!G26+'A4-FinPerf RE'!G31+'A4-FinPerf RE'!G33+'A4-FinPerf RE'!G34","v":592932675},{"$f":"'A4-FinPerf RE'!H26+'A4-FinPerf RE'!H31+'A4-FinPerf RE'!H33+'A4-FinPerf RE'!H34","v":592932675},{"$f":"'A4-FinPerf RE'!I26+'A4-FinPerf RE'!I31+'A4-FinPerf RE'!I33+'A4-FinPerf RE'!I34","v":294921184.56},{"$f":"'A4-FinPerf RE'!J26+'A4-FinPerf RE'!J31+'A4-FinPerf RE'!J33+'A4-FinPerf RE'!J34","v":653490469},{"$f":"'A4-FinPerf RE'!K26+'A4-FinPerf RE'!K31+'A4-FinPerf RE'!K33+'A4-FinPerf RE'!K34","v":688903124},{"$f":"'A4-FinPerf RE'!L26+'A4-FinPerf RE'!L31+'A4-FinPerf RE'!L33+'A4-FinPerf RE'!L34","v":697348722}]
[{"$f":"'A4-FinPerf RE'!A35","v":"Total Expenditure"},{"$f":"SUM(B11:B17)","v":1388244247},{"$f":"SUM(C11:C17)","v":1570323840.04},1682332765.9000001,1433243728,1659566422,1659566422,912414209.5999999,1706401243,1792504819,1864007261]
[{"$f":"'A4-FinPerf RE'!A37","v":"Surplus/(Deficit)"},{"$f":"B10-B18","v":-308649452},-485783733.99000001,-539385617.1400001,66667706,-36927220,-36927220,201164313.38000011,42406264,-944806,4335040]
[{"$f":"'A4-FinPerf RE'!A38","v":"Transfers and subsidies - capital (monetary allocations) (National / Provincial and District)"},{"$f":"'A4-FinPerf RE'!C38","v":780648829},{"$f":"'A4-FinPerf RE'!D38","v":1021322104},{"$f":"'A4-FinPerf RE'!E38","v":1089864335},{"$f":"'A4-FinPerf RE'!F38","v":982905000},{"$f":"'A4-FinPerf RE'!G38","v":1149755730},{"$f":"'A4-FinPerf RE'!H38","v":1149755730},{"$f":"'A4-FinPerf RE'!I38","v":15065078.460000001},{"$f":"'A4-FinPerf RE'!J38","v":891519000},{"$f":"'A4-FinPerf RE'!K38","v":882465000},{"$f":"'A4-FinPerf RE'!L38","v":988437000}]
[{"$f":"'A4-FinPerf RE'!A39&\" & \"&'A4-FinPerf RE'!A40","v":"Transfers and subsidies - capital (monetary allocations) (National / Provincial Departmental Agencies, Households, Non-profit Institutions, Private Enterprises, Public Corporatons, Higher Educational Institutions) & Transfers and subsidies - capital (in-kind - all) "},{"$f":"'A4-FinPerf RE'!C39+'A4-FinPerf RE'!C40","v":0},{"$f":"'A4-FinPerf RE'!D39+'A4-FinPerf RE'!D40","v":0},{"$f":"'A4-FinPerf RE'!E39+'A4-FinPerf RE'!E40","v":0},{"$f":"'A4-FinPerf RE'!F39+'A4-FinPerf RE'!F40","v":0},{"$f":"'A4-FinPerf RE'!G39+'A4-FinPerf RE'!G40","v":0},{"$f":"'A4-FinPerf RE'!H39+'A4-FinPerf RE'!H40","v":0},{"$f":"'A4-FinPerf RE'!I39+'A4-FinPerf RE'!I40","v":0},{"$f":"'A4-FinPerf RE'!J39+'A4-FinPerf RE'!J40","v":0},{"$f":"'A4-FinPerf RE'!K39+'A4-FinPerf RE'!K40","v":0},{"$f":"'A4-FinPerf RE'!L39+'A4-FinPerf RE'!L40","v":0}]
[{"$f":"'A4-FinPerf RE'!A41","v":"Surplus/(Deficit) after capital transfers & contributions"},{"$f":"B19+SUM(B20:B21)","v":471999377},{"$f":"C19+SUM(C20:C21)","v":535538370.00999999},550478717.8599999,1049572706,1112828510,1112828510,216229391.84000012,933925264,881520194,992772040]
[{"$f":"'A4-FinPerf RE'!A46","v":"Share of surplus/ (deficit) of associate"},{"$f":"'A4-FinPerf RE'!C46","v":0},{"$f":"'A4-FinPerf RE'!D46","v":0},{"$f":"'A4-FinPerf RE'!E46","v":0},{"$f":"'A4-FinPerf RE'!F46","v":0},{"$f":"'A4-FinPerf RE'!G46","v":0},{"$f":"'A4-FinPerf RE'!H46","v":0},{"$f":"'A4-FinPerf RE'!I46","v":0},{"$f":"'A4-FinPerf RE'!J46","v":0},{"$f":"'A4-FinPerf RE'!K46","v":0},{"$f":"'A4-FinPerf RE'!L46","v":0}]
[{"$f":"'A4-FinPerf RE'!A47","v":"Surplus/(Deficit) for the year"},{"$f":"B22+B23","v":471999377},{"$f":"C22+C23","v":535538370.00999999},550478717.8599999,1049572706,1112828510,1112828510,216229391.84000012,933925264,881520194,992772040]
[]
["Capital expenditure & funds sources"]
["Capital expenditure",{"$f":"'A5-Capex'!C63","v":810395059},{"$f":"'A5-Capex'!D63","v":779295709},{"$f":"'A5-Capex'!E63","v":875178512},{"$f":"'A5-Capex'!F63","v":1123227534},{"$f":"'A5-Capex'!G63","v":1351709411},{"$f":"'A5-Capex'!H63","v":1351709411},{"$f":"'A5-Capex'!I63","v":523157567.78999996},{"$f":"'A5-Capex'!J63","v":1044807053},{"$f":"'A5-Capex'!K63","v":978659832},{"$f":"'A5-Capex'!L63","v":1060649435}]
["Transfers recognised - capital",{"$f":"'A5-Capex'!C70","v":809271875},{"$f":"'A5-Capex'!D70","v":731779794},{"$f":"'A5-Capex'!E70","v":862537145},{"$f":"'A5-Capex'!F70","v":982905001},{"$f":"'A5-Capex'!G70","v":1219465772},{"$f":"'A5-Capex'!H70","v":1219465772},{"$f":"'A5-Capex'!I70","v":471255319.93000001},{"$f":"'A5-Capex'!J70","v":920415000},{"$f":"'A5-Capex'!K70","v":889298000},{"$f":"'A5-Capex'!L70","v":995289800}]
[]
[{"$f":"'A5-Capex'!A72","v":"Borrowing"},{"$f":"'A5-Capex'!C72","v":0},{"$f":"'A5-Capex'!D72","v":0},{"$f":"'A5-Capex'!E72","v":0},{"$f":"'A5-Capex'!F72","v":0},{"$f":"'A5-Capex'!G72","v":0},{"$f":"'A5-Capex'!H72","v":0},{"$f":"'A5-Capex'!I72","v":0},{"$f":"'A5-Capex'!J72","v":0},{"$f":"'A5-Capex'!K72","v":0},{"$f":"'A5-Capex'!L72","v":0}]
[{"$f":"'A5-Capex'!A73","v":"Internally generated funds"},{"$f":"'A5-Capex'!C73","v":1123184},{"$f":"'A5-Capex'!D73","v":47515915},{"$f":"'A5-Capex'!E73","v":12641367},{"$f":"'A5-Capex'!F73","v":140322533},{"$f":"'A5-Capex'!G73","v":132243639},{"$f":"'A5-Capex'!H73","v":132243639},{"$f":"'A5-Capex'!I73","v":51902247.859999999},{"$f":"'A5-Capex'!J73","v":124392053},{"$f":"'A5-Capex'!K73","v":89361832},{"$f":"'A5-Capex'!L73","v":65359635}]
["Total sources of capital funds",{"$f":"+B28+B30+B31","v":810395059},{"$f":"+C28+C30+C31","v":779295709},875178512,1123227534,1351709411,1351709411,523157567.79000002,1044807053,978659832,1060649435]
[]
["Financial position"]
[{"$f":"'A6-FinPos'!A12","v":"Total current assets"},{"$f":"'A6-FinPos'!C12","v":455664716},{"$f":"'A6-FinPos'!D12","v":476240329.38},{"$f":"'A6-FinPos'!E12","v":549840998.53000009},{"$f":"'A6-FinPos'!F12","v":662789121.09560204},{"$f":"'A6-FinPos'!G12","v":430183968},{"$f":"'A6-FinPos'!H12","v":430183968},{"$f":"'A6-FinPos'!I12","v":494373992.24000001},{"$f":"'A6-FinPos'!J12","v":351700753.13237596},{"$f":"'A6-FinPos'!K12","v":525721839.13237596},{"$f":"'A6-FinPos'!L12","v":486326711.13237596}]
[{"$f":"'A6-FinPos'!A24","v":"Total non current assets"},{"$f":"'A6-FinPos'!C24","v":5376246196},{"$f":"'A6-FinPos'!D24","v":5988979370.6899996},{"$f":"'A6-FinPos'!E24","v":6533149257.7600002},{"$f":"'A6-FinPos'!F24","v":9718279264.1851978},{"$f":"'A6-FinPos'!G24","v":8510510621},{"$f":"'A6-FinPos'!H24","v":8510510621},{"$f":"'A6-FinPos'!I24","v":6965443623.8400002},{"$f":"'A6-FinPos'!J24","v":9133838404},{"$f":"'A6-FinPos'!K24","v":9794915856},{"$f":"'A6-FinPos'!L24","v":10273636980}]
[{"$f":"'A6-FinPos'!A34","v":"Total current liabilities"},{"$f":"'A6-FinPos'!C34","v":395321409},{"$f":"'A6-FinPos'!D34","v":467755382},{"$f":"'A6-FinPos'!E34","v":637370957},{"$f":"'A6-FinPos'!F34","v":282179826.48887098},{"$f":"'A6-FinPos'!G34","v":222368358},{"$f":"'A6-FinPos'!H34","v":222368358},{"$f":"'A6-FinPos'!I34","v":1085914038.9300001},{"$f":"'A6-FinPos'!J34","v":227260013},{"$f":"'A6-FinPos'!K34","v":461580728.13237596},{"$f":"'A6-FinPos'!L34","v":419299251.13237596}]
[{"$f":"'A6-FinPos'!A39","v":"Total non current liabilities"},{"$f":"'A6-FinPos'!C39","v":102837391},{"$f":"'A6-FinPos'!D39","v":87087052},{"$f":"'A6-FinPos'!E39","v":113540052},{"$f":"'A6-FinPos'!F39","v":40674534.079999998},{"$f":"'A6-FinPos'!G39","v":0},{"$f":"'A6-FinPos'!H39","v":0},{"$f":"'A6-FinPos'!I39","v":0},{"$f":"'A6-FinPos'!J39","v":0},{"$f":"'A6-FinPos'!K39","v":0},{"$f":"'A6-FinPos'!L39","v":0}]
["Community wealth/Equity",{"$f":"'A6-FinPos'!C48","v":5350006140},{"$f":"'A6-FinPos'!D48","v":5903313467.8600006},{"$f":"'A6-FinPos'!E48","v":6458937888.8299999},{"$f":"'A6-FinPos'!F48","v":10058214024.711929},{"$f":"'A6-FinPos'!G48","v":8718326231},{"$f":"'A6-FinPos'!H48","v":8718326231},{"$f":"'A6-FinPos'!I48","v":6373903577.1499996},{"$f":"'A6-FinPos'!J48","v":9258279145},{"$f":"'A6-FinPos'!K48","v":9859056967},{"$f":"'A6-FinPos'!L48","v":10340664440}]
[]
["Cash flows"]
["Net cash from (used) operating",{"$f":"'A7-CFlow'!C17","v":722803190},{"$f":"'A7-CFlow'!D17","v":738860534},{"$f":"'A7-CFlow'!E17","v":934630190},{"$f":"'A7-CFlow'!F17","v":1157972544.1569602},{"$f":"'A7-CFlow'!G17","v":1165217544.7348797},{"$f":"'A7-CFlow'!H17","v":1165217544.7348797},{"$f":"'A7-CFlow'!I17","v":1126201574.7748797},{"$f":"'A7-CFlow'!J17","v":1079508555.96},{"$f":"'A7-CFlow'!K17","v":995992797},{"$f":"'A7-CFlow'!L17","v":1076541415}]
["Net cash from (used) investing",{"$f":"'A7-CFlow'!C27","v":-800860959},{"$f":"'A7-CFlow'!D27","v":-776725219},{"$f":"'A7-CFlow'!E27","v":-872872769},{"$f":"'A7-CFlow'!F27","v":-1107615532.73488},{"$f":"'A7-CFlow'!G27","v":-1281711262.73488},{"$f":"'A7-CFlow'!H27","v":-1281711262.73488},{"$f":"'A7-CFlow'!I27","v":-1281711262.73488},{"$f":"'A7-CFlow'!J27","v":-1044807053},{"$f":"'A7-CFlow'!K27","v":-978659832},{"$f":"'A7-CFlow'!L27","v":-1060649435}]
["Net cash from (used) financing",{"$f":"'A7-CFlow'!C36","v":-20434},{"$f":"'A7-CFlow'!D36","v":-38795339},{"$f":"'A7-CFlow'!E36","v":0},{"$f":"'A7-CFlow'!F36","v":0},{"$f":"'A7-CFlow'!G36","v":0},{"$f":"'A7-CFlow'!H36","v":0},{"$f":"'A7-CFlow'!I36","v":0},{"$f":"'A7-CFlow'!J36","v":-3745000},{"$f":"'A7-CFlow'!K36","v":-4007150},{"$f":"'A7-CFlow'!L36","v":-4187472}]
[{"$f":"LEFT('A7-CFlow'!A40,37)","v":"Cash/cash equivalents at the year end"},{"$f":"'A7-CFlow'!C40","v":291314534},{"$f":"'A7-CFlow'!D40","v":214654510},{"$f":"'A7-CFlow'!E40","v":276411931},{"$f":"'A7-CFlow'!F40","v":234131272.42208028},{"$f":"'A7-CFlow'!G40","v":254833828.99999976},{"$f":"'A7-CFlow'!H40","v":254833828.99999976},{"$f":"'A7-CFlow'!I40","v":215817859.03999972},{"$f":"'A7-CFlow'!J40","v":246774361.99999976},{"$f":"'A7-CFlow'!K40","v":260100176.99999976},{"$f":"'A7-CFlow'!L40","v":271804684.99999976}]
[]
["Cash backing/surplus reconciliation"]
[{"$f":"'A8-ResRecon'!A4","v":"Cash and investments available"},{"$f":"'A8-ResRecon'!C8","v":291314534},{"$f":"'A8-ResRecon'!D8","v":214654510},{"$f":"'A8-ResRecon'!E8","v":276411929},{"$f":"'A8-ResRecon'!F8","v":455518479.82873654},{"$f":"'A8-ResRecon'!G8","v":254833829},{"$f":"'A8-ResRecon'!H8","v":254833829},{"$f":"'A8-ResRecon'!I8","v":215817859.04000002},{"$f":"'A8-ResRecon'!J8","v":246774362},{"$f":"'A8-ResRecon'!K8","v":260100177},{"$f":"'A8-ResRecon'!L8","v":271804684.99999976}]
[{"$f":"'A8-ResRecon'!A10","v":"Application of cash and investments"},{"$f":"'A8-ResRecon'!C18","v":297698460},{"$f":"'A8-ResRecon'!D18","v":260259744},{"$f":"'A8-ResRecon'!E18","v":538094025},{"$f":"'A8-ResRecon'!F18","v":-23902154.511129022},{"$f":"'A8-ResRecon'!G18","v":-127734333.17488},{"$f":"'A8-ResRecon'!H18","v":-127734333.17488},{"$f":"'A8-ResRecon'!I18","v":312224875.74511999},{"$f":"'A8-ResRecon'!J18","v":-125554075.66349998},{"$f":"'A8-ResRecon'!K18","v":60585853.297846943},{"$f":"'A8-ResRecon'!L18","v":65471981.674627513}]
["Balance - surplus (shortfall)",{"$f":"B48-B49","v":-6383926},{"$f":"C48-C49","v":-45605234},-261682096,479420634.33986557,382568162.17488003,382568162.17488003,-96407016.705119967,372328437.66349995,199514323.70215306,206332703.32537225]
[]
["Asset management"]
["Asset register summary (WDV)",{"$f":"'A9-Asset'!C165","v":802234498},{"$f":"'A9-Asset'!D165","v":2910489141.1500006},{"$f":"'A9-Asset'!E165","v":4624109566.3499994},{"$f":"'A9-Asset'!F165","v":1123227534},{"$f":"'A9-Asset'!G165","v":8504831621},{"$f":"'A9-Asset'!H165","v":8504831621},{"$f":"'A9-Asset'!H165","v":8504831621},{"$f":"'A9-Asset'!I165","v":9133838404},{"$f":"'A9-Asset'!J165","v":9794915856},{"$f":"'A9-Asset'!K165","v":10273636980}]
[{"$f":"'A9-Asset'!A168","v":"Depreciation"},{"$f":"'A9-Asset'!C168","v":164455907},{"$f":"'A9-Asset'!D168","v":189380733},{"$f":"'A9-Asset'!E168","v":196525406.00000003},{"$f":"'A9-Asset'!F168","v":165748000},{"$f":"'A9-Asset'!G168","v":241121946},{"$f":"'A9-Asset'!H168","v":241121946},{"$f":"'A9-Asset'!H168","v":241121946},{"$f":"'A9-Asset'!I168","v":176963581},{"$f":"'A9-Asset'!J168","v":185858322},{"$f":"'A9-Asset'!K168","v":194022428}]
["Renewal and Upgrading of Existing Assets",{"$f":"'A9-Asset'!C37+'A9-Asset'!C69","v":0},{"$f":"'A9-Asset'!D37+'A9-Asset'!D69","v":0},{"$f":"'A9-Asset'!E37+'A9-Asset'!E69","v":0},{"$f":"'A9-Asset'!F37+'A9-Asset'!F69","v":28181271},{"$f":"'A9-Asset'!G37+'A9-Asset'!G69","v":12935056},{"$f":"'A9-Asset'!H37+'A9-Asset'!H69","v":12935056},{"$f":"'A9-Asset'!H37+'A9-Asset'!H69","v":12935056},{"$f":"'A9-Asset'!I37+'A9-Asset'!I69","v":20377854},{"$f":"'A9-Asset'!J37+'A9-Asset'!J69","v":10590882},{"$f":"'A9-Asset'!K37+'A9-Asset'!K69","v":7598902}]
["Repairs and Maintenance",{"$f":"'A9-Asset'!C169","v":86311406},{"$f":"'A9-Asset'!D169","v":156870235.69999999},{"$f":"'A9-Asset'!E169","v":145144142.41},{"$f":"'A9-Asset'!F169","v":82809477},{"$f":"'A9-Asset'!G169","v":76295715},{"$f":"'A9-Asset'!H169","v":76295715},{"$f":"'A9-Asset'!H169","v":76295715},{"$f":"'A9-Asset'!I169","v":97220613},{"$f":"'A9-Asset'!J169","v":93310261},{"$f":"'A9-Asset'!K169","v":91439925}]
[]
["Free services"]
["Cost of Free Basic Services provided",{"$f":"'A10-SerDel'!C60","v":0},{"$f":"'A10-SerDel'!D60","v":0},{"$f":"'A10-SerDel'!E60","v":0},{"$f":"'A10-SerDel'!F60","v":577491524.99999988},{"$f":"'A10-SerDel'!G60","v":577491524.99999988},{"$f":"'A10-SerDel'!H60","v":577491524.99999988},{"$f":"'A10-SerDel'!I60","v":612141016.49999988},{"$f":"'A10-SerDel'!I60","v":612141016.49999988},{"$f":"'A10-SerDel'!J60","v":648869477.48999989},{"$f":"'A10-SerDel'!K60","v":687801646.13939989}]
["Revenue cost of free services provided",{"$f":"'A10-SerDel'!C79","v":0},{"$f":"'A10-SerDel'!D79","v":0},{"$f":"'A10-SerDel'!E79","v":0},{"$f":"'A10-SerDel'!F79","v":0},{"$f":"'A10-SerDel'!G79","v":0},{"$f":"'A10-SerDel'!H79","v":0},{"$f":"'A10-SerDel'!I79","v":0},{"$f":"'A10-SerDel'!I79","v":0},{"$f":"'A10-SerDel'!J79","v":0},{"$f":"'A10-SerDel'!K79","v":0}]
["Households below minimum service level"]
[{"$f":"'A10-SerDel'!A5","v":"Water:"},{"$f":"'A10-SerDel'!C14","v":212140},{"$f":"'A10-SerDel'!D14","v":169307},{"$f":"'A10-SerDel'!E14","v":172783},{"$f":"'A10-SerDel'!F14","v":177250},{"$f":"'A10-SerDel'!G14","v":177250},{"$f":"'A10-SerDel'!H14","v":177250},{"$f":"'A10-SerDel'!I14","v":190461},{"$f":"'A10-SerDel'!I14","v":190461},{"$f":"'A10-SerDel'!J14","v":206046},{"$f":"'A10-SerDel'!K14","v":221620}]
[{"$f":"'A10-SerDel'!A16","v":"Sanitation/sewerage:"},{"$f":"'A10-SerDel'!C26","v":29080},{"$f":"'A10-SerDel'!D26","v":76152},{"$f":"'A10-SerDel'!E26","v":65273},{"$f":"'A10-SerDel'!F26","v":63028},{"$f":"'A10-SerDel'!G26","v":63028},{"$f":"'A10-SerDel'!H26","v":63028},{"$f":"'A10-SerDel'!I26","v":59776},{"$f":"'A10-SerDel'!I26","v":59776},{"$f":"'A10-SerDel'!J26","v":53943},{"$f":"'A10-SerDel'!K26","v":47926}]
[{"$f":"'A10-SerDel'!A28","v":"Energy:"},{"$f":"'A10-SerDel'!C35","v":0},{"$f":"'A10-SerDel'!D35","v":0},{"$f":"'A10-SerDel'!E35","v":0},{"$f":"'A10-SerDel'!F35","v":0},{"$f":"'A10-SerDel'!G35","v":0},{"$f":"'A10-SerDel'!H35","v":0},{"$f":"'A10-SerDel'!I35","v":0},{"$f":"'A10-SerDel'!I35","v":0},{"$f":"'A10-SerDel'!J35","v":0},{"$f":"'A10-SerDel'!K35","v":0}]
[{"$f":"'A10-SerDel'!A37","v":"Refuse:"},{"$f":"'A10-SerDel'!C45","v":0},{"$f":"'A10-SerDel'!D45","v":0},{"$f":"'A10-SerDel'!E45","v":0},{"$f":"'A10-SerDel'!F45","v":0},{"$f":"'A10-SerDel'!G45","v":0},{"$f":"'A10-SerDel'!H45","v":0},{"$f":"'A10-SerDel'!I45","v":0},{"$f":"'A10-SerDel'!I45","v":0},{"$f":"'A10-SerDel'!J45","v":0},{"$f":"'A10-SerDel'!K45","v":0}]

{"sheet":"A2-FinPerf SC","index":7,"n_rows":58,"n_cols":11,"rows_kept":58,"cut":false,"hidden":false,"merged":[[53,0,53,10],[1,5,1,7],[1,8,1,10]]}
[{"$f":"muni&\" - \"&Approve3","v":"DC15 O .R. Tambo - Table A2 Consolidated Budgeted Financial Performance (revenue and expenditure by functional classification)"}]
[{"$f":"\"Functional Classification \"&desc","v":"Functional Classification Description"},{"$f":"head27","v":"Ref"},{"$f":"head1b","v":"2016/17"},{"$f":"head1A","v":"2017/18"},{"$f":"Head1","v":"2018/19"},{"$f":"Head2","v":"Current Year 2019/20"},null,null,{"$f":"Head3","v":"2020/21 Medium Term Revenue & Expenditure Framework"}]
["R thousand",1,{"$f":"Head5","v":"Audited Outcome"},{"$f":"Head5","v":"Audited Outcome"},{"$f":"Head5","v":"Audited Outcome"},{"$f":"Head6","v":"Original Budget"},{"$f":"Head7","v":"Adjusted Budget"},{"$f":"Head8","v":"Full Year Forecast"},{"$f":"Head9","v":"Budget Year 2020/21"},{"$f":"Head10","v":"Budget Year +1 2021/22"},{"$f":"Head11","v":"Budget Year +2 2022/23"}]
["Revenue - Functional"]
["Governance and administration",null,{"$f":"SUM(C6:C8)","v":1098633953.9400003},{"$f":"SUM(D6:D8)","v":780698013.06999993},834234881.65999997,544076542,572168703,572168703,568777300,620893196,645348234]
["Executive and council",null,{"$f":"A2A!C6","v":0},{"$f":"A2A!D6","v":0},{"$f":"A2A!E6","v":0},{"$f":"A2A!F6","v":199651649},{"$f":"A2A!G6","v":226905426},{"$f":"A2A!H6","v":226905426},{"$f":"A2A!I6","v":226843183},{"$f":"A2A!J6","v":247403611},{"$f":"A2A!K6","v":258612130}]
["Finance and administration",null,{"$f":"A2A!C9","v":1098633953.9400003},{"$f":"A2A!D9","v":780698013.06999993},{"$f":"A2A!E9","v":834234881.65999997},{"$f":"A2A!F9","v":335865610},{"$f":"A2A!G9","v":336703994},{"$f":"A2A!H9","v":336703994},{"$f":"A2A!I9","v":333524897},{"$f":"A2A!J9","v":364578566},{"$f":"A2A!K9","v":377293017}]
["Internal audit",null,{"$f":"A2A!C23","v":0},{"$f":"A2A!D23","v":0},{"$f":"A2A!E23","v":0},{"$f":"A2A!F23","v":8559283},{"$f":"A2A!G23","v":8559283},{"$f":"A2A!H23","v":8559283},{"$f":"A2A!I23","v":8409220},{"$f":"A2A!J23","v":8911019},{"$f":"A2A!K23","v":9443087}]
["Community and public safety",null,{"$f":"SUM(C10:C14)","v":0},{"$f":"SUM(D10:D14)","v":425380.42},5284162,135904272,187356002,187356002,169493720,137496995,145690423]
["Community and social services",null,{"$f":"A2A!C26","v":0},{"$f":"A2A!D26","v":425380.42},{"$f":"A2A!E26","v":0},{"$f":"A2A!F26","v":47317204},{"$f":"A2A!G26","v":50802004},{"$f":"A2A!H26","v":50802004},{"$f":"A2A!I26","v":47517907},{"$f":"A2A!J26","v":46892299},{"$f":"A2A!K26","v":49619711}]
["Sport and recreation",null,{"$f":"A2A!C48","v":0},{"$f":"A2A!D48","v":0},{"$f":"A2A!E48","v":0},{"$f":"A2A!F48","v":11212608},{"$f":"A2A!G48","v":11212608},{"$f":"A2A!H48","v":11212608},{"$f":"A2A!I48","v":8845544},{"$f":"A2A!J48","v":9330948},{"$f":"A2A!K48","v":9843587}]
["Public safety",null,{"$f":"A2A!C54","v":0},{"$f":"A2A!D54","v":0},{"$f":"A2A!E54","v":0},{"$f":"A2A!F54","v":35759908},{"$f":"A2A!G54","v":36076108},{"$f":"A2A!H54","v":36076108},{"$f":"A2A!I54","v":34942611},{"$f":"A2A!J54","v":40062995},{"$f":"A2A!K54","v":42597894}]
["Housing",null,{"$f":"A2A!C63","v":0},{"$f":"A2A!D63","v":0},{"$f":"A2A!E63","v":5284162},{"$f":"A2A!F63","v":19662654},{"$f":"A2A!G63","v":66913384},{"$f":"A2A!H63","v":66913384},{"$f":"A2A!I63","v":55330001},{"$f":"A2A!J63","v":16957707},{"$f":"A2A!K63","v":17895112}]
["Health",null,{"$f":"A2A!C66","v":0},{"$f":"A2A!D66","v":0},{"$f":"A2A!E66","v":0},{"$f":"A2A!F66","v":21951898},{"$f":"A2A!G66","v":22351898},{"$f":"A2A!H66","v":22351898},{"$f":"A2A!I66","v":22857657},{"$f":"A2A!J66","v":24253046},{"$f":"A2A!K66","v":25734119}]
["Economic and environmental services",null,{"$f":"SUM(C16:C18)","v":3174662.97},{"$f":"SUM(D16:D18)","v":7398480.0299999993},7853841.4100000001,172047262,299978936,299978936,314156738,259785669,262591076]
["Planning and development",null,{"$f":"A2A!C75","v":3174662.97},{"$f":"A2A!D75","v":4811000},{"$f":"A2A!E75","v":4882000},{"$f":"A2A!F75","v":87392065},{"$f":"A2A!G75","v":223333739},{"$f":"A2A!H75","v":223333739},{"$f":"A2A!I75","v":232273397},{"$f":"A2A!J75","v":212181070},{"$f":"A2A!K75","v":217853757}]
["Road transport",null,{"$f":"A2A!C86","v":0},{"$f":"A2A!D86","v":2587480.0299999998},{"$f":"A2A!E86","v":2971841.41},{"$f":"A2A!F86","v":69827630},{"$f":"A2A!G86","v":61127630},{"$f":"A2A!H86","v":61127630},{"$f":"A2A!I86","v":65842177},{"$f":"A2A!J86","v":30749301},{"$f":"A2A!K86","v":27025670}]
["Environmental protection",null,{"$f":"A2A!C91","v":0},{"$f":"A2A!D91","v":0},{"$f":"A2A!E91","v":0},{"$f":"A2A!F91","v":14827567},{"$f":"A2A!G91","v":15517567},{"$f":"A2A!H91","v":15517567},{"$f":"A2A!I91","v":16041164},{"$f":"A2A!J91","v":16855298},{"$f":"A2A!K91","v":17711649}]
["Trading services",null,{"$f":"SUM(C20:C23)","v":758435007.08999956},{"$f":"SUM(D20:D23)","v":1317340336.5300002},1385438598.6900003,1623968906,1706011839,1706011839,1580353821,{"$f":"SUM(J20:J23)","v":1648214958},1795104699]
["Energy sources",null,{"$f":"A2A!C99","v":0},{"$f":"A2A!D99","v":0},{"$f":"A2A!E99","v":0},{"$f":"A2A!F99","v":0},{"$f":"A2A!G99","v":0},{"$f":"A2A!H99","v":0},{"$f":"A2A!I99","v":0},{"$f":"A2A!J99","v":0},{"$f":"A2A!K99","v":0}]
["Water management",null,{"$f":"A2A!C103","v":715881034.09000003},{"$f":"A2A!D103","v":1350873831.28},{"$f":"A2A!E103","v":1363035182.95},{"$f":"A2A!F103","v":1623968906},{"$f":"A2A!G103","v":1706011839},{"$f":"A2A!H103","v":1706011839},{"$f":"A2A!I103","v":1580353821},{"$f":"A2A!J103","v":1648214958},{"$f":"A2A!K103","v":1795104699}]
["Waste water management",null,{"$f":"A2A!C107","v":42553972.999999523},{"$f":"A2A!D107","v":-33533494.749999799},{"$f":"A2A!E107","v":22403415.7400002},{"$f":"A2A!F107","v":0},{"$f":"A2A!G107","v":0},{"$f":"A2A!H107","v":0},{"$f":"A2A!I107","v":0},{"$f":"A2A!J107","v":0},{"$f":"A2A!K107","v":0}]
["Waste management",null,{"$f":"A2A!C112","v":0},{"$f":"A2A!D112","v":0},{"$f":"A2A!E112","v":0},{"$f":"A2A!F112","v":0},{"$f":"A2A!G112","v":0},{"$f":"A2A!H112","v":0},{"$f":"A2A!I112","v":0},{"$f":"A2A!J112","v":0},{"$f":"A2A!K112","v":0}]
["Other",4,{"$f":"A2A!C117","v":0},{"$f":"A2A!D117","v":0},{"$f":"A2A!E117","v":0},{"$f":"A2A!F117","v":6819452},{"$f":"A2A!G117","v":6879452},{"$f":"A2A!H117","v":6879452},{"$f":"A2A!I117","v":7544928},{"$f":"A2A!J117","v":7634195},{"$f":"A2A!K117","v":8044869}]
[{"$f":"\"Total \"&A4","v":"Total Revenue - Functional"},2,{"$f":"C5+C9+C15+C19+C24","v":1860243624},{"$f":"D5+D9+D15+D19+D24","v":2105862210.0500002},{"$f":"E5+E9+E15+E19+E24","v":2232811483.7600002},2482816434,2772394932,2772394932,{"$f":"I5+I9+I15+I19+I24","v":2640326507},2674025013,2856779301]
[]
["Expenditure - Functional"]
["Governance and administration",null,{"$f":"SUM(C29:C31)","v":527812401.56000006},{"$f":"SUM(D29:D31)","v":506553133.73000008},550066666.27999997,526534383,551076545,551076545,562185989,610716040,641386209]
["Executive and council",null,{"$f":"A2A!C128","v":127197844.10000001},{"$f":"A2A!D128","v":185779060.63000003},{"$f":"A2A!E128","v":221401688.95999998},{"$f":"A2A!F128","v":203945645},{"$f":"A2A!G128","v":230889425},{"$f":"A2A!H128","v":230889425},{"$f":"A2A!I128","v":236949124},{"$f":"A2A!J128","v":252911091},{"$f":"A2A!K128","v":264800111}]
["Finance and administration",null,{"$f":"A2A!C131","v":395650164.67000002},{"$f":"A2A!D131","v":314965211.18000007},{"$f":"A2A!E131","v":320687720.01000005},{"$f":"A2A!F131","v":314029456},{"$f":"A2A!G131","v":311627838},{"$f":"A2A!H131","v":311627838},{"$f":"A2A!I131","v":316827643},{"$f":"A2A!J131","v":348893928},{"$f":"A2A!K131","v":367143013}]
["Internal audit",null,{"$f":"A2A!C145","v":4964392.790000001},{"$f":"A2A!D145","v":5808861.9199999999},{"$f":"A2A!E145","v":7977257.3099999996},{"$f":"A2A!F145","v":8559282},{"$f":"A2A!G145","v":8559282},{"$f":"A2A!H145","v":8559282},{"$f":"A2A!I145","v":8409222},{"$f":"A2A!J145","v":8911021},{"$f":"A2A!K145","v":9443085}]
["Community and public safety",null,{"$f":"SUM(C33:C37)","v":56088640.199999996},{"$f":"SUM(D33:D37)","v":76738594.730000004},105714891.23999999,124239266,127119268,127119268,129260440,134177744,139690429]
["Community and social services",null,{"$f":"A2A!C148","v":25373514.519999996},{"$f":"A2A!D148","v":34871484.890000001},{"$f":"A2A!E148","v":37841871.710000001},{"$f":"A2A!F148","v":44317203},{"$f":"A2A!G148","v":46881003},{"$f":"A2A!H148","v":46881003},{"$f":"A2A!I148","v":48739915},{"$f":"A2A!J148","v":48180294},{"$f":"A2A!K148","v":49619708}]
["Sport and recreation",null,{"$f":"A2A!C170","v":4895070.3},{"$f":"A2A!D170","v":5251346.0199999996},{"$f":"A2A!E170","v":7186701.1200000001},{"$f":"A2A!F170","v":11212604},{"$f":"A2A!G170","v":11212605},{"$f":"A2A!H170","v":11212605},{"$f":"A2A!I170","v":9298410},{"$f":"A2A!J170","v":9808264},{"$f":"A2A!K170","v":9843593}]
["Public safety",null,{"$f":"A2A!C176","v":14459518.1},{"$f":"A2A!D176","v":18342774.73},{"$f":"A2A!E176","v":21337184.079999998},{"$f":"A2A!F176","v":30759907},{"$f":"A2A!G176","v":31076107},{"$f":"A2A!H176","v":31076107},{"$f":"A2A!I176","v":32642610},{"$f":"A2A!J176","v":34562994},{"$f":"A2A!K176","v":36597893}]
["Housing",null,{"$f":"A2A!C185","v":8327762.410000002},{"$f":"A2A!D185","v":15702638.189999999},{"$f":"A2A!E185","v":20208908.59},{"$f":"A2A!F185","v":16117653},{"$f":"A2A!G185","v":16117654},{"$f":"A2A!H185","v":16117654},{"$f":"A2A!I185","v":15638526},{"$f":"A2A!J185","v":17285324},{"$f":"A2A!K185","v":17895115}]
["Health",null,{"$f":"A2A!C188","v":3032774.87},{"$f":"A2A!D188","v":2570350.9},{"$f":"A2A!E188","v":19140225.739999998},{"$f":"A2A!F188","v":21831899},{"$f":"A2A!G188","v":21831899},{"$f":"A2A!H188","v":21831899},{"$f":"A2A!I188","v":22940979},{"$f":"A2A!J188","v":24340868},{"$f":"A2A!K188","v":25734120}]
["Economic and environmental services",null,{"$f":"SUM(C39:C41)","v":119761213.90000001},{"$f":"SUM(D39:D41)","v":174296345.92000002},101476460.04000001,117641260,320494896,320494896,237299462,240808593,251330372]
["Planning and development",null,{"$f":"A2A!C197","v":76591171.420000002},{"$f":"A2A!D197","v":138372432.86000001},{"$f":"A2A!E197","v":79346995.770000011},{"$f":"A2A!F197","v":81098063},{"$f":"A2A!G197","v":282701700},{"$f":"A2A!H197","v":282701700},{"$f":"A2A!I197","v":196149332},{"$f":"A2A!J197","v":198663649},{"$f":"A2A!K197","v":209899056}]
["Road transport",null,{"$f":"A2A!C208","v":18225948.050000001},{"$f":"A2A!D208","v":9781256.1199999992},{"$f":"A2A!E208","v":9860994.3300000001},{"$f":"A2A!F208","v":21715630},{"$f":"A2A!G208","v":22515629},{"$f":"A2A!H208","v":22515629},{"$f":"A2A!I208","v":23000963},{"$f":"A2A!J208","v":23067810},{"$f":"A2A!K208","v":23719669}]
["Environmental protection",null,{"$f":"A2A!C213","v":24944094.43},{"$f":"A2A!D213","v":26142656.940000001},{"$f":"A2A!E213","v":12268469.939999999},{"$f":"A2A!F213","v":14827567},{"$f":"A2A!G213","v":15277567},{"$f":"A2A!H213","v":15277567},{"$f":"A2A!I213","v":18149167},{"$f":"A2A!J213","v":19077134},{"$f":"A2A!K213","v":17711647}]
["Trading services",null,{"$f":"SUM(C43:C46)","v":683644106.65999997},{"$f":"SUM(D43:D46)","v":808050691.25},919779580.79000008,{"$f":"SUM(F43:F46)","v":658009367},653996261,653996261,770110423,799168249,{"$f":"SUM(K43:K46)","v":823555382}]
["Energy sources",null,{"$f":"A2A!C221","v":0},{"$f":"A2A!D221","v":0},{"$f":"A2A!E221","v":0},{"$f":"A2A!F221","v":0},{"$f":"A2A!G221","v":0},{"$f":"A2A!H221","v":0},{"$f":"A2A!I221","v":0},{"$f":"A2A!J221","v":0},{"$f":"A2A!K221","v":0}]
["Water management",null,{"$f":"A2A!C225","v":700135406.66000021},{"$f":"A2A!D225","v":702047890.50999999},{"$f":"A2A!E225","v":871340722.34000003},{"$f":"A2A!F225","v":658009367},{"$f":"A2A!G225","v":653996261},{"$f":"A2A!H225","v":653996261},{"$f":"A2A!I225","v":770110423},{"$f":"A2A!J225","v":799168249},{"$f":"A2A!K225","v":823555382}]
["Waste water management",null,{"$f":"A2A!C229","v":-16491300.000000199},{"$f":"A2A!D229","v":106002800.73999999},{"$f":"A2A!E229","v":48438858.450000003},{"$f":"A2A!F229","v":0},{"$f":"A2A!G229","v":0},{"$f":"A2A!H229","v":0},{"$f":"A2A!I229","v":0},{"$f":"A2A!J229","v":0},{"$f":"A2A!K229","v":0}]
["Waste management",null,{"$f":"A2A!C234","v":0},{"$f":"A2A!D234","v":0},{"$f":"A2A!E234","v":0},{"$f":"A2A!F234","v":0},{"$f":"A2A!G234","v":0},{"$f":"A2A!H234","v":0},{"$f":"A2A!I234","v":0},{"$f":"A2A!J234","v":0},{"$f":"A2A!K234","v":0}]
["Other",4,{"$f":"A2A!C239","v":937884.68},{"$f":"A2A!D239","v":4685074.41},{"$f":"A2A!E239","v":5295167.55},{"$f":"A2A!F239","v":6819452},{"$f":"A2A!G239","v":6879452},{"$f":"A2A!H239","v":6879452},{"$f":"A2A!I239","v":7544929},{"$f":"A2A!J239","v":7634193},{"$f":"A2A!K239","v":8044869}]
[{"$f":"\"Total \"&A27","v":"Total Expenditure - Functional"},3,{"$f":"C28+C32+C38+C42+C47","v":1388244247.0000002},{"$f":"D28+D32+D38+D42+D47","v":1570323840.0400002},{"$f":"E28+E32+E38+E42+E47","v":1682332765.8999999},{"$f":"F28+F32+F38+F42+F47","v":1433243728},1659566422,1659566422,1706401243,1792504819,1864007261]
[{"$f":"result","v":"Surplus/(Deficit) for the year"},null,{"$f":"C25-C48","v":471999376.99999976},{"$f":"D25-D48","v":535538370.00999999},550478717.86000037,1049572706,1112828510,1112828510,933925264,881520194,992772040]
[{"$f":"head27a","v":"References"}]
["1. Government Finance Statistics Functions and Sub-functions are standardised to assist the compilation of national and international accounts for comparison purposes"]
["2. Total Revenue by functional classification must reconcile to Total Operating Revenue shown in Budgeted Financial Performance (revenue and expenditure)"]
["3. Total Expenditure by Functional Classification must reconcile to Total Operating Expenditure shown in Budgeted Financial Performance (revenue and expenditure)"]
["4. All amounts must be classified under a functional classification . The GFS function 'Other' is only for Abbatoirs, Air Transport,  Forestry, Licensing and Regulation, Markets and Tourism - and if used must be supported by footnotes. Nothing else may be placed under 'Other'. Assign associate share to relevant classification."]
[]
[]
["check oprev balance",null,{"$f":"C25-'A4-FinPerf RE'!C59","v":0},{"$f":"D25-'A4-FinPerf RE'!D59","v":0},{"$f":"E25-'A4-FinPerf RE'!E59","v":0},{"$f":"F25-'A4-FinPerf RE'!F59","v":0},{"$f":"G25-'A4-FinPerf RE'!G59","v":0},{"$f":"H25-'A4-FinPerf RE'!H59","v":0},{"$f":"I25-'A4-FinPerf RE'!J59","v":0},{"$f":"J25-'A4-FinPerf RE'!K59","v":0},{"$f":"K25-'A4-FinPerf RE'!L59","v":0}]
["check opexp balance",null,{"$f":"C48-'A4-FinPerf RE'!C35","v":0},{"$f":"D48-'A4-FinPerf RE'!D35","v":0},{"$f":"E48-'A4-FinPerf RE'!E35","v":0},{"$f":"F48-'A4-FinPerf RE'!F35","v":0},{"$f":"G48-'A4-FinPerf RE'!G35","v":0},{"$f":"H48-'A4-FinPerf RE'!H35","v":0},{"$f":"I48-'A4-FinPerf RE'!J35","v":0},{"$f":"J48-'A4-FinPerf RE'!K35","v":0},{"$f":"K48-'A4-FinPerf RE'!L35","v":0}]

{"sheet":"A2A","index":8,"n_rows":256,"n_cols":11,"rows_kept":256,"cut":false,"hidden":false,"merged":[[1,5,1,7],[1,8,1,10],[251,0,251,10]]}
[{"$f":"muni&\" - \"&Approve3","v":"DC15 O .R. Tambo - Table A2 Consolidated Budgeted Financial Performance (revenue and expenditure by functional classification)"}]
[{"$f":"\"Functional Classification \"&desc","v":"Functional Classification Description"},{"$f":"head27","v":"Ref"},{"$f":"head1b","v":"2016/17"},{"$f":"head1A","v":"2017/18"},{"$f":"Head1","v":"2018/19"},{"$f":"Head2","v":"Current Year 2019/20"},null,null,{"$f":"Head3","v":"2020/21 Medium Term Revenue & Expenditure Framework"}]
["R thousand",1,{"$f":"Head5","v":"Audited Outcome"},{"$f":"Head5","v":"Audited Outcome"},{"$f":"Head5","v":"Audited Outcome"},{"$f":"Head6","v":"Original Budget"},{"$f":"Head7","v":"Adjusted Budget"},{"$f":"Head8","v":"Full Year Forecast"},{"$f":"Head9","v":"Budget Year 2020/21"},{"$f":"Head10","v":"Budget Year +1 2021/22"},{"$f":"Head11","v":"Budget Year +2 2022/23"}]
["Revenue - Functional"]
["Municipal governance and administration",null,{"$f":"C6+C9+C23","v":1098633953.9400003},780698013.06999993,834234881.65999997,544076542,572168703,572168703,568777300,620893196,645348234]
["Executive and council",null,{"$f":"SUM(C7:C8)","v":0},{"$f":"SUM(D7:D8)","v":0},0,199651649,226905426,226905426,226843183,247403611,258612130]
["Mayor and Council",null,0,0,0,160086135,181889309,181889309,190326986,202045758,210801115]
["Municipal Manager, Town Secretary and Chief Executive",null,0,0,0,39565514,45016117,45016117,36516197,45357853,47811015]
["Finance and administration",null,{"$f":"SUM(C10:C22)","v":1098633953.9400003},780698013.06999993,834234881.65999997,335865610,336703994,336703994,333524897,364578566,377293017]
["Administrative and Corporate Support",null,0,0,0,10430756,9315908,9315908,11075549,11770500,12501611]
["Asset Management"]
["Finance",null,1098242422.0800004,730292382.64999998,793780182.00999999,99706192,91045179,91045179,92075214,96203096,101631550]
["Fleet Management"]
["Human Resources",null,391531.86,0,0,90433454,81420661,81420661,94237891,100729114,106542325]
["Information Technology",null,0,0,0,34764271,34105449,34105449,21797681,34857676,36343479]
["Legal Services",null,0,0,0,9388379,10437776,10437776,7961677,11520212,12107834]
["Marketing, Customer Relations, Publicity and Media Co-ordination"]
["Property Services"]
["Risk Management"]
["Security Services",null,0,0,0,34811466,34597929,34597929,36327943,38505195,40854320]
["Supply Chain Management ",null,0,50405630.420000002,40454699.649999999,56331092,75781092,75781092,70048942,70992773,67311898]
["Valuation Service"]
["Internal audit",null,{"$f":"SUM(C24:C24)","v":0},0,0,8559283,8559283,8559283,8409220,8911019,9443087]
["Governance Function",null,0,0,0,8559283,8559283,8559283,8409220,8911019,9443087]
["Community and public safety",null,{"$f":"C26+C48+C54+C63+C66","v":0},425380.42,5284162,135904272,187356002,187356002,169493720,137496995,145690423]
["Community and social services",null,{"$f":"SUM(C27:C47)","v":0},{"$f":"SUM(D27:D47)","v":425380.42},0,47317204,50802004,50802004,47517907,46892299,49619711]
["Aged Care"]
["Agricultural"]
["Animal Care and Diseases"]
["Cemeteries, Funeral Parlours and Crematoriums"]
["Child Care Facilities"]
["Community Halls and Facilities"]
["Consumer Protection"]
["Cultural Matters"]
["Disaster Management",null,0,425380.42,0,31956248,35441048,35441048,31896733,30383275,32171415]
["Education"]
["Indigenous and Customary Law"]
["Industrial Promotion"]
["Language Policy"]
["Libraries and Archives"]
["Literacy Programmes"]
["Media Services"]
["Museums and Art Galleries"]
["Population Development",null,0,0,0,15360956,15360956,15360956,15621174,16509024,17448296]
["Provincial Cultural Matters"]
["Theatres"]
["Zoo's"]
["Sport and recreation",null,{"$f":"SUM(C49:C53)","v":0},{"$f":"SUM(D49:D53)","v":0},0,11212608,11212608,11212608,8845544,9330948,9843587]
["Beaches and Jetties "]
["Casinos, Racing, Gambling, Wagering"]
["Community Parks (including Nurseries)"]
["Recreational Facilities"]
["Sports Grounds and Stadiums",null,0,0,0,11212608,11212608,11212608,8845544,9330948,9843587]
["Public safety",null,{"$f":"SUM(C55:C62)","v":0},0,0,35759908,36076108,36076108,34942611,40062995,42597894]
["Civil Defence"]
["Cleansing"]
["Control of Public Nuisances"]
["Fencing and Fences "]
["Fire Fighting and Protection",null,0,0,0,35759908,36076108,36076108,34942611,40062995,42597894]
["Licensing and Control of Animals"]
["Police Forces, Traffic and Street Parking Control"]
["Pounds"]
["Housing",null,{"$f":"SUM(C64:C65)","v":0},{"$f":"SUM(D64:D65)","v":0},5284162,19662654,66913384,66913384,55330001,16957707,17895112]
["Housing",null,0,0,5284162,19662654,66913384,66913384,55330001,16957707,17895112]
["Informal Settlements"]
["Health",null,{"$f":"SUM(C67:C73)","v":0},{"$f":"SUM(D67:D73)","v":0},0,21951898,22351898,22351898,22857657,24253046,25734119]
["Ambulance"]
["Health Services",null,0,0,0,21951898,22351898,22351898,22857657,24253046,25734119]
["Laboratory Services"]
["Food Control"]
["Health Surveillance and Prevention of Communicable Diseases including immunizations"]
["Vector Control"]
["Chemical Safety"]
["Economic and environmental services",null,{"$f":"C75+C86+C91","v":3174662.97},7398480.0299999993,7853841.4100000001,172047262,299978936,299978936,314156738,259785669,262591076]
["Planning and development",null,{"$f":"SUM(C76:C85)","v":3174662.97},{"$f":"SUM(D76:D85)","v":4811000},4882000,87392065,223333739,223333739,232273397,212181070,217853757]
["Billboards"]
["Corporate Wide Strategic Planning (IDPs, LEDs)"]
["Central City Improvement District",null,0,0,0,1913152,1913152,1913152,2025207,2144376,2270652]
["Development Facilitation"]
["Economic Development/Planning",null,3174662.97,4811000,4882000,85478913,221420587,221420587,230248190,210036694,215583105]
["Regional Planning and Development"]
["Town Planning, Building Regulations and Enforcement, and City Engineer"]
["Project Management Unit"]
["Provincial Planning"]
["Support to Local Municipalities"]
["Road transport",null,{"$f":"SUM(C87:C90)","v":0},2587480.0299999998,2971841.41,69827630,61127630,61127630,65842177,30749301,27025670]
["Public Transport",null,0,2587480.0299999998,2971841.41,69827630,61127630,61127630,65842177,30749301,27025670]
["Road and Traffic Regulation"]
["Roads"]
["Taxi Ranks"]
["Environmental protection",null,{"$f":"SUM(C92:C97)","v":0},{"$f":"SUM(D92:D97)","v":0},0,14827567,15517567,15517567,16041164,16855298,17711649]
["Biodiversity and Landscape"]
["Coastal Protection"]
["Indigenous Forests"]
["Nature Conservation",null,0,0,0,14827567,15517567,15517567,16041164,16855298,17711649]
["Pollution Control"]
["Soil Conservation"]
["Trading services",null,{"$f":"C99+C103+C107+C112","v":758435007.08999956},{"$f":"D99+D103+D107+D112","v":1317340336.5300002},1385438598.6900003,1623968906,1706011839,1706011839,1580353821,1648214958,{"$f":"K99+K103+K107+K112","v":1795104699}]
["Energy sources",null,{"$f":"SUM(C100:C102)","v":0},{"$f":"SUM(D100:D102)","v":0},0,0,0,0,0,0,0]
["Electricity "]
["Street Lighting and Signal Systems"]
["Nonelectric Energy"]
["Water management",null,{"$f":"SUM(C104:C106)","v":715881034.09000003},{"$f":"SUM(D104:D106)","v":1350873831.28},1363035182.95,1623968906,1706011839,1706011839,1580353821,1648214958,1795104699]
["Water Treatment"]
["Water Distribution",null,715881034.09000003,1350873831.28,1363035182.95,1623968906,1706011839,1706011839,1580353821,1648214958,1795104699]
["Water Storage"]
["Waste water management",null,{"$f":"SUM(C108:C111)","v":42553972.999999523},{"$f":"SUM(D108:D111)","v":-33533494.749999799},22403415.7400002,0,0,0,0,0,0]
["Public Toilets"]
["Sewerage",null,-237146.00000047701,-33533494.749999799,22403415.7400002]
["Storm Water Management"]
["Waste Water Treatment",null,42791119]
["Waste management",null,{"$f":"SUM(C113:C116)","v":0},{"$f":"SUM(D113:D116)","v":0},0,0,0,0,0,0,0]
["Recycling"]
["Solid Waste Disposal (Landfill Sites)"]
["Solid Waste Removal"]
["Street Cleaning"]
["Other",null,{"$f":"SUM(C118:C123)","v":0},{"$f":"SUM(D118:D123)","v":0},0,6819452,6879452,6879452,7544928,7634195,8044869]
["Abattoirs"]
["Air Transport"]
["Forestry "]
["Licensing and Regulation"]
["Markets"]
["Tourism",null,0,0,0,6819452,6879452,6879452,7544928,7634195,8044869]
[{"$f":"\"Total \"&A4","v":"Total Revenue - Functional"},2,{"$f":"C5+C25+C74+C98+C117","v":1860243624},2105862210.0500002,2232811483.7600002,2482816434,2772394932,2772394932,2640326507,2674025013,2856779301]
[]
["Expenditure - Functional"]
[{"$f":"A5","v":"Municipal governance and administration"},null,{"$f":"C128+C131+C145","v":527812401.56000006},506553133.73000008,550066666.27999997,526534383,551076545,551076545,562185989,610716040,641386209]
["Executive and council",null,{"$f":"SUM(C129:C130)","v":127197844.10000001},185779060.63000003,221401688.95999998,203945645,230889425,230889425,236949124,252911091,264800111]
["Mayor and Council",null,108627457.15000001,156424119.61000001,171220660.09999999,158086133,180239310,180239310,187570137,200910020,210801120]
["Municipal Manager, Town Secretary and Chief Executive",null,18570386.950000003,29354941.02,50181028.859999999,45859512,50650115,50650115,49378987,52001071,53998991]
["Finance and administration",null,{"$f":"SUM(C132:C144)","v":395650164.67000002},314965211.18000007,320687720.01000005,314029456,311627838,311627838,316827643,348893928,367143013]
["Administrative and Corporate Support",null,6787198.5099999998,6175056.5099999998,6749317.5899999999,10430757,9315909,9315909,11077362,11772407,12501608]
["Asset Management"]
["Finance",null,247937909.61999997,128157657.11,114094596.03,89706192,89045179,89045179,92075215,96203095,101631548]
["Fleet Management"]
["Human Resources",null,47032058.740000002,62964458.740000002,63640649.539999999,90433453,81420659,81420659,94245137,100736752,106542325]
["Information Technology",null,14029066.41,17887265.800000001,26796740.800000001,33078116,32019293,32019293,20214362,32769859,33693478]
["Legal Services",null,13635648.920000002,10637914.460000001,21041102.140000001,9388377,11097774,11097774,7961676,11520213,12107834]
["Marketing, Customer Relations, Publicity and Media Co-ordination"]
["Property Services"]
["Risk Management"]
["Security Services",null,19593170.93,26248228.75,31669496.559999999,33311466,33097929,33097929,34840502,36603805,38354320]
["Supply Chain Management ",null,46635111.539999999,62894629.810000002,56695817.350000001,47681095,55631095,55631095,56413389,59287797,62311900]
["Valuation Service"]
["Internal audit",null,{"$f":"SUM(C146:C146)","v":4964392.790000001},5808861.9199999999,7977257.3099999996,8559282,8559282,8559282,8409222,8911021,9443085]
["Governance Function",null,4964392.790000001,5808861.9199999999,7977257.3099999996,8559282,8559282,8559282,8409222,8911021,9443085]
["Community and public safety",null,{"$f":"C148+C170+C176+C185+C188","v":56088640.199999996},76738594.730000004,105714891.23999999,124239266,127119268,127119268,129260440,134177744,139690429]
["Community and social services",null,{"$f":"SUM(C149:C169)","v":25373514.519999996},{"$f":"SUM(D149:D169)","v":34871484.890000001},37841871.710000001,44317203,46881003,46881003,48739915,48180294,49619708]
["Aged Care"]
["Agricultural"]
["Animal Care and Diseases"]
["Cemeteries, Funeral Parlours and Crematoriums"]
["Child Care Facilities"]
["Community Halls and Facilities"]
["Consumer Protection"]
["Cultural Matters"]
["Disaster Management",null,13483268.74,23322876.359999999,24568018.77,28956249,31520049,31520049,32529957,31050691,32171415]
["Education"]
[{"$f":"A37","v":"Indigenous and Customary Law"}]
["Industrial Promotion"]
["Language Policy"]
["Libraries and Archives"]
["Literacy Programmes"]
["Media Services"]
["Museums and Art Galleries"]
["Population Development",null,11890245.779999997,11548608.529999999,13273852.939999999,15360954,15360954,15360954,16209958,17129603,17448293]
["Provincial Cultural Matters"]
["Theatres"]
["Zoo's"]
["Sport and recreation",null,{"$f":"SUM(C171:C175)","v":4895070.3},5251346.0199999996,7186701.1200000001,11212604,11212605,11212605,9298410,9808264,9843593]
["Beaches and Jetties "]
["Casinos, Racing, Gambling, Wagering"]
["Community Parks (including Nurseries)"]
["Recreational Facilities"]
["Sports Grounds and Stadiums",null,4895070.3,5251346.0199999996,7186701.1200000001,11212604,11212605,11212605,9298410,9808264,9843593]
["Public safety",null,{"$f":"SUM(C177:C184)","v":14459518.1},18342774.73,21337184.079999998,30759907,31076107,31076107,32642610,34562994,36597893]
["Civil Defence"]
["Cleansing"]
[{"$f":"A57","v":"Control of Public Nuisances"}]
["Fencing and Fences "]
["Fire Fighting and Protection",null,14459518.1,18342774.73,21337184.079999998,30759907,31076107,31076107,32642610,34562994,36597893]
["Licensing and Control of Animals"]
["Police Forces, Traffic and Street Parking Control"]
["Pounds"]
[{"$f":"A63","v":"Housing"},null,{"$f":"SUM(C186:C187)","v":8327762.410000002},15702638.189999999,20208908.59,16117653,16117654,16117654,15638526,17285324,17895115]
["Housing",null,8327762.410000002,15702638.189999999,20208908.59,16117653,16117654,16117654,15638526,17285324,17895115]
["Informal Settlements"]
["Health",null,{"$f":"SUM(C189:C195)","v":3032774.87},{"$f":"SUM(D189:D195)","v":2570350.9},19140225.739999998,21831899,21831899,21831899,22940979,24340868,25734120]
["Ambulance"]
["Health Services",null,3032774.87,2570350.9,19140225.739999998,21831899,21831899,21831899,22940979,24340868,25734120]
["Laboratory Services"]
["Food Control"]
["Health Surveillance and Prevention of Communicable Diseases including immunizations"]
["Vector Control"]
["Chemical Safety"]
["Economic and environmental services",null,{"$f":"C197+C208+C213","v":119761213.90000001},174296345.92000002,101476460.04000001,117641260,320494896,320494896,237299462,240808593,251330372]
["Planning and development",null,{"$f":"SUM(C198:C207)","v":76591171.420000002},{"$f":"SUM(D198:D207)","v":138372432.86000001},79346995.770000011,81098063,282701700,282701700,196149332,198663649,209899056]
["Billboards"]
["Corporate Wide Strategic Planning (IDPs, LEDs)"]
["Central City Improvement District",null,0,1877651.78,1986575.01,1913150,1913150,1913150,2025206,2144373,2270655]
["Development Facilitation"]
["Economic Development/Planning",null,76591171.420000002,136494781.08000001,77360420.760000005,79184913,280788550,280788550,194124126,196519276,207628401]
["Regional Planning and Development"]
["Town Planning, Building Regulations and Enforcement, and City Engineer"]
["Project Management Unit"]
["Provincial Planning"]
["Support to Local Municipalities"]
["Road transport",null,{"$f":"SUM(C209:C212)","v":18225948.050000001},9781256.1199999992,9860994.3300000001,21715630,22515629,22515629,23000963,23067810,23719669]
["Public Transport",null,1766068.88,9781256.1199999992,9860994.3300000001,21715630,22515629,22515629,23000963,23067810,23719669]
["Road and Traffic Regulation"]
["Roads",null,16459879.17]
["Taxi Ranks"]
["Environmental protection",null,{"$f":"SUM(C214:C219)","v":24944094.43},{"$f":"SUM(D214:D219)","v":26142656.940000001},12268469.939999999,14827567,15277567,15277567,18149167,19077134,17711647]
["Biodiversity and Landscape"]
["Coastal Protection"]
["Indigenous Forests"]
[{"$f":"A95","v":"Nature Conservation"},null,0,26142656.940000001,12268469.939999999,14827567,15277567,15277567,18149167,19077134,17711647]
["Pollution Control",null,24944094.43]
["Soil Conservation"]
["Trading services",null,{"$f":"C221+C225+C229+C234","v":683644106.65999997},{"$f":"D221+D225+D229+D234","v":808050691.25},919779580.79000008,658009367,653996261,653996261,770110423,799168249,823555382]
["Energy sources",null,{"$f":"SUM(C222:C224)","v":0},{"$f":"SUM(D222:D224)","v":0},0,0,0,0,0,0,0]
["Electricity "]
["Street Lighting and Signal Systems"]
["Nonelectric Energy"]
["Water management",null,{"$f":"SUM(C226:C228)","v":700135406.66000021},{"$f":"SUM(D226:D228)","v":702047890.50999999},871340722.34000003,658009367,653996261,653996261,770110423,799168249,823555382]
["Water Treatment"]
["Water Distribution",null,700135406.66000021,702047890.50999999,871340722.34000003,658009367,653996261,653996261,770110423,799168249,823555382]
["Water Storage"]
["Waste water management",null,{"$f":"SUM(C230:C233)","v":-16491300.000000199},{"$f":"SUM(D230:D233)","v":106002800.73999999},48438858.450000003,0,0,0,0,0,0]
["Public Toilets"]
["Sewerage"]
["Storm Water Management",null,-16491300.000000199,106002800.73999999,48438858.450000003]
["Waste Water Treatment"]
["Waste management",null,{"$f":"SUM(C235:C238)","v":0},{"$f":"SUM(D235:D238)","v":0},0,0,0,0,0,0,0]
["Recycling"]
["Solid Waste Disposal (Landfill Sites)"]
["Solid Waste Removal"]
["Street Cleaning"]
["Other",null,{"$f":"SUM(C240:C245)","v":937884.68},{"$f":"SUM(D240:D245)","v":4685074.41},5295167.55,6819452,6879452,6879452,7544929,7634193,8044869]
["Abattoirs"]
["Air Transport"]
["Forestry "]
["Licensing and Regulation"]
["Markets"]
["Tourism",null,937884.68,4685074.41,5295167.55,6819452,6879452,6879452,7544929,7634193,8044869]
[{"$f":"\"Total \"&A126","v":"Total Expenditure - Functional"},3,{"$f":"C127+C147+C196+C220+C239","v":1388244247.0000002},1570323840.0400002,1682332765.8999999,1433243728,1659566422,1659566422,1706401243,1792504819,1864007261]
[{"$f":"result","v":"Surplus/(Deficit) for the year"},null,{"$f":"C124-C246","v":471999376.99999976},535538370.00999999,550478717.86000037,1049572706,1112828510,1112828510,933925264,881520194,992772040]
[{"$f":"head27a","v":"References"}]
["1. Government Finance Statistics Functions and Sub-functions are standardised to assist national and international accounts and comparison"]
["2. Total Revenue by Functional Classification must reconcile to total operating revenue shown in Financial Performance (revenue and expenditure)"]
["3. Total Expenditure by Functional Classification must reconcile to total operating expenditure shown in Financial Performance (revenue and expenditure)"]
["4. All amounts must be classified under a Functional classification. The GFS function 'Other' is only for Abbatoirs, Air Transport,  Forestry, Licensing and Regulation, Markets and Tourism - and if used must be supported by footnotes. Nothing else may be placed under 'Other'. Assign associate share to relevant classification"]
[]
[]
["check oprev balance",null,{"$f":"C124-'A4-FinPerf RE'!C59","v":0},{"$f":"D124-'A4-FinPerf RE'!D59","v":0},{"$f":"E124-'A4-FinPerf RE'!E59","v":0},{"$f":"F124-'A4-FinPerf RE'!F59","v":0},{"$f":"G124-'A4-FinPerf RE'!G59","v":0},{"$f":"H124-'A4-FinPerf RE'!H59","v":0},{"$f":"I124-'A4-FinPerf RE'!J59","v":0},{"$f":"J124-'A4-FinPerf RE'!K59","v":0},{"$f":"K124-'A4-FinPerf RE'!L59","v":0}]
["check opexp balance",null,{"$f":"C246-'A4-FinPerf RE'!C35","v":0},{"$f":"D246-'A4-FinPerf RE'!D35","v":0},{"$f":"E246-'A4-FinPerf RE'!E35","v":0},{"$f":"F246-'A4-FinPerf RE'!F35","v":0},{"$f":"G246-'A4-FinPerf RE'!G35","v":0},{"$f":"H246-'A4-FinPerf RE'!H35","v":0},{"$f":"I246-'A4-FinPerf RE'!J35","v":0},{"$f":"J246-'A4-FinPerf RE'!K35","v":0},{"$f":"K246-'A4-FinPerf RE'!L35","v":0}]

{"sheet":"A3-FinPerf V","index":9,"n_rows":45,"n_cols":23,"rows_kept":45,"cut":false,"hidden":false,"merged":[[1,5,1,7],[1,8,1,10],[1,11,1,22]]}
[{"$f":"muni&\" - \"&Approve2","v":"DC15 O .R. Tambo - Table A3 Consolidated Budgeted Financial Performance (revenue and expenditure by municipal vote)"}]
[{"$f":"Vdesc","v":"Vote Description"},{"$f":"head27","v":"Ref"},{"$f":"head1b","v":"2016/17"},{"$f":"head1A","v":"2017/18"},{"$f":"Head1","v":"2018/19"},{"$f":"Head2","v":"Current Year 2019/20"},null,null,{"$f":"Head3","v":"2020/21 Medium Term Revenue & Expenditure Framework"},null,null,{"$f":"Head4","v":"LTFS"}]
["R thousand",null,{"$f":"Head5","v":"Audited Outcome"},{"$f":"Head5","v":"Audited Outcome"},{"$f":"Head5","v":"Audited Outcome"},{"$f":"Head6","v":"Original Budget"},{"$f":"Head7","v":"Adjusted Budget"},{"$f":"Head8","v":"Full Year Forecast"},{"$f":"Head9","v":"Budget Year 2020/21"},{"$f":"Head10","v":"Budget Year +1 2021/22"},{"$f":"Head11","v":"Budget Year +2 2022/23"},{"$f":"Head12","v":"Forecast 2023/24"},{"$f":"Head13","v":"Forecast 2024/25"},{"$f":"Head14","v":"Forecast 2025/26"},{"$f":"Head15","v":"Forecast 2026/27"},{"$f":"Head16","v":"Forecast 2027/28"},{"$f":"Head17","v":"Forecast 2028/29"},{"$f":"Head18","v":"Forecast 2029/30"},{"$f":"Head19","v":"Forecast 2030/31"},{"$f":"Head20","v":"Forecast 2031/32"},{"$f":"Head21","v":"Forecast 2032/33"},{"$f":"Head22","v":"Forecast 2033/34"},{"$f":"Head23","v":"Forecast 2034/35"}]
["Revenue by Vote",1]
[{"$f":"A3A!A5","v":"Vote 01 - Council & Committees"},null,{"$f":"A3A!C5","v":0},{"$f":"A3A!D5","v":0},{"$f":"A3A!E5","v":0},{"$f":"A3A!F5","v":217599311},{"$f":"A3A!G5","v":245902485},{"$f":"A3A!H5","v":245902485},{"$f":"A3A!I5","v":243214080},{"$f":"A3A!J5","v":267834842},{"$f":"A3A!K5","v":280163051}]
[{"$f":"A3A!A13","v":"Vote 02 - Finance & Administration"},null,{"$f":"A3A!C13","v":1098633953.9400003},{"$f":"A3A!D13","v":780698013.06999993},{"$f":"A3A!E13","v":834234881.65999997},{"$f":"A3A!F13","v":328390383},{"$f":"A3A!G13","v":328179370},{"$f":"A3A!H13","v":328179370},{"$f":"A3A!I13","v":327588427},{"$f":"A3A!J13","v":355202730},{"$f":"A3A!K13","v":367455835}]
[{"$f":"A3A!A28","v":"Vote 03 - Planning & Development"},null,{"$f":"A3A!C28","v":3174662.97},{"$f":"A3A!D28","v":4811000},{"$f":"A3A!E28","v":4882000},{"$f":"A3A!F28","v":85478913},{"$f":"A3A!G28","v":102003913},{"$f":"A3A!H28","v":102003913},{"$f":"A3A!I28","v":119250004},{"$f":"A3A!J28","v":105243882},{"$f":"A3A!K28","v":105467672}]
[{"$f":"A3A!A33","v":"Vote 04 - Health"},null,{"$f":"A3A!C33","v":0},{"$f":"A3A!D33","v":0},{"$f":"A3A!E33","v":0},{"$f":"A3A!F33","v":21951898},{"$f":"A3A!G33","v":22351898},{"$f":"A3A!H33","v":22351898},{"$f":"A3A!I33","v":22857657},{"$f":"A3A!J33","v":24253046},{"$f":"A3A!K33","v":25734119}]
[{"$f":"A3A!A35","v":"Vote 05 - Community & Social Services"},null,{"$f":"A3A!C35","v":0},{"$f":"A3A!D35","v":0},{"$f":"A3A!E35","v":0},{"$f":"A3A!F35","v":15360956},{"$f":"A3A!G35","v":15360956},{"$f":"A3A!H35","v":15360956},{"$f":"A3A!I35","v":15621174},{"$f":"A3A!J35","v":16509024},{"$f":"A3A!K35","v":17448296}]
[{"$f":"A3A!A37","v":"Vote 06 - Housing"},null,{"$f":"A3A!C37","v":0},{"$f":"A3A!D37","v":0},{"$f":"A3A!E37","v":5284162},{"$f":"A3A!F37","v":19662654},{"$f":"A3A!G37","v":66913384},{"$f":"A3A!H37","v":66913384},{"$f":"A3A!I37","v":55330001},{"$f":"A3A!J37","v":16957707},{"$f":"A3A!K37","v":17895112}]
[{"$f":"A3A!A40","v":"Vote 07 - Public Safety"},null,{"$f":"A3A!C40","v":0},{"$f":"A3A!D40","v":425380.42},{"$f":"A3A!E40","v":0},{"$f":"A3A!F40","v":67716156},{"$f":"A3A!G40","v":71517156},{"$f":"A3A!H40","v":71517156},{"$f":"A3A!I40","v":66839344},{"$f":"A3A!J40","v":70446270},{"$f":"A3A!K40","v":74769309}]
[{"$f":"A3A!A43","v":"Vote 08 - Sports & Recreation"},null,{"$f":"A3A!C43","v":0},{"$f":"A3A!D43","v":0},{"$f":"A3A!E43","v":0},{"$f":"A3A!F43","v":11212608},{"$f":"A3A!G43","v":11212608},{"$f":"A3A!H43","v":11212608},{"$f":"A3A!I43","v":8845544},{"$f":"A3A!J43","v":9330948},{"$f":"A3A!K43","v":9843587}]
[{"$f":"A3A!A45","v":"Vote 09 - Environmental"},null,{"$f":"A3A!C45","v":0},{"$f":"A3A!D45","v":0},{"$f":"A3A!E45","v":0},{"$f":"A3A!F45","v":14827567},{"$f":"A3A!G45","v":15517567},{"$f":"A3A!H45","v":15517567},{"$f":"A3A!I45","v":16041164},{"$f":"A3A!J45","v":16855298},{"$f":"A3A!K45","v":17711649}]
[{"$f":"A3A!A47","v":"Vote 10 - Roads"},null,{"$f":"A3A!C47","v":0},{"$f":"A3A!D47","v":2587480.0299999998},{"$f":"A3A!E47","v":2971841.41},{"$f":"A3A!F47","v":69827630},{"$f":"A3A!G47","v":61127630},{"$f":"A3A!H47","v":61127630},{"$f":"A3A!I47","v":65842177},{"$f":"A3A!J47","v":30749301},{"$f":"A3A!K47","v":27025670}]
[{"$f":"A3A!A50","v":"Vote 11 - Water"},null,{"$f":"A3A!C50","v":758435007.08999956},{"$f":"A3A!D50","v":1317340336.5300002},{"$f":"A3A!E50","v":1385438598.6900003},{"$f":"A3A!F50","v":1623968906},{"$f":"A3A!G50","v":1706011839},{"$f":"A3A!H50","v":1706011839},{"$f":"A3A!I50","v":1580353821},{"$f":"A3A!J50","v":1648214958},{"$f":"A3A!K50","v":1795104699},{"$f":"A5A!#REF!","v":{"$error":"#REF!"}}]
[{"$f":"A3A!A59","v":"Vote 12 - Tourism"},null,{"$f":"A3A!C59","v":0},{"$f":"A3A!D59","v":0},{"$f":"A3A!E59","v":0},{"$f":"A3A!F59","v":6819452},{"$f":"A3A!G59","v":6879452},{"$f":"A3A!H59","v":6879452},{"$f":"A3A!I59","v":7544928},{"$f":"A3A!J59","v":7634195},{"$f":"A3A!K59","v":8044869},{"$f":"A5A!#REF!","v":{"$error":"#REF!"}}]
[{"$f":"A3A!A61","v":"Vote 13 - Development Agency"},null,{"$f":"A3A!C61","v":0},{"$f":"A3A!D61","v":0},{"$f":"A3A!E61","v":0},{"$f":"A3A!F61","v":0},{"$f":"A3A!G61","v":119416674},{"$f":"A3A!H61","v":119416674},{"$f":"A3A!I61","v":110998186},{"$f":"A3A!J61","v":104792812},{"$f":"A3A!K61","v":110115433},{"$f":"A5A!#REF!","v":{"$error":"#REF!"}}]
[{"$f":"'Org structure'!A15","v":"Vote 14 - "},null,{"$f":"A3A!C63","v":0},{"$f":"A3A!D63","v":0},{"$f":"A3A!E63","v":0},{"$f":"A3A!F63","v":0},{"$f":"A3A!G63","v":0},{"$f":"A3A!H63","v":0},{"$f":"A3A!I63","v":0},{"$f":"A3A!J63","v":0},{"$f":"A3A!K63","v":0},{"$f":"A5A!#REF!","v":{"$error":"#REF!"}}]
[{"$f":"'Org structure'!A16","v":"Vote 15 - Other"},null,{"$f":"A3A!C64","v":0},{"$f":"A3A!D64","v":0},{"$f":"A3A!E64","v":0},{"$f":"A3A!F64","v":0},{"$f":"A3A!G64","v":0},{"$f":"A3A!H64","v":0},{"$f":"A3A!I64","v":0},{"$f":"A3A!J64","v":0},{"$f":"A3A!K64","v":0},{"$f":"A5A!#REF!","v":{"$error":"#REF!"}}]
["Total Revenue by Vote",2,{"$f":"SUM(C5:C19)","v":1860243624},{"$f":"SUM(D5:D19)","v":2105862210.0500002},2232811483.7600002,2482816434,2772394932,2772394932,2640326507,2674025013,2856779301]
[]
["Expenditure by Vote to be appropriated",1]
[{"$f":"A3A!A68","v":"Vote 01 - Council & Committees"},null,{"$f":"A3A!C68","v":145797885.81},{"$f":"A3A!D68","v":202225837.01000002},{"$f":"A3A!E68","v":250420048.40999997},{"$f":"A3A!F68","v":221893304},{"$f":"A3A!G68","v":250546481},{"$f":"A3A!H68","v":250546481},{"$f":"A3A!I68","v":253320022},{"$f":"A3A!J68","v":273342325},{"$f":"A3A!K68","v":286351030}]
[{"$f":"A3A!A76","v":"Vote 02 - Finance & Administration"},null,{"$f":"A3A!C76","v":382014515.74999994},{"$f":"A3A!D76","v":306204948.5},{"$f":"A3A!E76","v":301633192.88},{"$f":"A3A!F76","v":306554229},{"$f":"A3A!G76","v":302443214},{"$f":"A3A!H76","v":302443214},{"$f":"A3A!I76","v":310891173},{"$f":"A3A!J76","v":339518088},{"$f":"A3A!K76","v":357305834}]
[{"$f":"A3A!A91","v":"Vote 03 - Planning & Development"},null,{"$f":"A3A!C91","v":76591171.420000002},{"$f":"A3A!D91","v":136494781.07999998},{"$f":"A3A!E91","v":77360420.75999999},{"$f":"A3A!F91","v":79184913},{"$f":"A3A!G91","v":95949913},{"$f":"A3A!H91","v":95949913},{"$f":"A3A!I91","v":110233002},{"$f":"A3A!J91","v":101943878},{"$f":"A3A!K91","v":105467674}]
[{"$f":"A3A!A96","v":"Vote 04 - Health"},null,{"$f":"A3A!C96","v":3032774.87},{"$f":"A3A!D96","v":2570350.9},{"$f":"A3A!E96","v":19140225.739999998},{"$f":"A3A!F96","v":21831899},{"$f":"A3A!G96","v":21831899},{"$f":"A3A!H96","v":21831899},{"$f":"A3A!I96","v":22940979},{"$f":"A3A!J96","v":24340868},{"$f":"A3A!K96","v":25734120}]
[{"$f":"A3A!A98","v":"Vote 05 - Community & Social Services"},null,{"$f":"A3A!C98","v":11890245.779999997},{"$f":"A3A!D98","v":11548608.529999999},{"$f":"A3A!E98","v":13273852.939999999},{"$f":"A3A!F98","v":15360954},{"$f":"A3A!G98","v":15360954},{"$f":"A3A!H98","v":15360954},{"$f":"A3A!I98","v":16209958},{"$f":"A3A!J98","v":17129603},{"$f":"A3A!K98","v":17448293}]
[{"$f":"A3A!A100","v":"Vote 06 - Housing"},null,{"$f":"A3A!C100","v":8327762.410000002},{"$f":"A3A!D100","v":15702638.189999999},{"$f":"A3A!E100","v":20208908.59},{"$f":"A3A!F100","v":16117653},{"$f":"A3A!G100","v":16117654},{"$f":"A3A!H100","v":16117654},{"$f":"A3A!I100","v":15638526},{"$f":"A3A!J100","v":17285324},{"$f":"A3A!K100","v":17895115}]
[{"$f":"A3A!A103","v":"Vote 07 - Public Safety"},null,{"$f":"A3A!C103","v":27942786.84},{"$f":"A3A!D103","v":41665651.090000004},{"$f":"A3A!E103","v":45905202.849999994},{"$f":"A3A!F103","v":59716156},{"$f":"A3A!G103","v":62596156},{"$f":"A3A!H103","v":62596156},{"$f":"A3A!I103","v":65172567},{"$f":"A3A!J103","v":65613685},{"$f":"A3A!K103","v":68769308}]
[{"$f":"A3A!A106","v":"Vote 08 - Sports & Recreation"},null,{"$f":"A3A!C106","v":4895070.3},{"$f":"A3A!D106","v":5251346.0199999996},{"$f":"A3A!E106","v":7186701.1200000001},{"$f":"A3A!F106","v":11212604},{"$f":"A3A!G106","v":11212605},{"$f":"A3A!H106","v":11212605},{"$f":"A3A!I106","v":9298410},{"$f":"A3A!J106","v":9808264},{"$f":"A3A!K106","v":9843593}]
[{"$f":"A3A!A108","v":"Vote 09 - Environmental"},null,{"$f":"A3A!C108","v":24944094.43},{"$f":"A3A!D108","v":26142656.940000001},{"$f":"A3A!E108","v":12268469.939999999},{"$f":"A3A!F108","v":14827567},{"$f":"A3A!G108","v":15277567},{"$f":"A3A!H108","v":15277567},{"$f":"A3A!I108","v":18149167},{"$f":"A3A!J108","v":19077134},{"$f":"A3A!K108","v":17711647}]
[{"$f":"A3A!A110","v":"Vote 10 - Roads"},null,{"$f":"A3A!C110","v":18225948.050000001},{"$f":"A3A!D110","v":9781256.120000001},{"$f":"A3A!E110","v":9860994.3300000001},{"$f":"A3A!F110","v":21715630},{"$f":"A3A!G110","v":22515629},{"$f":"A3A!H110","v":22515629},{"$f":"A3A!I110","v":23000963},{"$f":"A3A!J110","v":23067810},{"$f":"A3A!K110","v":23719669}]
[{"$f":"A3A!A113","v":"Vote 11 - Water"},null,{"$f":"A3A!C113","v":683644106.65999985},{"$f":"A3A!D113","v":808050691.25000012},{"$f":"A3A!E113","v":919779580.79000008},{"$f":"A3A!F113","v":658009367},{"$f":"A3A!G113","v":653996261},{"$f":"A3A!H113","v":653996261},{"$f":"A3A!I113","v":770110423},{"$f":"A3A!J113","v":799168249},{"$f":"A3A!K113","v":823555382},{"$f":"A3A!L114","v":0}]
[{"$f":"A3A!A122","v":"Vote 12 - Tourism"},null,{"$f":"A3A!C122","v":937884.68},{"$f":"A3A!D122","v":4685074.41},{"$f":"A3A!E122","v":5295167.55},{"$f":"A3A!F122","v":6819452},{"$f":"A3A!G122","v":6879452},{"$f":"A3A!H122","v":6879452},{"$f":"A3A!I122","v":7544929},{"$f":"A3A!J122","v":7634193},{"$f":"A3A!K122","v":8044869},{"$f":"A3A!L123","v":0}]
[{"$f":"A3A!A124","v":"Vote 13 - Development Agency"},null,{"$f":"A3A!C124","v":0},{"$f":"A3A!D124","v":0},{"$f":"A3A!E124","v":0},{"$f":"A3A!F124","v":0},{"$f":"A3A!G124","v":184838637},{"$f":"A3A!H124","v":184838637},{"$f":"A3A!I124","v":83891124},{"$f":"A3A!J124","v":94575398},{"$f":"A3A!K124","v":102160727},{"$f":"A3A!L125","v":0}]
[{"$f":"'Org structure'!A15","v":"Vote 14 - "},null,{"$f":"A3A!C126","v":0},{"$f":"A3A!D126","v":0},{"$f":"A3A!E126","v":0},{"$f":"A3A!F126","v":0},{"$f":"A3A!G126","v":0},{"$f":"A3A!H126","v":0},{"$f":"A3A!I126","v":0},{"$f":"A3A!J126","v":0},{"$f":"A3A!K126","v":0},{"$f":"A3A!#REF!","v":{"$error":"#REF!"}}]
[{"$f":"'Org structure'!A16","v":"Vote 15 - Other"},null,{"$f":"A3A!C127","v":0},{"$f":"A3A!D127","v":0},{"$f":"A3A!E127","v":0},{"$f":"A3A!F127","v":0},{"$f":"A3A!G127","v":0},{"$f":"A3A!H127","v":0},{"$f":"A3A!I127","v":0},{"$f":"A3A!J127","v":0},{"$f":"A3A!K127","v":0},{"$f":"A3A!#REF!","v":{"$error":"#REF!"}}]
["Total Expenditure by Vote",2,{"$f":"SUM(C23:C37)","v":1388244246.9999998},{"$f":"SUM(D23:D37)","v":1570323840.0400002},1682332765.9000003,1433243728,1659566422,1659566422,1706401243,1792504819,1864007261,{"$f":"SUM(L23:L29)","v":0},0,0,0,0,0,0,0,0,0,0,0]
[{"$f":"result","v":"Surplus/(Deficit) for the year"},2,{"$f":"C20-C38","v":471999377.00000024},535538370.00999999,550478717.8599999,1049572706,1112828510,1112828510,933925264,881520194,992772040,0,0,0,0,0,0,0,0,0,0,0,0]
[{"$f":"head27a","v":"References"}]
["1. Insert 'Vote'; e.g. department, if different to functional classification structure"]
["2. Must reconcile to Budgeted Financial Performance (revenue and expenditure)"]
["3. Assign share in 'associate' to relevant Vote"]
[]
[{"$f":"\"check \"&A39","v":"check Surplus/(Deficit) for the year"},null,{"$f":"C39-A3A!C130","v":0},{"$f":"D39-A3A!D130","v":0},{"$f":"E39-A3A!E130","v":0},{"$f":"F39-A3A!F130","v":0},{"$f":"G39-A3A!G130","v":0},{"$f":"H39-A3A!H130","v":0},{"$f":"I39-A3A!I130","v":0},{"$f":"J39-A3A!J130","v":0},{"$f":"K39-A3A!K130","v":0}]

{"sheet":"A3A","index":10,"n_rows":137,"n_cols":23,"rows_kept":137,"cut":false,"hidden":false,"merged":[[1,11,1,22],[1,5,1,7],[1,8,1,10]]}
[{"$f":"muni&\" - \"&Approve2&\"A\"","v":"DC15 O .R. Tambo - Table A3 Consolidated Budgeted Financial Performance (revenue and expenditure by municipal vote)A"}]
[{"$f":"Vdesc","v":"Vote Description"},{"$f":"head27","v":"Ref"},{"$f":"head1b","v":"2016/17"},{"$f":"head1A","v":"2017/18"},{"$f":"Head1","v":"2018/19"},{"$f":"Head2","v":"Current Year 2019/20"},null,null,{"$f":"Head3","v":"2020/21 Medium Term Revenue & Expenditure Framework"},null,null,{"$f":"Head4","v":"LTFS"}]
["R thousand",null,{"$f":"Head5","v":"Audited Outcome"},{"$f":"Head5","v":"Audited Outcome"},{"$f":"Head5","v":"Audited Outcome"},{"$f":"Head6","v":"Original Budget"},{"$f":"Head7","v":"Adjusted Budget"},{"$f":"Head8","v":"Full Year Forecast"},{"$f":"Head9","v":"Budget Year 2020/21"},{"$f":"Head10","v":"Budget Year +1 2021/22"},{"$f":"Head11","v":"Budget Year +2 2022/23"},{"$f":"Head12","v":"Forecast 2023/24"},{"$f":"Head13","v":"Forecast 2024/25"},{"$f":"Head14","v":"Forecast 2025/26"},{"$f":"Head15","v":"Forecast 2026/27"},{"$f":"Head16","v":"Forecast 2027/28"},{"$f":"Head17","v":"Forecast 2028/29"},{"$f":"Head18","v":"Forecast 2029/30"},{"$f":"Head19","v":"Forecast 2030/31"},{"$f":"Head20","v":"Forecast 2031/32"},{"$f":"Head21","v":"Forecast 2032/33"},{"$f":"Head22","v":"Forecast 2033/34"},{"$f":"Head23","v":"Forecast 2034/35"}]
["Revenue by Vote",1]
[{"$f":"'Org structure'!A2","v":"Vote 01 - Council & Committees"},null,{"$f":"SUM(C6:C12)","v":0},0,0,217599311,245902485,245902485,243214080,267834842,280163051]
[{"$f":"'Org structure'!E3","v":"01.1 - Speaker's Office"},null,0,0,0,77249118,90924118,90924118,102395908,107349987,110477758]
[{"$f":"'Org structure'!E4","v":"01.2 - Mayoral Office"},null,0,0,0,47073336,50305419,50305419,52815737,56822938,60340086]
[{"$f":"'Org structure'!E5","v":"01.3 - Office Of The Municipal Manager"},null,0,0,0,21817058,23072640,23072640,21567735,29548240,31089793]
[{"$f":"'Org structure'!E6","v":"01.4 - Office Of The Executive Mayor"},null,0,0,0,35763681,40659772,40659772,35115341,37872833,39983271]
[{"$f":"'Org structure'!E7","v":"01.5 - Internal Audit"},null,0,0,0,8559283,8559283,8559283,8409220,8911019,9443087]
[{"$f":"'Org structure'!E8","v":"01.6 - Office Of The Chief Operating Officer"},null,0,0,0,17748456,21943477,21943477,14948462,15809613,16721222]
[{"$f":"'Org structure'!E9","v":"01.7 - Legal Services"},null,0,0,0,9388379,10437776,10437776,7961677,11520212,12107834]
[{"$f":"'Org structure'!A3","v":"Vote 02 - Finance & Administration"},null,{"$f":"SUM(C14:C27)","v":1098633953.9400003},780698013.06999993,834234881.65999997,328390383,328179370,328179370,327588427,355202730,367455835]
[{"$f":"'Org structure'!E11","v":"02.1 - Budget And Reporting Office"},null,1098242422.0800004,730215000,793641000,0,0,0,0,0,0]
[{"$f":"'Org structure'!E12","v":"02.2 - Budget And Reporting Office"},null,0,0,0,23057346,21557346,21557346,21531001,22743558,23920676]
[{"$f":"'Org structure'!E13","v":"02.3 - Human Resources"},null,391531.86,0,0,90433454,81420661,81420661,94237891,100729114,106542325]
[{"$f":"'Org structure'!E14","v":"02.4 - Procurement And Asset Management"},null,0,50405630.420000002,40454699.649999999,56331092,75781092,75781092,70048942,70992773,67311898]
[{"$f":"'Org structure'!E15","v":"02.5 - Information Technology"},null,0,0,0,34764271,34105449,34105449,21797681,34857676,36343479]
[{"$f":"'Org structure'!E16","v":"02.6 - Municipal Records And Auxiliary Services"},null,0,0,0,10430756,9315908,9315908,11075549,11770500,12501611]
[{"$f":"'Org structure'!E17","v":"02.7 - Geographical Information Systems"},null,0,0,0,1913152,1913152,1913152,2025207,2144376,2270652]
[{"$f":"'Org structure'!E18","v":"02.8 - Security Services & Municipal Keypoints"},null,0,0,0,34811466,34597929,34597929,36327943,38505195,40854320]
[{"$f":"'Org structure'!E19","v":"02.9 - Treasury And Revenue"},null,0,0,0,0,0,0,0,0,0]
[{"$f":"'Org structure'!E20","v":"02.10 - Treasury And Revenue"},null,0,0,0,0,0,0,0,0,0]
[{"$f":"'Org structure'!E21","v":"02.11 - Budget And Reporting"},null,0,0,0,0,0,0,0,0,0]
[{"$f":"'Org structure'!E22","v":"02.12 - Budget And Reporting"},null,0,0,0,7979029,7979029,7979029,7630634,6923757,7340759]
[{"$f":"'Org structure'!E23","v":"02.13 - Accounting Services"},null,0,77382.649999999994,139182.01,29600920,29989907,29989907,31584840,33283569,35075803]
[{"$f":"'Org structure'!E24","v":"02.14 - Wsa Finance"},null,0,0,0,39068897,31518897,31518897,31328739,33252212,35294312]
[{"$f":"'Org structure'!A4","v":"Vote 03 - Planning & Development"},null,{"$f":"SUM(C29:C32)","v":3174662.97},4811000,4882000,85478913,102003913,102003913,119250004,105243882,105467672]
[{"$f":"'Org structure'!E26","v":"03.1 - Economic Development"},null,3174662.97,4811000,4882000,45226800,51351800,51351800,67059449,51985239,51037850]
[{"$f":"'Org structure'!E27","v":"03.2 - Survey And Planning"},null,0,0,0,3412059,3412059,3412059,3625313,3851895,4092639]
[{"$f":"'Org structure'!E28","v":"03.3 - Ntinga Development Agency"},null,0,0,0,32791559,43191559,43191559,44267179,44843469,45492269]
[{"$f":"'Org structure'!E29","v":"03.4 - Socio-Economic Development Facilitation"},null,0,0,0,4048495,4048495,4048495,4298063,4563279,4844914]
[{"$f":"'Org structure'!A5","v":"Vote 04 - Health"},null,{"$f":"SUM(C34:C34)","v":0},0,0,21951898,22351898,22351898,22857657,24253046,25734119]
[{"$f":"'Org structure'!E31","v":"04.1 - Municipal Health"},null,0,0,0,21951898,22351898,22351898,22857657,24253046,25734119]
[{"$f":"'Org structure'!A6","v":"Vote 05 - Community & Social Services"},null,{"$f":"SUM(C36:C36)","v":0},0,0,15360956,15360956,15360956,15621174,16509024,17448296]
[{"$f":"'Org structure'!E33","v":"05.1 - Social Development And Community Safety"},null,0,0,0,15360956,15360956,15360956,15621174,16509024,17448296]
[{"$f":"'Org structure'!A7","v":"Vote 06 - Housing"},null,{"$f":"SUM(C38:C39)","v":0},0,5284162,19662654,66913384,66913384,55330001,16957707,17895112]
[{"$f":"'Org structure'!E35","v":"06.1 - Housing Settlement"},null,0,0,5284162,17373201,64623931,64623931,52897457,14373129,15148998]
[{"$f":"'Org structure'!E36","v":"06.2 - Building And Technology"},null,0,0,0,2289453,2289453,2289453,2432544,2584578,2746114]
[{"$f":"'Org structure'!A8","v":"Vote 07 - Public Safety"},null,{"$f":"SUM(C41:C42)","v":0},425380.42,0,67716156,71517156,71517156,66839344,70446270,74769309]
[{"$f":"'Org structure'!E38","v":"07.1 - Disaster Management"},null,0,425380.42,0,31956248,35441048,35441048,31896733,30383275,32171415]
[{"$f":"'Org structure'!E39","v":"07.2 - Fire; Rescue And Emergency"},null,0,0,0,35759908,36076108,36076108,34942611,40062995,42597894]
[{"$f":"'Org structure'!A9","v":"Vote 08 - Sports & Recreation"},null,{"$f":"SUM(C44:C44)","v":0},0,0,11212608,11212608,11212608,8845544,9330948,9843587]
[{"$f":"'Org structure'!E41","v":"08.1 - Arts; Sports And Culture"},null,0,0,0,11212608,11212608,11212608,8845544,9330948,9843587]
[{"$f":"'Org structure'!A10","v":"Vote 09 - Environmental"},null,{"$f":"SUM(C46:C46)","v":0},0,0,14827567,15517567,15517567,16041164,16855298,17711649]
[{"$f":"'Org structure'!E43","v":"09.1 - Environmental Management"},null,0,0,0,14827567,15517567,15517567,16041164,16855298,17711649]
[{"$f":"'Org structure'!A11","v":"Vote 10 - Roads"},null,{"$f":"SUM(C48:C49)","v":0},2587480.0299999998,2971841.41,69827630,61127630,61127630,65842177,30749301,27025670]
[{"$f":"'Org structure'!E45","v":"10.1 - Planner Transport Planning"},null,0,0,0,5649844,5649844,5649844,6149931,6484264,6837191]
[{"$f":"'Org structure'!E46","v":"10.2 - Public Works"},null,0,2587480.0299999998,2971841.41,64177786,55477786,55477786,59692246,24265037,20188479]
[{"$f":"'Org structure'!A12","v":"Vote 11 - Water"},null,{"$f":"SUM(C51:C58)","v":758435007.08999956},1317340336.5300002,1385438598.6900003,1623968906,1706011839,1706011839,1580353821,1648214958,1795104699]
[{"$f":"'Org structure'!E48","v":"11.1 - Wsa Planning"},null,0,0,0,8093493,8093493,8093493,8599337,9136795,9707845]
[{"$f":"'Org structure'!E49","v":"11.2 - Wsa Monit. Env. Municipal Health Service"},null,0,0,0,24227881,24227881,24227881,25742124,27351007,29060445]
[{"$f":"'Org structure'!E50","v":"11.3 - Wsu1"},null,758672153.09000003,1350873831.28,1363035182.95,1563259778,1645302711,1645302711,1515850371,1579680043,1722286351]
[{"$f":"'Org structure'!E51","v":"11.4 - Wsu2"},null,-237146.00000047701,-33533494.749999799,22403415.7400002,8888295,8888295,8888295,9443814,10034052,10661181]
[{"$f":"'Org structure'!E52","v":"11.5 - Wsu3"},null,0,0,0,5177367,5177367,5177367,5500952,5844762,6210059]
[{"$f":"'Org structure'!E53","v":"11.6 - Wsu4"},null,0,0,0,12965198,12965198,12965198,13775523,14636493,15551274]
[{"$f":"'Org structure'!E54","v":"11.7 - Wsa Communication Customer Relations"},null,0,0,0,0,0,0,0,0,0]
[{"$f":"'Org structure'!E55","v":"11.8 - Wsa Capex Services"},null,0,0,0,1356894,1356894,1356894,1441700,1531806,1627544]
[{"$f":"'Org structure'!A13","v":"Vote 12 - Tourism"},null,{"$f":"SUM(C60:C60)","v":0},0,0,6819452,6879452,6879452,7544928,7634195,8044869]
[{"$f":"'Org structure'!E57","v":"12.1 - Tourism"},null,0,0,0,6819452,6879452,6879452,7544928,7634195,8044869]
[{"$f":"'Org structure'!A14","v":"Vote 13 - Development Agency"},null,{"$f":"SUM(C62:C62)","v":0},0,0,0,119416674,119416674,110998186,104792812,110115433]
[{"$f":"'Org structure'!E59","v":"13.1 - Ntinga Development Agency"},null,0,0,0,0,119416674,119416674,110998186,104792812,110115433]
[{"$f":"'Org structure'!A15","v":"Vote 14 - "},null,0,0,0,0,0,0,0,0,0]
[{"$f":"'Org structure'!A16","v":"Vote 15 - Other"},null,0,0,0,0,0,0,0,0,0]
["Total Revenue by Vote",2,{"$f":"C5+C13+C28+C33+C35+C37+C40+C43+C45+C47+C50+C59+C61+C63+C64","v":1860243624},2105862210.0500002,2232811483.7600002,2482816434,2772394932,2772394932,2640326507,2674025013,2856779301,{"$f":"SUM(#REF!)","v":{"$error":"#REF!"}},{"$f":"SUM(#REF!)","v":{"$error":"#REF!"}},{"$f":"SUM(#REF!)","v":{"$error":"#REF!"}},{"$f":"SUM(#REF!)","v":{"$error":"#REF!"}},{"$f":"SUM(#REF!)","v":{"$error":"#REF!"}},{"$f":"SUM(#REF!)","v":{"$error":"#REF!"}},{"$f":"SUM(#REF!)","v":{"$error":"#REF!"}},{"$f":"SUM(#REF!)","v":{"$error":"#REF!"}},{"$f":"SUM(#REF!)","v":{"$error":"#REF!"}},{"$f":"SUM(#REF!)","v":{"$error":"#REF!"}},{"$f":"SUM(#REF!)","v":{"$error":"#REF!"}},{"$f":"SUM(#REF!)","v":{"$error":"#REF!"}}]
[]
["Expenditure by Vote",1]
[{"$f":"'Org structure'!A2","v":"Vote 01 - Council & Committees"},null,{"$f":"SUM(C69:C75)","v":145797885.81},202225837.01000002,250420048.40999997,221893304,250546481,250546481,253320022,273342325,286351030]
[{"$f":"'Org structure'!E3","v":"01.1 - Speaker's Office"},null,44205003.289999999,66562713.170000002,68672855.680000007,75249119,88924118,88924118,97395912,103849987,110477757]
[{"$f":"'Org structure'!E4","v":"01.2 - Mayoral Office"},null,29025478.530000001,63375887.939999998,78349757.340000004,47073335,50655419,50655419,54159881,58239662,60340087]
[{"$f":"'Org structure'!E5","v":"01.3 - Office Of The Municipal Manager"},null,35396975.330000006,22258866.91,28328705.850000001,28111057,27976639,27976639,28774842,30275614,31089792]
[{"$f":"'Org structure'!E6","v":"01.4 - Office Of The Executive Mayor"},null,12487993.730000002,26485518.5,24198047.079999998,35763679,40659773,40659773,36014344,38820371,39983276]
[{"$f":"'Org structure'!E7","v":"01.5 - Internal Audit"},null,4964392.790000001,5808861.9199999999,7977257.3099999996,8559282,8559282,8559282,8409222,8911021,9443085]
[{"$f":"'Org structure'!E8","v":"01.6 - Office Of The Chief Operating Officer"},null,6082393.2199999997,7096074.1100000003,21852323.010000002,17748455,22673476,22673476,20604145,21725457,22909199]
[{"$f":"'Org structure'!E9","v":"01.7 - Legal Services"},null,13635648.920000002,10637914.460000001,21041102.140000001,9388377,11097774,11097774,7961676,11520213,12107834]
[{"$f":"'Org structure'!A3","v":"Vote 02 - Finance & Administration"},null,{"$f":"SUM(C77:C90)","v":382014515.74999994},306204948.5,301633192.88,306554229,302443214,302443214,310891173,339518088,357305834]
[{"$f":"'Org structure'!E11","v":"02.1 - Budget And Reporting Office"},null,0,0,0,0,0,0,0,0,0]
[{"$f":"'Org structure'!E12","v":"02.2 - Budget And Reporting Office"},null,190350264.67999995,28740574.920000002,26608887.059999999,23057346,21557346,21557346,21531001,22743559,23920675]
[{"$f":"'Org structure'!E13","v":"02.3 - Human Resources"},null,47032058.740000002,62964458.740000002,63640649.539999999,90433453,81420659,81420659,94245137,100736752,106542325]
[{"$f":"'Org structure'!E14","v":"02.4 - Procurement And Asset Management"},null,46635111.539999999,62894629.810000002,56695817.350000001,47681095,55631095,55631095,56413389,59287797,62311900]
[{"$f":"'Org structure'!E15","v":"02.5 - Information Technology"},null,14029066.41,17887265.800000001,26796740.800000001,33078116,32019293,32019293,20214362,32769859,33693478]
[{"$f":"'Org structure'!E16","v":"02.6 - Municipal Records And Auxiliary Services"},null,4920376.67,6175056.5099999998,6749317.5899999999,10430757,9315909,9315909,11077362,11772407,12501608]
[{"$f":"'Org structure'!E17","v":"02.7 - Geographical Information Systems"},null,1866821.8400000003,1877651.78,1986575.01,1913150,1913150,1913150,2025206,2144373,2270655]
[{"$f":"'Org structure'!E18","v":"02.8 - Security Services & Municipal Keypoints"},null,19593170.93,26248228.75,31669496.559999999,33311466,33097929,33097929,34840502,36603805,38354320]
[{"$f":"'Org structure'!E19","v":"02.9 - Treasury And Revenue"},null,0,0,48999.88,0,0,0,0,0,0]
[{"$f":"'Org structure'!E20","v":"02.10 - Treasury And Revenue"},null,0,0,0,0,0,0,0,0,0]
[{"$f":"'Org structure'!E21","v":"02.11 - Budget And Reporting"},null,0,0,0,0,0,0,0,0,0]
[{"$f":"'Org structure'!E22","v":"02.12 - Budget And Reporting"},null,12116862.219999999,27383487.73,36143064.229999997,7979030,7979030,7979030,7630635,6923755,7340758]
[{"$f":"'Org structure'!E23","v":"02.13 - Accounting Services"},null,17953562.640000001,20594215.449999999,22807596.620000001,29600919,29989906,29989906,31584840,33283569,35075804]
[{"$f":"'Org structure'!E24","v":"02.14 - Wsa Finance"},null,27517220.080000002,51439379.009999998,28486048.239999998,29068897,29518897,29518897,31328739,33252212,35294311]
[{"$f":"'Org structure'!A4","v":"Vote 03 - Planning & Development"},null,{"$f":"SUM(C92:C95)","v":76591171.420000002},136494781.07999998,77360420.75999999,79184913,95949913,95949913,110233002,101943878,105467674]
[{"$f":"'Org structure'!E26","v":"03.1 - Economic Development"},null,14023028.48,37608876.539999999,31736700.600000001,38932800,45297800,45297800,58042450,48685238,51037852]
[{"$f":"'Org structure'!E27","v":"03.2 - Survey And Planning"},null,7093623.0399999991,8331601.3399999999,9039743.0899999999,3412059,3412059,3412059,3625312,3851894,4092638]
[{"$f":"'Org structure'!E28","v":"03.3 - Ntinga Development Agency"},null,54392140.350000001,89153717.75,35030157.799999997,32791559,43191559,43191559,44267179,44843469,45492269]
[{"$f":"'Org structure'!E29","v":"03.4 - Socio-Economic Development Facilitation"},null,1082379.5499999998,1400585.45,1553819.27,4048495,4048495,4048495,4298061,4563277,4844915]
[{"$f":"'Org structure'!A5","v":"Vote 04 - Health"},null,{"$f":"SUM(C97:C97)","v":3032774.87},2570350.9,19140225.739999998,21831899,21831899,21831899,22940979,24340868,25734120]
[{"$f":"'Org structure'!E31","v":"04.1 - Municipal Health"},null,3032774.87,2570350.9,19140225.739999998,21831899,21831899,21831899,22940979,24340868,25734120]
[{"$f":"'Org structure'!A6","v":"Vote 05 - Community & Social Services"},null,{"$f":"SUM(C99:C99)","v":11890245.779999997},11548608.529999999,13273852.939999999,15360954,15360954,15360954,16209958,17129603,17448293]
[{"$f":"'Org structure'!E33","v":"05.1 - Social Development And Community Safety"},null,11890245.779999997,11548608.529999999,13273852.939999999,15360954,15360954,15360954,16209958,17129603,17448293]
[{"$f":"'Org structure'!A7","v":"Vote 06 - Housing"},null,{"$f":"SUM(C101:C102)","v":8327762.410000002},15702638.189999999,20208908.59,16117653,16117654,16117654,15638526,17285324,17895115]
[{"$f":"'Org structure'!E35","v":"06.1 - Housing Settlement"},null,5958904.0600000015,13949146.289999999,17834031.52,13828200,13828201,13828201,13205983,14700746,15149001]
[{"$f":"'Org structure'!E36","v":"06.2 - Building And Technology"},null,2368858.35,1753491.9,2374877.0699999998,2289453,2289453,2289453,2432543,2584578,2746114]
[{"$f":"'Org structure'!A8","v":"Vote 07 - Public Safety"},null,{"$f":"SUM(C104:C105)","v":27942786.84},41665651.090000004,45905202.849999994,59716156,62596156,62596156,65172567,65613685,68769308]
[{"$f":"'Org structure'!E38","v":"07.1 - Disaster Management"},null,13483268.74,23322876.359999999,24568018.77,28956249,31520049,31520049,32529957,31050691,32171415]
[{"$f":"'Org structure'!E39","v":"07.2 - Fire; Rescue And Emergency"},null,14459518.1,18342774.73,21337184.079999998,30759907,31076107,31076107,32642610,34562994,36597893]
[{"$f":"'Org structure'!A9","v":"Vote 08 - Sports & Recreation"},null,{"$f":"SUM(C107:C107)","v":4895070.3},5251346.0199999996,7186701.1200000001,11212604,11212605,11212605,9298410,9808264,9843593]
[{"$f":"'Org structure'!E41","v":"08.1 - Arts; Sports And Culture"},null,4895070.3,5251346.0199999996,7186701.1200000001,11212604,11212605,11212605,9298410,9808264,9843593]
[{"$f":"'Org structure'!A10","v":"Vote 09 - Environmental"},null,{"$f":"SUM(C109:C109)","v":24944094.43},26142656.940000001,12268469.939999999,14827567,15277567,15277567,18149167,19077134,17711647]
[{"$f":"'Org structure'!E43","v":"09.1 - Environmental Management"},null,24944094.43,26142656.940000001,12268469.939999999,14827567,15277567,15277567,18149167,19077134,17711647]
[{"$f":"'Org structure'!A11","v":"Vote 10 - Roads"},null,{"$f":"SUM(C111:C112)","v":18225948.050000001},9781256.120000001,9860994.3300000001,21715630,22515629,22515629,23000963,23067810,23719669]
[{"$f":"'Org structure'!E45","v":"10.1 - Planner Transport Planning"},null,1766068.88,1208835.98,1507324.64,5649844,7749844,7749844,6570717,6927774,6837191]
[{"$f":"'Org structure'!E46","v":"10.2 - Public Works"},null,16459879.17,8572420.1400000006,8353669.6900000004,16065786,14765785,14765785,16430246,16140036,16882478]
[{"$f":"'Org structure'!A12","v":"Vote 11 - Water"},null,{"$f":"SUM(C114:C121)","v":683644106.65999985},808050691.25000012,919779580.79000008,658009367,653996261,653996261,770110423,799168249,823555382]
[{"$f":"'Org structure'!E48","v":"11.1 - Wsa Planning"},null,13820230.15,2638256.84,2075749.2,8093494,8093494,8093494,8599337,9136795,9707845]
[{"$f":"'Org structure'!E49","v":"11.2 - Wsa Monit. Env. Municipal Health Service"},null,31252232.649999999,44345721.530000001,41275735.810000002,24227881,24227881,24227881,25742125,27351006,29060446]
[{"$f":"'Org structure'!E50","v":"11.3 - Wsu1"},null,{"$f":"636796233.74-16491300.0000002","v":620304933.73999977},{"$f":"636687386.38+106002800.74","v":742690187.12},{"$f":"805745300.92+48438858.45","v":854184159.37},597300238,593287132,593287132,705606975,730633335,750737034]
[{"$f":"'Org structure'!E51","v":"11.4 - Wsu2"},null,7884436.0999999987,6509468.7999999998,8651777.25,8888296,8888296,8888296,9443813,10034053,10661181]
[{"$f":"'Org structure'!E52","v":"11.5 - Wsu3"},null,1834759.3299999998,1887607.46,1967070.94,5177367,5177367,5177367,5500952,5844762,6210058]
[{"$f":"'Org structure'!E53","v":"11.6 - Wsu4"},null,6108707.3900000006,7034476.4400000004,9273707.0299999993,12965197,12965197,12965197,13775522,14636492,15551274]
[{"$f":"'Org structure'!E54","v":"11.7 - Wsa Communication Customer Relations"},null,680667.70000000007,748032.07,35383.33,0,0,0,0,0,0]
[{"$f":"'Org structure'!E55","v":"11.8 - Wsa Capex Services"},null,1758139.6,2196940.9900000002,2315997.86,1356894,1356894,1356894,1441699,1531806,1627544]
[{"$f":"'Org structure'!A13","v":"Vote 12 - Tourism"},null,{"$f":"SUM(C123:C123)","v":937884.68},4685074.41,5295167.55,6819452,6879452,6879452,7544929,7634193,8044869]
[{"$f":"'Org structure'!E57","v":"12.1 - Tourism"},null,937884.68,4685074.41,5295167.55,6819452,6879452,6879452,7544929,7634193,8044869]
[{"$f":"'Org structure'!A14","v":"Vote 13 - Development Agency"},null,{"$f":"SUM(C125:C125)","v":0},0,0,0,184838637,184838637,83891124,94575398,102160727]
[{"$f":"'Org structure'!E59","v":"13.1 - Ntinga Development Agency"},null,0,0,0,0,184838637,184838637,83891124,94575398,102160727]
[{"$f":"'Org structure'!A15","v":"Vote 14 - "},null,0,0,0,0,0,0,0,0,0]
[{"$f":"'Org structure'!A16","v":"Vote 15 - Other"},null,0,0,0,0,0,0,0,0,0]
["Total Expenditure by Vote",2,{"$f":"C68+C76+C91+C96+C98+C100+C103+C106+C108+C110+C113+C122+C124+C126+C127","v":1388244246.9999998},1570323840.0400002,1682332765.9000003,1433243728,1659566422,1659566422,1706401243,1792504819,1864007261,{"$f":"SUM(L68:L105)","v":0},0,0,0,0,0,0,0,0,0,0,0]
[]
[{"$f":"result","v":"Surplus/(Deficit) for the year"},2,{"$f":"C65-C128","v":471999377.00000024},535538370.00999999,550478717.8599999,1049572706,1112828510,1112828510,933925264,881520194,992772040,{"$error":"#REF!"},{"$error":"#REF!"},{"$error":"#REF!"},{"$error":"#REF!"},{"$error":"#REF!"},{"$error":"#REF!"},{"$error":"#REF!"},{"$error":"#REF!"},{"$error":"#REF!"},{"$error":"#REF!"},{"$error":"#REF!"},{"$error":"#REF!"}]
[{"$f":"head27a","v":"References"}]
["1. Insert 'Vote'; e.g. Department, if different to Functional structure"]
["2. Must reconcile to Financial Performance ('Revenue and Expenditure by Functional Classification' and 'Revenue and Expenditure')"]
["3. Assign share in 'associate' to relevant Vote"]
[]
["check revenue",null,{"$f":"C65-'A4-FinPerf RE'!C59","v":0},{"$f":"D65-'A4-FinPerf RE'!D59","v":0},{"$f":"E65-'A4-FinPerf RE'!E59","v":0},{"$f":"F65-'A4-FinPerf RE'!F59","v":0},{"$f":"G65-'A4-FinPerf RE'!G59","v":0},{"$f":"H65-'A4-FinPerf RE'!H59","v":0},{"$f":"I65-'A4-FinPerf RE'!J59","v":0},{"$f":"J65-'A4-FinPerf RE'!K59","v":0},{"$f":"K65-'A4-FinPerf RE'!L59","v":0}]
["check expenditure",null,{"$f":"C128-'A4-FinPerf RE'!C35","v":0},{"$f":"D128-'A4-FinPerf RE'!D35","v":0},{"$f":"E128-'A4-FinPerf RE'!E35","v":0},{"$f":"F128-'A4-FinPerf RE'!F35","v":0},{"$f":"G128-'A4-FinPerf RE'!G35","v":0},{"$f":"H128-'A4-FinPerf RE'!H35","v":0},{"$f":"I128-'A4-FinPerf RE'!J35","v":0},{"$f":"J128-'A4-FinPerf RE'!K35","v":0},{"$f":"K128-'A4-FinPerf RE'!L35","v":0}]

{"sheet":"A4-FinPerf RE","index":11,"n_rows":59,"n_cols":24,"rows_kept":59,"cut":false,"hidden":false,"merged":[[1,12,1,23],[1,9,1,11],[1,5,1,8]]}
[{"$f":"muni&\" - \"&Approve4","v":"DC15 O .R. Tambo - Table A4 Consolidated Budgeted Financial Performance (revenue and expenditure)"}]
[{"$f":"desc","v":"Description"},{"$f":"head27","v":"Ref"},{"$f":"head1b","v":"2016/17"},{"$f":"head1A","v":"2017/18"},{"$f":"Head1","v":"2018/19"},{"$f":"Head2","v":"Current Year 2019/20"},null,null,null,{"$f":"Head3","v":"2020/21 Medium Term Revenue & Expenditure Framework"},null,null,{"$f":"Head4","v":"LTFS"}]
["R thousand",1,{"$f":"Head5","v":"Audited Outcome"},{"$f":"Head5","v":"Audited Outcome"},{"$f":"Head5","v":"Audited Outcome"},{"$f":"Head6","v":"Original Budget"},{"$f":"Head7","v":"Adjusted Budget"},{"$f":"Head8","v":"Full Year Forecast"},{"$f":"Head5b","v":"Pre-audit outcome"},{"$f":"Head9","v":"Budget Year 2020/21"},{"$f":"Head10","v":"Budget Year +1 2021/22"},{"$f":"Head11","v":"Budget Year +2 2022/23"},{"$f":"Head12","v":"Forecast 2023/24"},{"$f":"Head13","v":"Forecast 2024/25"},{"$f":"Head14","v":"Forecast 2025/26"},{"$f":"Head15","v":"Forecast 2026/27"},{"$f":"Head16","v":"Forecast 2027/28"},{"$f":"Head17","v":"Forecast 2028/29"},{"$f":"Head18","v":"Forecast 2029/30"},{"$f":"Head19","v":"Forecast 2030/31"},{"$f":"Head20","v":"Forecast 2031/32"},{"$f":"Head21","v":"Forecast 2032/33"},{"$f":"Head22","v":"Forecast 2033/34"},{"$f":"Head23","v":"Forecast 2034/35"}]
["Revenue By Source"]
["Property rates",2,{"$f":"'SA1'!C9","v":0},{"$f":"'SA1'!D9","v":0},{"$f":"'SA1'!E9","v":0},{"$f":"'SA1'!F9","v":0},{"$f":"'SA1'!G9","v":0},{"$f":"'SA1'!H9","v":0},{"$f":"'SA1'!I9","v":0},{"$f":"'SA1'!J9","v":0},{"$f":"'SA1'!K9","v":0},{"$f":"'SA1'!L9","v":0}]
["Service charges - electricity revenue",2,{"$f":"'SA1'!C15","v":0},{"$f":"'SA1'!D15","v":0},{"$f":"'SA1'!E15","v":0},{"$f":"'SA1'!F15","v":0},{"$f":"'SA1'!G15","v":0},{"$f":"'SA1'!H15","v":0},{"$f":"'SA1'!I15","v":0},{"$f":"'SA1'!J15","v":0},{"$f":"'SA1'!K15","v":0},{"$f":"'SA1'!L15","v":0}]
["Service charges - water revenue",2,{"$f":"'SA1'!C21","v":164031226},{"$f":"'SA1'!D21","v":182034408.66999999},{"$f":"'SA1'!E21","v":193658835.03999999},{"$f":"'SA1'!F21","v":214245106},{"$f":"'SA1'!G21","v":234745106},{"$f":"'SA1'!H21","v":234745106},{"$f":"'SA1'!I21","v":178450376.43000001},{"$f":"'SA1'!J21","v":254699812},{"$f":"'SA1'!K21","v":249025801},{"$f":"'SA1'!L21","v":263969349}]
["Service charges - sanitation revenue",2,{"$f":"'SA1'!C27","v":42791119},{"$f":"'SA1'!D27","v":48234972.380000003},{"$f":"'SA1'!E27","v":52992746.719999999},{"$f":"'SA1'!F27","v":93228922},{"$f":"'SA1'!G27","v":106228922},{"$f":"'SA1'!H27","v":106228922},{"$f":"'SA1'!I27","v":46942208.07},{"$f":"'SA1'!J27","v":112602658},{"$f":"'SA1'!K27","v":119358817},{"$f":"'SA1'!L27","v":126520346}]
["Service charges - refuse revenue",2,{"$f":"'SA1'!C34","v":0},{"$f":"'SA1'!D34","v":0},{"$f":"'SA1'!E34","v":0},{"$f":"'SA1'!F34","v":0},{"$f":"'SA1'!G34","v":0},{"$f":"'SA1'!H34","v":0},{"$f":"'SA1'!I34","v":0},{"$f":"'SA1'!J34","v":0},{"$f":"'SA1'!K34","v":0},{"$f":"'SA1'!L34","v":0}]
[]
["Rental of facilities and equipment",null,822311,89795,97810,60984,170984,170984,0,867337,1194114,1345867]
["Interest earned - external investments",null,39503639,52465123,41483463,36882200,23882200,23882200,22753738.77,29515576,38899639,40689023]
["Interest earned - outstanding debtors",null,46914379,36952171,41772269,30000000,32550000,32550000,22348480.289999999,32250000,34163000,36190480]
["Dividends received"]
["Fines, penalties and forfeits",null,null,0,0,0,0,0,0,0,0,0]
["Licences and permits"]
["Agency services",null,407060,77383,139182]
["Transfers and subsidies",null,648400220,728676577,793811821,863952000,900944560,900944560,842731747.72000003,976036181,1036542466,1104844272]
["Other revenue",2,{"$f":"'SA1'!C49","v":134176919},{"$f":"'SA1'!D49","v":31423469},{"$f":"'SA1'!E49","v":14764579},{"$f":"'SA1'!F49","v":261542222},{"$f":"'SA1'!G49","v":324267430},{"$f":"'SA1'!H49","v":324267430},{"$f":"'SA1'!I49","v":123335.32},{"$f":"'SA1'!J49","v":340695943},{"$f":"'SA1'!K49","v":310186176},{"$f":"'SA1'!L49","v":292592964}]
["Gains",null,2547922,4586207,4226443,0,-150000,-150000,228636.38,2140000,2190000,2190000]
["Total Revenue (excluding capital transfers and contributions)",null,{"$f":"SUM(C5:C9)+SUM(C11:C20)","v":1079594795},{"$f":"SUM(D5:D9)+SUM(D11:D20)","v":1084540106.05},1142947148.76,1499911434,1622639202,1622639202,1113578522.98,1748807507,1791560013,1868342301,{"$f":"SUM(M5:M20)","v":0},0,0,0,0,0,0,0,0,0,0,0]
[]
["Expenditure By Type"]
["Employee related costs",2,{"$f":"'SA1'!C67","v":436330870},{"$f":"'SA1'!D67","v":545660194.52999997},{"$f":"'SA1'!E67","v":580576128.81000006},{"$f":"'SA1'!F67","v":579709959},{"$f":"'SA1'!G67","v":624867280},{"$f":"'SA1'!H67","v":624867280},{"$f":"'SA1'!I67","v":520522197.41999996},{"$f":"'SA1'!J67","v":680160045},{"$f":"'SA1'!K67","v":720651764},{"$f":"'SA1'!L67","v":765566273}]
["Remuneration of councillors",null,17749620,20304599,23714415,22659098,22659098,22659098,15900351.449999999,24075294,25579999,27178747]
["Debt impairment",3,147042015,93648158,86600916,92405456,92405456,92405456,0,160430386,171994184,179905916]
["Depreciation & asset impairment",2,{"$f":"'SA1'!C83","v":164455907},{"$f":"'SA1'!D83","v":189380733},{"$f":"'SA1'!E83","v":196525406},{"$f":"'SA1'!F83","v":165748000},{"$f":"'SA1'!G83","v":241121946},{"$f":"'SA1'!H83","v":241121946},{"$f":"'SA1'!I83","v":0},{"$f":"'SA1'!J83","v":176963581},{"$f":"'SA1'!K83","v":185858322},{"$f":"'SA1'!L83","v":194022428}]
["Finance charges",null,12769623,9151978,9355557,0,0,0,122365.66,0,0,0]
["Bulk purchases",2,{"$f":"'SA1'!C88","v":42406949},{"$f":"'SA1'!D88","v":44443738},{"$f":"'SA1'!E88","v":35038658},{"$f":"'SA1'!F88","v":41145000},{"$f":"'SA1'!G88","v":35745000},{"$f":"'SA1'!H88","v":35745000},{"$f":"'SA1'!I88","v":8068535.2999999998},{"$f":"'SA1'!J88","v":37353525},{"$f":"'SA1'!K88","v":39071787},{"$f":"'SA1'!L88","v":40869089}]
["Other materials",8,0,41802675,39533156,24758782,54717212,54717212,16603764.91,37053543,41379528,45261315]
["Contracted services",null,{"$f":"'SA1'!C127","v":174490806},{"$f":"'SA1'!D127","v":229972408.28999999},{"$f":"'SA1'!E127","v":235505007.56},{"$f":"'SA1'!F127","v":213751988},{"$f":"'SA1'!G127","v":217286758},{"$f":"'SA1'!H127","v":217286758},{"$f":"'SA1'!I127","v":113276865.47999999},{"$f":"'SA1'!J127","v":231134005},{"$f":"'SA1'!K127","v":231771819},{"$f":"'SA1'!L127","v":224272370}]
["Transfers and subsidies",null,{"$f":"'SA1'!C93","v":112119877},{"$f":"'SA1'!D93","v":66107346.519999988},{"$f":"'SA1'!E93","v":92458694.329999998},{"$f":"'SA1'!F93","v":71524657},{"$f":"'SA1'!G93","v":87523211},{"$f":"'SA1'!H93","v":87523211},{"$f":"'SA1'!I93","v":56275810.299999997},{"$f":"'SA1'!J93","v":97304786},{"$f":"'SA1'!K93","v":91060295},{"$f":"'SA1'!L93","v":93760687}]
["Other expenditure","4, 5",{"$f":"'SA1'!C157","v":280878580},{"$f":"'SA1'!D157","v":312224322.69999999},{"$f":"'SA1'!E157","v":366204604.20000005},{"$f":"'SA1'!F157","v":221540788},{"$f":"'SA1'!G157","v":283240461},{"$f":"'SA1'!H157","v":283240461},{"$f":"'SA1'!I157","v":181644319.08000001},{"$f":"'SA1'!J157","v":261776078},{"$f":"'SA1'!K157","v":285037121},{"$f":"'SA1'!L157","v":293070436}]
["Losses",null,0,17627687,16820223,0,0,0,0,150000,100000,100000]
["Total Expenditure",null,{"$f":"SUM(C24:C34)","v":1388244247},{"$f":"SUM(D24:D34)","v":1570323840.04},1682332765.9000001,1433243728,1659566422,1659566422,912414209.5999999,1706401243,1792504819,1864007261,{"$f":"SUM(M24:M34)","v":0},0,0,0,0,0,0,0,0,0,0,0]
[]
["Surplus/(Deficit)",null,{"$f":"C21-C35","v":-308649452},-485783733.99000001,-539385617.1400001,66667706,-36927220,-36927220,201164313.38000011,42406264,-944806,4335040,{"$f":"M21+M35","v":0},0,0,0,0,0,0,0,0,0,0,0]
["Transfers and subsidies - capital (monetary allocations) (National / Provincial and District)",null,780648829,1021322104,1089864335,982905000,1149755730,1149755730,15065078.460000001,891519000,882465000,988437000]
["Transfers and subsidies - capital (monetary allocations) (National / Provincial Departmental Agencies, Households, Non-profit Institutions, Private Enterprises, Public Corporatons, Higher Educational Institutions)",6,{"$f":"'SA1'!C76","v":0}]
["Transfers and subsidies - capital (in-kind - all) "]
["Surplus/(Deficit) after capital transfers & contributions",null,{"$f":"SUM(C37:C40)","v":471999377},535538370.00999999,550478717.8599999,1049572706,1112828510,1112828510,216229391.84000012,933925264,881520194,992772040]
["Taxation",null,null,-1866427,-5353124]
["Surplus/(Deficit) after taxation",null,{"$f":"C41-C42","v":471999377},537404797.00999999,555831841.8599999,1049572706,1112828510,1112828510,216229391.84000012,933925264,881520194,992772040]
["Attributable to minorities"]
["Surplus/(Deficit) attributable to municipality",null,{"$f":"SUM(C43:C44)","v":471999377},537404797.00999999,555831841.8599999,1049572706,1112828510,1112828510,216229391.84000012,933925264,881520194,992772040]
["Share of surplus/ (deficit) of associate",7]
[{"$f":"result","v":"Surplus/(Deficit) for the year"},null,{"$f":"SUM(C45:C46)","v":471999377},537404797.00999999,555831841.8599999,1049572706,1112828510,1112828510,216229391.84000012,933925264,881520194,992772040,{"$f":"M25+M46","v":0},0,0,0,0,0,0,0,0,0,0,0]
[{"$f":"head27a","v":"References"}]
["1. Classifications are revenue sources and expenditure type"]
["2. Detail to be provided in Table SA1"]
["3. Previously described as 'bad or doubtful debts' - amounts shown should reflect the change in the provision for debt impairment"]
["4. Expenditure type components previously shown under repairs and maintenance should be allocated back to the originating expenditure group/item; e.g. employee costs"]
["5. Repairs & maintenance detailed in Table A9 and Table SA34c"]
["6. Contributions are funds provided by external organisations to assist with infrastructure development; e.g. developer contributions (detail to be provided in Table SA1)"]
["7. Equity method ( Includes Joint Ventures)"]
["8. All materials not part of 'bulk' e.g  road making materials, pipe, cable etc."]
["check balance",null,{"$f":"C45-'A3-FinPerf V'!C39","v":0},{"$f":"D45-'A3-FinPerf V'!D39","v":1866427},{"$f":"E45-'A3-FinPerf V'!E39","v":5353124},{"$f":"F45-'A3-FinPerf V'!F39","v":0},{"$f":"G45-'A3-FinPerf V'!G39","v":0},{"$f":"H45-'A3-FinPerf V'!H39","v":0},null,{"$f":"J45-'A3-FinPerf V'!I39","v":0},{"$f":"K45-'A3-FinPerf V'!J39","v":0},{"$f":"L45-'A3-FinPerf V'!K39","v":0}]
[]
["Total revenue",null,{"$f":"C21+SUM(C38:C40)","v":1860243624},2105862210.05,2232811483.7600002,2482816434,2772394932,2772394932,1128643601.4400001,2640326507,2674025013,2856779301]

{"sheet":"A5-Capex","index":12,"n_rows":85,"n_cols":12,"rows_kept":85,"cut":false,"hidden":false,"merged":[[1,9,1,11],[1,5,1,8],[82,0,82,11],[77,0,77,11],[76,0,76,11],[78,0,78,11]]}
[" "]
[{"$f":"Vdesc","v":"Vote Description"},{"$f":"head27","v":"Ref"},{"$f":"head1b","v":"2016/17"},{"$f":"head1A","v":"2017/18"},{"$f":"Head1","v":"2018/19"},{"$f":"Head2","v":"Current Year 2019/20"},null,null,null,{"$f":"Head3","v":"2020/21 Medium Term Revenue & Expenditure Framework"}]
["R thousand",1,{"$f":"Head5","v":"Audited Outcome"},{"$f":"Head5","v":"Audited Outcome"},{"$f":"Head5","v":"Audited Outcome"},{"$f":"Head6","v":"Original Budget"},{"$f":"Head7","v":"Adjusted Budget"},{"$f":"Head8","v":"Full Year Forecast"},{"$f":"Head5b","v":"Pre-audit outcome"},{"$f":"Head9","v":"Budget Year 2020/21"},{"$f":"Head10","v":"Budget Year +1 2021/22"},{"$f":"Head11","v":"Budget Year +2 2022/23"}]
["Capital expenditure - Vote"]
["Multi-year expenditure  to be appropriated",2]
[{"$f":"A5A!A6","v":"Vote 01 - Council & Committees"},null,{"$f":"A5A!C6","v":318000},{"$f":"A5A!D6","v":0},{"$f":"A5A!E6","v":0},{"$f":"A5A!F6","v":2000000},{"$f":"A5A!G6","v":2000000},{"$f":"A5A!H6","v":2000000},{"$f":"A5A!I6","v":0},{"$f":"A5A!J6","v":5000000},{"$f":"A5A!K6","v":3500000},{"$f":"A5A!L6","v":0}]
[{"$f":"A5A!A14","v":"Vote 02 - Finance & Administration"},null,{"$f":"A5A!C14","v":805184},{"$f":"A5A!D14","v":46403514},{"$f":"A5A!E14","v":12641367},{"$f":"A5A!F14","v":21836154},{"$f":"A5A!G14","v":25736154},{"$f":"A5A!H14","v":25736154},{"$f":"A5A!I14","v":3967422.66},{"$f":"A5A!J14","v":16154207},{"$f":"A5A!K14","v":15112259},{"$f":"A5A!L14","v":10150000}]
[{"$f":"A5A!A29","v":"Vote 03 - Planning & Development"},null,{"$f":"A5A!C29","v":0},{"$f":"A5A!D29","v":1112401},{"$f":"A5A!E29","v":0},{"$f":"A5A!F29","v":0},{"$f":"A5A!G29","v":0},{"$f":"A5A!H29","v":0},{"$f":"A5A!I29","v":0},{"$f":"A5A!J29","v":2500000},{"$f":"A5A!K29","v":3300000},{"$f":"A5A!L29","v":0}]
[{"$f":"A5A!A34","v":"Vote 04 - Health"},null,{"$f":"A5A!C34","v":0},{"$f":"A5A!D34","v":0},{"$f":"A5A!E34","v":0},{"$f":"A5A!F34","v":120000},{"$f":"A5A!G34","v":520000},{"$f":"A5A!H34","v":520000},{"$f":"A5A!I34","v":28900},{"$f":"A5A!J34","v":0},{"$f":"A5A!K34","v":0},{"$f":"A5A!L34","v":0}]
[{"$f":"A5A!A36","v":"Vote 05 - Community & Social Services"},null,{"$f":"A5A!C36","v":0},{"$f":"A5A!D36","v":0},{"$f":"A5A!E36","v":0},{"$f":"A5A!F36","v":0},{"$f":"A5A!G36","v":0},{"$f":"A5A!H36","v":0},{"$f":"A5A!I36","v":0},{"$f":"A5A!J36","v":0},{"$f":"A5A!K36","v":0},{"$f":"A5A!L36","v":0}]
[{"$f":"A5A!A38","v":"Vote 06 - Housing"},null,{"$f":"A5A!C38","v":0},{"$f":"A5A!D38","v":0},{"$f":"A5A!E38","v":0},{"$f":"A5A!F38","v":3545000},{"$f":"A5A!G38","v":50795730},{"$f":"A5A!H38","v":50795730},{"$f":"A5A!I38","v":10776435.029999999},{"$f":"A5A!J38","v":40045000},{"$f":"A5A!K38","v":45000},{"$f":"A5A!L38","v":0}]
[{"$f":"A5A!A41","v":"Vote 07 - Public Safety"},null,{"$f":"A5A!C41","v":0},{"$f":"A5A!D41","v":0},{"$f":"A5A!E41","v":0},{"$f":"A5A!F41","v":8000000},{"$f":"A5A!G41","v":8921000},{"$f":"A5A!H41","v":8921000},{"$f":"A5A!I41","v":286814.5},{"$f":"A5A!J41","v":2300000},{"$f":"A5A!K41","v":5500000},{"$f":"A5A!L41","v":6000000}]
[{"$f":"A5A!A44","v":"Vote 08 - Sports & Recreation"},null,{"$f":"A5A!C44","v":0},{"$f":"A5A!D44","v":0},{"$f":"A5A!E44","v":0},{"$f":"A5A!F44","v":0},{"$f":"A5A!G44","v":0},{"$f":"A5A!H44","v":0},{"$f":"A5A!I44","v":0},{"$f":"A5A!J44","v":0},{"$f":"A5A!K44","v":0},{"$f":"A5A!L44","v":0}]
[{"$f":"A5A!A46","v":"Vote 09 - Environmental"},null,{"$f":"A5A!C46","v":0},{"$f":"A5A!D46","v":0},{"$f":"A5A!E46","v":0},{"$f":"A5A!F46","v":0},{"$f":"A5A!G46","v":0},{"$f":"A5A!H46","v":0},{"$f":"A5A!I46","v":0},{"$f":"A5A!J46","v":0},{"$f":"A5A!K46","v":0},{"$f":"A5A!L46","v":0}]
[{"$f":"A5A!A48","v":"Vote 10 - Roads"},null,{"$f":"A5A!C48","v":0},{"$f":"A5A!D48","v":0},{"$f":"A5A!E48","v":0},{"$f":"A5A!F48","v":48112000},{"$f":"A5A!G48","v":38612000},{"$f":"A5A!H48","v":38612000},{"$f":"A5A!I48","v":13143896.01},{"$f":"A5A!J48","v":43262000},{"$f":"A5A!K48","v":8125000},{"$f":"A5A!L48","v":3306000}]
[{"$f":"A5A!A51","v":"Vote 11 - Water"},null,{"$f":"A5A!C51","v":809271875},{"$f":"A5A!D51","v":731779794},{"$f":"A5A!E51","v":862537145},{"$f":"A5A!F51","v":1039614380},{"$f":"A5A!G51","v":1217879527},{"$f":"A5A!H51","v":1217879527},{"$f":"A5A!I51","v":494954099.58999997},{"$f":"A5A!J51","v":906649846},{"$f":"A5A!K51","v":936244573},{"$f":"A5A!L51","v":1034340635}]
[{"$f":"A5A!A60","v":"Vote 12 - Tourism"},null,{"$f":"A5A!C60","v":0},{"$f":"A5A!D60","v":0},{"$f":"A5A!E60","v":0},{"$f":"A5A!F60","v":0},{"$f":"A5A!G60","v":0},{"$f":"A5A!H60","v":0},{"$f":"A5A!I60","v":0},{"$f":"A5A!J60","v":0},{"$f":"A5A!K60","v":0},{"$f":"A5A!L60","v":0}]
[{"$f":"A5A!A62","v":"Vote 13 - Development Agency"},null,{"$f":"A5A!C62","v":0},{"$f":"A5A!D62","v":0},{"$f":"A5A!E62","v":0},{"$f":"A5A!F62","v":0},{"$f":"A5A!G62","v":7245000},{"$f":"A5A!H62","v":7245000},{"$f":"A5A!I62","v":0},{"$f":"A5A!J62","v":28896000},{"$f":"A5A!K62","v":6833000},{"$f":"A5A!L62","v":6852800}]
[{"$f":"'Org structure'!A15","v":"Vote 14 - "},null,{"$f":"A5A!C64","v":0},{"$f":"A5A!D64","v":0},{"$f":"A5A!E64","v":0},{"$f":"A5A!F64","v":0},{"$f":"A5A!G64","v":0},{"$f":"A5A!H64","v":0},{"$f":"A5A!I64","v":0},{"$f":"A5A!J64","v":0},{"$f":"A5A!K64","v":0},{"$f":"A5A!L64","v":0}]
[{"$f":"'Org structure'!A16","v":"Vote 15 - Other"},null,{"$f":"A5A!C65","v":0},{"$f":"A5A!D65","v":0},{"$f":"A5A!E65","v":0},{"$f":"A5A!F65","v":0},{"$f":"A5A!G65","v":0},{"$f":"A5A!H65","v":0},{"$f":"A5A!I65","v":0},{"$f":"A5A!J65","v":0},{"$f":"A5A!K65","v":0},{"$f":"A5A!L65","v":0}]
["Capital multi-year expenditure sub-total",7,{"$f":"SUM(C6:C20)","v":810395059},{"$f":"SUM(D6:D20)","v":779295709},875178512,1123227534,1351709411,{"$f":"SUM(H6:H20)","v":1351709411},523157567.78999996,1044807053,978659832,1060649435]
[]
["Single-year expenditure to be appropriated",2]
[{"$f":"A5A!A70","v":"Vote 01 - Council & Committees"},null,{"$f":"A5A!C70","v":0},{"$f":"A5A!D70","v":0},{"$f":"A5A!E70","v":0},{"$f":"A5A!F70","v":0},{"$f":"A5A!G70","v":0},{"$f":"A5A!H70","v":0},{"$f":"A5A!I70","v":0},{"$f":"A5A!J70","v":0},{"$f":"A5A!K70","v":0},{"$f":"A5A!L70","v":0}]
[{"$f":"A5A!A78","v":"Vote 02 - Finance & Administration"},null,{"$f":"A5A!C78","v":0},{"$f":"A5A!D78","v":0},{"$f":"A5A!E78","v":0},{"$f":"A5A!F78","v":0},{"$f":"A5A!G78","v":0},{"$f":"A5A!H78","v":0},{"$f":"A5A!I78","v":0},{"$f":"A5A!J78","v":0},{"$f":"A5A!K78","v":0},{"$f":"A5A!L78","v":0}]
[{"$f":"A5A!A93","v":"Vote 03 - Planning & Development"},null,{"$f":"A5A!C93","v":0},{"$f":"A5A!D93","v":0},{"$f":"A5A!E93","v":0},{"$f":"A5A!F93","v":0},{"$f":"A5A!G93","v":0},{"$f":"A5A!H93","v":0},{"$f":"A5A!I93","v":0},{"$f":"A5A!J93","v":0},{"$f":"A5A!K93","v":0},{"$f":"A5A!L93","v":0}]
[{"$f":"A5A!A98","v":"Vote 04 - Health"},null,{"$f":"A5A!C98","v":0},{"$f":"A5A!D98","v":0},{"$f":"A5A!E98","v":0},{"$f":"A5A!F98","v":0},{"$f":"A5A!G98","v":0},{"$f":"A5A!H98","v":0},{"$f":"A5A!I98","v":0},{"$f":"A5A!J98","v":0},{"$f":"A5A!K98","v":0},{"$f":"A5A!L98","v":0}]
[{"$f":"A5A!A100","v":"Vote 05 - Community & Social Services"},null,{"$f":"A5A!C100","v":0},{"$f":"A5A!D100","v":0},{"$f":"A5A!E100","v":0},{"$f":"A5A!F100","v":0},{"$f":"A5A!G100","v":0},{"$f":"A5A!H100","v":0},{"$f":"A5A!I100","v":0},{"$f":"A5A!J100","v":0},{"$f":"A5A!K100","v":0},{"$f":"A5A!L100","v":0}]
[{"$f":"A5A!A102","v":"Vote 06 - Housing"},null,{"$f":"A5A!C102","v":0},{"$f":"A5A!D102","v":0},{"$f":"A5A!E102","v":0},{"$f":"A5A!F102","v":0},{"$f":"A5A!G102","v":0},{"$f":"A5A!H102","v":0},{"$f":"A5A!I102","v":0},{"$f":"A5A!J102","v":0},{"$f":"A5A!K102","v":0},{"$f":"A5A!L102","v":0}]
[{"$f":"A5A!A105","v":"Vote 07 - Public Safety"},null,{"$f":"A5A!C105","v":0},{"$f":"A5A!D105","v":0},{"$f":"A5A!E105","v":0},{"$f":"A5A!F105","v":0},{"$f":"A5A!G105","v":0},{"$f":"A5A!H105","v":0},{"$f":"A5A!I105","v":0},{"$f":"A5A!J105","v":0},{"$f":"A5A!K105","v":0},{"$f":"A5A!L105","v":0}]
[{"$f":"A5A!A108","v":"Vote 08 - Sports & Recreation"},null,{"$f":"A5A!C108","v":0},{"$f":"A5A!D108","v":0},{"$f":"A5A!E108","v":0},{"$f":"A5A!F108","v":0},{"$f":"A5A!G108","v":0},{"$f":"A5A!H108","v":0},{"$f":"A5A!I108","v":0},{"$f":"A5A!J108","v":0},{"$f":"A5A!K108","v":0},{"$f":"A5A!L108","v":0}]
[{"$f":"A5A!A110","v":"Vote 09 - Environmental"},null,{"$f":"A5A!C110","v":0},{"$f":"A5A!D110","v":0},{"$f":"A5A!E110","v":0},{"$f":"A5A!F110","v":0},{"$f":"A5A!G110","v":0},{"$f":"A5A!H110","v":0},{"$f":"A5A!I110","v":0},{"$f":"A5A!J110","v":0},{"$f":"A5A!K110","v":0},{"$f":"A5A!L110","v":0}]
[{"$f":"A5A!A112","v":"Vote 10 - Roads"},null,{"$f":"A5A!C112","v":0},{"$f":"A5A!D112","v":0},{"$f":"A5A!E112","v":0},{"$f":"A5A!F112","v":0},{"$f":"A5A!G112","v":0},{"$f":"A5A!H112","v":0},{"$f":"A5A!I112","v":0},{"$f":"A5A!J112","v":0},{"$f":"A5A!K112","v":0},{"$f":"A5A!L112","v":0}]
[{"$f":"A5A!A115","v":"Vote 11 - Water"},null,{"$f":"A5A!C115","v":0},{"$f":"A5A!D115","v":0},{"$f":"A5A!E115","v":0},{"$f":"A5A!F115","v":0},{"$f":"A5A!G115","v":0},{"$f":"A5A!H115","v":0},{"$f":"A5A!I115","v":0},{"$f":"A5A!J115","v":0},{"$f":"A5A!K115","v":0},{"$f":"A5A!L115","v":0}]
[{"$f":"A5A!A124","v":"Vote 12 - Tourism"},null,{"$f":"A5A!C124","v":0},{"$f":"A5A!D124","v":0},{"$f":"A5A!E124","v":0},{"$f":"A5A!F124","v":0},{"$f":"A5A!G124","v":0},{"$f":"A5A!H124","v":0},{"$f":"A5A!I124","v":0},{"$f":"A5A!J124","v":0},{"$f":"A5A!K124","v":0},{"$f":"A5A!L124","v":0}]
[{"$f":"A5A!A126","v":"Vote 13 - Development Agency"},null,{"$f":"A5A!C126","v":0},{"$f":"A5A!D126","v":0},{"$f":"A5A!E126","v":0},{"$f":"A5A!F126","v":0},{"$f":"A5A!G126","v":0},{"$f":"A5A!H126","v":0},{"$f":"A5A!I126","v":0},{"$f":"A5A!J126","v":0},{"$f":"A5A!K126","v":0},{"$f":"A5A!L126","v":0}]
[{"$f":"'Org structure'!A15","v":"Vote 14 - "},null,{"$f":"A5A!C128","v":0},{"$f":"A5A!D128","v":0},{"$f":"A5A!E128","v":0},{"$f":"A5A!F128","v":0},{"$f":"A5A!G128","v":0},{"$f":"A5A!H128","v":0},{"$f":"A5A!I128","v":0},{"$f":"A5A!J128","v":0},{"$f":"A5A!K128","v":0},{"$f":"A5A!L128","v":0}]
[{"$f":"'Org structure'!A16","v":"Vote 15 - Other"},null,{"$f":"A5A!C129","v":0},{"$f":"A5A!D129","v":0},{"$f":"A5A!E129","v":0},{"$f":"A5A!F129","v":0},{"$f":"A5A!G129","v":0},{"$f":"A5A!H129","v":0},{"$f":"A5A!I129","v":0},{"$f":"A5A!J129","v":0},{"$f":"A5A!K129","v":0},{"$f":"A5A!L129","v":0}]
["Capital single-year expenditure sub-total",null,{"$f":"SUM(C24:C38)","v":0},{"$f":"SUM(D24:D38)","v":0},0,0,0,0,0,0,0,0]
["Total Capital Expenditure - Vote",null,{"$f":"C39+C21","v":810395059},{"$f":"D39+D21","v":779295709},875178512,1123227534,1351709411,1351709411,523157567.78999996,1044807053,978659832,1060649435]
[]
["Capital Expenditure - Functional"]
["Governance and administration",null,{"$f":"SUM(C44:C46)","v":1123184},{"$f":"SUM(D44:D46)","v":46403514},12641367,23836154,27736154,27736154,3967422.66,21154207,18612259,10150000]
["Executive and council",null,318000,0,0,2000000,2000000,2000000,0,5000000,3500000,0]
["Finance and administration",null,805184,{"$f":"41051701+5351813","v":46403514},{"$f":"10882082+1759285","v":12641367},21836154,25736154,25736154,3967422.66,16154207,15112259,10150000]
["Internal audit"]
["Community and public safety",null,{"$f":"SUM(C48:C52)","v":0},{"$f":"SUM(D48:D52)","v":0},0,11665000,60236730,60236730,11092149.529999999,42345000,5545000,6000000]
["Community and social services",null,0,0,0,3000000,3921000,3921000,286814.5,0,0,0]
["Sport and recreation",null,0,0,0,0,0,0,0,0,0,0]
["Public safety",null,0,0,0,5000000,5000000,5000000,0,2300000,5500000,6000000]
["Housing",null,0,0,0,3545000,50795730,50795730,10776435.029999999,40045000,45000,0]
["Health",null,0,0,0,120000,520000,520000,28900,0,0,0]
["Economic and environmental services",null,{"$f":"SUM(C54:C56)","v":0},{"$f":"SUM(D54:D56)","v":1112401},0,48112000,45857000,45857000,13143896.01,74658000,18258000,10158800]
["Planning and development",null,0,1112401,0,0,7245000,7245000,0,31396000,10133000,6852800]
["Road transport",null,0,0,0,48112000,38612000,38612000,13143896.01,43262000,8125000,3306000]
["Environmental protection",null,0,0,0,0,0,0,0,0,0,0]
["Trading services",null,{"$f":"SUM(C58:C61)","v":809271875},{"$f":"SUM(D58:D61)","v":731779794},862537145,1039614380,1217879527,1217879527,494954099.58999997,906649846,936244573,1034340635]
["Energy sources"]
["Water management",null,809271875,731779794,862537145,1039614380,1217879527,1217879527,494954099.58999997,906649846,936244573,1034340635]
["Waste water management"]
["Waste management"]
["Other"]
["Total Capital Expenditure - Functional",3,{"$f":"C43+C47+C53+C57+C62","v":810395059},{"$f":"D43+D47+D53+D57+D62","v":779295709},875178512,1123227534,1351709411,1351709411,523157567.78999996,1044807053,978659832,{"$f":"L43+L47+L53+L57+L62","v":1060649435}]
[]
["Funded by:"]
["National Government",null,809271875,731779794,862537145,982905001,1212220772,1212220772,471255319.93000001,891519000,882465000,988437000]
["Provincial Government",null,0,0,0,0,0,0,0,0,0,0]
["District Municipality",null,0,0,0,0,7245000,7245000,0,28896000,6833000,6852800]
[{"$f":"'A4-FinPerf RE'!A39","v":"Transfers and subsidies - capital (monetary allocations) (National / Provincial Departmental Agencies, Households, Non-profit Institutions, Private Enterprises, Public Corporatons, Higher Educational Institutions)"}]
["Transfers recognised - capital",4,{"$f":"SUM(C66:C69)","v":809271875},731779794,862537145,982905001,1219465772,1219465772,471255319.93000001,920415000,889298000,995289800]
[]
["Borrowing",6]
["Internally generated funds",null,1123184,47515915,12641367,140322533,132243639,132243639,51902247.859999999,124392053,89361832,65359635]
["Total Capital Funding",7,{"$f":"+C70+C72+C73","v":810395059},{"$f":"+D70+D72+D73","v":779295709},875178512,1123227534,1351709411,1351709411,523157567.79000002,1044807053,978659832,1060649435]
[{"$f":"head27a","v":"References"}]
["1. Municipalities may choose to appropriate for capital expenditure for three years or for one year (if one year appropriation projected expenditure required for yr2 and yr3)."]
["2. Include capital component of PPP unitary payment. Note that capital transfers are only appropriated to municipalities for the budget year"]
["3. Capital expenditure by functional classification must reconcile to the appropriations by vote"]
["4. Must reconcile to supporting table SA20 and to Budgeted Financial Performance (revenue and expenditure)"]
[]
["6. Include finance leases and PPP capital funding component of unitary payment - total borrowing/repayments to reconcile to changes in Table SA17"]
["7. Total Capital Funding must balance with Total Capital Expenditure"]
["8. Include any capitalised interest (MFMA section 46) as part of relevant capital budget"]
[]
["check balance",null,{"$f":"IF((C63-C74)=0,0,\"Unbalanced\")","v":0},{"$f":"IF((D63-D74)=0,0,\"Unbalanced\")","v":0},0,0,0,0,"Unbalanced",0,0,0]

{"sheet":"A5A","index":13,"n_rows":131,"n_cols":24,"rows_kept":131,"cut":false,"hidden":false,"merged":[[1,5,1,8],[1,9,1,11],[1,13,1,16],[1,17,1,20],[1,21,1,23]]}
[{"$f":"muni&\" - \"&Approve5","v":"DC15 O .R. Tambo - Table A5 Consolidated Budgeted Capital Expenditure by vote, functional classification and funding"}]
[{"$f":"Vdesc","v":"Vote Description"},{"$f":"head27","v":"Ref"},{"$f":"head1b","v":"2016/17"},{"$f":"head1A","v":"2017/18"},{"$f":"Head1","v":"2018/19"},{"$f":"Head2","v":"Current Year 2019/20"},null,null,null,{"$f":"Head3","v":"2020/21 Medium Term Revenue & Expenditure Framework"},null,null,null,{"$f":"\"Multi-year appropriation for \"&Head9&\n\"\n in the \"&Head2A&\" Annual Budget\"","v":"Multi-year appropriation for Budget Year 2020/21\n in the 2019/20 Annual Budget"},null,null,null,{"$f":"\"Multi-year appropriation for \"&RIGHT(Head10,7)&\n\"\n in the \"&Head2A&\" Annual Budget\"","v":"Multi-year appropriation for 2021/22\n in the 2019/20 Annual Budget"},null,null,null,"New multi-year appropriations \n(funds for new and existing projects) "]
["R thousand",1,{"$f":"Head5","v":"Audited Outcome"},{"$f":"Head5","v":"Audited Outcome"},{"$f":"Head5","v":"Audited Outcome"},{"$f":"Head6","v":"Original Budget"},{"$f":"Head7","v":"Adjusted Budget"},{"$f":"Head8","v":"Full Year Forecast"},{"$f":"Head5b","v":"Pre-audit outcome"},{"$f":"Head9","v":"Budget Year 2020/21"},{"$f":"Head10","v":"Budget Year +1 2021/22"},{"$f":"Head11","v":"Budget Year +2 2022/23"},null,{"$f":"\"Appropriation for \"&RIGHT(Head9,7)","v":"Appropriation for 2020/21"},{"$f":"\"Adjustments in \"&Head2A","v":"Adjustments in 2019/20"},{"$f":"\"Downward adjustments for \"&RIGHT(Head9,7)","v":"Downward adjustments for 2020/21"},"Appropriation carried forward",{"$f":"\"Appropriation for \"&RIGHT(Head9,7)","v":"Appropriation for 2020/21"},{"$f":"\"Adjustments in \"&Head2A","v":"Adjustments in 2019/20"},{"$f":"\"Downward adjustments for \"&RIGHT(Head9,7)","v":"Downward adjustments for 2020/21"},"Appropriation carried forward",{"$f":"Head9","v":"Budget Year 2020/21"},{"$f":"Head10","v":"Budget Year +1 2021/22"},{"$f":"Head11","v":"Budget Year +2 2022/23"}]
["Capital expenditure - Municipal Vote"]
["Multi-year expenditure appropriation",2]
[{"$f":"'Org structure'!A2","v":"Vote 01 - Council & Committees"},null,{"$f":"SUM(C7:C13)","v":318000},0,0,2000000,2000000,2000000,0,5000000,3500000,0,null,{"$f":"SUM(N7:N13)","v":5000000},0,0,5000000,3500000,0,0,3500000,0,0,0]
[{"$f":"'Org structure'!E3","v":"01.1 - Speaker's Office"},null,318000,0,0,2000000,2000000,2000000,0,{"$f":"Q7+V7","v":5000000},{"$f":"U7+W7","v":3500000},{"$f":"X7","v":0},null,5000000,0,0,{"$f":"SUM(N7:P7)","v":5000000},3500000,0,0,{"$f":"SUM(R7:T7)","v":3500000},0,0,0]
[{"$f":"'Org structure'!E4","v":"01.2 - Mayoral Office"},null,0,0,0,0,0,0,0,0,0,0,null,0,0,0,0,0,0,0,0,0,0,0]
[{"$f":"'Org structure'!E5","v":"01.3 - Office Of The Municipal Manager"},null,0,0,0,0,0,0,0,0,0,0,null,0,0,0,0,0,0,0,0,0,0,0]
[{"$f":"'Org structure'!E6","v":"01.4 - Office Of The Executive Mayor"},null,0,0,0,0,0,0,0,0,0,0,null,0,0,0,0,0,0,0,0,0,0,0]
[{"$f":"'Org structure'!E7","v":"01.5 - Internal Audit"},null,0,0,0,0,0,0,0,0,0,0,null,0,0,0,0,0,0,0,0,0,0,0]
[{"$f":"'Org structure'!E8","v":"01.6 - Office Of The Chief Operating Officer"},null,0,0,0,0,0,0,0,0,0,0,null,0,0,0,0,0,0,0,0,0,0,0]
[{"$f":"'Org structure'!E9","v":"01.7 - Legal Services"},null,0,0,0,0,0,0,0,0,0,0,null,0,0,0,0,0,0,0,0,0,0,0]
[{"$f":"'Org structure'!A3","v":"Vote 02 - Finance & Administration"},null,{"$f":"SUM(C15:C28)","v":805184},46403514,12641367,21836154,25736154,25736154,3967422.66,16154207,15112259,10150000,null,{"$f":"SUM(N15:N28)","v":16154207},0,0,16154207,15112259,0,0,15112259,0,0,10150000]
[{"$f":"'Org structure'!E11","v":"02.1 - Budget And Reporting Office"},null,0,0,0,0,0,0,0,{"$f":"Q15+V15","v":0},{"$f":"U15+W15","v":0},{"$f":"X15","v":0},null,0,0,0,{"$f":"SUM(N15:P15)","v":0},0,0,0,{"$f":"SUM(R15:T15)","v":0},0,0,0]
[{"$f":"'Org structure'!E12","v":"02.2 - Budget And Reporting Office"},null,0,0,0,0,0,0,0,0,0,0,null,0,0,0,0,0,0,0,0,0,0,0]
[{"$f":"'Org structure'!E13","v":"02.3 - Human Resources"},null,0,0,0,0,0,0,0,0,0,0,null,0,0,0,0,0,0,0,0,0,0,0]
[{"$f":"'Org structure'!E14","v":"02.4 - Procurement And Asset Management"},null,0,41051701,10882082,8650000,20150000,20150000,3012159.73,12350000,10350000,5000000,null,12350000,0,0,12350000,10350000,0,0,10350000,0,0,5000000]
[{"$f":"'Org structure'!E15","v":"02.5 - Information Technology"},null,805184,5351813,1759285,1686154,2086154,2086154,845862.18,2223207,2762259,2650000,null,2223207,0,0,2223207,2762259,0,0,2762259,0,0,2650000]
[{"$f":"'Org structure'!E16","v":"02.6 - Municipal Records And Auxiliary Services"},null,0,0,0,0,0,0,0,0,0,0,null,0,0,0,0,0,0,0,0,0,0,0]
[{"$f":"'Org structure'!E17","v":"02.7 - Geographical Information Systems"},null,0,0,0,0,0,0,0,0,0,0,null,0,0,0,0,0,0,0,0,0,0,0]
[{"$f":"'Org structure'!E18","v":"02.8 - Security Services & Municipal Keypoints"},null,0,0,0,1500000,1500000,1500000,0,1581000,2000000,2500000,null,1581000,0,0,1581000,2000000,0,0,2000000,0,0,2500000]
[{"$f":"'Org structure'!E19","v":"02.9 - Treasury And Revenue"},null,0,0,0,0,0,0,0,0,0,0,null,0,0,0,0,0,0,0,0,0,0,0]
[{"$f":"'Org structure'!E20","v":"02.10 - Treasury And Revenue"},null,0,0,0,0,0,0,0,0,0,0,null,0,0,0,0,0,0,0,0,0,0,0]
[{"$f":"'Org structure'!E21","v":"02.11 - Budget And Reporting"},null,0,0,0,0,0,0,0,0,0,0,null,0,0,0,0,0,0,0,0,0,0,0]
[{"$f":"'Org structure'!E22","v":"02.12 - Budget And Reporting"},null,0,0,0,0,0,0,0,0,0,0,null,0,0,0,0,0,0,0,0,0,0,0]
[{"$f":"'Org structure'!E23","v":"02.13 - Accounting Services"},null,0,0,0,0,0,0,0,0,0,0,null,0,0,0,0,0,0,0,0,0,0,0]
[{"$f":"'Org structure'!E24","v":"02.14 - Wsa Finance"},null,0,0,0,10000000,2000000,2000000,109400.75,0,0,0,null,0,0,0,0,0,0,0,0,0,0,0]
[{"$f":"'Org structure'!A4","v":"Vote 03 - Planning & Development"},null,{"$f":"SUM(C30:C33)","v":0},1112401,0,0,0,0,0,2500000,3300000,0,null,{"$f":"SUM(N30:N33)","v":2500000},0,0,2500000,3300000,0,0,3300000,0,0,0]
[{"$f":"'Org structure'!E26","v":"03.1 - Economic Development"},null,0,1112401,0,0,0,0,0,{"$f":"Q30+V30","v":2500000},{"$f":"U30+W30","v":3300000},{"$f":"X30","v":0},null,2500000,0,0,{"$f":"SUM(N30:P30)","v":2500000},3300000,0,0,{"$f":"SUM(R30:T30)","v":3300000},0,0,0]
[{"$f":"'Org structure'!E27","v":"03.2 - Survey And Planning"},null,0,0,0,0,0,0,0,{"$f":"Q31+V31","v":0},{"$f":"U31+W31","v":0},{"$f":"X31","v":0},null,0,0,0,{"$f":"SUM(N31:P31)","v":0},0,0,0,{"$f":"SUM(R31:T31)","v":0},0,0,0]
[{"$f":"'Org structure'!E28","v":"03.3 - Ntinga Development Agency"},null,0,0,0,0,0,0,0,{"$f":"Q32+V32","v":0},{"$f":"U32+W32","v":0},{"$f":"X32","v":0},null,0,0,0,{"$f":"SUM(N32:P32)","v":0},0,0,0,{"$f":"SUM(R32:T32)","v":0},0,0,0]
[{"$f":"'Org structure'!E29","v":"03.4 - Socio-Economic Development Facilitation"},null,0,0,0,0,0,0,0,{"$f":"Q33+V33","v":0},{"$f":"U33+W33","v":0},{"$f":"X33","v":0},null,0,0,0,{"$f":"SUM(N33:P33)","v":0},0,0,0,{"$f":"SUM(R33:T33)","v":0},0,0,0]
[{"$f":"'Org structure'!A5","v":"Vote 04 - Health"},null,{"$f":"SUM(C35:C35)","v":0},0,0,120000,520000,520000,28900,0,0,0,null,{"$f":"SUM(N35:N35)","v":0},0,0,0,0,0,0,0,0,0,0]
[{"$f":"'Org structure'!E31","v":"04.1 - Municipal Health"},null,0,0,0,120000,520000,520000,28900,{"$f":"Q35+V35","v":0},{"$f":"U35+W35","v":0},{"$f":"X35","v":0},null,0,0,0,{"$f":"SUM(N35:P35)","v":0},0,0,0,{"$f":"SUM(R35:T35)","v":0},0,0,0]
[{"$f":"'Org structure'!A6","v":"Vote 05 - Community & Social Services"},null,{"$f":"SUM(C37:C37)","v":0},0,0,0,0,0,0,0,0,0,null,{"$f":"SUM(N37:N37)","v":0},0,0,0,0,0,0,0,0,0,0]
[{"$f":"'Org structure'!E33","v":"05.1 - Social Development And Community Safety"},null,0,0,0,0,0,0,0,{"$f":"Q37+V37","v":0},{"$f":"U37+W37","v":0},{"$f":"X37","v":0},null,0,0,0,{"$f":"SUM(N37:P37)","v":0},0,0,0,{"$f":"SUM(R37:T37)","v":0},0,0,0]
[{"$f":"'Org structure'!A7","v":"Vote 06 - Housing"},null,{"$f":"SUM(C39:C40)","v":0},0,0,3545000,50795730,50795730,10776435.029999999,40045000,45000,0,null,{"$f":"SUM(N39:N40)","v":40045000},0,0,40045000,45000,0,0,45000,0,0,0]
[{"$f":"'Org structure'!E35","v":"06.1 - Housing Settlement"},null,0,0,0,3545000,50795730,50795730,10776435.029999999,{"$f":"Q39+V39","v":40045000},{"$f":"U39+W39","v":45000},{"$f":"X39","v":0},null,40045000,0,0,{"$f":"SUM(N39:P39)","v":40045000},45000,0,0,{"$f":"SUM(R39:T39)","v":45000},0,0,0]
[{"$f":"'Org structure'!E36","v":"06.2 - Building And Technology"},null,0,0,0,0,0,0,0,{"$f":"Q40+V40","v":0},{"$f":"U40+W40","v":0},{"$f":"X40","v":0},null,0,0,0,{"$f":"SUM(N40:P40)","v":0},0,0,0,{"$f":"SUM(R40:T40)","v":0},0,0,0]
[{"$f":"'Org structure'!A8","v":"Vote 07 - Public Safety"},null,{"$f":"SUM(C42:C43)","v":0},0,0,8000000,8921000,8921000,286814.5,2300000,5500000,6000000,null,{"$f":"SUM(N42:N43)","v":2300000},0,0,2300000,5500000,0,0,5500000,0,0,6000000]
[{"$f":"'Org structure'!E38","v":"07.1 - Disaster Management"},null,0,0,0,3000000,3921000,3921000,286814.5,{"$f":"Q42+V42","v":0},{"$f":"U42+W42","v":0},{"$f":"X42","v":0},null,0,0,0,{"$f":"SUM(N42:P42)","v":0},0,0,0,{"$f":"SUM(R42:T42)","v":0},0,0,0]
[{"$f":"'Org structure'!E39","v":"07.2 - Fire; Rescue And Emergency"},null,0,0,0,5000000,5000000,5000000,0,{"$f":"Q43+V43","v":2300000},{"$f":"U43+W43","v":5500000},{"$f":"X43","v":6000000},null,2300000,0,0,{"$f":"SUM(N43:P43)","v":2300000},5500000,0,0,{"$f":"SUM(R43:T43)","v":5500000},0,0,6000000]
[{"$f":"'Org structure'!A9","v":"Vote 08 - Sports & Recreation"},null,{"$f":"SUM(C45:C45)","v":0},0,0,0,0,0,0,0,0,0,null,{"$f":"SUM(N45:N45)","v":0},0,0,0,0,0,0,0,0,0,0]
[{"$f":"'Org structure'!E41","v":"08.1 - Arts; Sports And Culture"},null,0,0,0,0,0,0,0,{"$f":"Q45+V45","v":0},{"$f":"U45+W45","v":0},{"$f":"X45","v":0},null,0,0,0,{"$f":"SUM(N45:P45)","v":0},0,0,0,{"$f":"SUM(R45:T45)","v":0},0,0,0]
[{"$f":"'Org structure'!A10","v":"Vote 09 - Environmental"},null,{"$f":"SUM(C47:C47)","v":0},0,0,0,0,0,0,0,0,0,null,{"$f":"SUM(N47:N47)","v":0},0,0,0,0,0,0,0,0,0,0]
[{"$f":"'Org structure'!E43","v":"09.1 - Environmental Management"},null,0,0,0,0,0,0,0,{"$f":"Q47+V47","v":0},{"$f":"U47+W47","v":0},{"$f":"X47","v":0},null,0,0,0,{"$f":"SUM(N47:P47)","v":0},0,0,0,{"$f":"SUM(R47:T47)","v":0},0,0,0]
[{"$f":"'Org structure'!A11","v":"Vote 10 - Roads"},null,{"$f":"SUM(C49:C50)","v":0},0,0,48112000,38612000,38612000,13143896.01,43262000,8125000,3306000,null,{"$f":"SUM(N49:N50)","v":43262000},0,0,43262000,8125000,0,0,8125000,0,0,3306000]
[{"$f":"'Org structure'!E45","v":"10.1 - Planner Transport Planning"},null,0,0,0,0,0,0,0,{"$f":"Q49+V49","v":0},{"$f":"U49+W49","v":0},{"$f":"X49","v":0},null,0,0,0,{"$f":"SUM(N49:P49)","v":0},0,0,0,{"$f":"SUM(R49:T49)","v":0},0,0,0]
[{"$f":"'Org structure'!E46","v":"10.2 - Public Works"},null,0,0,0,48112000,38612000,38612000,13143896.01,{"$f":"Q50+V50","v":43262000},{"$f":"U50+W50","v":8125000},{"$f":"X50","v":3306000},null,43262000,0,0,{"$f":"SUM(N50:P50)","v":43262000},8125000,0,0,{"$f":"SUM(R50:T50)","v":8125000},0,0,3306000]
[{"$f":"'Org structure'!A12","v":"Vote 11 - Water"},null,{"$f":"SUM(C52:C59)","v":809271875},731779794,862537145,1039614380,1217879527,1217879527,494954099.58999997,906649846,936244573,1034340635,null,{"$f":"SUM(N52:N59)","v":906649846},0,0,906649846,936244573,0,0,936244573,0,0,1034340635]
[{"$f":"'Org structure'!E48","v":"11.1 - Wsa Planning"},null,0,0,0,0,0,0,0,{"$f":"Q52+V52","v":0},{"$f":"U52+W52","v":0},{"$f":"X52","v":0},null,0,0,0,{"$f":"SUM(N52:P52)","v":0},0,0,0,{"$f":"SUM(R52:T52)","v":0},0,0,0]
[{"$f":"'Org structure'!E49","v":"11.2 - Wsa Monit. Env. Municipal Health Service"},null,0,0,0,0,0,0,0,0,0,0,null,0,0,0,0,0,0,0,0,0,0,0]
[{"$f":"'Org structure'!E50","v":"11.3 - Wsu1"},null,809271875,731779794,862537145,1039614380,1217879527,1217879527,494954099.58999997,906649846,936244573,1034340635,null,906649846,0,0,906649846,936244573,0,0,936244573,0,0,1034340635]
[{"$f":"'Org structure'!E51","v":"11.4 - Wsu2"},null,0,0,0,0,0,0,0,0,0,0,null,0,0,0,0,0,0,0,0,0,0,0]
[{"$f":"'Org structure'!E52","v":"11.5 - Wsu3"},null,0,0,0,0,0,0,0,0,0,0,null,0,0,0,0,0,0,0,0,0,0,0]
[{"$f":"'Org structure'!E53","v":"11.6 - Wsu4"},null,0,0,0,0,0,0,0,0,0,0,null,0,0,0,0,0,0,0,0,0,0,0]
[{"$f":"'Org structure'!E54","v":"11.7 - Wsa Communication Customer Relations"},null,0,0,0,0,0,0,0,0,0,0,null,0,0,0,0,0,0,0,0,0,0,0]
[{"$f":"'Org structure'!E55","v":"11.8 - Wsa Capex Services"},null,0,0,0,0,0,0,0,0,0,0,null,0,0,0,0,0,0,0,0,0,0,0]
[{"$f":"'Org structure'!A13","v":"Vote 12 - Tourism"},null,{"$f":"SUM(C61:C61)","v":0},0,0,0,0,0,0,0,0,0,null,{"$f":"SUM(N61:N61)","v":0},0,0,0,0,0,0,0,0,0,0]
[{"$f":"'Org structure'!E57","v":"12.1 - Tourism"},null,0,0,0,0,0,0,0,{"$f":"Q61+V61","v":0},{"$f":"U61+W61","v":0},{"$f":"X61","v":0},null,0,0,0,{"$f":"SUM(N61:P61)","v":0},0,0,0,{"$f":"SUM(R61:T61)","v":0},0,0,0]
[{"$f":"'Org structure'!A14","v":"Vote 13 - Development Agency"},null,{"$f":"SUM(C63:C63)","v":0},0,0,0,7245000,7245000,0,28896000,6833000,6852800,null,{"$f":"SUM(N63:N63)","v":28896000},0,0,28896000,6833000,0,0,6833000,0,0,6852800]
[{"$f":"'Org structure'!E59","v":"13.1 - Ntinga Development Agency"},null,0,0,0,0,7245000,7245000,0,{"$f":"Q63+V63","v":28896000},{"$f":"U63+W63","v":6833000},{"$f":"X63","v":6852800},null,28896000,0,0,{"$f":"SUM(N63:P63)","v":28896000},6833000,0,0,{"$f":"SUM(R63:T63)","v":6833000},0,0,6852800]
[{"$f":"'Org structure'!A15","v":"Vote 14 - "},null,0,0,0,0,0,0,0,0,0,0,null,0,0,0,0,0,0,0,0,0,0,{"$error":"#N/A"}]
[{"$f":"'Org structure'!A16","v":"Vote 15 - Other"},null,0,0,0,0,0,0,0,0,0,0,null,0,0,0,0,0,0,0,0,0,0,{"$error":"#N/A"}]
["Capital multi-year expenditure sub-total",null,{"$f":"C6+C14+C29+C34+C36+C38+C41+C44+C46+C48+C51+C60+C62+C64+C65","v":810395059},779295709,875178512,1123227534,1351709411,1351709411,523157567.78999996,1044807053,978659832,1060649435,null,{"$f":"N6+N14+N29+N34+N36+N38+N41+N44+N46+N48+N51+N60+N62+N64+N65","v":1044807053},0,0,1044807053,978659832,0,0,978659832,0,0,{"$error":"#N/A"}]
[]
["Capital expenditure - Municipal Vote"]
["Single-year expenditure appropriation",2]
[{"$f":"'Org structure'!A2","v":"Vote 01 - Council & Committees"},null,{"$f":"SUM(C71:C77)","v":0},0,0,0,0,0,0,0,0,0]
[{"$f":"'Org structure'!E3","v":"01.1 - Speaker's Office"},null,0,0,0,0,0,0,0,0,0,0]
[{"$f":"'Org structure'!E4","v":"01.2 - Mayoral Office"},null,0,0,0,0,0,0,0,0,0,0]
[{"$f":"'Org structure'!E5","v":"01.3 - Office Of The Municipal Manager"},null,0,0,0,0,0,0,0,0,0,0]
[{"$f":"'Org structure'!E6","v":"01.4 - Office Of The Executive Mayor"},null,0,0,0,0,0,0,0,0,0,0]
[{"$f":"'Org structure'!E7","v":"01.5 - Internal Audit"},null,0,0,0,0,0,0,0,0,0,0]
[{"$f":"'Org structure'!E8","v":"01.6 - Office Of The Chief Operating Officer"},null,0,0,0,0,0,0,0,0,0,0]
[{"$f":"'Org structure'!E9","v":"01.7 - Legal Services"},null,0,0,0,0,0,0,0,0,0,0]
[{"$f":"'Org structure'!A3","v":"Vote 02 - Finance & Administration"},null,{"$f":"SUM(C79:C92)","v":0},0,0,0,0,0,0,0,0,0]
[{"$f":"'Org structure'!E11","v":"02.1 - Budget And Reporting Office"},null,0,0,0,0,0,0,0,0,0,0]
[{"$f":"'Org structure'!E12","v":"02.2 - Budget And Reporting Office"},null,0,0,0,0,0,0,0,0,0,0]
[{"$f":"'Org structure'!E13","v":"02.3 - Human Resources"},null,0,0,0,0,0,0,0,0,0,0]
[{"$f":"'Org structure'!E14","v":"02.4 - Procurement And Asset Management"},null,0,0,0,0,0,0,0,0,0,0]
[{"$f":"'Org structure'!E15","v":"02.5 - Information Technology"},null,0,0,0,0,0,0,0,0,0,0]
[{"$f":"'Org structure'!E16","v":"02.6 - Municipal Records And Auxiliary Services"},null,0,0,0,0,0,0,0,0,0,0]
[{"$f":"'Org structure'!E17","v":"02.7 - Geographical Information Systems"},null,0,0,0,0,0,0,0,0,0,0]
[{"$f":"'Org structure'!E18","v":"02.8 - Security Services & Municipal Keypoints"},null,0,0,0,0,0,0,0,0,0,0]
[{"$f":"'Org structure'!E19","v":"02.9 - Treasury And Revenue"},null,0,0,0,0,0,0,0,0,0,0]
[{"$f":"'Org structure'!E20","v":"02.10 - Treasury And Revenue"},null,0,0,0,0,0,0,0,0,0,0]
[{"$f":"'Org structure'!E21","v":"02.11 - Budget And Reporting"},null,0,0,0,0,0,0,0,0,0,0]
[{"$f":"'Org structure'!E22","v":"02.12 - Budget And Reporting"},null,0,0,0,0,0,0,0,0,0,0]
[{"$f":"'Org structure'!E23","v":"02.13 - Accounting Services"},null,0,0,0,0,0,0,0,0,0,0]
[{"$f":"'Org structure'!E24","v":"02.14 - Wsa Finance"},null,0,0,0,0,0,0,0,0,0,0]
[{"$f":"'Org structure'!A4","v":"Vote 03 - Planning & Development"},null,{"$f":"SUM(C94:C97)","v":0},0,0,0,0,0,0,0,0,0]
[{"$f":"'Org structure'!E26","v":"03.1 - Economic Development"},null,0,0,0,0,0,0,0,0,0,0]
[{"$f":"'Org structure'!E27","v":"03.2 - Survey And Planning"},null,0,0,0,0,0,0,0,0,0,0]
[{"$f":"'Org structure'!E28","v":"03.3 - Ntinga Development Agency"},null,0,0,0,0,0,0,0,0,0,0]
[{"$f":"'Org structure'!E29","v":"03.4 - Socio-Economic Development Facilitation"},null,0,0,0,0,0,0,0,0,0,0]
[{"$f":"'Org structure'!A5","v":"Vote 04 - Health"},null,{"$f":"SUM(C99:C99)","v":0},0,0,0,0,0,0,0,0,0]
[{"$f":"'Org structure'!E31","v":"04.1 - Municipal Health"},null,0,0,0,0,0,0,0,0,0,0]
[{"$f":"'Org structure'!A6","v":"Vote 05 - Community & Social Services"},null,{"$f":"SUM(C101:C101)","v":0},0,0,0,0,0,0,0,0,0]
[{"$f":"'Org structure'!E33","v":"05.1 - Social Development And Community Safety"},null,0,0,0,0,0,0,0,0,0,0]
[{"$f":"'Org structure'!A7","v":"Vote 06 - Housing"},null,{"$f":"SUM(C103:C104)","v":0},0,0,0,0,0,0,0,0,0]
[{"$f":"'Org structure'!E35","v":"06.1 - Housing Settlement"},null,0,0,0,0,0,0,0,0,0,0]
[{"$f":"'Org structure'!E36","v":"06.2 - Building And Technology"},null,0,0,0,0,0,0,0,0,0,0]
[{"$f":"'Org structure'!A8","v":"Vote 07 - Public Safety"},null,{"$f":"SUM(C106:C107)","v":0},0,0,0,0,0,0,0,0,0]
[{"$f":"'Org structure'!E38","v":"07.1 - Disaster Management"},null,0,0,0,0,0,0,0,0,0,0]
[{"$f":"'Org structure'!E39","v":"07.2 - Fire; Rescue And Emergency"},null,0,0,0,0,0,0,0,0,0,0]
[{"$f":"'Org structure'!A9","v":"Vote 08 - Sports & Recreation"},null,{"$f":"SUM(C109:C109)","v":0},0,0,0,0,0,0,0,0,0]
[{"$f":"'Org structure'!E41","v":"08.1 - Arts; Sports And Culture"},null,0,0,0,0,0,0,0,0,0,0]
[{"$f":"'Org structure'!A10","v":"Vote 09 - Environmental"},null,{"$f":"SUM(C111:C111)","v":0},0,0,0,0,0,0,0,0,0]
[{"$f":"'Org structure'!E43","v":"09.1 - Environmental Management"},null,0,0,0,0,0,0,0,0,0,0]
[{"$f":"'Org structure'!A11","v":"Vote 10 - Roads"},null,{"$f":"SUM(C113:C114)","v":0},0,0,0,0,0,0,0,0,0]
[{"$f":"'Org structure'!E45","v":"10.1 - Planner Transport Planning"},null,0,0,0,0,0,0,0,0,0,0]
[{"$f":"'Org structure'!E46","v":"10.2 - Public Works"},null,0,0,0,0,0,0,0,0,0,0]
[{"$f":"'Org structure'!A12","v":"Vote 11 - Water"},null,{"$f":"SUM(C116:C123)","v":0},0,0,0,0,0,0,0,0,0]
[{"$f":"'Org structure'!E48","v":"11.1 - Wsa Planning"},null,0,0,0,0,0,0,0,0,0,0]
[{"$f":"'Org structure'!E49","v":"11.2 - Wsa Monit. Env. Municipal Health Service"},null,0,0,0,0,0,0,0,0,0,0]
[{"$f":"'Org structure'!E50","v":"11.3 - Wsu1"},null,0,0,0,0,0,0,0,0,0,0]
[{"$f":"'Org structure'!E51","v":"11.4 - Wsu2"},null,0,0,0,0,0,0,0,0,0,0]
[{"$f":"'Org structure'!E52","v":"11.5 - Wsu3"},null,0,0,0,0,0,0,0,0,0,0]
[{"$f":"'Org structure'!E53","v":"11.6 - Wsu4"},null,0,0,0,0,0,0,0,0,0,0]
[{"$f":"'Org structure'!E54","v":"11.7 - Wsa Communication Customer Relations"},null,0,0,0,0,0,0,0,0,0,0]
[{"$f":"'Org structure'!E55","v":"11.8 - Wsa Capex Services"},null,0,0,0,0,0,0,0,0,0,0]
[{"$f":"'Org structure'!A13","v":"Vote 12 - Tourism"},null,{"$f":"SUM(C125:C125)","v":0},0,0,0,0,0,0,0,0,0]
[{"$f":"'Org structure'!E57","v":"12.1 - Tourism"},null,0,0,0,0,0,0,0,0,0,0]
[{"$f":"'Org structure'!A14","v":"Vote 13 - Development Agency"},null,{"$f":"SUM(C127:C127)","v":0},0,0,0,0,0,0,0,0,0]
[{"$f":"'Org structure'!E59","v":"13.1 - Ntinga Development Agency"},null,0,0,0,0,0,0,0,0,0,0]
[{"$f":"'Org structure'!A15","v":"Vote 14 - "},null,0,0,0,0,0,0,0,0,0,0]
[{"$f":"'Org structure'!A16","v":"Vote 15 - Other"},null,0,0,0,0,0,0,0,0,0,0]
["Capital single-year expenditure sub-total",null,{"$f":"C70+C78+C93+C98+C100+C102+C105+C108+C110+C112+C115+C124+C126+C128+C129","v":0},0,0,0,0,0,0,0,0,0]
["Total Capital Expenditure",null,{"$f":"C66+C130","v":810395059},779295709,875178512,1123227534,1351709411,1351709411,523157567.78999996,1044807053,978659832,1060649435]

{"sheet":"A6-FinPos","index":15,"n_rows":55,"n_cols":12,"rows_kept":55,"cut":false,"hidden":false,"merged":[[49,0,49,11],[1,9,1,11],[1,5,1,8]]}
[{"$f":"muni&\" - \"&Approve6","v":"DC15 O .R. Tambo - Table A6 Consolidated Budgeted Financial Position"}]
[{"$f":"desc","v":"Description"},{"$f":"head27","v":"Ref"},{"$f":"head1b","v":"2016/17"},{"$f":"head1A","v":"2017/18"},{"$f":"Head1","v":"2018/19"},{"$f":"Head2","v":"Current Year 2019/20"},null,null,null,{"$f":"Head3","v":"2020/21 Medium Term Revenue & Expenditure Framework"}]
["R thousand",null,{"$f":"Head5","v":"Audited Outcome"},{"$f":"Head5","v":"Audited Outcome"},{"$f":"Head5","v":"Audited Outcome"},{"$f":"Head6","v":"Original Budget"},{"$f":"Head7","v":"Adjusted Budget"},{"$f":"Head8","v":"Full Year Forecast"},{"$f":"Head5b","v":"Pre-audit outcome"},{"$f":"Head9","v":"Budget Year 2020/21"},{"$f":"Head10","v":"Budget Year +1 2021/22"},{"$f":"Head11","v":"Budget Year +2 2022/23"}]
["ASSETS"]
["Current assets"]
["Cash",null,{"$f":"'[3]A6-FinPos'!C6","v":291314534},{"$f":"'[3]A6-FinPos'!D6","v":214654510},{"$f":"'[3]A6-FinPos'!E6","v":158050383},{"$f":"'[3]A6-FinPos'!F6","v":225423480.17075226},{"$f":"'[3]A6-FinPos'!G6","v":134248075},{"$f":"'[3]A6-FinPos'!H6","v":134248075},{"$f":"'[3]A6-FinPos'!I6","v":-53837713.32},119676977,126139534,131815813]
["Call investment deposits",1,{"$f":"'[3]A6-FinPos'!C7","v":0},{"$f":"'[3]A6-FinPos'!D7","v":0},{"$f":"'[3]A6-FinPos'!E7","v":118361546},{"$f":"'[3]A6-FinPos'!F7","v":230094999.65798432},{"$f":"'[3]A6-FinPos'!G7","v":120585754},{"$f":"'[3]A6-FinPos'!H7","v":120585754},{"$f":"'[3]A6-FinPos'!I7","v":269655572.36000001},127097385,133960643,139988872]
["Consumer debtors",1,{"$f":"'SA3'!C14","v":55062221},{"$f":"'SA3'!D14","v":69677589.379999995},{"$f":"'SA3'!E14","v":85630580.530000091},{"$f":"'SA3'!F14","v":168545582.0939759},{"$f":"'SA3'!G14","v":99868838},{"$f":"'SA3'!H14","v":99868838},{"$f":"'SA3'!I14","v":139263695.38999999},{"$f":"'SA3'!J14","v":28031836.132375956},{"$f":"'SA3'!K14","v":181037652.13237596},{"$f":"'SA3'!L14","v":126131736.13237596}]
["Other debtors",null,{"$f":"'[3]A6-FinPos'!C9","v":88394608},{"$f":"'[3]A6-FinPos'!D9","v":170553509},{"$f":"'[3]A6-FinPos'!E9","v":113916676},{"$f":"'[3]A6-FinPos'!F9","v":3112001.6753501892},{"$f":"'[3]A6-FinPos'!G9","v":57941249},{"$f":"'[3]A6-FinPos'!H9","v":57941249},{"$f":"'[3]A6-FinPos'!I9","v":139091868.69},57600498,63360548,66211772]
["Current portion of long-term receivables",null,{"$f":"'[3]A6-FinPos'!C10","v":0},{"$f":"'[3]A6-FinPos'!D10","v":0},{"$f":"'[3]A6-FinPos'!E10","v":57006736},{"$f":"'[3]A6-FinPos'!F10","v":0},{"$f":"'[3]A6-FinPos'!G10","v":0},{"$f":"'[3]A6-FinPos'!H10","v":0},{"$f":"'[3]A6-FinPos'!I10","v":0}]
["Inventory",2,{"$f":"'[3]A6-FinPos'!C11","v":20893353},{"$f":"'[3]A6-FinPos'!D11","v":21354721},{"$f":"'[3]A6-FinPos'!E11","v":16875077},{"$f":"'[3]A6-FinPos'!F11","v":35613057.497539371},{"$f":"'[3]A6-FinPos'!G11","v":17540052},{"$f":"'[3]A6-FinPos'!H11","v":17540052},{"$f":"'[3]A6-FinPos'!I11","v":200569.12},19294057,21223462,22178518]
["Total current assets",null,{"$f":"SUM(C6:C11)","v":455664716},476240329.38,549840998.53000009,662789121.09560204,430183968,430183968,494373992.24000001,351700753.13237596,525721839.13237596,486326711.13237596]
[]
["Non current assets"]
["Long-term receivables",null,{"$f":"'[3]A6-FinPos'!C15","v":1199163},{"$f":"'[3]A6-FinPos'!D15","v":1199163},{"$f":"'[3]A6-FinPos'!E15","v":0},{"$f":"'[3]A6-FinPos'!F15","v":0},{"$f":"'[3]A6-FinPos'!G15","v":0},{"$f":"'[3]A6-FinPos'!H15","v":0},{"$f":"'[3]A6-FinPos'!I15","v":443671.93},0,0,0]
["Investments",null,{"$f":"'[3]A6-FinPos'!C16","v":0},{"$f":"'[3]A6-FinPos'!D16","v":0},{"$f":"'[3]A6-FinPos'!E16","v":0},{"$f":"'[3]A6-FinPos'!F16","v":0},{"$f":"'[3]A6-FinPos'!G16","v":0},{"$f":"'[3]A6-FinPos'!H16","v":0},{"$f":"'[3]A6-FinPos'!I16","v":0},0,0,0]
["Investment property",null,{"$f":"'[3]A6-FinPos'!C17","v":2200000},{"$f":"'[3]A6-FinPos'!D17","v":2200000},{"$f":"'[3]A6-FinPos'!E17","v":2200000},{"$f":"'[3]A6-FinPos'!F17","v":0},{"$f":"'[3]A6-FinPos'!G17","v":2200000},{"$f":"'[3]A6-FinPos'!H17","v":2200000},{"$f":"'[3]A6-FinPos'!I17","v":2200000},2200000,2200000,2299000]
["Investment in Associate",null,{"$f":"'[3]A6-FinPos'!C18","v":0},{"$f":"'[3]A6-FinPos'!D18","v":0},{"$f":"'[3]A6-FinPos'!E18","v":0},{"$f":"'[3]A6-FinPos'!F18","v":0},{"$f":"'[3]A6-FinPos'!G18","v":0},{"$f":"'[3]A6-FinPos'!H18","v":0},{"$f":"'[3]A6-FinPos'!I18","v":0}]
["Property, plant and equipment",3,{"$f":"'SA3'!C26","v":5349900582},{"$f":"'SA3'!D26","v":5969111708.6899996},{"$f":"'SA3'!E26","v":6513885671.7600002},{"$f":"'SA3'!F26","v":9715593110.1851978},{"$f":"'SA3'!G26","v":8489173656},{"$f":"'SA3'!H26","v":8489173656},{"$f":"'SA3'!I26","v":6959684864.7399998},{"$f":"'SA3'!J26","v":9114556386},{"$f":"'SA3'!K26","v":9779302786},{"$f":"'SA3'!L26","v":10257580383}]
[]
["Biological",null,{"$f":"'[3]A6-FinPos'!C21","v":20954697},{"$f":"'[3]A6-FinPos'!D21","v":11232450},{"$f":"'[3]A6-FinPos'!E21","v":13234502},{"$f":"'[3]A6-FinPos'!F21","v":0},{"$f":"'[3]A6-FinPos'!G21","v":0},{"$f":"'[3]A6-FinPos'!H21","v":0},{"$f":"'[3]A6-FinPos'!I21","v":0},0,0,0]
["Intangible",null,{"$f":"'[3]A6-FinPos'!C22","v":1901754},{"$f":"'[3]A6-FinPos'!D22","v":4989024},{"$f":"'[3]A6-FinPos'!E22","v":3582059},{"$f":"'[3]A6-FinPos'!F22","v":2686154},{"$f":"'[3]A6-FinPos'!G22","v":18886965},{"$f":"'[3]A6-FinPos'!H22","v":18886965},{"$f":"'[3]A6-FinPos'!I22","v":2868062.17},16832018,13163070,13496347]
["Other non-current assets",null,{"$f":"'[3]A6-FinPos'!C23","v":90000},{"$f":"'[3]A6-FinPos'!D23","v":247025},{"$f":"'[3]A6-FinPos'!E23","v":247025},{"$f":"'[3]A6-FinPos'!F23","v":0},{"$f":"'[3]A6-FinPos'!G23","v":250000},{"$f":"'[3]A6-FinPos'!H23","v":250000},{"$f":"'[3]A6-FinPos'!I23","v":247025},250000,250000,261250]
["Total non current assets",null,{"$f":"SUM(C15:C19)+SUM(C21:C23)","v":5376246196},{"$f":"SUM(D15:D19)+SUM(D21:D23)","v":5988979370.6899996},6533149257.7600002,9718279264.1851978,8510510621,8510510621,6965443623.8400002,9133838404,9794915856,10273636980]
["TOTAL ASSETS",null,{"$f":"C12+C24","v":5831910912},{"$f":"D12+D24","v":6465219700.0699997},{"$f":"E12+E24","v":7082990256.29},{"$f":"F12+F24","v":10381068385.2808},8940694589,8940694589,7459817616.0799999,9485539157.1323757,10320637695.132376,10759963691.132376]
[]
["LIABILITIES"]
["Current liabilities"]
["Bank overdraft",1,{"$f":"'[3]A6-FinPos'!C29","v":0},{"$f":"'[3]A6-FinPos'!D29","v":0},{"$f":"'[3]A6-FinPos'!E29","v":0},{"$f":"'[3]A6-FinPos'!F29","v":0},{"$f":"'[3]A6-FinPos'!G29","v":0},{"$f":"'[3]A6-FinPos'!H29","v":0},{"$f":"'[3]A6-FinPos'!I29","v":0},0,0,0]
["Borrowing",4,{"$f":"'SA3'!C32","v":0},{"$f":"'SA3'!D32","v":0},{"$f":"'SA3'!E32","v":0},{"$f":"'SA3'!F32","v":297648},{"$f":"'SA3'!G32","v":0},{"$f":"'SA3'!H32","v":0},{"$f":"'SA3'!I32","v":0},{"$f":"'SA3'!J32","v":0},{"$f":"'SA3'!K32","v":0},{"$f":"'SA3'!L32","v":0}]
["Consumer deposits",null,{"$f":"'[3]A6-FinPos'!C31","v":1604949},{"$f":"'[3]A6-FinPos'!D31","v":2930638},{"$f":"'[3]A6-FinPos'!E31","v":3213932},{"$f":"'[3]A6-FinPos'!F31","v":3313800},{"$f":"'[3]A6-FinPos'!G31","v":3500000},{"$f":"'[3]A6-FinPos'!H31","v":3500000},{"$f":"'[3]A6-FinPos'!I31","v":-479461.94},3745000,4007150,4187472]
["Trade and other payables",4,{"$f":"'SA3'!C39","v":391505460},{"$f":"'SA3'!D39","v":461201744},{"$f":"'SA3'!E39","v":630946025},{"$f":"'SA3'!F39","v":278568378.48887098},{"$f":"'SA3'!G39","v":105224306},{"$f":"'SA3'!H39","v":105224306},{"$f":"'SA3'!I39","v":902883266.68000007},{"$f":"'SA3'!J39","v":101915877},{"$f":"'SA3'!K39","v":327462503.13237596},{"$f":"'SA3'!L39","v":279145705.13237596}]
["Provisions",null,{"$f":"'[3]A6-FinPos'!C33","v":2211000},{"$f":"'[3]A6-FinPos'!D33","v":3623000},{"$f":"'[3]A6-FinPos'!E33","v":3211000},{"$f":"'[3]A6-FinPos'!F33","v":0},{"$f":"'[3]A6-FinPos'!G33","v":113644052},{"$f":"'[3]A6-FinPos'!H33","v":113644052},{"$f":"'[3]A6-FinPos'!I33","v":183510234.19},121599136,130111075,135966074]
["Total current liabilities",null,{"$f":"SUM(C29:C33)","v":395321409},467755382,637370957,282179826.48887098,222368358,222368358,1085914038.9300001,227260013,461580728.13237596,419299251.13237596]
[]
["Non current liabilities"]
["Borrowing",null,{"$f":"'SA3'!C44","v":38795339},{"$f":"'SA3'!D44","v":0},{"$f":"'SA3'!E44","v":0},{"$f":"'SA3'!F44","v":104000},{"$f":"'SA3'!G44","v":0},{"$f":"'SA3'!H44","v":0},{"$f":"'SA3'!I44","v":0},{"$f":"'SA3'!J44","v":0},{"$f":"'SA3'!K44","v":0},{"$f":"'SA3'!L44","v":0}]
["Provisions",null,{"$f":"'SA3'!C51","v":64042052},{"$f":"'SA3'!D51","v":87087052},{"$f":"'SA3'!E51","v":113540052},{"$f":"'SA3'!F51","v":40570534.079999998},{"$f":"'SA3'!G51","v":0},{"$f":"'SA3'!H51","v":0},{"$f":"'SA3'!I51","v":0},{"$f":"'SA3'!J51","v":0},{"$f":"'SA3'!K51","v":0},{"$f":"'SA3'!L51","v":0}]
["Total non current liabilities",null,{"$f":"SUM(C37:C38)","v":102837391},{"$f":"SUM(D37:D38)","v":87087052},{"$f":"SUM(E37:E38)","v":113540052},{"$f":"SUM(F37:F38)","v":40674534.079999998},0,0,0,0,{"$f":"SUM(K37:K38)","v":0},0]
["TOTAL LIABILITIES",null,{"$f":"C34+C39","v":498158800},{"$f":"D34+D39","v":554842434},{"$f":"E34+E39","v":750911009},{"$f":"F34+F39","v":322854360.56887096},222368358,222368358,1085914038.9300001,227260013,{"$f":"K34+K39","v":461580728.13237596},419299251.13237596]
[]
["NET ASSETS",5,{"$f":"C25-C40","v":5333752112},5910377266.0699997,6332079247.29,10058214024.711929,8718326231,8718326231,6373903577.1499996,9258279144.1323757,9859056967,10340664440]
[]
["COMMUNITY WEALTH/EQUITY"]
["Accumulated Surplus/(Deficit)",null,{"$f":"'[3]A6-FinPos'!C45","v":5350006140},{"$f":"'[3]A6-FinPos'!D45","v":5903313467.8600006},{"$f":"'[3]A6-FinPos'!E45","v":6458937888.8299999},{"$f":"'[3]A6-FinPos'!F45","v":10058214024.711929},{"$f":"'[3]A6-FinPos'!G45","v":8718326231},{"$f":"'[3]A6-FinPos'!H45","v":8718326231},{"$f":"'[3]A6-FinPos'!I45","v":6373903577.1499996},{"$f":"'SA3'!J63","v":9258279145},{"$f":"'SA3'!K63","v":9859056967},{"$f":"'SA3'!L63","v":10340664440}]
["Reserves",4,{"$f":"'SA3'!C70","v":0},{"$f":"'SA3'!D70","v":0},{"$f":"'SA3'!E70","v":0},{"$f":"'SA3'!F70","v":0},{"$f":"'SA3'!G70","v":0},{"$f":"'SA3'!H70","v":0},{"$f":"'SA3'!I70","v":0},{"$f":"'SA3'!J70","v":0},{"$f":"'SA3'!K70","v":0},{"$f":"'SA3'!L70","v":0}]
[]
["TOTAL COMMUNITY WEALTH/EQUITY",5,{"$f":"SUM(C45:C46)","v":5350006140},{"$f":"SUM(D45:D46)","v":5903313467.8600006},6458937888.8299999,10058214024.711929,8718326231,8718326231,6373903577.1499996,9258279145,9859056967,10340664440]
[{"$f":"head27a","v":"References"}]
["1. Detail to be provided in Table SA3"]
["2. Include completed low cost housing to be transferred to beneficiaries within 12 months"]
["3. Include 'Construction-work-in-progress' (disclosed separately in annual financial statements)"]
["4. Detail to be provided in Table SA3. Includes reserves to be funded by statute."]
["5. Net assets must balance with Total Community Wealth/Equity"]
["check balance",null,{"$f":"IF((C42-C48)=0,0,\"Unbalanced\")","v":"Unbalanced"},{"$f":"IF((D42-D48)=0,0,\"Unbalanced\")","v":"Unbalanced"},"Unbalanced",0,0,0,0,"Unbalanced",0,0]

{"sheet":"A7-CFlow","index":16,"n_rows":51,"n_cols":12,"rows_kept":51,"cut":false,"hidden":false,"merged":[[1,9,1,11],[1,5,1,8]]}
[{"$f":"muni&\" - \"&Approve7","v":"DC15 O .R. Tambo - Table A7 Consolidated Budgeted Cash Flows"}]
[{"$f":"desc","v":"Description"},{"$f":"head27","v":"Ref"},{"$f":"head1b","v":"2016/17"},{"$f":"head1A","v":"2017/18"},{"$f":"Head1","v":"2018/19"},{"$f":"Head2","v":"Current Year 2019/20"},null,null,null,{"$f":"Head3","v":"2020/21 Medium Term Revenue & Expenditure Framework"}]
["R thousand",null,{"$f":"Head5","v":"Audited Outcome"},{"$f":"Head5","v":"Audited Outcome"},{"$f":"Head5","v":"Audited Outcome"},{"$f":"Head6","v":"Original Budget"},{"$f":"Head7","v":"Adjusted Budget"},{"$f":"Head8","v":"Full Year Forecast"},{"$f":"Head5b","v":"Pre-audit outcome"},{"$f":"Head9","v":"Budget Year 2020/21"},{"$f":"Head10","v":"Budget Year +1 2021/22"},{"$f":"Head11","v":"Budget Year +2 2022/23"}]
["CASH FLOW FROM OPERATING ACTIVITIES"]
["Receipts"]
["Property rates",null,null,null,null,null,null,null,null,{"$f":"'SA30'!N5","v":0},{"$f":"'SA30'!O5","v":0},{"$f":"'SA30'!P5","v":0}]
["Service charges",null,{"$f":"'[3]A7-CFlow'!C7","v":127560412},{"$f":"'[3]A7-CFlow'!D7","v":131458266},{"$f":"'[3]A7-CFlow'!E7","v":109436731},{"$f":"'[3]A7-CFlow'!F7","v":319772989.34103531},{"$f":"'[3]A7-CFlow'!G7","v":332772989.34103531},{"$f":"'[3]A7-CFlow'!H7","v":332772989.34103531},{"$f":"'[3]A7-CFlow'!I7","v":293757019.38103527},{"$f":"'SA30'!N6+'SA30'!N7+'SA30'!N8+'SA30'!N9","v":206872084},{"$f":"'SA30'!O6+'SA30'!O7+'SA30'!O8+'SA30'!O9","v":196390434},{"$f":"'SA30'!P6+'SA30'!P7+'SA30'!P8+'SA30'!P9","v":210583779}]
["Other revenue",null,{"$f":"'[3]A7-CFlow'!C8","v":124791261},{"$f":"'[3]A7-CFlow'!D8","v":117242733},{"$f":"'[3]A7-CFlow'!E8","v":31751479},{"$f":"'[3]A7-CFlow'!F8","v":246117204.01377699},{"$f":"'[3]A7-CFlow'!G8","v":80161474.591696709},{"$f":"'[3]A7-CFlow'!H8","v":80161474.591696709},{"$f":"'[3]A7-CFlow'!I8","v":80161474.591696709},{"$f":"'SA30'!N11+'SA30'!N15+'SA30'!N16+'SA30'!N17+'SA30'!N19","v":259912639.96000001},{"$f":"'SA30'!O11+'SA30'!O15+'SA30'!O16+'SA30'!O17+'SA30'!O19","v":196681245.00000009},{"$f":"'SA30'!P11+'SA30'!P15+'SA30'!P16+'SA30'!P17+'SA30'!P19","v":138290636.99999982}]
["Transfers and Subsidies - Operational",1,{"$f":"'[3]A7-CFlow'!C9","v":1414280433},{"$f":"'[3]A7-CFlow'!D9","v":735535512},{"$f":"'[3]A7-CFlow'!E9","v":800808821},{"$f":"'[3]A7-CFlow'!F9","v":863952000.3175137},{"$f":"'[3]A7-CFlow'!G9","v":863952000.3175137},{"$f":"'[3]A7-CFlow'!H9","v":863952000.3175137},{"$f":"'[3]A7-CFlow'!I9","v":863952000.3175137},{"$f":"'SA30'!N18","v":976036181},{"$f":"'SA30'!O18","v":1036542466},{"$f":"'SA30'!P18","v":1104844272}]
["Transfers and Subsidies - Capital",1,{"$f":"'[3]A7-CFlow'!C10","v":0},{"$f":"'[3]A7-CFlow'!D10","v":1014469297},{"$f":"'[3]A7-CFlow'!E10","v":1208939773},{"$f":"'[3]A7-CFlow'!F10","v":979793000},{"$f":"'[3]A7-CFlow'!G10","v":1146643730},{"$f":"'[3]A7-CFlow'!H10","v":1146643730},{"$f":"'[3]A7-CFlow'!I10","v":1146643730},{"$f":"'SA30'!N23","v":891519000},{"$f":"'SA30'!O23","v":882465000},{"$f":"'SA30'!P23","v":988437000}]
["Interest",null,{"$f":"'[3]A7-CFlow'!C11","v":59707960},{"$f":"'[3]A7-CFlow'!D11","v":93945495},{"$f":"'[3]A7-CFlow'!E11","v":124603945},{"$f":"'[3]A7-CFlow'!F11","v":36882200},{"$f":"'[3]A7-CFlow'!G11","v":23882200},{"$f":"'[3]A7-CFlow'!H11","v":23882200},{"$f":"'[3]A7-CFlow'!I11","v":23882200},{"$f":"'SA30'!N12+'SA30'!N13","v":61765576},{"$f":"'SA30'!O12+'SA30'!O13","v":73062639},{"$f":"'SA30'!P12+'SA30'!P13","v":76879503}]
["Dividends",null,{"$f":"'[3]A7-CFlow'!C12","v":0},{"$f":"'[3]A7-CFlow'!D12","v":0},{"$f":"'[3]A7-CFlow'!E12","v":0},{"$f":"'[3]A7-CFlow'!F12","v":0},{"$f":"'[3]A7-CFlow'!G12","v":0},{"$f":"'[3]A7-CFlow'!H12","v":0},{"$f":"'[3]A7-CFlow'!I12","v":0},{"$f":"'SA30'!N14","v":0},{"$f":"'SA30'!O14","v":0},{"$f":"'SA30'!P14","v":0}]
["Payments"]
["Suppliers and employees",null,{"$f":"'[3]A7-CFlow'!C14","v":-995784253},{"$f":"'[3]A7-CFlow'!D14","v":-1352420791},{"$f":"'[3]A7-CFlow'!E14","v":-1340404002},{"$f":"'[3]A7-CFlow'!F14","v":-1188161504.6801658},{"$f":"'[3]A7-CFlow'!G14","v":-1181811504.6801658},{"$f":"'[3]A7-CFlow'!H14","v":-1181811504.6801658},{"$f":"'[3]A7-CFlow'!I14","v":-1181811504.6801658},{"$f":"-('SA30'!N35+'SA30'!N36+'SA30'!N38+'SA30'!N39+'SA30'!N40+'SA30'!N41+'SA30'!N44+'SA30'!N50)","v":-1271552490},{"$f":"-('SA30'!O35+'SA30'!O36+'SA30'!O38+'SA30'!O39+'SA30'!O40+'SA30'!O41+'SA30'!O44+'SA30'!O50)","v":-1343492018},{"$f":"-('SA30'!P35+'SA30'!P36+'SA30'!P38+'SA30'!P39+'SA30'!P40+'SA30'!P41+'SA30'!P44+'SA30'!P50)","v":-1396218230}]
["Finance charges",null,{"$f":"'[3]A7-CFlow'!C15","v":-7752623},{"$f":"'[3]A7-CFlow'!D15","v":-1369978},{"$f":"'[3]A7-CFlow'!E15","v":-506557},{"$f":"'[3]A7-CFlow'!F15","v":0},{"$f":"'[3]A7-CFlow'!G15","v":0},{"$f":"'[3]A7-CFlow'!H15","v":0},{"$f":"'[3]A7-CFlow'!I15","v":0},{"$f":"-('SA30'!N37)","v":0},{"$f":"-('SA30'!O37)","v":0},{"$f":"-('SA30'!P37)","v":0}]
["Transfers and Grants",1,{"$f":"'[3]A7-CFlow'!C16","v":0},{"$f":"'[3]A7-CFlow'!D16","v":0},{"$f":"'[3]A7-CFlow'!E16","v":0},{"$f":"'[3]A7-CFlow'!F16","v":-100383344.83520013},{"$f":"'[3]A7-CFlow'!G16","v":-100383344.83520013},{"$f":"'[3]A7-CFlow'!H16","v":-100383344.83520013},{"$f":"'[3]A7-CFlow'!I16","v":-100383344.83520013},{"$f":"-('SA30'!N42+'SA30'!N43)","v":-45044435},{"$f":"-('SA30'!O42+'SA30'!O43)","v":-45656969},{"$f":"-('SA30'!P42+'SA30'!P43)","v":-46275546}]
["NET CASH FROM/(USED) OPERATING ACTIVITIES",null,{"$f":"SUM(C6:C12)+SUM(C14:C16)","v":722803190},738860534,934630190,1157972544.1569602,1165217544.7348797,1165217544.7348797,1126201574.7748797,1079508555.96,995992797,1076541415]
[]
["CASH FLOWS FROM INVESTING ACTIVITIES"]
["Receipts"]
["Proceeds on disposal of PPE",null,{"$f":"'[3]A7-CFlow'!C21","v":0},{"$f":"'[3]A7-CFlow'!D21","v":2818874},{"$f":"'[3]A7-CFlow'!E21","v":3418145},{"$f":"'[3]A7-CFlow'!F21","v":0},{"$f":"'[3]A7-CFlow'!G21","v":0},{"$f":"'[3]A7-CFlow'!H21","v":0},{"$f":"'[3]A7-CFlow'!I21","v":0},{"$f":"'SA30'!N24+'SA30'!N25","v":0},{"$f":"'SA30'!O24+'SA30'!O25","v":0},{"$f":"'SA30'!P24+'SA30'!P25","v":0}]
[null,null,{"$f":"'[3]A7-CFlow'!C22","v":0},{"$f":"'[3]A7-CFlow'!D22","v":0},{"$f":"'[3]A7-CFlow'!E22","v":0},{"$f":"'[3]A7-CFlow'!F22","v":0},{"$f":"'[3]A7-CFlow'!G22","v":0},{"$f":"'[3]A7-CFlow'!H22","v":0},{"$f":"'[3]A7-CFlow'!I22","v":0}]
["Decrease (increase) in non-current receivables",null,{"$f":"'[3]A7-CFlow'!C23","v":0},{"$f":"'[3]A7-CFlow'!D23","v":0},{"$f":"'[3]A7-CFlow'!E23","v":0},{"$f":"'[3]A7-CFlow'!F23","v":0},{"$f":"'[3]A7-CFlow'!G23","v":0},{"$f":"'[3]A7-CFlow'!H23","v":0},{"$f":"'[3]A7-CFlow'!I23","v":0},{"$f":"'SA30'!N30","v":0},{"$f":"'SA30'!O30","v":0},{"$f":"'SA30'!P30","v":0}]
["Decrease (increase) in non-current investments",null,{"$f":"'[3]A7-CFlow'!C24","v":0},{"$f":"'[3]A7-CFlow'!D24","v":0},{"$f":"'[3]A7-CFlow'!E24","v":0},{"$f":"'[3]A7-CFlow'!F24","v":0},{"$f":"'[3]A7-CFlow'!G24","v":0},{"$f":"'[3]A7-CFlow'!H24","v":0},{"$f":"'[3]A7-CFlow'!I24","v":0},{"$f":"'SA30'!N31","v":0},{"$f":"'SA30'!O31","v":0},{"$f":"'SA30'!P31","v":0}]
["Payments"]
["Capital assets",null,{"$f":"'[3]A7-CFlow'!C26","v":-800860959},{"$f":"'[3]A7-CFlow'!D26","v":-779544093},{"$f":"'[3]A7-CFlow'!E26","v":-876290914},{"$f":"'[3]A7-CFlow'!F26","v":-1107615532.73488},{"$f":"'[3]A7-CFlow'!G26","v":-1281711262.73488},{"$f":"'[3]A7-CFlow'!H26","v":-1281711262.73488},{"$f":"'[3]A7-CFlow'!I26","v":-1281711262.73488},{"$f":"-('SA30'!N48)","v":-1044807053},{"$f":"-('SA30'!O48)","v":-978659832},{"$f":"-('SA30'!P48)","v":-1060649435}]
["NET CASH FROM/(USED) INVESTING ACTIVITIES",null,{"$f":"+C21+C23+C24+C26","v":-800860959},{"$f":"+D21+D23+D24+D26","v":-776725219},-872872769,-1107615532.73488,-1281711262.73488,-1281711262.73488,-1281711262.73488,-1044807053,-978659832,-1060649435]
[]
["CASH FLOWS FROM FINANCING ACTIVITIES"]
["Receipts"]
["Short term loans",null,{"$f":"'[3]A7-CFlow'!C31","v":0},{"$f":"'[3]A7-CFlow'!D31","v":0},{"$f":"'[3]A7-CFlow'!E31","v":0},{"$f":"'[3]A7-CFlow'!F31","v":0},{"$f":"'[3]A7-CFlow'!G31","v":0},{"$f":"'[3]A7-CFlow'!H31","v":0},{"$f":"'[3]A7-CFlow'!I31","v":0},{"$f":"'SA30'!N26","v":0},{"$f":"'SA30'!O26","v":0},{"$f":"'SA30'!P26","v":0}]
["Borrowing long term/refinancing",null,{"$f":"'[3]A7-CFlow'!C32","v":0},{"$f":"'[3]A7-CFlow'!D32","v":0},{"$f":"'[3]A7-CFlow'!E32","v":0},{"$f":"'[3]A7-CFlow'!F32","v":0},{"$f":"'[3]A7-CFlow'!G32","v":0},{"$f":"'[3]A7-CFlow'!H32","v":0},{"$f":"'[3]A7-CFlow'!I32","v":0},{"$f":"'SA30'!N27","v":0},{"$f":"'SA30'!O27","v":0},{"$f":"'SA30'!P27","v":0}]
["Increase (decrease) in consumer deposits",null,{"$f":"'[3]A7-CFlow'!C33","v":0},{"$f":"'[3]A7-CFlow'!D33","v":0},{"$f":"'[3]A7-CFlow'!E33","v":0},{"$f":"'[3]A7-CFlow'!F33","v":0},{"$f":"'[3]A7-CFlow'!G33","v":0},{"$f":"'[3]A7-CFlow'!H33","v":0},{"$f":"'[3]A7-CFlow'!I33","v":0},{"$f":"'SA30'!N28","v":-3745000},{"$f":"'SA30'!O28","v":-4007150},{"$f":"'SA30'!P28","v":-4187472}]
["Payments"]
["Repayment of borrowing",null,{"$f":"'[3]A7-CFlow'!C35","v":-20434},{"$f":"'[3]A7-CFlow'!D35","v":-38795339},{"$f":"'[3]A7-CFlow'!E35","v":0},{"$f":"'[3]A7-CFlow'!F35","v":0},{"$f":"'[3]A7-CFlow'!G35","v":0},{"$f":"'[3]A7-CFlow'!H35","v":0},{"$f":"'[3]A7-CFlow'!I35","v":0},{"$f":"-('SA30'!N49)","v":0},{"$f":"-('SA30'!O49)","v":0},{"$f":"-('SA30'!P49)","v":0}]
["NET CASH FROM/(USED) FINANCING ACTIVITIES",null,{"$f":"SUM(C31:C33)+C35","v":-20434},{"$f":"SUM(D31:D33)+D35","v":-38795339},0,0,0,0,0,-3745000,-4007150,-4187472]
[]
["NET INCREASE/ (DECREASE) IN CASH HELD",null,{"$f":"C17+C27+C36","v":-78078203},{"$f":"D17+D27+D36","v":-76660024},61757421,50357011.422080278,-116493718.00000024,-116493718.00000024,-155509687.96000028,30956502.960000038,13325815,11704508]
["Cash/cash equivalents at the year begin:",2,{"$f":"'[3]A7-CFlow'!C39","v":369392737},{"$f":"'[3]A7-CFlow'!D39","v":291314534},{"$f":"'[3]A7-CFlow'!E39","v":214654510},{"$f":"'[3]A7-CFlow'!F39","v":183774261},{"$f":"'[3]A7-CFlow'!G39","v":371327547},{"$f":"'[3]A7-CFlow'!H39","v":371327547},{"$f":"'[3]A7-CFlow'!I39","v":371327547},{"$f":"'SA30'!N54","v":215817859.03999972},{"$f":"J40","v":246774361.99999976},{"$f":"K40","v":260100176.99999976}]
["Cash/cash equivalents at the year end:",2,{"$f":"C38+C39","v":291314534},{"$f":"D38+D39","v":214654510},{"$f":"E38+E39","v":276411931},{"$f":"F38+F39","v":234131272.42208028},254833828.99999976,254833828.99999976,215817859.03999972,246774361.99999976,260100176.99999976,271804684.99999976]
[{"$f":"head27a","v":"References"}]
["1. Local/District municipalities to include transfers from/to District/Local Municipalities"]
["2. Cash equivalents includes investments with maturities of 3 months or less"]
["3. The MTREF is populated directly from SA30."]
["Total receipts",null,{"$f":"SUM(C6:C12)+SUM(C21:C23)","v":1726340066},2095470177,2278958894,2446517393.6723261,2447412394.2502456,2447412394.2502456,2408396424.2902455,2396105480.96,2385141784,2519035191]
["Total payments",null,{"$f":"SUM(C14:C16)+C26","v":-1804397835},{"$f":"SUM(D14:D16)+D26","v":-2133334862},-2217201473,-2396160382.250246,-2563906112.250246,-2563906112.250246,-2563906112.250246,-2361403978,-2367808819,-2503143211]
[null,null,{"$f":"C45+C46","v":-78057769},{"$f":"D45+D46","v":-37864685},61757421,50357011.42208004,-116493718.00000048,-116493718.00000048,-155509687.96000051,34701502.960000038,17332965,15891980]
["Borrowings & investments & c.deposits",null,{"$f":"C24+C32+C33","v":0},{"$f":"D24+D32+D33","v":0},0,0,0,0,0,-3745000,-4007150,-4187472]
[{"$f":"A35","v":"Repayment of borrowing"},null,{"$f":"C35","v":-20434},{"$f":"D35","v":-38795339},0,0,0,0,{"$f":"I35","v":0},0,0,0]
[null,null,{"$f":"C47+C48+C49","v":-78078203},{"$f":"D47+D48+D49","v":-76660024},61757421,50357011.42208004,-116493718.00000048,-116493718.00000048,-155509687.96000051,30956502.960000038,13325815,11704508]
[null,null,{"$f":"C38-C50","v":0},0,0,2.384185791015625E-7,2.384185791015625E-7,2.384185791015625E-7,2.384185791015625E-7,0,0,0]

{"sheet":"A8-ResRecon","index":17,"n_rows":49,"n_cols":12,"rows_kept":49,"cut":false,"hidden":false,"merged":[[1,9,1,11],[1,5,1,8]]}
[{"$f":"muni&\" - \"&Approve8","v":"DC15 O .R. Tambo - Table A8 Consolidated Cash backed reserves/accumulated surplus reconciliation"}]
[{"$f":"desc","v":"Description"},{"$f":"head27","v":"Ref"},{"$f":"head1b","v":"2016/17"},{"$f":"head1A","v":"2017/18"},{"$f":"Head1","v":"2018/19"},{"$f":"Head2","v":"Current Year 2019/20"},null,null,null,{"$f":"Head3","v":"2020/21 Medium Term Revenue & Expenditure Framework"}]
["R thousand",null,{"$f":"Head5","v":"Audited Outcome"},{"$f":"Head5","v":"Audited Outcome"},{"$f":"Head5","v":"Audited Outcome"},{"$f":"Head6","v":"Original Budget"},{"$f":"Head7","v":"Adjusted Budget"},{"$f":"Head8","v":"Full Year Forecast"},{"$f":"Head5b","v":"Pre-audit outcome"},{"$f":"Head9","v":"Budget Year 2020/21"},{"$f":"Head10","v":"Budget Year +1 2021/22"},{"$f":"Head11","v":"Budget Year +2 2022/23"}]
["Cash and investments available"]
[{"$f":"LEFT('A7-CFlow'!A40,37)","v":"Cash/cash equivalents at the year end"},1,{"$f":"'A7-CFlow'!C40","v":291314534},{"$f":"'A7-CFlow'!D40","v":214654510},{"$f":"'A7-CFlow'!E40","v":276411931},{"$f":"'A7-CFlow'!F40","v":234131272.42208028},{"$f":"'A7-CFlow'!G40","v":254833828.99999976},{"$f":"'A7-CFlow'!H40","v":254833828.99999976},{"$f":"'A7-CFlow'!I40","v":215817859.03999972},{"$f":"'A7-CFlow'!J40","v":246774361.99999976},{"$f":"'A7-CFlow'!K40","v":260100176.99999976},{"$f":"'A7-CFlow'!L40","v":271804684.99999976}]
["Other current investments  > 90 days",null,{"$f":"'A6-FinPos'!C6+'A6-FinPos'!C7-'A6-FinPos'!C29-'A8-ResRecon'!C5","v":0},{"$f":"'A6-FinPos'!D6+'A6-FinPos'!D7-'A6-FinPos'!D29-'A8-ResRecon'!D5","v":0},{"$f":"'A6-FinPos'!E6+'A6-FinPos'!E7-'A6-FinPos'!E29-'A8-ResRecon'!E5","v":-2},{"$f":"'A6-FinPos'!F6+'A6-FinPos'!F7-'A6-FinPos'!F29-'A8-ResRecon'!F5","v":221387207.40665627},{"$f":"'A6-FinPos'!G6+'A6-FinPos'!G7-'A6-FinPos'!G29-'A8-ResRecon'!G5","v":2.384185791015625E-7},{"$f":"'A6-FinPos'!H6+'A6-FinPos'!H7-'A6-FinPos'!H29-'A8-ResRecon'!H5","v":2.384185791015625E-7},{"$f":"'A6-FinPos'!I6+'A6-FinPos'!I7-'A6-FinPos'!I29-'A8-ResRecon'!I5","v":2.9802322387695313E-7},{"$f":"'A6-FinPos'!J6+'A6-FinPos'!J7-'A6-FinPos'!J29-'A8-ResRecon'!J5","v":2.384185791015625E-7},{"$f":"'A6-FinPos'!K6+'A6-FinPos'!K7-'A6-FinPos'!K29-'A8-ResRecon'!K5","v":2.384185791015625E-7},{"$f":"'A6-FinPos'!L6+'A6-FinPos'!L7-'A6-FinPos'!L29-'A8-ResRecon'!L5","v":0}]
[{"$f":"'A6-FinPos'!A14&\" - \"&'A6-FinPos'!A16","v":"Non current assets - Investments"},1,{"$f":"'A6-FinPos'!C16","v":0},{"$f":"'A6-FinPos'!D16","v":0},{"$f":"'A6-FinPos'!E16","v":0},{"$f":"'A6-FinPos'!F16","v":0},{"$f":"'A6-FinPos'!G16","v":0},{"$f":"'A6-FinPos'!H16","v":0},{"$f":"'A6-FinPos'!I16","v":0},{"$f":"'A6-FinPos'!J16","v":0},{"$f":"'A6-FinPos'!K16","v":0},{"$f":"'A6-FinPos'!L16","v":0}]
["Cash and investments available:",null,{"$f":"SUM(C5:C7)","v":291314534},{"$f":"SUM(D5:D7)","v":214654510},276411929,455518479.82873654,254833829,254833829,215817859.04000002,246774362,260100177,271804684.99999976]
[]
["Application of cash and investments"]
[{"$f":"'SA3'!A37","v":"Unspent conditional transfers"},null,{"$f":"'SA3'!C37","v":7229655},{"$f":"'SA3'!D37","v":0},{"$f":"'SA3'!E37","v":0},{"$f":"'SA3'!F37","v":0},{"$f":"'SA3'!G37","v":0},{"$f":"'SA3'!H37","v":0},{"$f":"'SA3'!I37","v":823679284.84000003},{"$f":"'SA3'!J37","v":0},{"$f":"'SA3'!K37","v":0},{"$f":"'SA3'!L37","v":0}]
["Unspent borrowing",null,{"$f":"'SA17'!C67","v":0},{"$f":"'SA17'!D67","v":0},{"$f":"'SA17'!E67","v":0},{"$f":"'SA17'!F67","v":0},{"$f":"'SA17'!G67","v":0},{"$f":"'SA17'!H67","v":0},null,{"$f":"'SA17'!I67","v":0},{"$f":"'SA17'!J67","v":0},{"$f":"'SA17'!K67","v":0}]
["Statutory requirements",2,null,null,null,{"$f":"'[3]A8-ResRecon'!F13","v":-140322533},{"$f":"'[3]A8-ResRecon'!G13","v":-139243639.17488},{"$f":"'[3]A8-ResRecon'!H13","v":-139243639.17488},{"$f":"'[3]A8-ResRecon'!I13","v":-139243639.17488},{"$f":"-'[4]OVERALL SUMMARY'!E1130","v":-173534952.66349998},{"$f":"-'[4]OVERALL SUMMARY'!F1130","v":-132316649.83452901},{"$f":"-'[4]OVERALL SUMMARY'!G1130","v":-120553723.45774844}]
["Other working capital requirements",3,{"$f":"-C32","v":290468805},{"$f":"-D32","v":260259744},538094025,{"$f":"-F32","v":116420378.48887098},11509306,11509306,-372210769.92000002,47980877,192902503.13237596,186025705.13237596]
["Other provisions"]
["Long term investments committed",4,{"$f":"C42","v":0},{"$f":"D42","v":0},0,0,0,0,0,0,0,0]
["Reserves to be backed by cash/investments",5,{"$f":"SUM(C44:C48)","v":0},0,0,0,0,0,0,0,0,0]
[{"$f":"\"Total \"&A10&\":\"","v":"Total Application of cash and investments:"},null,{"$f":"SUM(C11:C17)","v":297698460},{"$f":"SUM(D11:D17)","v":260259744},538094025,-23902154.511129022,-127734333.17488,-127734333.17488,312224875.74511999,-125554075.66349998,60585853.297846943,65471981.674627513]
["Surplus(shortfall)",null,{"$f":"C8-C18","v":-6383926},{"$f":"D8-D18","v":-45605234},-261682096,479420634.33986557,382568162.17488003,382568162.17488003,-96407016.705119967,372328437.66349995,199514323.70215306,206332703.32537225]
[{"$f":"head27a","v":"References"}]
["1. Must reconcile with Budgeted Cash Flows"]
["2. For example: VAT, taxation"]
["3. Council approval for policy required - include sufficient working capital (e.g. allowing for a % of current debtors > 90 days as uncollectable)"]
["4. For example: sinking fund requirements for borrowing"]
["5. Council approval required for each reserve created and basis of cash backing of reserves"]
[]
[]
["Other working capital requirements"]
["Debtors",null,{"$f":"IF(ISERROR(ROUND(C35*C36,-3)),0,(ROUND(C35*C36,-3)))","v":93807000},{"$f":"IF(ISERROR(ROUND(D35*D36,-3)),0,(ROUND(D35*D36,-3)))","v":200942000},92852000,162148000,93365000,93365000,420586000,53935000,134560000,93120000]
[]
["Creditors due",null,{"$f":"'SA3'!C35+'SA3'!C36","v":384275805},{"$f":"'SA3'!D35+'SA3'!D36","v":461201744},{"$f":"'SA3'!E35+'SA3'!E36","v":630946025},{"$f":"'SA3'!F35+'SA3'!F36","v":278568378.48887098},{"$f":"'SA3'!G35+'SA3'!G36","v":104874306},{"$f":"'SA3'!H35+'SA3'!H36","v":104874306},{"$f":"'SA3'!I35+'SA3'!I36","v":48375230.079999998},{"$f":"'SA3'!J35+'SA3'!J36","v":101915877},{"$f":"'SA3'!K35+'SA3'!K36","v":327462503.13237596},{"$f":"'SA3'!L35+'SA3'!L36","v":279145705.13237596}]
["Total",null,{"$f":"C29-C31","v":-290468805},{"$f":"D29-D31","v":-260259744},-538094025,-116420378.48887098,-11509306,-11509306,372210769.92000002,-47980877,-192902503.13237596,-186025705.13237596]
[]
["Debtors collection assumptions"]
["Balance outstanding - debtors",null,{"$f":"'A6-FinPos'!C8+'A6-FinPos'!C9+'A6-FinPos'!C15","v":144655992},{"$f":"'A6-FinPos'!D8+'A6-FinPos'!D9+'A6-FinPos'!D15","v":241430261.38},{"$f":"'A6-FinPos'!E8+'A6-FinPos'!E9+'A6-FinPos'!E15","v":199547256.53000009},{"$f":"'A6-FinPos'!F8+'A6-FinPos'!F9+'A6-FinPos'!F15","v":171657583.76932609},{"$f":"'A6-FinPos'!G8+'A6-FinPos'!G9+'A6-FinPos'!G15","v":157810087},{"$f":"'A6-FinPos'!H8+'A6-FinPos'!H9+'A6-FinPos'!H15","v":157810087},{"$f":"'A6-FinPos'!I8+'A6-FinPos'!I9+'A6-FinPos'!I15","v":278799236.00999999},{"$f":"'A6-FinPos'!J8+'A6-FinPos'!J9+'A6-FinPos'!J15","v":85632334.132375956},{"$f":"'A6-FinPos'!K8+'A6-FinPos'!K9+'A6-FinPos'!K15","v":244398200.13237596},{"$f":"'A6-FinPos'!L8+'A6-FinPos'!L9+'A6-FinPos'!L15","v":192343508.13237596}]
["Estimate of debtors collection rate",null,{"$f":"IF(ISERROR('SA10'!D10),0,('SA10'!D10))","v":0.64848054293992796},{"$f":"IF(ISERROR('SA10'!E10),0,('SA10'!E10))","v":0.83229868054478295},{"$f":"IF(ISERROR('SA10'!F10),0,('SA10'!F10))","v":0.46531437340037862},{"$f":"IF(ISERROR('SA10'!G10),0,('SA10'!G10))","v":0.94460306824948093},{"$f":"IF(ISERROR('SA10'!H10),0,('SA10'!H10))","v":0.59162848755797659},{"$f":"IF(ISERROR('SA10'!I10),0,('SA10'!I10))","v":0.59162848755797659},{"$f":"IF(ISERROR('SA10'!J10),0,('SA10'!J10))","v":1.5085607041866049},{"$f":"IF(ISERROR('SA10'!K10),0,('SA10'!K10))","v":0.62984051271343244},{"$f":"IF(ISERROR('SA10'!L10),0,('SA10'!L10))","v":0.55057615005015337},{"$f":"IF(ISERROR('SA10'!M10),0,('SA10'!M10))","v":0.48413157729009415}]
[]
[]
[null,null,null,null,null,null,null,null,null,null,"`"]
[{"$f":"A16","v":"Long term investments committed"}]
["Balance (Insert description; eg sinking fund)"]
[null,null,{"$f":"SUM(C41:C41)","v":0},0,0,0,0,0,0,0,0,0]
[{"$f":"A17","v":"Reserves to be backed by cash/investments"}]
[{"$f":"'SA3'!A65","v":"Housing Development Fund"},null,{"$f":"'SA3'!C65","v":0},{"$f":"'SA3'!D65","v":0},{"$f":"'SA3'!E65","v":0},{"$f":"'SA3'!F65","v":0},{"$f":"'SA3'!G65","v":0},{"$f":"'SA3'!H65","v":0},{"$f":"'SA3'!I65","v":0},{"$f":"'SA3'!J65","v":0},{"$f":"'SA3'!K65","v":0},{"$f":"'SA3'!L65","v":0}]
[{"$f":"'SA3'!A66","v":"Capital replacement"},null,{"$f":"'SA3'!C66","v":0},{"$f":"'SA3'!D66","v":0},{"$f":"'SA3'!E66","v":0},{"$f":"'SA3'!F66","v":0},{"$f":"'SA3'!G66","v":0},{"$f":"'SA3'!H66","v":0},{"$f":"'SA3'!I66","v":0},{"$f":"'SA3'!J66","v":0},{"$f":"'SA3'!K66","v":0},{"$f":"'SA3'!L66","v":0}]
[{"$f":"'SA3'!A67","v":"Self-insurance"},null,{"$f":"'SA3'!C67","v":0},{"$f":"'SA3'!D67","v":0},{"$f":"'SA3'!E67","v":0},{"$f":"'SA3'!F67","v":0},{"$f":"'SA3'!G67","v":0},{"$f":"'SA3'!H67","v":0},{"$f":"'SA3'!I67","v":0},{"$f":"'SA3'!J67","v":0},{"$f":"'SA3'!K67","v":0},{"$f":"'SA3'!L67","v":0}]
[{"$f":"'SA3'!A68","v":"Other reserves"},null,{"$f":"'SA3'!C68","v":0},{"$f":"'SA3'!D68","v":0},{"$f":"'SA3'!E68","v":0},{"$f":"'SA3'!F68","v":0},{"$f":"'SA3'!G68","v":0},{"$f":"'SA3'!H68","v":0},{"$f":"'SA3'!I68","v":0},{"$f":"'SA3'!J68","v":0},{"$f":"'SA3'!K68","v":0},{"$f":"'SA3'!L68","v":0}]
[{"$f":"'SA3'!A69","v":"Revaluation"},null,{"$f":"'SA3'!C69","v":0},{"$f":"'SA3'!D69","v":0},{"$f":"'SA3'!E69","v":0},{"$f":"'SA3'!F69","v":0},{"$f":"'SA3'!G69","v":0},{"$f":"'SA3'!H69","v":0},{"$f":"'SA3'!I69","v":0},{"$f":"'SA3'!J69","v":0},{"$f":"'SA3'!K69","v":0},{"$f":"'SA3'!L69","v":0}]
[null,null,{"$f":"SUM(C44:C48)","v":0},0,0,0,0,0,0,0,0,0]

{"sheet":"A9-Asset","index":18,"n_rows":217,"n_cols":11,"rows_kept":217,"cut":false,"hidden":false,"merged":[[1,5,1,7],[1,8,1,10]]}
[{"$f":"muni&\" - \"&Approve9","v":"DC15 O .R. Tambo - Table A9 Consolidated Asset Management"}]
[{"$f":"desc","v":"Description"},{"$f":"head27","v":"Ref"},{"$f":"head1b","v":"2016/17"},{"$f":"head1A","v":"2017/18"},{"$f":"Head1","v":"2018/19"},{"$f":"Head2","v":"Current Year 2019/20"},null,null,{"$f":"Head3","v":"2020/21 Medium Term Revenue & Expenditure Framework"}]
["R thousand",null,{"$f":"Head5","v":"Audited Outcome"},{"$f":"Head5","v":"Audited Outcome"},{"$f":"Head5","v":"Audited Outcome"},{"$f":"Head6","v":"Original Budget"},{"$f":"Head7","v":"Adjusted Budget"},{"$f":"Head8","v":"Full Year Forecast"},{"$f":"Head9","v":"Budget Year 2020/21"},{"$f":"Head10","v":"Budget Year +1 2021/22"},{"$f":"Head11","v":"Budget Year +2 2022/23"}]
["CAPITAL EXPENDITURE"]
["Total New Assets",1,{"$f":"C15+C18+C19+C22+C25+C26+SUM(C29:C35)","v":810395059},{"$f":"D15+D18+D19+D22+D25+D26+SUM(D29:D35)","v":779295709},875178512,1095046263,1338774355,1338774355,1024429199,968068950,1053050533]
["Roads Infrastructure",null,{"$f":"SA34a!C7","v":0},{"$f":"SA34a!D7","v":0},{"$f":"SA34a!E7","v":0},{"$f":"SA34a!F7","v":3112000},{"$f":"SA34a!G7","v":6112000},{"$f":"SA34a!H7","v":6112000},{"$f":"SA34a!I7","v":2962000},{"$f":"SA34a!J7","v":3125000},{"$f":"SA34a!K7","v":3306000}]
["Storm water Infrastructure",null,{"$f":"SA34a!C12","v":0},{"$f":"SA34a!D12","v":0},{"$f":"SA34a!E12","v":0},{"$f":"SA34a!F12","v":0},{"$f":"SA34a!G12","v":0},{"$f":"SA34a!H12","v":0},{"$f":"SA34a!I12","v":0},{"$f":"SA34a!J12","v":0},{"$f":"SA34a!K12","v":0}]
["Electrical Infrastructure",null,{"$f":"SA34a!C16","v":0},{"$f":"SA34a!D16","v":0},{"$f":"SA34a!E16","v":0},{"$f":"SA34a!F16","v":0},{"$f":"SA34a!G16","v":0},{"$f":"SA34a!H16","v":0},{"$f":"SA34a!I16","v":0},{"$f":"SA34a!J16","v":0},{"$f":"SA34a!K16","v":0}]
["Water Supply Infrastructure",null,{"$f":"SA34a!C26","v":809271875},{"$f":"SA34a!D26","v":731779794},{"$f":"SA34a!E26","v":862537145},{"$f":"SA34a!F26","v":783411233},{"$f":"SA34a!G26","v":1023707245},{"$f":"SA34a!H26","v":1023707245},{"$f":"SA34a!I26","v":732747412},{"$f":"SA34a!J26","v":906588730},{"$f":"SA34a!K26","v":1013633172}]
["Sanitation Infrastructure",null,{"$f":"SA34a!C37","v":0},{"$f":"SA34a!D37","v":0},{"$f":"SA34a!E37","v":0},{"$f":"SA34a!F37","v":206033438},{"$f":"SA34a!G37","v":140343471},{"$f":"SA34a!H37","v":140343471},{"$f":"SA34a!I37","v":136371882},{"$f":"SA34a!J37","v":10612628},{"$f":"SA34a!K37","v":11531809}]
["Solid Waste Infrastructure",null,{"$f":"SA34a!C44","v":0},{"$f":"SA34a!D44","v":0},{"$f":"SA34a!E44","v":0},{"$f":"SA34a!F44","v":0},{"$f":"SA34a!G44","v":0},{"$f":"SA34a!H44","v":0},{"$f":"SA34a!I44","v":0},{"$f":"SA34a!J44","v":0},{"$f":"SA34a!K44","v":0}]
["Rail Infrastructure",null,{"$f":"SA34a!C52","v":0},{"$f":"SA34a!D52","v":0},{"$f":"SA34a!E52","v":0},{"$f":"SA34a!F52","v":0},{"$f":"SA34a!G52","v":0},{"$f":"SA34a!H52","v":0},{"$f":"SA34a!I52","v":0},{"$f":"SA34a!J52","v":0},{"$f":"SA34a!K52","v":0}]
["Coastal Infrastructure",null,{"$f":"SA34a!C62","v":0},{"$f":"SA34a!D62","v":0},{"$f":"SA34a!E62","v":0},{"$f":"SA34a!F62","v":0},{"$f":"SA34a!G62","v":0},{"$f":"SA34a!H62","v":0},{"$f":"SA34a!I62","v":0},{"$f":"SA34a!J62","v":0},{"$f":"SA34a!K62","v":0}]
["Information and Communication Infrastructure",null,{"$f":"SA34a!C68","v":0},{"$f":"SA34a!D68","v":0},{"$f":"SA34a!E68","v":0},{"$f":"SA34a!F68","v":0},{"$f":"SA34a!G68","v":0},{"$f":"SA34a!H68","v":0},{"$f":"SA34a!I68","v":0},{"$f":"SA34a!J68","v":0},{"$f":"SA34a!K68","v":0}]
["Infrastructure",null,{"$f":"SUM(C6:C14)","v":809271875},{"$f":"SUM(D6:D14)","v":731779794},862537145,992556671,1170162716,1170162716,872081294,920326358,1028470981]
["Community Facilities",null,{"$f":"SA34a!C75","v":0},{"$f":"SA34a!D75","v":0},{"$f":"SA34a!E75","v":0},{"$f":"SA34a!F75","v":67850824},{"$f":"SA34a!G75","v":73377383},{"$f":"SA34a!H75","v":73377383},{"$f":"SA34a!I75","v":48200000},{"$f":"SA34a!J75","v":7000000},{"$f":"SA34a!K75","v":0}]
["Sport and Recreation Facilities",null,{"$f":"SA34a!C98","v":0},{"$f":"SA34a!D98","v":0},{"$f":"SA34a!E98","v":0},{"$f":"SA34a!F98","v":0},{"$f":"SA34a!G98","v":0},{"$f":"SA34a!H98","v":0},{"$f":"SA34a!I98","v":0},{"$f":"SA34a!J98","v":0},{"$f":"SA34a!K98","v":0}]
["Community Assets",null,{"$f":"SUM(C16:C17)","v":0},{"$f":"SUM(D16:D17)","v":0},0,67850824,73377383,73377383,48200000,7000000,0]
["Heritage Assets",null,{"$f":"SA34a!C103","v":0},{"$f":"SA34a!D103","v":0},{"$f":"SA34a!E103","v":0},{"$f":"SA34a!F103","v":0},{"$f":"SA34a!G103","v":0},{"$f":"SA34a!H103","v":0},{"$f":"SA34a!I103","v":0},{"$f":"SA34a!J103","v":0},{"$f":"SA34a!K103","v":0}]
["Revenue Generating",null,{"$f":"SA34a!C111","v":0},{"$f":"SA34a!D111","v":0},{"$f":"SA34a!E111","v":0},{"$f":"SA34a!F111","v":0},{"$f":"SA34a!G111","v":0},{"$f":"SA34a!H111","v":0},{"$f":"SA34a!I111","v":0},{"$f":"SA34a!J111","v":0},{"$f":"SA34a!K111","v":0}]
["Non-revenue Generating",null,{"$f":"SA34a!C114","v":0},{"$f":"SA34a!D114","v":0},{"$f":"SA34a!E114","v":0},{"$f":"SA34a!F114","v":0},{"$f":"SA34a!G114","v":0},{"$f":"SA34a!H114","v":0},{"$f":"SA34a!I114","v":0},{"$f":"SA34a!J114","v":0},{"$f":"SA34a!K114","v":0}]
["Investment properties",null,{"$f":"SUM(C20:C21)","v":0},{"$f":"SUM(D20:D21)","v":0},0,0,0,0,0,0,0]
["Operational Buildings",null,{"$f":"SA34a!C119","v":0},{"$f":"SA34a!D119","v":0},{"$f":"SA34a!E119","v":2230623},{"$f":"SA34a!F119","v":0},{"$f":"SA34a!G119","v":1600000},{"$f":"SA34a!H119","v":1600000},{"$f":"SA34a!I119","v":8030000},{"$f":"SA34a!J119","v":6833000},{"$f":"SA34a!K119","v":6833000}]
["Housing",null,{"$f":"SA34a!C131","v":0},{"$f":"SA34a!D131","v":0},{"$f":"SA34a!E131","v":0},{"$f":"SA34a!F131","v":500000},{"$f":"SA34a!G131","v":47795730},{"$f":"SA34a!H131","v":47795730},{"$f":"SA34a!I131","v":40000000},{"$f":"SA34a!J131","v":0},{"$f":"SA34a!K131","v":0}]
["Other Assets",null,{"$f":"SUM(C23:C24)","v":0},{"$f":"SUM(D23:D24)","v":0},2230623,500000,49395730,49395730,48030000,6833000,6833000]
["Biological or Cultivated Assets",null,{"$f":"SA34a!C136","v":0},{"$f":"SA34a!D136","v":1112401},{"$f":"SA34a!E136","v":0},{"$f":"SA34a!F136","v":0},{"$f":"SA34a!G136","v":0},{"$f":"SA34a!H136","v":0},{"$f":"SA34a!I136","v":0},{"$f":"SA34a!J136","v":0},{"$f":"SA34a!K136","v":0}]
["Servitudes",null,{"$f":"SA34a!C140","v":0},{"$f":"SA34a!D140","v":0},{"$f":"SA34a!E140","v":0},{"$f":"SA34a!F140","v":0},{"$f":"SA34a!G140","v":0},{"$f":"SA34a!H140","v":0},{"$f":"SA34a!I140","v":0},{"$f":"SA34a!J140","v":0},{"$f":"SA34a!K140","v":0}]
["Licences and Rights",null,{"$f":"SA34a!C141","v":805184},{"$f":"SA34a!D141","v":4989617},{"$f":"SA34a!E141","v":315580},{"$f":"SA34a!F141","v":2686154},{"$f":"SA34a!G141","v":9086154},{"$f":"SA34a!H141","v":9086154},{"$f":"SA34a!I141","v":6881207},{"$f":"SA34a!J141","v":3262259},{"$f":"SA34a!K141","v":3150000}]
["Intangible Assets",null,{"$f":"SUM(C27:C28)","v":805184},{"$f":"SUM(D27:D28)","v":4989617},315580,2686154,9086154,9086154,6881207,3262259,3150000]
["Computer Equipment",null,{"$f":"SA34a!C149","v":0},{"$f":"SA34a!D149","v":0},{"$f":"SA34a!E149","v":0},{"$f":"SA34a!F149","v":1970000},{"$f":"SA34a!G149","v":2410000},{"$f":"SA34a!H149","v":2410000},{"$f":"SA34a!I149","v":2658000},{"$f":"SA34a!J149","v":3500000},{"$f":"SA34a!K149","v":4519800}]
["Furniture and Office Equipment",null,{"$f":"SA34a!C152","v":318000},{"$f":"SA34a!D152","v":2604077},{"$f":"SA34a!E152","v":1419204},{"$f":"SA34a!F152","v":1300000},{"$f":"SA34a!G152","v":7280000},{"$f":"SA34a!H152","v":7280000},{"$f":"SA34a!I152","v":4850000},{"$f":"SA34a!J152","v":3850000},{"$f":"SA34a!K152","v":0}]
["Machinery and Equipment",null,{"$f":"SA34a!C155","v":0},{"$f":"SA34a!D155","v":7721540},{"$f":"SA34a!E155","v":3924816},{"$f":"SA34a!F155","v":11682614},{"$f":"SA34a!G155","v":7962372},{"$f":"SA34a!H155","v":7962372},{"$f":"SA34a!I155","v":28528698},{"$f":"SA34a!J155","v":8497333},{"$f":"SA34a!K155","v":2076752}]
["Transport Assets",null,{"$f":"SA34a!C158","v":0},{"$f":"SA34a!D158","v":4179831},{"$f":"SA34a!E158","v":4751144},{"$f":"SA34a!F158","v":16500000},{"$f":"SA34a!G158","v":19100000},{"$f":"SA34a!H158","v":19100000},{"$f":"SA34a!I158","v":13200000},{"$f":"SA34a!J158","v":14800000},{"$f":"SA34a!K158","v":8000000}]
["Land",null,{"$f":"SA34a!C161","v":0},{"$f":"SA34a!D161","v":26908449},{"$f":"SA34a!E161","v":0},{"$f":"SA34a!F161","v":0},{"$f":"SA34a!G161","v":0},{"$f":"SA34a!H161","v":0},{"$f":"SA34a!I161","v":0},{"$f":"SA34a!J161","v":0},{"$f":"SA34a!K161","v":0}]
["Zoo's, Marine and Non-biological Animals",null,{"$f":"SA34a!C164","v":0},{"$f":"SA34a!D164","v":0},{"$f":"SA34a!E164","v":0},{"$f":"SA34a!F164","v":0},{"$f":"SA34a!G164","v":0},{"$f":"SA34a!H164","v":0},{"$f":"SA34a!I164","v":0},{"$f":"SA34a!J164","v":0},{"$f":"SA34a!K164","v":0}]
[]
["Total Renewal of Existing Assets",2,{"$f":"C47+C50+C51+C54+C57+C58+SUM(C61:C67)","v":0},{"$f":"D47+D50+D51+D54+D57+D58+SUM(D61:D67)","v":0},0,28181271,12935056,12935056,20377854,10590882,7598902]
["Roads Infrastructure",null,{"$f":"SA34b!C7","v":0},{"$f":"SA34b!D7","v":0},{"$f":"SA34b!E7","v":0},{"$f":"SA34b!F7","v":0},{"$f":"SA34b!G7","v":0},{"$f":"SA34b!H7","v":0},{"$f":"SA34b!I7","v":0},{"$f":"SA34b!J7","v":0},{"$f":"SA34b!K7","v":0}]
["Storm water Infrastructure",null,{"$f":"SA34b!C12","v":0},{"$f":"SA34b!D12","v":0},{"$f":"SA34b!E12","v":0},{"$f":"SA34b!F12","v":0},{"$f":"SA34b!G12","v":0},{"$f":"SA34b!H12","v":0},{"$f":"SA34b!I12","v":0},{"$f":"SA34b!J12","v":0},{"$f":"SA34b!K12","v":0}]
["Electrical Infrastructure",null,{"$f":"SA34b!C16","v":0},{"$f":"SA34b!D16","v":0},{"$f":"SA34b!E16","v":0},{"$f":"SA34b!F16","v":0},{"$f":"SA34b!G16","v":0},{"$f":"SA34b!H16","v":0},{"$f":"SA34b!I16","v":0},{"$f":"SA34b!J16","v":0},{"$f":"SA34b!K16","v":0}]
["Water Supply Infrastructure",null,{"$f":"SA34b!C26","v":0},{"$f":"SA34b!D26","v":0},{"$f":"SA34b!E26","v":0},{"$f":"SA34b!F26","v":7572463},{"$f":"SA34b!G26","v":4326248},{"$f":"SA34b!H26","v":4326248},{"$f":"SA34b!I26","v":7638150},{"$f":"SA34b!J26","v":7378877},{"$f":"SA34b!K26","v":3831145}]
["Sanitation Infrastructure",null,{"$f":"SA34b!C37","v":0},{"$f":"SA34b!D37","v":0},{"$f":"SA34b!E37","v":0},{"$f":"SA34b!F37","v":1108808},{"$f":"SA34b!G37","v":1108808},{"$f":"SA34b!H37","v":1108808},{"$f":"SA34b!I37","v":1158704},{"$f":"SA34b!J37","v":1212005},{"$f":"SA34b!K37","v":1267757}]
["Solid Waste Infrastructure",null,{"$f":"SA34b!C44","v":0},{"$f":"SA34b!D44","v":0},{"$f":"SA34b!E44","v":0},{"$f":"SA34b!F44","v":0},{"$f":"SA34b!G44","v":0},{"$f":"SA34b!H44","v":0},{"$f":"SA34b!I44","v":0},{"$f":"SA34b!J44","v":0},{"$f":"SA34b!K44","v":0}]
["Rail Infrastructure",null,{"$f":"SA34b!C52","v":0},{"$f":"SA34b!D52","v":0},{"$f":"SA34b!E52","v":0},{"$f":"SA34b!F52","v":0},{"$f":"SA34b!G52","v":0},{"$f":"SA34b!H52","v":0},{"$f":"SA34b!I52","v":0},{"$f":"SA34b!J52","v":0},{"$f":"SA34b!K52","v":0}]
["Coastal Infrastructure",null,{"$f":"SA34b!C62","v":0},{"$f":"SA34b!D62","v":0},{"$f":"SA34b!E62","v":0},{"$f":"SA34b!F62","v":0},{"$f":"SA34b!G62","v":0},{"$f":"SA34b!H62","v":0},{"$f":"SA34b!I62","v":0},{"$f":"SA34b!J62","v":0},{"$f":"SA34b!K62","v":0}]
["Information and Communication Infrastructure",null,{"$f":"SA34b!C68","v":0},{"$f":"SA34b!D68","v":0},{"$f":"SA34b!E68","v":0},{"$f":"SA34b!F68","v":0},{"$f":"SA34b!G68","v":0},{"$f":"SA34b!H68","v":0},{"$f":"SA34b!I68","v":0},{"$f":"SA34b!J68","v":0},{"$f":"SA34b!K68","v":0}]
["Infrastructure",null,{"$f":"SUM(C38:C46)","v":0},{"$f":"SUM(D38:D46)","v":0},0,8681271,5435056,5435056,8796854,8590882,5098902]
["Community Facilities",null,{"$f":"SA34b!C75","v":0},{"$f":"SA34b!D75","v":0},{"$f":"SA34b!E75","v":0},{"$f":"SA34b!F75","v":0},{"$f":"SA34b!G75","v":0},{"$f":"SA34b!H75","v":0},{"$f":"SA34b!I75","v":0},{"$f":"SA34b!J75","v":0},{"$f":"SA34b!K75","v":0}]
["Sport and Recreation Facilities",null,{"$f":"SA34b!C98","v":0},{"$f":"SA34b!D98","v":0},{"$f":"SA34b!E98","v":0},{"$f":"SA34b!F98","v":0},{"$f":"SA34b!G98","v":0},{"$f":"SA34b!H98","v":0},{"$f":"SA34b!I98","v":0},{"$f":"SA34b!J98","v":0},{"$f":"SA34b!K98","v":0}]
["Community Assets",null,{"$f":"SUM(C48:C49)","v":0},{"$f":"SUM(D48:D49)","v":0},0,0,0,0,0,0,0]
["Heritage Assets",null,{"$f":"SA34b!C103","v":0},{"$f":"SA34b!D103","v":0},{"$f":"SA34b!E103","v":0},{"$f":"SA34b!F103","v":0},{"$f":"SA34b!G103","v":0},{"$f":"SA34b!H103","v":0},{"$f":"SA34b!I103","v":0},{"$f":"SA34b!J103","v":0},{"$f":"SA34b!K103","v":0}]
["Revenue Generating",null,{"$f":"SA34b!C111","v":0},{"$f":"SA34b!D111","v":0},{"$f":"SA34b!E111","v":0},{"$f":"SA34b!F111","v":0},{"$f":"SA34b!G111","v":0},{"$f":"SA34b!H111","v":0},{"$f":"SA34b!I111","v":0},{"$f":"SA34b!J111","v":0},{"$f":"SA34b!K111","v":0}]
["Non-revenue Generating",null,{"$f":"SA34b!C114","v":0},{"$f":"SA34b!D114","v":0},{"$f":"SA34b!E114","v":0},{"$f":"SA34b!F114","v":0},{"$f":"SA34b!G114","v":0},{"$f":"SA34b!H114","v":0},{"$f":"SA34b!I114","v":0},{"$f":"SA34b!J114","v":0},{"$f":"SA34b!K114","v":0}]
["Investment properties",null,{"$f":"SUM(C52:C53)","v":0},{"$f":"SUM(D52:D53)","v":0},0,0,0,0,0,0,0]
["Operational Buildings",null,{"$f":"SA34b!C119","v":0},{"$f":"SA34b!D119","v":0},{"$f":"SA34b!E119","v":0},{"$f":"SA34b!F119","v":16500000},{"$f":"SA34b!G119","v":4500000},{"$f":"SA34b!H119","v":4500000},{"$f":"SA34b!I119","v":11581000},{"$f":"SA34b!J119","v":2000000},{"$f":"SA34b!K119","v":2500000}]
["Housing",null,{"$f":"SA34b!C131","v":0},{"$f":"SA34b!D131","v":0},{"$f":"SA34b!E131","v":0},{"$f":"SA34b!F131","v":3000000},{"$f":"SA34b!G131","v":3000000},{"$f":"SA34b!H131","v":3000000},{"$f":"SA34b!I131","v":0},{"$f":"SA34b!J131","v":0},{"$f":"SA34b!K131","v":0}]
["Other Assets",null,{"$f":"SUM(C55:C56)","v":0},{"$f":"SUM(D55:D56)","v":0},0,19500000,7500000,7500000,11581000,2000000,2500000]
["Biological or Cultivated Assets",null,{"$f":"SA34b!C136","v":0},{"$f":"SA34b!D136","v":0},{"$f":"SA34b!E136","v":0},{"$f":"SA34b!F136","v":0},{"$f":"SA34b!G136","v":0},{"$f":"SA34b!H136","v":0},{"$f":"SA34b!I136","v":0},{"$f":"SA34b!J136","v":0},{"$f":"SA34b!K136","v":0}]
["Servitudes",null,{"$f":"SA34b!C140","v":0},{"$f":"SA34b!D140","v":0},{"$f":"SA34b!E140","v":0},{"$f":"SA34b!F140","v":0},{"$f":"SA34b!G140","v":0},{"$f":"SA34b!H140","v":0},{"$f":"SA34b!I140","v":0},{"$f":"SA34b!J140","v":0},{"$f":"SA34b!K140","v":0}]
["Licences and Rights",null,{"$f":"SA34b!C141","v":0},{"$f":"SA34b!D141","v":0},{"$f":"SA34b!E141","v":0},{"$f":"SA34b!F141","v":0},{"$f":"SA34b!G141","v":0},{"$f":"SA34b!H141","v":0},{"$f":"SA34b!I141","v":0},{"$f":"SA34b!J141","v":0},{"$f":"SA34b!K141","v":0}]
["Intangible Assets",null,{"$f":"SUM(C59:C60)","v":0},{"$f":"SUM(D59:D60)","v":0},0,0,0,0,0,0,0]
["Computer Equipment",null,{"$f":"SA34b!C149","v":0},{"$f":"SA34b!D149","v":0},{"$f":"SA34b!E149","v":0},{"$f":"SA34b!F149","v":0},{"$f":"SA34b!G149","v":0},{"$f":"SA34b!H149","v":0},{"$f":"SA34b!I149","v":0},{"$f":"SA34b!J149","v":0},{"$f":"SA34b!K149","v":0}]
["Furniture and Office Equipment",null,{"$f":"SA34b!C152","v":0},{"$f":"SA34b!D152","v":0},{"$f":"SA34b!E152","v":0},{"$f":"SA34b!F152","v":0},{"$f":"SA34b!G152","v":0},{"$f":"SA34b!H152","v":0},{"$f":"SA34b!I152","v":0},{"$f":"SA34b!J152","v":0},{"$f":"SA34b!K152","v":0}]
["Machinery and Equipment",null,{"$f":"SA34b!C155","v":0},{"$f":"SA34b!D155","v":0},{"$f":"SA34b!E155","v":0},{"$f":"SA34b!F155","v":0},{"$f":"SA34b!G155","v":0},{"$f":"SA34b!H155","v":0},{"$f":"SA34b!I155","v":0},{"$f":"SA34b!J155","v":0},{"$f":"SA34b!K155","v":0}]
["Transport Assets",null,{"$f":"SA34b!C158","v":0},{"$f":"SA34b!D158","v":0},{"$f":"SA34b!E158","v":0},{"$f":"SA34b!F158","v":0},{"$f":"SA34b!G158","v":0},{"$f":"SA34b!H158","v":0},{"$f":"SA34b!I158","v":0},{"$f":"SA34b!J158","v":0},{"$f":"SA34b!K158","v":0}]
["Land",null,{"$f":"SA34b!C161","v":0},{"$f":"SA34b!D161","v":0},{"$f":"SA34b!E161","v":0},{"$f":"SA34b!F161","v":0},{"$f":"SA34b!G161","v":0},{"$f":"SA34b!H161","v":0},{"$f":"SA34b!I161","v":0},{"$f":"SA34b!J161","v":0},{"$f":"SA34b!K161","v":0}]
["Zoo's, Marine and Non-biological Animals",null,{"$f":"SA34b!C164","v":0},{"$f":"SA34b!D164","v":0},{"$f":"SA34b!E164","v":0},{"$f":"SA34b!F164","v":0},{"$f":"SA34b!G164","v":0},{"$f":"SA34b!H164","v":0},{"$f":"SA34b!I164","v":0},{"$f":"SA34b!J164","v":0},{"$f":"SA34b!K164","v":0}]
[]
["Total Upgrading of Existing Assets",6,{"$f":"C79+C82+C83+C86+C89+C90+SUM(C93:C99)","v":0},{"$f":"D79+D82+D83+D86+D89+D90+SUM(D93:D99)","v":0},0,0,0,0,0,0,0]
["Roads Infrastructure",null,{"$f":"SA34e!C7","v":0},{"$f":"SA34e!D7","v":0},{"$f":"SA34e!E7","v":0},{"$f":"SA34e!F7","v":0},{"$f":"SA34e!G7","v":0},{"$f":"SA34e!H7","v":0},{"$f":"SA34e!I7","v":0},{"$f":"SA34e!J7","v":0},{"$f":"SA34e!K7","v":0}]
["Storm water Infrastructure",null,{"$f":"SA34e!C12","v":0},{"$f":"SA34e!D12","v":0},{"$f":"SA34e!E12","v":0},{"$f":"SA34e!F12","v":0},{"$f":"SA34e!G12","v":0},{"$f":"SA34e!H12","v":0},{"$f":"SA34e!I12","v":0},{"$f":"SA34e!J12","v":0},{"$f":"SA34e!K12","v":0}]
["Electrical Infrastructure",null,{"$f":"SA34e!C16","v":0},{"$f":"SA34e!D16","v":0},{"$f":"SA34e!E16","v":0},{"$f":"SA34e!F16","v":0},{"$f":"SA34e!G16","v":0},{"$f":"SA34e!H16","v":0},{"$f":"SA34e!I16","v":0},{"$f":"SA34e!J16","v":0},{"$f":"SA34e!K16","v":0}]
["Water Supply Infrastructure",null,{"$f":"SA34e!C26","v":0},{"$f":"SA34e!D26","v":0},{"$f":"SA34e!E26","v":0},{"$f":"SA34e!F26","v":0},{"$f":"SA34e!G26","v":0},{"$f":"SA34e!H26","v":0},{"$f":"SA34e!I26","v":0},{"$f":"SA34e!J26","v":0},{"$f":"SA34e!K26","v":0}]
["Sanitation Infrastructure",null,{"$f":"SA34e!C37","v":0},{"$f":"SA34e!D37","v":0},{"$f":"SA34e!E37","v":0},{"$f":"SA34e!F37","v":0},{"$f":"SA34e!G37","v":0},{"$f":"SA34e!H37","v":0},{"$f":"SA34e!I37","v":0},{"$f":"SA34e!J37","v":0},{"$f":"SA34e!K37","v":0}]
["Solid Waste Infrastructure",null,{"$f":"SA34e!C44","v":0},{"$f":"SA34e!D44","v":0},{"$f":"SA34e!E44","v":0},{"$f":"SA34e!F44","v":0},{"$f":"SA34e!G44","v":0},{"$f":"SA34e!H44","v":0},{"$f":"SA34e!I44","v":0},{"$f":"SA34e!J44","v":0},{"$f":"SA34e!K44","v":0}]
["Rail Infrastructure",null,{"$f":"SA34e!C52","v":0},{"$f":"SA34e!D52","v":0},{"$f":"SA34e!E52","v":0},{"$f":"SA34e!F52","v":0},{"$f":"SA34e!G52","v":0},{"$f":"SA34e!H52","v":0},{"$f":"SA34e!I52","v":0},{"$f":"SA34e!J52","v":0},{"$f":"SA34e!K52","v":0}]
["Coastal Infrastructure",null,{"$f":"SA34e!C62","v":0},{"$f":"SA34e!D62","v":0},{"$f":"SA34e!E62","v":0},{"$f":"SA34e!F62","v":0},{"$f":"SA34e!G62","v":0},{"$f":"SA34e!H62","v":0},{"$f":"SA34e!I62","v":0},{"$f":"SA34e!J62","v":0},{"$f":"SA34e!K62","v":0}]
["Information and Communication Infrastructure",null,{"$f":"SA34e!C68","v":0},{"$f":"SA34e!D68","v":0},{"$f":"SA34e!E68","v":0},{"$f":"SA34e!F68","v":0},{"$f":"SA34e!G68","v":0},{"$f":"SA34e!H68","v":0},{"$f":"SA34e!I68","v":0},{"$f":"SA34e!J68","v":0},{"$f":"SA34e!K68","v":0}]
["Infrastructure",null,{"$f":"SUM(C70:C78)","v":0},0,0,0,0,0,0,0,0]
["Community Facilities",null,{"$f":"SA34e!C75","v":0},{"$f":"SA34e!D75","v":0},{"$f":"SA34e!E75","v":0},{"$f":"SA34e!F75","v":0},{"$f":"SA34e!G75","v":0},{"$f":"SA34e!H75","v":0},{"$f":"SA34e!I75","v":0},{"$f":"SA34e!J75","v":0},{"$f":"SA34e!K75","v":0}]
["Sport and Recreation Facilities",null,{"$f":"SA34e!C98","v":0},{"$f":"SA34e!D98","v":0},{"$f":"SA34e!E98","v":0},{"$f":"SA34e!F98","v":0},{"$f":"SA34e!G98","v":0},{"$f":"SA34e!H98","v":0},{"$f":"SA34e!I98","v":0},{"$f":"SA34e!J98","v":0},{"$f":"SA34e!K98","v":0}]
["Community Assets",null,{"$f":"SUM(C80:C81)","v":0},0,0,0,0,0,0,0,0]
["Heritage Assets",null,{"$f":"SA34e!C103","v":0},{"$f":"SA34e!D103","v":0},{"$f":"SA34e!E103","v":0},{"$f":"SA34e!F103","v":0},{"$f":"SA34e!G103","v":0},{"$f":"SA34e!H103","v":0},{"$f":"SA34e!I103","v":0},{"$f":"SA34e!J103","v":0},{"$f":"SA34e!K103","v":0}]
["Revenue Generating",null,{"$f":"SA34e!C111","v":0},{"$f":"SA34e!D111","v":0},{"$f":"SA34e!E111","v":0},{"$f":"SA34e!F111","v":0},{"$f":"SA34e!G111","v":0},{"$f":"SA34e!H111","v":0},{"$f":"SA34e!I111","v":0},{"$f":"SA34e!J111","v":0},{"$f":"SA34e!K111","v":0}]
["Non-revenue Generating",null,{"$f":"SA34e!C114","v":0},{"$f":"SA34e!D114","v":0},{"$f":"SA34e!E114","v":0},{"$f":"SA34e!F114","v":0},{"$f":"SA34e!G114","v":0},{"$f":"SA34e!H114","v":0},{"$f":"SA34e!I114","v":0},{"$f":"SA34e!J114","v":0},{"$f":"SA34e!K114","v":0}]
["Investment properties",null,{"$f":"SUM(C84:C85)","v":0},0,0,0,0,0,0,0,0]
["Operational Buildings",null,{"$f":"SA34e!C119","v":0},{"$f":"SA34e!D119","v":0},{"$f":"SA34e!E119","v":0},{"$f":"SA34e!F119","v":0},{"$f":"SA34e!G119","v":0},{"$f":"SA34e!H119","v":0},{"$f":"SA34e!I119","v":0},{"$f":"SA34e!J119","v":0},{"$f":"SA34e!K119","v":0}]
["Housing",null,{"$f":"SA34e!C131","v":0},{"$f":"SA34e!D131","v":0},{"$f":"SA34e!E131","v":0},{"$f":"SA34e!F131","v":0},{"$f":"SA34e!G131","v":0},{"$f":"SA34e!H131","v":0},{"$f":"SA34e!I131","v":0},{"$f":"SA34e!J131","v":0},{"$f":"SA34e!K131","v":0}]
["Other Assets",null,{"$f":"SUM(C87:C88)","v":0},0,0,0,0,0,0,0,0]
["Biological or Cultivated Assets",null,{"$f":"SA34e!C136","v":0},{"$f":"SA34e!D136","v":0},{"$f":"SA34e!E136","v":0},{"$f":"SA34e!F136","v":0},{"$f":"SA34e!G136","v":0},{"$f":"SA34e!H136","v":0},{"$f":"SA34e!I136","v":0},{"$f":"SA34e!J136","v":0},{"$f":"SA34e!K136","v":0}]
["Servitudes",null,{"$f":"SA34e!C140","v":0},{"$f":"SA34e!D140","v":0},{"$f":"SA34e!E140","v":0},{"$f":"SA34e!F140","v":0},{"$f":"SA34e!G140","v":0},{"$f":"SA34e!H140","v":0},{"$f":"SA34e!I140","v":0},{"$f":"SA34e!J140","v":0},{"$f":"SA34e!K140","v":0}]
["Licences and Rights",null,{"$f":"SA34e!C141","v":0},{"$f":"SA34e!D141","v":0},{"$f":"SA34e!E141","v":0},{"$f":"SA34e!F141","v":0},{"$f":"SA34e!G141","v":0},{"$f":"SA34e!H141","v":0},{"$f":"SA34e!I141","v":0},{"$f":"SA34e!J141","v":0},{"$f":"SA34e!K141","v":0}]
["Intangible Assets",null,{"$f":"SUM(C91:C92)","v":0},0,0,0,0,0,0,0,0]
["Computer Equipment",null,{"$f":"SA34e!C149","v":0},{"$f":"SA34e!D149","v":0},{"$f":"SA34e!E149","v":0},{"$f":"SA34e!F149","v":0},{"$f":"SA34e!G149","v":0},{"$f":"SA34e!H149","v":0},{"$f":"SA34e!I149","v":0},{"$f":"SA34e!J149","v":0},{"$f":"SA34e!K149","v":0}]
["Furniture and Office Equipment",null,{"$f":"SA34e!C152","v":0},{"$f":"SA34e!D152","v":0},{"$f":"SA34e!E152","v":0},{"$f":"SA34e!F152","v":0},{"$f":"SA34e!G152","v":0},{"$f":"SA34e!H152","v":0},{"$f":"SA34e!I152","v":0},{"$f":"SA34e!J152","v":0},{"$f":"SA34e!K152","v":0}]
["Machinery and Equipment",null,{"$f":"SA34e!C155","v":0},{"$f":"SA34e!D155","v":0},{"$f":"SA34e!E155","v":0},{"$f":"SA34e!F155","v":0},{"$f":"SA34e!G155","v":0},{"$f":"SA34e!H155","v":0},{"$f":"SA34e!I155","v":0},{"$f":"SA34e!J155","v":0},{"$f":"SA34e!K155","v":0}]
["Transport Assets",null,{"$f":"SA34e!C158","v":0},{"$f":"SA34e!D158","v":0},{"$f":"SA34e!E158","v":0},{"$f":"SA34e!F158","v":0},{"$f":"SA34e!G158","v":0},{"$f":"SA34e!H158","v":0},{"$f":"SA34e!I158","v":0},{"$f":"SA34e!J158","v":0},{"$f":"SA34e!K158","v":0}]
["Land",null,{"$f":"SA34e!C161","v":0},{"$f":"SA34e!D161","v":0},{"$f":"SA34e!E161","v":0},{"$f":"SA34e!F161","v":0},{"$f":"SA34e!G161","v":0},{"$f":"SA34e!H161","v":0},{"$f":"SA34e!I161","v":0},{"$f":"SA34e!J161","v":0},{"$f":"SA34e!K161","v":0}]
["Zoo's, Marine and Non-biological Animals",null,{"$f":"SA34e!C164","v":0},{"$f":"SA34e!D164","v":0},{"$f":"SA34e!E164","v":0},{"$f":"SA34e!F164","v":0},{"$f":"SA34e!G164","v":0},{"$f":"SA34e!H164","v":0},{"$f":"SA34e!I164","v":0},{"$f":"SA34e!J164","v":0},{"$f":"SA34e!K164","v":0}]
[]
["Total Capital Expenditure",4,{"$f":"+C5+C37+C69","v":810395059},{"$f":"+D5+D37+D69","v":779295709},875178512,1123227534,1351709411,1351709411,1044807053,978659832,1060649435]
["Roads Infrastructure",null,{"$f":"+C6+C38+C70","v":0},{"$f":"+D6+D38+D70","v":0},0,3112000,6112000,6112000,2962000,3125000,3306000]
["Storm water Infrastructure",null,{"$f":"+C7+C39+C71","v":0},0,0,0,0,0,0,0,0]
["Electrical Infrastructure",null,0,0,0,0,0,0,0,0,0]
["Water Supply Infrastructure",null,809271875,731779794,862537145,790983696,1028033493,1028033493,740385562,913967607,1017464317]
["Sanitation Infrastructure",null,0,0,0,207142246,141452279,141452279,137530586,11824633,12799566]
["Solid Waste Infrastructure",null,0,0,0,0,0,0,0,0,0]
["Rail Infrastructure",null,0,0,0,0,0,0,0,0,0]
["Coastal Infrastructure",null,0,0,0,0,0,0,0,0,0]
["Information and Communication Infrastructure",null,0,0,0,0,0,0,0,0,0]
["Infrastructure",null,{"$f":"SUM(C102:C110)","v":809271875},{"$f":"SUM(D102:D110)","v":731779794},862537145,1001237942,1175597772,1175597772,880878148,928917240,1033569883]
["Community Facilities",null,{"$f":"+C16+C48+C80","v":0},{"$f":"+D16+D48+D80","v":0},0,67850824,73377383,73377383,48200000,7000000,0]
["Sport and Recreation Facilities",null,{"$f":"+C17+C49+C81","v":0},{"$f":"+D17+D49+D81","v":0},0,0,0,0,0,0,0]
["Community Assets",null,{"$f":"SUM(C112:C113)","v":0},{"$f":"SUM(D112:D113)","v":0},0,67850824,73377383,73377383,48200000,7000000,0]
["Heritage Assets",null,{"$f":"+C19+C51+C83","v":0},{"$f":"+D19+D51+D83","v":0},0,0,0,0,0,0,0]
["Revenue Generating",null,{"$f":"+C20+C52+C84","v":0},{"$f":"+D20+D52+D84","v":0},0,0,0,0,0,0,0]
["Non-revenue Generating",null,{"$f":"+C21+C53+C85","v":0},{"$f":"+D21+D53+D85","v":0},0,0,0,0,0,0,0]
["Investment properties",null,{"$f":"SUM(C116:C117)","v":0},{"$f":"SUM(D116:D117)","v":0},0,0,0,0,0,0,0]
["Operational Buildings",null,{"$f":"+C23+C55+C87","v":0},{"$f":"+D23+D55+D87","v":0},2230623,16500000,6100000,6100000,19611000,8833000,9333000]
["Housing",null,{"$f":"+C24+C56+C88","v":0},{"$f":"+D24+D56+D88","v":0},0,3500000,50795730,50795730,40000000,0,0]
["Other Assets",null,{"$f":"SUM(C119:C120)","v":0},0,2230623,20000000,56895730,56895730,59611000,8833000,9333000]
["Biological or Cultivated Assets",null,{"$f":"+C26+C58+C90","v":0},{"$f":"+D26+D58+D90","v":1112401},0,0,0,0,0,0,0]
["Servitudes",null,{"$f":"+C27+C59+C91","v":0},{"$f":"+D27+D59+D91","v":0},0,0,0,0,0,0,0]
["Licences and Rights",null,{"$f":"+C28+C60+C92","v":805184},{"$f":"+D28+D60+D92","v":4989617},315580,2686154,9086154,9086154,6881207,3262259,3150000]
["Intangible Assets",null,{"$f":"SUM(C123:C124)","v":805184},{"$f":"SUM(D123:D124)","v":4989617},315580,2686154,9086154,9086154,6881207,3262259,3150000]
["Computer Equipment",null,{"$f":"+C30+C62+C94","v":0},{"$f":"+D30+D62+D94","v":0},0,1970000,2410000,2410000,2658000,3500000,4519800]
["Furniture and Office Equipment",null,{"$f":"+C31+C63+C95","v":318000},2604077,1419204,1300000,7280000,7280000,4850000,3850000,0]
["Machinery and Equipment",null,0,7721540,3924816,11682614,7962372,7962372,28528698,8497333,2076752]
["Transport Assets",null,0,4179831,4751144,16500000,19100000,19100000,13200000,14800000,8000000]
["Land",null,0,26908449,0,0,0,0,0,0,0]
["Zoo's, Marine and Non-biological Animals",null,0,0,0,0,0,0,0,0,0]
["TOTAL CAPITAL EXPENDITURE - Asset class",null,{"$f":"+C5+C37+C69","v":810395059},{"$f":"+D5+D37+D69","v":779295709},875178512,1123227534,1351709411,1351709411,1044807053,978659832,1060649435]
[]
["ASSET REGISTER SUMMARY - PPE (WDV)",5,{"$f":"C144+C147+C148+C151+C154+C155+C158+C159+C160+C161+C162+C163+C164","v":802234498},{"$f":"D144+D147+D148+D151+D154+D155+D158+D159+D160+D161+D162+D163+D164","v":2910489141.1500006},4624109566.3499994,1123227534,8504831621,8504831621,9133838404,9794915856,10273636980]
["Roads Infrastructure",null,0,0,0,3112000,6112000,6112000,2962000,3125000,3306000]
["Storm water Infrastructure"]
["Electrical Infrastructure",null,0,0,0,0,0,0,0,0,0]
["Water Supply Infrastructure",null,784897113,2751683977.6300001,4463777506.6899996,790983696,8168904892,8168904892,8817016102,9717872820,10217545265]
["Sanitation Infrastructure",null,0,-12529073.970000001,-12674440.550000001,207142246,141452279,141452279,137530586,11824633,12799566]
["Solid Waste Infrastructure"]
["Rail Infrastructure"]
["Coastal Infrastructure"]
["Information and Communication Infrastructure",null,0,0,0,0,0,0,0,0,0]
["Infrastructure",null,{"$f":"SUM(C135:C143)","v":784897113},{"$f":"SUM(D135:D143)","v":2739154903.6600003},4451103066.1399994,1001237942,8316469171,8316469171,8957508688,9732822453,10233650831]
[]
[]
["Community Assets",null,0,374533.25,13464621.26,67850824,73377383,73377383,48200000,7000000,0]
["Heritage Assets",null,0,247025,247025,0,250000,250000,250000,250000,261250]
[]
[]
["Investment properties",null,0,2200000,2200000,0,2200000,2200000,2200000,2200000,2299000]
[]
[]
["Other Assets",null,1974469,108867494.65000001,104371225.77,20000000,56895730,56895730,59611000,8833000,9333000]
["Biological or Cultivated Assets",null,0,0,0,0,0,0,0,0,0]
[]
[]
["Intangible Assets",null,0,4344902.8099999996,2800833.99,2686154,18886965,18886965,16832018,13163070,13496347]
["Computer Equipment",null,800864,2080175.02,1972619.59,1970000,2410000,2410000,2658000,3500000,4519800]
["Furniture and Office Equipment",null,2501785,10402751.51,8504273.8900000006,1300000,7280000,7280000,4850000,3850000,0]
["Machinery and Equipment",null,1623026,2841455.63,2110047.65,11682614,7962372,7962372,28528698,8497333,2076752]
["Transport Assets",null,10437241,35991982.850000001,30057238.190000001,16500000,19100000,19100000,13200000,14800000,8000000]
["Land",null,0,3983916.77,7278614.8700000001,0,0,0,0,0,0]
["Zoo's, Marine and Non-biological Animals"]
["TOTAL ASSET REGISTER SUMMARY - PPE (WDV)",5,{"$f":"C144+C147+C148+C151+C154+C155+C158+C159+C160+C161+C162+C163+C164","v":802234498},{"$f":"D144+D147+D148+D151+D154+D155+D158+D159+D160+D161+D162+D163+D164","v":2910489141.1500006},4624109566.3499994,1123227534,8504831621,8504831621,9133838404,9794915856,10273636980]
[]
["EXPENDITURE OTHER ITEMS",null,{"$f":"SUM(C168:C169)","v":250767313},{"$f":"SUM(D168:D169)","v":346250968.69999999},341669548.41000003,248557477,317417661,317417661,274184194,279168583,285462353]
["Depreciation",7,{"$f":"SA34d!C167","v":164455907},{"$f":"SA34d!D167","v":189380733},{"$f":"SA34d!E167","v":196525406.00000003},{"$f":"SA34d!F167","v":165748000},{"$f":"SA34d!G167","v":241121946},{"$f":"SA34d!H167","v":241121946},{"$f":"SA34d!I167","v":176963581},{"$f":"SA34d!J167","v":185858322},{"$f":"SA34d!K167","v":194022428}]
["Repairs and Maintenance by Asset Class",3,{"$f":"C179+C182+C183+C186+C189+C190+SUM(C193:C199)","v":86311406},{"$f":"D179+D182+D183+D186+D189+D190+SUM(D193:D199)","v":156870235.69999999},145144142.41,82809477,76295715,76295715,97220613,93310261,91439925]
["Roads Infrastructure",null,{"$f":"SA34c!C7","v":0},{"$f":"SA34c!D7","v":5984940.1100000003},{"$f":"SA34c!E7","v":1094290.8500000001},{"$f":"SA34c!F7","v":5112000},{"$f":"SA34c!G7","v":5912000},{"$f":"SA34c!H7","v":5912000},{"$f":"SA34c!I7","v":7252206},{"$f":"SA34c!J7","v":9677807},{"$f":"SA34c!K7","v":10122986}]
["Storm water Infrastructure",null,{"$f":"SA34c!C12","v":0},{"$f":"SA34c!D12","v":0},{"$f":"SA34c!E12","v":0},{"$f":"SA34c!F12","v":0},{"$f":"SA34c!G12","v":0},{"$f":"SA34c!H12","v":0},{"$f":"SA34c!I12","v":0},{"$f":"SA34c!J12","v":0},{"$f":"SA34c!K12","v":0}]
["Electrical Infrastructure",null,{"$f":"SA34c!C16","v":0},{"$f":"SA34c!D16","v":0},{"$f":"SA34c!E16","v":0},{"$f":"SA34c!F16","v":0},{"$f":"SA34c!G16","v":0},{"$f":"SA34c!H16","v":0},{"$f":"SA34c!I16","v":0},{"$f":"SA34c!J16","v":0},{"$f":"SA34c!K16","v":0}]
["Water Supply Infrastructure",null,{"$f":"SA34c!C26","v":86311406},{"$f":"SA34c!D26","v":117508756.21000001},{"$f":"SA34c!E26","v":68635342.920000002},{"$f":"SA34c!F26","v":26641127},{"$f":"SA34c!G26","v":25433159},{"$f":"SA34c!H26","v":25433159},{"$f":"SA34c!I26","v":42804769},{"$f":"SA34c!J26","v":33393605},{"$f":"SA34c!K26","v":33479033}]
["Sanitation Infrastructure",null,{"$f":"SA34c!C37","v":0},{"$f":"SA34c!D37","v":26951940.689999998},{"$f":"SA34c!E37","v":57879205.450000003},{"$f":"SA34c!F37","v":30174313},{"$f":"SA34c!G37","v":22046786},{"$f":"SA34c!H37","v":22046786},{"$f":"SA34c!I37","v":23129283},{"$f":"SA34c!J37","v":28409954},{"$f":"SA34c!K37","v":25207220}]
["Solid Waste Infrastructure",null,{"$f":"SA34c!C44","v":0},{"$f":"SA34c!D44","v":0},{"$f":"SA34c!E44","v":0},{"$f":"SA34c!F44","v":0},{"$f":"SA34c!G44","v":0},{"$f":"SA34c!H44","v":0},{"$f":"SA34c!I44","v":0},{"$f":"SA34c!J44","v":0},{"$f":"SA34c!K44","v":0}]
["Rail Infrastructure",null,{"$f":"SA34c!C52","v":0},{"$f":"SA34c!D52","v":0},{"$f":"SA34c!E52","v":0},{"$f":"SA34c!F52","v":0},{"$f":"SA34c!G52","v":0},{"$f":"SA34c!H52","v":0},{"$f":"SA34c!I52","v":0},{"$f":"SA34c!J52","v":0},{"$f":"SA34c!K52","v":0}]
["Coastal Infrastructure",null,{"$f":"SA34c!C62","v":0},{"$f":"SA34c!D62","v":0},{"$f":"SA34c!E62","v":0},{"$f":"SA34c!F62","v":0},{"$f":"SA34c!G62","v":0},{"$f":"SA34c!H62","v":0},{"$f":"SA34c!I62","v":0},{"$f":"SA34c!J62","v":0},{"$f":"SA34c!K62","v":0}]
["Information and Communication Infrastructure",null,{"$f":"SA34c!C68","v":0},{"$f":"SA34c!D68","v":0},{"$f":"SA34c!E68","v":0},{"$f":"SA34c!F68","v":0},{"$f":"SA34c!G68","v":0},{"$f":"SA34c!H68","v":0},{"$f":"SA34c!I68","v":0},{"$f":"SA34c!J68","v":0},{"$f":"SA34c!K68","v":0}]
["Infrastructure",null,{"$f":"SUM(C170:C178)","v":86311406},{"$f":"SUM(D170:D178)","v":150445637.00999999},127608839.22,61927440,53391945,53391945,73186258,71481366,68809239]
["Community Facilities",null,{"$f":"SA34c!C75","v":0},{"$f":"SA34c!D75","v":0},{"$f":"SA34c!E75","v":0},{"$f":"SA34c!F75","v":0},{"$f":"SA34c!G75","v":0},{"$f":"SA34c!H75","v":0},{"$f":"SA34c!I75","v":0},{"$f":"SA34c!J75","v":0},{"$f":"SA34c!K75","v":0}]
["Sport and Recreation Facilities",null,{"$f":"SA34c!C98","v":0},{"$f":"SA34c!D98","v":0},{"$f":"SA34c!E98","v":0},{"$f":"SA34c!F98","v":0},{"$f":"SA34c!G98","v":0},{"$f":"SA34c!H98","v":0},{"$f":"SA34c!I98","v":0},{"$f":"SA34c!J98","v":0},{"$f":"SA34c!K98","v":0}]
["Community Assets",null,{"$f":"SUM(C180:C181)","v":0},0,0,0,0,0,0,0,0]
["Heritage Assets",null,{"$f":"SA34c!C103","v":0},{"$f":"SA34c!D103","v":0},{"$f":"SA34c!E103","v":0},{"$f":"SA34c!F103","v":0},{"$f":"SA34c!G103","v":0},{"$f":"SA34c!H103","v":0},{"$f":"SA34c!I103","v":0},{"$f":"SA34c!J103","v":0},{"$f":"SA34c!K103","v":0}]
["Revenue Generating",null,{"$f":"SA34c!C111","v":0},{"$f":"SA34c!D111","v":0},{"$f":"SA34c!E111","v":0},{"$f":"SA34c!F111","v":0},{"$f":"SA34c!G111","v":0},{"$f":"SA34c!H111","v":0},{"$f":"SA34c!I111","v":0},{"$f":"SA34c!J111","v":0},{"$f":"SA34c!K111","v":0}]
["Non-revenue Generating",null,{"$f":"SA34c!C114","v":0},{"$f":"SA34c!D114","v":0},{"$f":"SA34c!E114","v":0},{"$f":"SA34c!F114","v":0},{"$f":"SA34c!G114","v":0},{"$f":"SA34c!H114","v":0},{"$f":"SA34c!I114","v":0},{"$f":"SA34c!J114","v":0},{"$f":"SA34c!K114","v":0}]
["Investment properties",null,{"$f":"SUM(C184:C185)","v":0},0,0,0,0,0,0,0,0]
["Operational Buildings",null,{"$f":"SA34c!C119","v":0},{"$f":"SA34c!D119","v":1116123.0900000001},{"$f":"SA34c!E119","v":4674607.49},{"$f":"SA34c!F119","v":11208040},{"$f":"SA34c!G119","v":13363773},{"$f":"SA34c!H119","v":13363773},{"$f":"SA34c!I119","v":13683176},{"$f":"SA34c!J119","v":10959066},{"$f":"SA34c!K119","v":11274436}]
["Housing",null,{"$f":"SA34c!C131","v":0},{"$f":"SA34c!D131","v":0},{"$f":"SA34c!E131","v":0},{"$f":"SA34c!F131","v":0},{"$f":"SA34c!G131","v":0},{"$f":"SA34c!H131","v":0},{"$f":"SA34c!I131","v":0},{"$f":"SA34c!J131","v":0},{"$f":"SA34c!K131","v":0}]
["Other Assets",null,{"$f":"SUM(C187:C188)","v":0},1116123.0900000001,4674607.49,11208040,13363773,13363773,13683176,10959066,11274436]
["Biological or Cultivated Assets",null,{"$f":"SA34c!C136","v":0},{"$f":"SA34c!D136","v":0},{"$f":"SA34c!E136","v":0},{"$f":"SA34c!F136","v":0},{"$f":"SA34c!G136","v":0},{"$f":"SA34c!H136","v":0},{"$f":"SA34c!I136","v":0},{"$f":"SA34c!J136","v":0},{"$f":"SA34c!K136","v":0}]
["Servitudes",null,{"$f":"SA34c!C140","v":0},{"$f":"SA34c!D140","v":0},{"$f":"SA34c!E140","v":0},{"$f":"SA34c!F140","v":0},{"$f":"SA34c!G140","v":0},{"$f":"SA34c!H140","v":0},{"$f":"SA34c!I140","v":0},{"$f":"SA34c!J140","v":0},{"$f":"SA34c!K140","v":0}]
["Licences and Rights",null,{"$f":"SA34c!C141","v":0},{"$f":"SA34c!D141","v":501795.72},{"$f":"SA34c!E141","v":5603139.7300000004},{"$f":"SA34c!F141","v":3786579},{"$f":"SA34c!G141","v":3786579},{"$f":"SA34c!H141","v":3786579},{"$f":"SA34c!I141","v":3956975},{"$f":"SA34c!J141","v":4138996},{"$f":"SA34c!K141","v":4329390}]
["Intangible Assets",null,{"$f":"SUM(C191:C192)","v":0},501795.72,5603139.7300000004,3786579,3786579,3786579,3956975,4138996,4329390]
["Computer Equipment",null,{"$f":"SA34c!C149","v":0},{"$f":"SA34c!D149","v":470638.32},{"$f":"SA34c!E149","v":544183.1},{"$f":"SA34c!F149","v":582124},{"$f":"SA34c!G149","v":282124},{"$f":"SA34c!H149","v":282124},{"$f":"SA34c!I149","v":608320},{"$f":"SA34c!J149","v":636302},{"$f":"SA34c!K149","v":665572}]
["Furniture and Office Equipment",null,{"$f":"SA34c!C152","v":0},{"$f":"SA34c!D152","v":1393125},{"$f":"SA34c!E152","v":529068.68000000005},{"$f":"SA34c!F152","v":562294},{"$f":"SA34c!G152","v":562294},{"$f":"SA34c!H152","v":562294},{"$f":"SA34c!I152","v":587597},{"$f":"SA34c!J152","v":614627},{"$f":"SA34c!K152","v":642900}]
["Machinery and Equipment",null,{"$f":"SA34c!C155","v":0},{"$f":"SA34c!D155","v":512729.19},{"$f":"SA34c!E155","v":848727.43},{"$f":"SA34c!F155","v":1054000},{"$f":"SA34c!G155","v":1220000},{"$f":"SA34c!H155","v":1220000},{"$f":"SA34c!I155","v":1343282},{"$f":"SA34c!J155","v":1447569},{"$f":"SA34c!K155","v":1500565}]
["Transport Assets",null,{"$f":"SA34c!C158","v":0},{"$f":"SA34c!D158","v":2430187.37},{"$f":"SA34c!E158","v":5335576.76},{"$f":"SA34c!F158","v":3689000},{"$f":"SA34c!G158","v":3689000},{"$f":"SA34c!H158","v":3689000},{"$f":"SA34c!I158","v":3855005},{"$f":"SA34c!J158","v":4032335},{"$f":"SA34c!K158","v":4217823}]
["Land",null,{"$f":"SA34c!C161","v":0},{"$f":"SA34c!D161","v":0},{"$f":"SA34c!E161","v":0},{"$f":"SA34c!F161","v":0},{"$f":"SA34c!G161","v":0},{"$f":"SA34c!H161","v":0},{"$f":"SA34c!I161","v":0},{"$f":"SA34c!J161","v":0},{"$f":"SA34c!K161","v":0}]
["Zoo's, Marine and Non-biological Animals",null,{"$f":"SA34c!C164","v":0},{"$f":"SA34c!D164","v":0},{"$f":"SA34c!E164","v":0},{"$f":"SA34c!F164","v":0},{"$f":"SA34c!G164","v":0},{"$f":"SA34c!H164","v":0},{"$f":"SA34c!I164","v":0},{"$f":"SA34c!J164","v":0},{"$f":"SA34c!K164","v":0}]
[]
["TOTAL EXPENDITURE OTHER ITEMS",null,{"$f":"SUM(C168:C169)","v":250767313},346250968.69999999,341669548.41000003,248557477,317417661,317417661,274184194,279168583,285462353]
[]
["Renewal and upgrading of Existing Assets as % of total capex",null,{"$f":"IF(ISERROR((C37+C69)/C132),0,((C37+C69)/C132))","v":0},{"$f":"IF(ISERROR((D37+D69)/D132),0,((D37+D69)/D132))","v":0},0,2.5089547884961302E-2,9.5694058905978867E-3,9.5694058905978867E-3,1.9503939929854205E-2,1.0821821488633449E-2,7.1643860348636302E-3]
["Renewal and upgrading of Existing Assets as % of deprecn",null,{"$f":"IF(ISERROR((C37+C69)/C168),0,((C37+C69)/C168))","v":0},{"$f":"IF(ISERROR((D37+D69)/D168),0,((D37+D69)/D168))","v":0},0,0.17002480271255158,5.3645287020037569E-2,5.3645287020037569E-2,0.1151528121483934,5.6983630789478448E-2,3.9165070133026066E-2]
["R&M as a % of PPE",null,{"$f":"IF(ISERROR(ROUND(C169/'A6-FinPos'!C19,3)),0,(ROUND(C169/'A6-FinPos'!C19,3)))","v":1.6E-2},{"$f":"IF(ISERROR(ROUND(D169/'A6-FinPos'!D19,3)),0,(ROUND(D169/'A6-FinPos'!D19,3)))","v":2.5999999999999999E-2},{"$f":"IF(ISERROR(ROUND(E169/'A6-FinPos'!E19,3)),0,(ROUND(E169/'A6-FinPos'!E19,3)))","v":2.1999999999999999E-2},{"$f":"IF(ISERROR(ROUND(F169/'A6-FinPos'!F19,3)),0,(ROUND(F169/'A6-FinPos'!F19,3)))","v":8.9999999999999993E-3},{"$f":"IF(ISERROR(ROUND(G169/'A6-FinPos'!G19,3)),0,(ROUND(G169/'A6-FinPos'!G19,3)))","v":8.9999999999999993E-3},{"$f":"IF(ISERROR(ROUND(H169/'A6-FinPos'!H19,3)),0,(ROUND(H169/'A6-FinPos'!H19,3)))","v":8.9999999999999993E-3},{"$f":"IF(ISERROR(ROUND(I169/'A6-FinPos'!J19,3)),0,(ROUND(I169/'A6-FinPos'!J19,3)))","v":1.0999999999999999E-2},{"$f":"IF(ISERROR(ROUND(J169/'A6-FinPos'!K19,3)),0,(ROUND(J169/'A6-FinPos'!K19,3)))","v":0.01},{"$f":"IF(ISERROR(ROUND(K169/'A6-FinPos'!L19,3)),0,(ROUND(K169/'A6-FinPos'!L19,3)))","v":8.9999999999999993E-3}]
["Renewal and upgrading and R&M as a % of PPE",null,{"$f":"IF(ISERROR(ROUND((C37+C69+C169)/C165,2)),0,(ROUND((C37+C69+C169)/C165,2)))","v":0.11},{"$f":"IF(ISERROR(ROUND((D37+D69+D169)/D165,2)),0,(ROUND((D37+D69+D169)/D165,2)))","v":0.05},0.03,0.1,0.01,0.01,0.01,0.01,0.01]
[]
[{"$f":"head27a","v":"References"}]
["1. Detail of new assets provided in Table SA34a"]
["2. Detail of renewal of existing assets provided in Table SA34b"]
["3. Detail of Repairs and Maintenance by Asset Class provided in Table SA34c"]
["4. Must reconcile to total capital expenditure on Budgeted Capital Expenditure"]
["5. Must reconcile to 'Budgeted Financial Position' (written down value)"]
["6. Detail of upgrading of existing assets provided in Table SA34e"]
["7. Detail of depreciation provided in Table SA34d"]
[]
["Check balance to A6",null,{"$f":"C165-'A6-FinPos'!D17-'A6-FinPos'!D19-'A6-FinPos'!D20-'A6-FinPos'!D21-'A6-FinPos'!D22-C148","v":-5185298684.6899996},{"$f":"D165-'A6-FinPos'!E17-'A6-FinPos'!E19-'A6-FinPos'!E20-'A6-FinPos'!E21-'A6-FinPos'!E22-D148","v":-3622660116.6099997},{"$f":"E165-'A6-FinPos'!F17-'A6-FinPos'!F19-'A6-FinPos'!F20-'A6-FinPos'!F21-'A6-FinPos'!F22-E148","v":-5094416722.8351984},{"$f":"F165-'A6-FinPos'!G17-'A6-FinPos'!G19-'A6-FinPos'!G20-'A6-FinPos'!G21-'A6-FinPos'!G22-F148","v":-7387033087},{"$f":"G165-'A6-FinPos'!H17-'A6-FinPos'!H19-'A6-FinPos'!H20-'A6-FinPos'!H21-'A6-FinPos'!H22-G148","v":-5679000},{"$f":"H165-'A6-FinPos'!I17-'A6-FinPos'!I19-'A6-FinPos'!I20-'A6-FinPos'!I21-'A6-FinPos'!I22-H148","v":1539828694.0900002},{"$f":"I165-'A6-FinPos'!J17-'A6-FinPos'!J19-'A6-FinPos'!J20-'A6-FinPos'!J21-'A6-FinPos'!J22-I148","v":0},{"$f":"J165-'A6-FinPos'!K17-'A6-FinPos'!K19-'A6-FinPos'!K20-'A6-FinPos'!K21-'A6-FinPos'!K22-J148","v":0},{"$f":"K165-'A6-FinPos'!L17-'A6-FinPos'!L19-'A6-FinPos'!L20-'A6-FinPos'!L21-'A6-FinPos'!L22-K148","v":0}]

{"sheet":"A10-SerDel","index":19,"n_rows":89,"n_cols":11,"rows_kept":89,"cut":false,"hidden":false,"merged":[[1,5,1,7],[1,8,1,10],[1,0,2,0],[1,1,2,1]]}
[{"$f":"muni&\" - \"&Approve10","v":"DC15 O .R. Tambo - Table A10 Consolidated basic service delivery measurement"}]
[{"$f":"desc","v":"Description"},{"$f":"head27","v":"Ref"},{"$f":"head1b","v":"2016/17"},{"$f":"head1A","v":"2017/18"},{"$f":"Head1","v":"2018/19"},{"$f":"Head2","v":"Current Year 2019/20"},null,null,{"$f":"Head3","v":"2020/21 Medium Term Revenue & Expenditure Framework"}]
[null,null,{"$f":"Head5A","v":"Outcome"},{"$f":"Head5A","v":"Outcome"},{"$f":"Head5A","v":"Outcome"},{"$f":"Head6","v":"Original Budget"},{"$f":"Head7","v":"Adjusted Budget"},{"$f":"Head8","v":"Full Year Forecast"},{"$f":"Head9","v":"Budget Year 2020/21"},{"$f":"Head10","v":"Budget Year +1 2021/22"},{"$f":"Head11","v":"Budget Year +2 2022/23"}]
["Household service targets",1]
["Water:"]
["Piped water inside dwelling",null,{"$f":"'SA9'!E67","v":33554},{"$f":"'SA9'!F67","v":20181},{"$f":"'SA9'!G67","v":20181},{"$f":"'SA9'!H67","v":20493},{"$f":"'SA9'!I67","v":20493},{"$f":"'SA9'!J67","v":20493},{"$f":"'SA9'!K67","v":20805},{"$f":"'SA9'!L67","v":20805},{"$f":"'SA9'!M67","v":20805}]
["Piped water inside yard (but not in dwelling)",null,{"$f":"'SA9'!E68","v":29809},{"$f":"'SA9'!F68","v":39480},{"$f":"'SA9'!G68","v":39480},{"$f":"'SA9'!H68","v":40091},{"$f":"'SA9'!I68","v":40091},{"$f":"'SA9'!J68","v":40091},{"$f":"'SA9'!K68","v":40702},{"$f":"'SA9'!L68","v":40702},{"$f":"'SA9'!M68","v":40702}]
["Using public tap (at least min.service level)",2,{"$f":"'SA9'!E69","v":47727},{"$f":"'SA9'!F69","v":91252},{"$f":"'SA9'!G69","v":93636},{"$f":"'SA9'!H69","v":95087},{"$f":"'SA9'!I69","v":95087},{"$f":"'SA9'!J69","v":95087},{"$f":"'SA9'!K69","v":96538},{"$f":"'SA9'!L69","v":96538},{"$f":"'SA9'!M69","v":96538}]
["Other water supply (at least min.service level)",4,{"$f":"'SA9'!E70","v":0},{"$f":"'SA9'!F70","v":0},{"$f":"'SA9'!G70","v":0},{"$f":"'SA9'!H70","v":0},{"$f":"'SA9'!I70","v":0},{"$f":"'SA9'!J70","v":0},{"$f":"'SA9'!K70","v":0},{"$f":"'SA9'!L70","v":0},{"$f":"'SA9'!M70","v":0}]
["Minimum Service Level and Above sub-total",null,{"$f":"SUM(C6:C9)","v":111090},{"$f":"SUM(D6:D9)","v":150913},153297,155671,155671,155671,158045,158045,158045]
["Using public tap (< min.service level)",3,{"$f":"'SA9'!E72","v":0},{"$f":"'SA9'!F72","v":0},{"$f":"'SA9'!G72","v":0},{"$f":"'SA9'!H72","v":0},{"$f":"'SA9'!I72","v":0},{"$f":"'SA9'!J72","v":0},{"$f":"'SA9'!K72","v":0},{"$f":"'SA9'!L72","v":0},{"$f":"'SA9'!M72","v":0}]
["Other water supply (< min.service level)",{"$f":"B9","v":4},{"$f":"'SA9'!E73","v":18954},{"$f":"'SA9'!F73","v":10966},{"$f":"'SA9'!G73","v":11767},{"$f":"'SA9'!H73","v":13578},{"$f":"'SA9'!I73","v":13578},{"$f":"'SA9'!J73","v":13578},{"$f":"'SA9'!K73","v":25389},{"$f":"'SA9'!L73","v":37512},{"$f":"'SA9'!M73","v":49624}]
["No water supply",null,{"$f":"'SA9'!E74","v":193186},{"$f":"'SA9'!F74","v":158341},{"$f":"'SA9'!G74","v":161016},{"$f":"'SA9'!H74","v":163672},{"$f":"'SA9'!I74","v":163672},{"$f":"'SA9'!J74","v":163672},{"$f":"'SA9'!K74","v":165072},{"$f":"'SA9'!L74","v":168534},{"$f":"'SA9'!M74","v":171996}]
["Below Minimum Service Level sub-total",null,{"$f":"SUM(C11:C13)","v":212140},{"$f":"SUM(D11:D13)","v":169307},172783,177250,177250,177250,190461,206046,221620]
["Total number of households",5,{"$f":"C10+C14","v":323230},{"$f":"D10+D14","v":320220},326080,332921,332921,332921,348506,364091,379665]
["Sanitation/sewerage:"]
["Flush toilet (connected to sewerage)",null,{"$f":"'SA9'!E78","v":33554},{"$f":"'SA9'!F78","v":29650},{"$f":"'SA9'!G78","v":46389},{"$f":"'SA9'!H78","v":52153},{"$f":"'SA9'!I78","v":52153},{"$f":"'SA9'!J78","v":52153},{"$f":"'SA9'!K78","v":57948},{"$f":"'SA9'!L78","v":63743},{"$f":"'SA9'!M78","v":69538}]
["Flush toilet (with septic tank)",null,{"$f":"'SA9'!E79","v":22444},{"$f":"'SA9'!F79","v":2027},{"$f":"'SA9'!G79","v":2027},{"$f":"'SA9'!H79","v":2058},{"$f":"'SA9'!I79","v":2058},{"$f":"'SA9'!J79","v":2058},{"$f":"'SA9'!K79","v":2058},{"$f":"'SA9'!L79","v":2058},{"$f":"'SA9'!M79","v":2058}]
["Chemical toilet",null,{"$f":"'SA9'!E80","v":0},{"$f":"'SA9'!F80","v":46792},{"$f":"'SA9'!G80","v":46792},{"$f":"'SA9'!H80","v":47517},{"$f":"'SA9'!I80","v":47517},{"$f":"'SA9'!J80","v":47517},{"$f":"'SA9'!K80","v":47517},{"$f":"'SA9'!L80","v":47517},{"$f":"'SA9'!M80","v":47517}]
["Pit toilet (ventilated)",null,{"$f":"'SA9'!E81","v":238152},{"$f":"'SA9'!F81","v":163057},{"$f":"'SA9'!G81","v":163057},{"$f":"'SA9'!H81","v":165584},{"$f":"'SA9'!I81","v":165584},{"$f":"'SA9'!J81","v":165584},{"$f":"'SA9'!K81","v":181207},{"$f":"'SA9'!L81","v":196830},{"$f":"'SA9'!M81","v":212626}]
["Other toilet provisions (> min.service level)",null,{"$f":"'SA9'!E82","v":0},{"$f":"'SA9'!F82","v":2542},{"$f":"'SA9'!G82","v":2542},{"$f":"'SA9'!H82","v":2581},{"$f":"'SA9'!I82","v":2581},{"$f":"'SA9'!J82","v":2581},{"$f":"'SA9'!K82","v":0},{"$f":"'SA9'!L82","v":0},{"$f":"'SA9'!M82","v":0}]
[{"$f":"$A$10","v":"Minimum Service Level and Above sub-total"},null,{"$f":"SUM(C17:C21)","v":294150},{"$f":"SUM(D17:D21)","v":244068},260807,269893,269893,269893,288730,310148,331739]
["Bucket toilet",null,{"$f":"'SA9'!E84","v":0},{"$f":"'SA9'!F84","v":0},{"$f":"'SA9'!G84","v":0},{"$f":"'SA9'!H84","v":0},{"$f":"'SA9'!I84","v":0},{"$f":"'SA9'!J84","v":0},{"$f":"'SA9'!K84","v":0},{"$f":"'SA9'!L84","v":0},{"$f":"'SA9'!M84","v":0}]
["Other toilet provisions (< min.service level)",null,{"$f":"'SA9'!E85","v":29080},{"$f":"'SA9'!F85","v":18185},{"$f":"'SA9'!G85","v":18185},{"$f":"'SA9'!H85","v":18467},{"$f":"'SA9'!I85","v":18467},{"$f":"'SA9'!J85","v":18467},{"$f":"'SA9'!K85","v":18467},{"$f":"'SA9'!L85","v":18467},{"$f":"'SA9'!M85","v":18467}]
["No toilet provisions",null,{"$f":"'SA9'!E86","v":0},{"$f":"'SA9'!F86","v":57967},{"$f":"'SA9'!G86","v":47088},{"$f":"'SA9'!H86","v":44561},{"$f":"'SA9'!I86","v":44561},{"$f":"'SA9'!J86","v":44561},{"$f":"'SA9'!K86","v":41309},{"$f":"'SA9'!L86","v":35476},{"$f":"'SA9'!M86","v":29459}]
[{"$f":"$A$14","v":"Below Minimum Service Level sub-total"},null,{"$f":"SUM(C23:C25)","v":29080},{"$f":"SUM(D23:D25)","v":76152},65273,63028,63028,63028,59776,53943,47926]
[{"$f":"$A$15","v":"Total number of households"},{"$f":"$B$15","v":5},{"$f":"C22+C26","v":323230},{"$f":"D22+D26","v":320220},326080,332921,332921,332921,348506,364091,379665]
["Energy:"]
["Electricity (at least min.service level)",null,{"$f":"'SA9'!E90","v":0},{"$f":"'SA9'!F90","v":0},{"$f":"'SA9'!G90","v":0},{"$f":"'SA9'!H90","v":0},{"$f":"'SA9'!I90","v":0},{"$f":"'SA9'!J90","v":0},{"$f":"'SA9'!K90","v":0},{"$f":"'SA9'!L90","v":0},{"$f":"'SA9'!M90","v":0}]
["Electricity - prepaid (min.service level)",null,{"$f":"'SA9'!E91","v":0},{"$f":"'SA9'!F91","v":0},{"$f":"'SA9'!G91","v":0},{"$f":"'SA9'!H91","v":0},{"$f":"'SA9'!I91","v":0},{"$f":"'SA9'!J91","v":0},{"$f":"'SA9'!K91","v":0},{"$f":"'SA9'!L91","v":0},{"$f":"'SA9'!M91","v":0}]
[{"$f":"$A$10","v":"Minimum Service Level and Above sub-total"},null,{"$f":"SUM(C29:C30)","v":0},{"$f":"SUM(D29:D30)","v":0},0,0,0,0,0,0,0]
["Electricity (< min.service level)",null,{"$f":"'SA9'!E93","v":0},{"$f":"'SA9'!F93","v":0},{"$f":"'SA9'!G93","v":0},{"$f":"'SA9'!H93","v":0},{"$f":"'SA9'!I93","v":0},{"$f":"'SA9'!J93","v":0},{"$f":"'SA9'!K93","v":0},{"$f":"'SA9'!L93","v":0},{"$f":"'SA9'!M93","v":0}]
["Electricity - prepaid (< min. service level)",null,{"$f":"'SA9'!E94","v":0},{"$f":"'SA9'!F94","v":0},{"$f":"'SA9'!G94","v":0},{"$f":"'SA9'!H94","v":0},{"$f":"'SA9'!I94","v":0},{"$f":"'SA9'!J94","v":0},{"$f":"'SA9'!K94","v":0},{"$f":"'SA9'!L94","v":0},{"$f":"'SA9'!M94","v":0}]
["Other energy sources",null,{"$f":"'SA9'!E95","v":0},{"$f":"'SA9'!F95","v":0},{"$f":"'SA9'!G95","v":0},{"$f":"'SA9'!H95","v":0},{"$f":"'SA9'!I95","v":0},{"$f":"'SA9'!J95","v":0},{"$f":"'SA9'!K95","v":0},{"$f":"'SA9'!L95","v":0},{"$f":"'SA9'!M95","v":0}]
[{"$f":"$A$14","v":"Below Minimum Service Level sub-total"},null,{"$f":"SUM(C32:C34)","v":0},{"$f":"SUM(D32:D34)","v":0},0,0,0,0,0,0,0]
[{"$f":"$A$15","v":"Total number of households"},{"$f":"$B$15","v":5},{"$f":"C31+C35","v":0},{"$f":"D31+D35","v":0},0,0,0,0,0,0,0]
["Refuse:"]
["Removed at least once a week",null,{"$f":"'SA9'!E99","v":0},{"$f":"'SA9'!F99","v":0},{"$f":"'SA9'!G99","v":0},{"$f":"'SA9'!H99","v":0},{"$f":"'SA9'!I99","v":0},{"$f":"'SA9'!J99","v":0},{"$f":"'SA9'!K99","v":0},{"$f":"'SA9'!L99","v":0},{"$f":"'SA9'!M99","v":0}]
[{"$f":"$A$10","v":"Minimum Service Level and Above sub-total"},null,{"$f":"SUM(C38)","v":0},{"$f":"SUM(D38)","v":0},0,0,0,0,0,0,0]
["Removed less frequently than once a week",null,{"$f":"'SA9'!E101","v":0},{"$f":"'SA9'!F101","v":0},{"$f":"'SA9'!G101","v":0},{"$f":"'SA9'!H101","v":0},{"$f":"'SA9'!I101","v":0},{"$f":"'SA9'!J101","v":0},{"$f":"'SA9'!K101","v":0},{"$f":"'SA9'!L101","v":0},{"$f":"'SA9'!M101","v":0}]
["Using communal refuse dump",null,{"$f":"'SA9'!E102","v":0},{"$f":"'SA9'!F102","v":0},{"$f":"'SA9'!G102","v":0},{"$f":"'SA9'!H102","v":0},{"$f":"'SA9'!I102","v":0},{"$f":"'SA9'!J102","v":0},{"$f":"'SA9'!K102","v":0},{"$f":"'SA9'!L102","v":0},{"$f":"'SA9'!M102","v":0}]
["Using own refuse dump",null,{"$f":"'SA9'!E103","v":0},{"$f":"'SA9'!F103","v":0},{"$f":"'SA9'!G103","v":0},{"$f":"'SA9'!H103","v":0},{"$f":"'SA9'!I103","v":0},{"$f":"'SA9'!J103","v":0},{"$f":"'SA9'!K103","v":0},{"$f":"'SA9'!L103","v":0},{"$f":"'SA9'!M103","v":0}]
["Other rubbish disposal",null,{"$f":"'SA9'!E104","v":0},{"$f":"'SA9'!F104","v":0},{"$f":"'SA9'!G104","v":0},{"$f":"'SA9'!H104","v":0},{"$f":"'SA9'!I104","v":0},{"$f":"'SA9'!J104","v":0},{"$f":"'SA9'!K104","v":0},{"$f":"'SA9'!L104","v":0},{"$f":"'SA9'!M104","v":0}]
["No rubbish disposal",null,{"$f":"'SA9'!E105","v":0},{"$f":"'SA9'!F105","v":0},{"$f":"'SA9'!G105","v":0},{"$f":"'SA9'!H105","v":0},{"$f":"'SA9'!I105","v":0},{"$f":"'SA9'!J105","v":0},{"$f":"'SA9'!K105","v":0},{"$f":"'SA9'!L105","v":0},{"$f":"'SA9'!M105","v":0}]
[{"$f":"$A$14","v":"Below Minimum Service Level sub-total"},null,{"$f":"SUM(C40:C44)","v":0},0,0,0,0,0,0,0,0]
[{"$f":"$A$15","v":"Total number of households"},{"$f":"$B$15","v":5},{"$f":"C39+C45","v":0},{"$f":"D39+D45","v":0},0,0,0,0,0,0,0]
[]
["Households receiving Free Basic Service",7]
["Water (6 kilolitres per household per month)",null,{"$f":"'SA9'!E263","v":0},{"$f":"'SA9'!F263","v":0},{"$f":"'SA9'!G263","v":0},{"$f":"'SA9'!H263","v":299628.90000000002},{"$f":"'SA9'!I263","v":299628.90000000002},{"$f":"'SA9'!J263","v":299628.90000000002},{"$f":"'SA9'!K263","v":328992.53220000007},{"$f":"'SA9'!L263","v":361233.80035560013},{"$f":"'SA9'!M263","v":396634.71279044898}]
["Sanitation (free minimum level service)",null,{"$f":"'SA9'!E275","v":0},{"$f":"'SA9'!F275","v":0},{"$f":"'SA9'!G275","v":0},{"$f":"'SA9'!H275","v":0},{"$f":"'SA9'!I275","v":0},{"$f":"'SA9'!J275","v":0},{"$f":"'SA9'!K275","v":0},{"$f":"'SA9'!L275","v":0},{"$f":"'SA9'!M275","v":0}]
["Electricity/other energy (50kwh per household per month)",null,{"$f":"'SA9'!E251","v":0},{"$f":"'SA9'!F251","v":0},{"$f":"'SA9'!G251","v":0},{"$f":"'SA9'!H251","v":0},{"$f":"'SA9'!I251","v":0},{"$f":"'SA9'!J251","v":0},{"$f":"'SA9'!K251","v":0},{"$f":"'SA9'!L251","v":0},{"$f":"'SA9'!M251","v":0}]
["Refuse (removed at least once a week)",null,{"$f":"'SA9'!E287","v":0},{"$f":"'SA9'!F287","v":0},{"$f":"'SA9'!G287","v":0},{"$f":"'SA9'!H287","v":0},{"$f":"'SA9'!I287","v":0},{"$f":"'SA9'!J287","v":0},{"$f":"'SA9'!K287","v":0},{"$f":"'SA9'!L287","v":0},{"$f":"'SA9'!M287","v":0}]
[]
["Cost of Free Basic Services provided - Formal Settlements (R'000)",8]
["Water (6 kilolitres per indigent household per month)",null,{"$f":"'SA1'!C20","v":0},{"$f":"'SA1'!D20","v":0},{"$f":"'SA1'!E20","v":0},{"$f":"'SA1'!F20","v":577491524.99999988},{"$f":"'SA1'!G20","v":577491524.99999988},{"$f":"'SA1'!H20","v":577491524.99999988},{"$f":"'SA1'!J20","v":612141016.49999988},{"$f":"'SA1'!K20","v":648869477.48999989},{"$f":"'SA1'!L20","v":687801646.13939989}]
["Sanitation (free sanitation service to indigent households)",null,{"$f":"'SA1'!C26","v":0},{"$f":"'SA1'!D26","v":0},{"$f":"'SA1'!E26","v":0},{"$f":"'SA1'!F26","v":0},{"$f":"'SA1'!G26","v":0},{"$f":"'SA1'!H26","v":0},{"$f":"'SA1'!J26","v":0},{"$f":"'SA1'!K26","v":0},{"$f":"'SA1'!L26","v":0}]
["Electricity/other energy (50kwh per indigent household per month)",null,{"$f":"'SA1'!C14","v":0},{"$f":"'SA1'!D14","v":0},{"$f":"'SA1'!E14","v":0},{"$f":"'SA1'!F14","v":0},{"$f":"'SA1'!G14","v":0},{"$f":"'SA1'!H14","v":0},{"$f":"'SA1'!J14","v":0},{"$f":"'SA1'!K14","v":0},{"$f":"'SA1'!L14","v":0}]
["Refuse (removed once a week for indigent households)",null,{"$f":"'SA1'!C33","v":0},{"$f":"'SA1'!D33","v":0},{"$f":"'SA1'!E33","v":0},{"$f":"'SA1'!F33","v":0},{"$f":"'SA1'!G33","v":0},{"$f":"'SA1'!H33","v":0},{"$f":"'SA1'!J33","v":0},{"$f":"'SA1'!K33","v":0},{"$f":"'SA1'!L33","v":0}]
["Cost of Free Basic Services provided - Informal Formal Settlements (R'000)",null,{"$f":"'SA9'!E260+'SA9'!E272+'SA9'!E284+'SA9'!E296","v":0},{"$f":"'SA9'!F260+'SA9'!F272+'SA9'!F284+'SA9'!F296","v":0},{"$f":"'SA9'!G260+'SA9'!G272+'SA9'!G284+'SA9'!G296","v":0},{"$f":"'SA9'!H260+'SA9'!H272+'SA9'!H284+'SA9'!H296","v":0},{"$f":"'SA9'!I260+'SA9'!I272+'SA9'!I284+'SA9'!I296","v":0},{"$f":"'SA9'!J260+'SA9'!J272+'SA9'!J284+'SA9'!J296","v":0},{"$f":"'SA9'!K260+'SA9'!K272+'SA9'!K284+'SA9'!K296","v":0},{"$f":"'SA9'!L260+'SA9'!L272+'SA9'!L284+'SA9'!L296","v":0},{"$f":"'SA9'!M260+'SA9'!M272+'SA9'!M284+'SA9'!M296","v":0}]
["Total cost of FBS provided  ",null,{"$f":"SUM(C55:C59)","v":0},0,0,577491524.99999988,577491524.99999988,577491524.99999988,612141016.49999988,648869477.48999989,687801646.13939989]
[]
["Highest level of free service provided per household"]
["Property rates (R value threshold)"]
["Water (kilolitres per household per month)"]
["Sanitation (kilolitres per household per month)"]
["Sanitation (Rand per household per month)"]
["Electricity (kwh per household per month)"]
["Refuse (average litres per week)"]
["Revenue  cost of subsidised services provided (R'000)",9]
["Property rates (tariff adjustment) ( impermissable values per section 17 of MPRA)"]
["Property rates  exemptions, reductions and rebates and impermissable values in excess of section 17 of MPRA)",null,{"$f":"'SA1'!C8","v":0},{"$f":"'SA1'!D8","v":0},{"$f":"'SA1'!E8","v":0},{"$f":"'SA1'!F8","v":0},{"$f":"'SA1'!G8","v":0},{"$f":"'SA1'!H8","v":0},{"$f":"'SA1'!J8","v":0},{"$f":"'SA1'!K8","v":0},{"$f":"'SA1'!L8","v":0}]
["Water (in excess of 6 kilolitres per indigent household per month)",null,{"$f":"'SA1'!C19","v":0},{"$f":"'SA1'!D19","v":0},{"$f":"'SA1'!E19","v":0},{"$f":"'SA1'!F19","v":0},{"$f":"'SA1'!G19","v":0},{"$f":"'SA1'!H19","v":0},{"$f":"'SA1'!J19","v":0},{"$f":"'SA1'!K19","v":0},{"$f":"'SA1'!L19","v":0}]
["Sanitation (in excess of free sanitation service to indigent households)",null,{"$f":"'SA1'!C25","v":0},{"$f":"'SA1'!D25","v":0},{"$f":"'SA1'!E25","v":0},{"$f":"'SA1'!F25","v":0},{"$f":"'SA1'!G25","v":0},{"$f":"'SA1'!H25","v":0},{"$f":"'SA1'!J25","v":0},{"$f":"'SA1'!K25","v":0},{"$f":"'SA1'!L25","v":0}]
["Electricity/other energy (in excess of 50 kwh per indigent household per month)",null,{"$f":"'SA1'!C13","v":0},{"$f":"'SA1'!D13","v":0},{"$f":"'SA1'!E13","v":0},{"$f":"'SA1'!F13","v":0},{"$f":"'SA1'!G13","v":0},{"$f":"'SA1'!H13","v":0},{"$f":"'SA1'!J13","v":0},{"$f":"'SA1'!K13","v":0},{"$f":"'SA1'!L13","v":0}]
["Refuse (in excess of one removal a week for indigent households)",null,{"$f":"'SA1'!C32","v":0},{"$f":"'SA1'!D32","v":0},{"$f":"'SA1'!E32","v":0},{"$f":"'SA1'!F32","v":0},{"$f":"'SA1'!G32","v":0},{"$f":"'SA1'!H32","v":0},{"$f":"'SA1'!J32","v":0},{"$f":"'SA1'!K32","v":0},{"$f":"'SA1'!L32","v":0}]
["Municipal Housing - rental rebates"]
["Housing - top structure subsidies",6]
["Other"]
["Total revenue cost of subsidised services provided ",null,{"$f":"SUM(C70:C78)","v":0},{"$f":"SUM(D70:D78)","v":0},0,0,0,0,0,{"$f":"SUM(J70:J78)","v":0},{"$f":"SUM(K70:K78)","v":0}]
[{"$f":"head27a","v":"References"}]
["1. Include services provided by another entity; e.g. Eskom"]
["2. Stand distance <= 200m from dwelling"]
["3. Stand distance > 200m from dwelling"]
["4. Borehole, spring, rain-water tank etc."]
["5. Must agree to total number of households in municipal area (informal settlements receiving services must be included)"]
["6. Include value of subsidy provided by municipality above provincial subsidy level"]
["7. Show number of households receiving at least these levels of services completely free (informal settlements must be included)"]
["8. Must reflect the cost to the municipality of providing the Free Basic Service"]
["9. Reflect the cost to the municipality in terms of 'revenue foregone' of providing free services (note this will not equal 'Revenue Foregone' on SA1)"]

{"sheet":"SA1","index":20,"n_rows":179,"n_cols":12,"rows_kept":179,"cut":false,"hidden":false,"merged":[[1,9,1,11],[1,5,1,8],[1,0,2,0],[1,1,2,1]]}
[{"$f":"muni&\" - \"&TableA1","v":"DC15 O .R. Tambo - Supporting Table SA1 Supportinging detail to 'Budgeted Financial Performance'"}]
[{"$f":"desc","v":"Description"},{"$f":"head27","v":"Ref"},{"$f":"head1b","v":"2016/17"},{"$f":"head1A","v":"2017/18"},{"$f":"Head1","v":"2018/19"},{"$f":"Head2","v":"Current Year 2019/20"},null,null,null,{"$f":"Head3","v":"2020/21 Medium Term Revenue & Expenditure Framework"}]
[null,null,{"$f":"Head5","v":"Audited Outcome"},{"$f":"Head5","v":"Audited Outcome"},{"$f":"Head5","v":"Audited Outcome"},{"$f":"Head6","v":"Original Budget"},{"$f":"Head7","v":"Adjusted Budget"},{"$f":"Head8","v":"Full Year Forecast"},{"$f":"Head5b","v":"Pre-audit outcome"},{"$f":"Head9","v":"Budget Year 2020/21"},{"$f":"Head10","v":"Budget Year +1 2021/22"},{"$f":"Head11","v":"Budget Year +2 2022/23"}]
["R thousand"]
["REVENUE ITEMS:"]
[{"$f":"'A4-FinPerf RE'!A5","v":"Property rates"},6]
["Total Property Rates"]
["less Revenue Foregone (exemptions, reductions and rebates and impermissable values in excess of section 17 of MPRA)"]
["Net Property Rates",null,{"$f":"C7-C8","v":0},{"$f":"D7-D8","v":0},0,0,0,0,0,0,0,0]
[]
[{"$f":"'A4-FinPerf RE'!A6","v":"Service charges - electricity revenue"},6]
[{"$f":"\"Total \"&A11","v":"Total Service charges - electricity revenue"}]
["less Revenue Foregone (in excess of 50 kwh per indigent household per month)"]
["less Cost of Free Basis Services (50 kwh per indigent household per month)",null,{"$f":"'SA9'!E250","v":0},{"$f":"'SA9'!F250","v":0},{"$f":"'SA9'!G250","v":0},{"$f":"'SA9'!H250","v":0},{"$f":"'SA9'!I250","v":0},{"$f":"'SA9'!J250","v":0},null,{"$f":"'SA9'!K250","v":0},{"$f":"'SA9'!L250","v":0},{"$f":"'SA9'!M250","v":0}]
[{"$f":"\"Net \"& A11","v":"Net Service charges - electricity revenue"},null,{"$f":"C12-C13-C14","v":0},{"$f":"D12-D13-D14","v":0},0,0,0,0,0,0,0,0]
[]
[{"$f":"'A4-FinPerf RE'!A7","v":"Service charges - water revenue"},6]
[{"$f":"\"Total \"&A17","v":"Total Service charges - water revenue"},null,164031226,182034408.66999999,193658835.03999999,{"$f":"214245106+F20","v":791736630.99999988},{"$f":"234745106+G20","v":812236630.99999988},{"$f":"234745106+H20","v":812236630.99999988},178450376.43000001,{"$f":"254699812+J20","v":866840828.49999988},{"$f":"249025801+K20","v":897895278.48999989},{"$f":"263969349+L20","v":951770995.13939989}]
["less Revenue Foregone (in excess of 6 kilolitres per indigent household per month)"]
["less Cost of Free Basis Services (6 kilolitres per indigent household per month)",null,{"$f":"'SA9'!E262","v":0},{"$f":"'SA9'!F262","v":0},{"$f":"'SA9'!G262","v":0},{"$f":"'SA9'!H262","v":577491524.99999988},{"$f":"'SA9'!I262","v":577491524.99999988},{"$f":"'SA9'!J262","v":577491524.99999988},null,{"$f":"'SA9'!K262","v":612141016.49999988},{"$f":"'SA9'!L262","v":648869477.48999989},{"$f":"'SA9'!M262","v":687801646.13939989}]
[{"$f":"\"Net \"& A17","v":"Net Service charges - water revenue"},null,{"$f":"C18-C19-C20","v":164031226},{"$f":"D18-D19-D20","v":182034408.66999999},193658835.03999999,214245106,234745106,234745106,178450376.43000001,254699812,249025801,263969349]
[]
[{"$f":"'A4-FinPerf RE'!A8","v":"Service charges - sanitation revenue"}]
[{"$f":"\"Total \"&A23","v":"Total Service charges - sanitation revenue"},null,42791119,48234972.380000003,52992746.719999999,93228922,106228922,106228922,46942208.07,112602658,119358817,126520346]
["less Revenue Foregone (in excess of free sanitation service to indigent households)"]
["less Cost of Free Basis Services (free sanitation service to indigent households)",null,{"$f":"'SA9'!E274","v":0},{"$f":"'SA9'!F274","v":0},{"$f":"'SA9'!G274","v":0},{"$f":"'SA9'!H274","v":0},{"$f":"'SA9'!I274","v":0},{"$f":"'SA9'!J274","v":0},null,{"$f":"'SA9'!K274","v":0},{"$f":"'SA9'!L274","v":0},{"$f":"'SA9'!M274","v":0}]
[{"$f":"\"Net \"& A23","v":"Net Service charges - sanitation revenue"},null,{"$f":"C24-C25-C26","v":42791119},{"$f":"D24-D25-D26","v":48234972.380000003},52992746.719999999,93228922,106228922,106228922,46942208.07,112602658,119358817,126520346]
[]
[{"$f":"'A4-FinPerf RE'!A9","v":"Service charges - refuse revenue"},6]
["Total refuse removal revenue"]
["Total landfill revenue"]
["less Revenue Foregone (in excess of one removal a week to indigent households)"]
["less Cost of Free Basis Services  (removed once a week to indigent households)",null,{"$f":"'SA9'!E286","v":0},{"$f":"'SA9'!F286","v":0},{"$f":"'SA9'!G286","v":0},{"$f":"'SA9'!H286","v":0},{"$f":"'SA9'!I286","v":0},{"$f":"'SA9'!J286","v":0},null,{"$f":"'SA9'!K286","v":0},{"$f":"'SA9'!L286","v":0},{"$f":"'SA9'!M286","v":0}]
[{"$f":"\"Net \"& A29","v":"Net Service charges - refuse revenue"},null,{"$f":"SUM(C30:C31)-C32-C33","v":0},{"$f":"SUM(D30:D31)-D32-D33","v":0},0,0,0,0,0,0,0,0]
[]
["Other Revenue by source"]
["Fuel Levy"]
["Other Revenue",null,134176919,31423469,14764579,261542222,324267430,324267430,123335.32,340695943,310186176,292592964]
[]
[]
[]
[]
[]
[]
[]
[]
[]
[]
["Total 'Other' Revenue",1,{"$f":"SUM(C37:C38)","v":134176919},{"$f":"SUM(D37:D38)","v":31423469},{"$f":"SUM(E37:E38)","v":14764579},261542222,324267430,324267430,123335.32,340695943,310186176,292592964]
[]
["EXPENDITURE ITEMS:"]
[{"$f":"'A4-FinPerf RE'!A24","v":"Employee related costs"}]
["Basic Salaries and Wages",2,436330870,{"$f":"305128815.07+55709000-20305000","v":340532815.06999999},{"$f":"303093239.88+65074000-23714000","v":344453239.88},366214879,391692059,391692059,325833640.69999999,433383775,458394412,487129262]
["Pension and UIF Contributions",null,0,37924204.719999999,45574587.469999999,55504918,59852431,59852431,49975496.740000002,63321717,67282077,71490312]
["Medical Aid Contributions",null,0,27271396.23,42393556,29029416,31029416,31029416,16210536.4,32968753,35029301,37218636]
["Overtime"]
["Performance Bonus",null,0,26632357.73,19899455.550000001,23629123,24697512,24697512,19020997.129999999,26109171,27840718,29524628]
["Motor Vehicle Allowance",null,0,36451146.060000002,38167363.670000002,37009334,41449252,41449252,27859151.77,44163883,46936227,49882636]
["Cellphone Allowance",null,0,4314257.3,2820623.81,3663257,5627578,5627578,4661736.59,5707396,6066520,6448247]
["Housing Allowances",null,0,17044656.48,18184230.16,19692308,19692308,19692308,16028421.76,20923079,22230766,23620190]
["Other benefits and allowances",null,0,29080769.690000001,54702193.93,37231881,42481881,42481881,54847609.939999998,44814300,47447839,50237660]
["Payments in lieu of leave",null,0,-760378,1387422.32,0,410000,410000,1053343.04,337200,466210,497152]
["Long service awards",null,0,11764071.880000001,1046089.43,0,200000,200000,220272.79,212500,225781,239893]
["Post-retirement benefit obligations",4,0,15404897.369999999,11947366.59,7734843,7734843,7734843,4810990.5599999996,8218271,8731913,9277657]
["sub-total",5,{"$f":"SUM(C53:C64)","v":436330870},{"$f":"SUM(D53:D64)","v":545660194.52999997},580576128.81000006,579709959,624867280,624867280,520522197.41999996,680160045,720651764,765566273]
["Less: Employees costs capitalised to PPE"]
[{"$f":"\"Total \"&A52","v":"Total Employee related costs"},1,{"$f":"C65-C66","v":436330870},{"$f":"D65-D66","v":545660194.52999997},580576128.81000006,579709959,624867280,624867280,520522197.41999996,680160045,720651764,765566273]
[]
[]
[]
[]
[]
[]
[]
[]
[]
[]
[{"$f":"'A4-FinPerf RE'!A27","v":"Depreciation & asset impairment"}]
["Depreciation of Property, Plant & Equipment",null,164455907,189380733,196525406,165748000,170396722,170396722,0,176720910,185688416,194022428]
["Lease amortisation",null,0,0,0,0,0,0,0,242671,169906,0]
["Capital asset impairment",null,0,0,0,0,70725224,70725224,0,0,0,0]
[]
[{"$f":"\"Total \"&LEFT(A78,35)","v":"Total Depreciation & asset impairment"},1,{"$f":"SUM(C79:C81)","v":164455907},{"$f":"SUM(D79:D81)","v":189380733},196525406,165748000,241121946,241121946,0,176963581,185858322,194022428]
[]
[{"$f":"'A4-FinPerf RE'!A29","v":"Bulk purchases"}]
["Electricity Bulk Purchases"]
["Water Bulk Purchases",null,42406949,44443738,35038658,41145000,35745000,35745000,8068535.2999999998,37353525,39071787,40869089]
["Total bulk purchases",1,{"$f":"SUM(C86:C87)","v":42406949},{"$f":"SUM(D86:D87)","v":44443738},35038658,41145000,35745000,35745000,8068535.2999999998,37353525,39071787,40869089]
[]
["Transfers and grants"]
["Cash transfers and grants",null,{"$f":"'SA21'!C33","v":0},{"$f":"'SA21'!D33","v":30187899.469999991},{"$f":"'SA21'!E33","v":35030157.799999997},{"$f":"'SA21'!F33","v":33400381},{"$f":"'SA21'!G33","v":43876631},{"$f":"'SA21'!H33","v":43876631},{"$f":"'SA21'!I33","v":30132356.52},{"$f":"'SA21'!J33","v":45044435},{"$f":"'SA21'!K33","v":45656969},{"$f":"'SA21'!L33","v":46275546}]
["Non-cash transfers and grants",null,{"$f":"'SA21'!C69","v":112119877},{"$f":"'SA21'!D69","v":35919447.049999997},{"$f":"'SA21'!E69","v":57428536.530000001},{"$f":"'SA21'!F69","v":38124276},{"$f":"'SA21'!G69","v":43646580},{"$f":"'SA21'!H69","v":43646580},{"$f":"'SA21'!I69","v":26143453.779999997},{"$f":"'SA21'!J69","v":52260351},{"$f":"'SA21'!K69","v":45403326},{"$f":"'SA21'!L69","v":47485141}]
["Total transfers and grants",1,{"$f":"SUM(C91:C92)","v":112119877},{"$f":"SUM(D91:D92)","v":66107346.519999988},92458694.329999998,71524657,87523211,87523211,56275810.299999997,97304786,91060295,93760687]
[]
[{"$f":"'A4-FinPerf RE'!A31","v":"Contracted services"}]
["Outsourced Services",null,174490806,{"$f":"168567894.93-19538000","v":149029894.93000001},{"$f":"166903450.22-37826000","v":129077450.22},107951141,101340398,101340398,51503561.640000001,128782472,126606992,120619136]
["Consultants and Professional Services",null,0,39454434.130000003,46429711.310000002,52358215,67863175,67863175,38356115.210000001,67764552,69176261,70982996]
["Contractors",null,0,41488079.229999997,59997846.030000001,53442632,48083185,48083185,23417188.629999999,34586981,35988566,32670238]
[]
[]
[]
[]
[]
[]
[]
[]
[]
[]
[]
[]
[]
[]
[]
[]
[]
[]
[]
[]
[]
[]
[]
[]
[]
[]
[]
[]
["Total contracted services",null,{"$f":"SUM(C96:C98)","v":174490806},{"$f":"SUM(D96:D98)","v":229972408.28999999},235505007.56,213751988,217286758,217286758,113276865.47999999,231134005,231771819,224272370]
[]
["Other Expenditure By Type"]
["Collection costs"]
["Contributions to 'other' provisions"]
[]
["Audit fees",null,0,9780293.4399999995,9819122.9700000007,10013000,12653000,12653000,7102735.3099999996,13055585,13744270,14387704]
[]
[]
["Other Expenditure",null,280878580,{"$f":"216125029.26+86319000","v":302444029.25999999},{"$f":"256119481.23+100266000","v":356385481.23000002},211527788,270587461,270587461,174541583.77000001,248720493,271292851,278682732]
[]
[]
[]
[]
[]
[]
[]
[]
[]
[]
[]
[]
[]
[]
[]
[]
[]
[]
[]
[]
["Total 'Other' Expenditure",1,{"$f":"+C130+C131+C133+C136","v":280878580},{"$f":"+D130+D131+D133+D136","v":312224322.69999999},366204604.20000005,221540788,283240461,283240461,181644319.08000001,261776078,285037121,293070436]
[]
["Repairs and Maintenance \nby Expenditure Item",8]
["Employee related costs"]
["Other materials"]
["Contracted Services",null,{"$f":"86988988-678000","v":86310988},156368439.97999999,139541002.68000001,79022898,72509136,72509136,36636711.700000003,93263638,89171265,87110535]
["Other Expenditure",null,0,501795.72,5603139.7300000004,3786579,3786579,3786579,3733705.18,3956975,4138996,4329390]
["Total Repairs and Maintenance Expenditure",9,{"$f":"SUM(C160:C163)","v":86310988},{"$f":"SUM(D160:D163)","v":156870235.69999999},145144142.41,82809477,76295715,76295715,40370416.880000003,97220613,93310261,91439925]
[]
["check",null,{"$f":"C164-SA34c!C167","v":-418},{"$f":"D164-SA34c!D167","v":0},{"$f":"E164-SA34c!E167","v":0},{"$f":"F164-SA34c!F167","v":0},{"$f":"G164-SA34c!G167","v":0},{"$f":"H164-SA34c!H167","v":0},null,{"$f":"J164-SA34c!I167","v":0},{"$f":"K164-SA34c!J167","v":0},{"$f":"L164-SA34c!K167","v":0}]
[]
[]
[{"$f":"head27a","v":"References"}]
["1. Must reconcile with 'Budgeted Financial Performance (Revenue and Expenditure)"]
["2. Must reconcile to supporting documentation on staff salaries"]
[]
["4. Expenditure to meet any 'unfunded obligations'"]
["5 This sub-total must agree with the total on SA22, but excluding councillor and board member items"]
["6. Include a note for each revenue item that is affected by 'revenue foregone'"]
["7. Special consideration may have to be given to including 'goodwill arising' or 'joint venture' budgets where circumstances require this (include separately under relevant notes)"]
["8. Repairs and Maintenance is not a GRAP item. However to facilitate transparency, municipalities must provide a breakdown of the amounts included in the relevant GRAP items that will be spent on Repairs and Maintenance."]
["9. Must reconcile with Repairs and Maintenance by Asset Class (Total Repairs and Maintenance) on Table SA34c."]
["10. Only applicable to municipalities that have adopted the 'revaluation method' in GRAP 17. The aim is to prevent overstating 'depreciation and asset impairment'"]

{"sheet":"SA2","index":21,"n_rows":44,"n_cols":18,"rows_kept":44,"cut":false,"hidden":false,"merged":[[1,6,2,6],[1,7,2,7],[1,2,2,2],[1,3,2,3],[1,4,2,4],[1,5,2,5],[1,16,2,16],[1,17,2,17],[1,8,2,8],[1,9,2,9],[1,10,2,10],[1,11,2,11],[1,12,2,12],[1,13,2,13],[1,14,2,14],[1,15,2,15]]}
[{"$f":"muni&\" - \"&TableA2","v":"DC15 O .R. Tambo - Supporting Table SA2 Consolidated Matrix Financial Performance Budget (revenue source/expenditure type & dept.)"}]
[{"$f":"desc","v":"Description"},{"$f":"head27","v":"Ref"},{"$f":"'A3-FinPerf V'!A5","v":"Vote 01 - Council & Committees"},{"$f":"'A3-FinPerf V'!A6","v":"Vote 02 - Finance & Administration"},{"$f":"'A3-FinPerf V'!A7","v":"Vote 03 - Planning & Development"},{"$f":"'A3-FinPerf V'!A8","v":"Vote 04 - Health"},{"$f":"'A3-FinPerf V'!A9","v":"Vote 05 - Community & Social Services"},{"$f":"'A3-FinPerf V'!A10","v":"Vote 06 - Housing"},{"$f":"'A3-FinPerf V'!A11","v":"Vote 07 - Public Safety"},{"$f":"'A3-FinPerf V'!A12","v":"Vote 08 - Sports & Recreation"},{"$f":"'A3-FinPerf V'!A13","v":"Vote 09 - Environmental"},{"$f":"'A3-FinPerf V'!A14","v":"Vote 10 - Roads"},{"$f":"'A3-FinPerf V'!A15","v":"Vote 11 - Water"},{"$f":"'A3-FinPerf V'!A16","v":"Vote 12 - Tourism"},{"$f":"'A3-FinPerf V'!A17","v":"Vote 13 - Development Agency"},{"$f":"'A3-FinPerf V'!A18","v":"Vote 14 - "},{"$f":"'A3-FinPerf V'!A19","v":"Vote 15 - Other"},"Total"]
["R thousand",1,null,null,null,null,null,null,null,null,null,null,null,null,null,null,null,"R'000"]
[{"$f":"'A4-FinPerf RE'!A4","v":"Revenue By Source"}]
[{"$f":"'A4-FinPerf RE'!A5","v":"Property rates"},null,0,0,0,0,0,0,0,0,0,0,0,0,0,0,0,{"$f":"SUM(C5:Q5)","v":0}]
[{"$f":"'A4-FinPerf RE'!A6","v":"Service charges - electricity revenue"},null,0,0,0,0,0,0,0,0,0,0,0,0,0,0,0,{"$f":"SUM(C6:Q6)","v":0}]
[{"$f":"'A4-FinPerf RE'!A7","v":"Service charges - water revenue"},null,0,0,0,0,0,0,0,0,0,0,227099812,0,27600000,0,0,254699812]
[{"$f":"'A4-FinPerf RE'!A8","v":"Service charges - sanitation revenue"},null,0,0,0,0,0,0,0,0,0,0,112602658,0,0,0,0,112602658]
[{"$f":"'A4-FinPerf RE'!A9","v":"Service charges - refuse revenue"},null,0,0,0,0,0,0,0,0,0,0,0,0,0,0,0,0]
[null,null,0,0,0,0,0,0,0,0,0,0,0,0,0,0,0]
[{"$f":"'A4-FinPerf RE'!A11","v":"Rental of facilities and equipment"},null,0,64278,0,0,0,0,0,0,0,0,0,0,803059,0,0,867337]
[{"$f":"'A4-FinPerf RE'!A12","v":"Interest earned - external investments"},null,0,29515576,0,0,0,0,0,0,0,0,0,0,0,0,0,29515576]
[{"$f":"'A4-FinPerf RE'!A13","v":"Interest earned - outstanding debtors"},null,0,0,0,0,0,0,0,0,0,0,31800000,0,450000,0,0,32250000]
[{"$f":"'A4-FinPerf RE'!A14","v":"Dividends received"},null,0,0,0,0,0,0,0,0,0,0,0,0,0,0,0,0]
[{"$f":"'A4-FinPerf RE'!A15","v":"Fines, penalties and forfeits"},null,0,0,0,0,0,0,0,0,0,0,0,0,0,0,0,0]
[{"$f":"'A4-FinPerf RE'!A16","v":"Licences and permits"},null,0,0,0,0,0,0,0,0,0,0,0,0,0,0,0,0]
[{"$f":"'A4-FinPerf RE'!A17","v":"Agency services"},null,0,0,0,0,0,0,0,0,0,0,0,0,0,0,0,0]
[{"$f":"'A4-FinPerf RE'!A19","v":"Other revenue"},null,11267817,25637249,2500000,0,0,45000,2300000,0,0,41300000,221967929,0,35677948,0,0,340695943]
[{"$f":"'A4-FinPerf RE'!A18","v":"Transfers and subsidies"},null,231946263,272371324,116750004,22857657,15621174,15285001,64539344,8845544,16041164,21580177,138326422,7544928,44327179,0,0,976036181]
[{"$f":"'A4-FinPerf RE'!A20","v":"Gains"},null,0,0,0,0,0,0,0,0,0,0,0,0,2140000,0,0,2140000]
[{"$f":"'A4-FinPerf RE'!A21","v":"Total Revenue (excluding capital transfers and contributions)"},null,{"$f":"SUM(C5:C9)+SUM(C11:C20)","v":243214080},{"$f":"SUM(D5:D9)+SUM(D11:D20)","v":327588427},119250004,22857657,15621174,15330001,66839344,8845544,16041164,62880177,731796821,7544928,110998186,0,0,{"$f":"SUM(R5:R9)+SUM(R11:R20)","v":1748807507}]
[]
[{"$f":"'A4-FinPerf RE'!A23","v":"Expenditure By Type"}]
[{"$f":"'A4-FinPerf RE'!A24","v":"Employee related costs"},null,106897043,184109335,15154002,20628180,10160304,11564258,47114105,4721621,4589922,3104324,220187566,3359497,48569888,null,null,{"$f":"SUM(C24:Q24)","v":680160045}]
[{"$f":"'A4-FinPerf RE'!A25","v":"Remuneration of councillors"},null,24075294,0,0,0,0,0,0,0,0,0,0,0,0,0,0,{"$f":"SUM(C25:Q25)","v":24075294}]
[{"$f":"'A4-FinPerf RE'!A26","v":"Debt impairment"},null,0,0,0,0,0,0,0,0,0,0,160430386,0,0,0,0,160430386]
[{"$f":"'A4-FinPerf RE'!A27","v":"Depreciation & asset impairment"},null,0,0,0,0,0,0,0,0,0,0,173206660,0,3756921,0,0,176963581]
[{"$f":"'A4-FinPerf RE'!A28","v":"Finance charges"},null,0,0,0,0,0,0,0,0,0,0,0,0,0,0,0,0]
[{"$f":"'A4-FinPerf RE'!A29","v":"Bulk purchases"},null,0,0,0,0,0,0,0,0,0,0,37353525,0,0,0,0,37353525]
[{"$f":"'A4-FinPerf RE'!A30","v":"Other materials"},null,0,1121570,0,0,0,0,0,0,0,0,23985529,243328,11703116,0,0,37053543]
[{"$f":"'A4-FinPerf RE'!A31","v":"Contracted services"},null,52393919,41493190,4934052,983806,1460603,1185947,3981246,1517158,8535551,18613070,89229947,1946266,4859250,0,0,231134005]
[{"$f":"'A4-FinPerf RE'!A32","v":"Transfers and subsidies"},null,9053464,0,84643462,0,166637,2129521,1311702,0,0,0,0,0,0,0,0,97304786]
[{"$f":"'A4-FinPerf RE'!A33","v":"Other expenditure"},null,60900302,84167078,5501486,1328993,4422414,758800,12765514,3059631,5023694,1283569,65716810,1995838,14851949,0,0,261776078]
[{"$f":"'A4-FinPerf RE'!A34","v":"Losses"},null,0,0,0,0,0,0,0,0,0,0,0,0,150000,0,0,150000]
["Total Expenditure",null,{"$f":"SUM(C24:C34)","v":253320022},310891173,110233002,22940979,16209958,15638526,65172567,9298410,18149167,23000963,770110423,7544929,83891124,0,0,1706401243]
[]
[{"$f":"'A4-FinPerf RE'!A37","v":"Surplus/(Deficit)"},null,{"$f":"C21-C35","v":-10105942},16697254,9017002,-83322,-588784,-308525,{"$f":"I21-I35","v":1666777},-452866,-2108003,39879214,-38313602,-1,27107062,0,0,{"$f":"R21-R35","v":42406264}]
[{"$f":"'A4-FinPerf RE'!A38","v":"Transfers and subsidies - capital (monetary allocations) (National / Provincial and District)"},null,null,null,null,null,null,40000000,0,null,null,2962000,848557000,null,null,null,null,{"$f":"SUM(C38:Q38)","v":891519000}]
[{"$f":"'A4-FinPerf RE'!A39","v":"Transfers and subsidies - capital (monetary allocations) (National / Provincial Departmental Agencies, Households, Non-profit Institutions, Private Enterprises, Public Corporatons, Higher Educational Institutions)"},null,null,null,null,null,null,null,null,null,null,null,null,null,null,null,null,{"$f":"SUM(C39:Q39)","v":0}]
[{"$f":"'A4-FinPerf RE'!A40","v":"Transfers and subsidies - capital (in-kind - all) "},null,null,null,null,null,null,null,null,null,null,null,null,null,null,null,null,{"$f":"SUM(C40:Q40)","v":0}]
[{"$f":"'A4-FinPerf RE'!A41","v":"Surplus/(Deficit) after capital transfers & contributions"},null,{"$f":"SUM(C37:C40)","v":-10105942},16697254,9017002,-83322,-588784,39691475,1666777,-452866,-2108003,42841214,810243398,-1,27107062,0,{"$f":"SUM(Q37:Q40)","v":0},{"$f":"SUM(R37:R40)","v":933925264}]
[{"$f":"head27a","v":"References"}]
["1. Departmental columns to be based on municipal organisation structure"]
["check balance",null,null,null,null,null,null,null,null,null,null,null,null,null,null,null,null,{"$f":"'A4-FinPerf RE'!J41-'SA2'!R41","v":0}]

{"sheet":"SA3","index":22,"n_rows":84,"n_cols":12,"rows_kept":84,"cut":false,"hidden":false,"merged":[[1,0,2,0],[1,1,2,1],[1,9,1,11],[1,5,1,8]]}
[{"$f":"muni&\" - \"&TableA3","v":"DC15 O .R. Tambo - Supporting Table SA3 Supportinging detail to 'Budgeted Financial Position'"}]
[{"$f":"desc","v":"Description"},{"$f":"head27","v":"Ref"},{"$f":"head1b","v":"2016/17"},{"$f":"head1A","v":"2017/18"},{"$f":"Head1","v":"2018/19"},{"$f":"Head2","v":"Current Year 2019/20"},null,null,null,{"$f":"Head3","v":"2020/21 Medium Term Revenue & Expenditure Framework"}]
[null,null,{"$f":"Head5","v":"Audited Outcome"},{"$f":"Head5","v":"Audited Outcome"},{"$f":"Head5","v":"Audited Outcome"},{"$f":"Head6","v":"Original Budget"},{"$f":"Head7","v":"Adjusted Budget"},{"$f":"Head8","v":"Full Year Forecast"},{"$f":"Head5b","v":"Pre-audit outcome"},{"$f":"Head9","v":"Budget Year 2020/21"},{"$f":"Head10","v":"Budget Year +1 2021/22"},{"$f":"Head11","v":"Budget Year +2 2022/23"}]
["R thousand"]
["ASSETS"]
[]
[]
[]
[]
[]
[{"$f":"'A6-FinPos'!A8","v":"Consumer debtors"}]
[{"$f":"A11","v":"Consumer debtors"},null,{"$f":"[3]SA3!C12","v":590622694},{"$f":"[3]SA3!D12","v":675478945.07000005},{"$f":"[3]SA3!E12","v":786903664.57000005},{"$f":"[3]SA3!F12","v":592388677.96159995},{"$f":"[3]SA3!G12","v":99868838},{"$f":"[3]SA3!H12","v":99868838},{"$f":"[3]SA3!I12","v":510346463.94999999},{"$f":"[3]SA3!$J$12","v":616305318},741305318,766305318]
["Less: Provision for debt impairment",null,{"$f":"[3]SA3!C13","v":-535560473},{"$f":"[3]SA3!D13","v":-605801355.69000006},{"$f":"[3]SA3!E13","v":-701273084.03999996},{"$f":"[3]SA3!F13","v":-423843095.86762404},{"$f":"[3]SA3!G13","v":0},{"$f":"[3]SA3!H13","v":0},{"$f":"[3]SA3!I13","v":-371082768.56},{"$f":"-J20","v":-588273481.86762404},-560267665.86762404,-640173581.86762404]
[{"$f":"\"Total \"&A11","v":"Total Consumer debtors"},2,{"$f":"SUM(C12:C13)","v":55062221},{"$f":"SUM(D12:D13)","v":69677589.379999995},85630580.530000091,{"$f":"SUM(F12:F13)","v":168545582.0939759},99868838,99868838,139263695.38999999,28031836.132375956,181037652.13237596,126131736.13237596]
[]
["Debt impairment provision"]
["Balance at the beginning of the year",null,{"$f":"[3]SA3!C17","v":442040051},{"$f":"[3]SA3!D17","v":-536125451.91000003},{"$f":"[3]SA3!E17","v":-623129482.28999996},{"$f":"[3]SA3!F17","v":331437639.52000004},{"$f":"[3]SA3!G17","v":0},{"$f":"[3]SA3!H17","v":0},{"$f":"[3]SA3!I17","v":-359719171.51999998},{"$f":"[3]SA3!J17","v":423843095.86762404},588273481.86762404,560267665.86762404]
["Contributions to the provision",null,{"$f":"[3]SA3!C18","v":93520422},{"$f":"[3]SA3!D18","v":1726299.89},{"$f":"[3]SA3!E18","v":263410310.77000001},{"$f":"[3]SA3!F18","v":92405456.347624004},{"$f":"[3]SA3!G18","v":0},{"$f":"[3]SA3!H18","v":0},{"$f":"[3]SA3!I18","v":0},{"$f":"[3]SA3!J18","v":164430386},171994184,179905916]
["Bad debts written off",null,{"$f":"[3]SA3!C19","v":0},{"$f":"[3]SA3!D19","v":-71402203.670000002},{"$f":"[3]SA3!E19","v":-341553912.51999998},{"$f":"[3]SA3!F19","v":0},{"$f":"[3]SA3!G19","v":0},{"$f":"[3]SA3!H19","v":0},{"$f":"[3]SA3!I19","v":-11363597.039999999},{"$f":"[3]SA3!J19","v":0},-200000000,-100000000]
["Balance at end of year",null,{"$f":"SUM(C17:C19)","v":535560473},{"$f":"SUM(D17:D19)","v":-605801355.69000006},-701273084.03999996,423843095.86762404,0,0,-371082768.56,588273481.86762404,560267665.86762404,640173581.86762404]
[]
[{"$f":"'A6-FinPos'!A19&\" (PPE)\"","v":"Property, plant and equipment (PPE)"}]
["PPE at cost/valuation (excl. finance leases)",null,{"$f":"[3]SA3!C23","v":7851918153},{"$f":"[3]SA3!D23","v":8504378369.7799997},{"$f":"[3]SA3!E23","v":9307772920.0200005},{"$f":"[3]SA3!F23","v":13101493209.945198},{"$f":"[3]SA3!G23","v":8489173656},{"$f":"[3]SA3!H23","v":8489173656},{"$f":"[3]SA3!I23","v":9753097750.0100002},{"$f":"9114556386+J25","v":12084932852.27},{"$f":"9779302786+K25","v":12935537574.27},{"$f":"10257580383+L25","v":13607837599.27}]
["Leases recognised as PPE",3,{"$f":"[3]SA3!C24","v":0},{"$f":"[3]SA3!D24","v":0},{"$f":"[3]SA3!E24","v":0},{"$f":"[3]SA3!F24","v":0},{"$f":"[3]SA3!G24","v":0},{"$f":"[3]SA3!H24","v":0},{"$f":"[3]SA3!I24","v":0},0,0,0]
["Less: Accumulated depreciation",null,{"$f":"[3]SA3!C25","v":2502017571},{"$f":"[3]SA3!D25","v":2535266661.0900002},{"$f":"[3]SA3!E25","v":2793887248.2600002},{"$f":"[3]SA3!F25","v":3385900099.7600002},{"$f":"[3]SA3!G25","v":0},{"$f":"[3]SA3!H25","v":0},{"$f":"[3]SA3!I25","v":2793412885.27},2970376466.27,3156234788.27,3350257216.27]
[{"$f":"\"Total \"&A22","v":"Total Property, plant and equipment (PPE)"},2,{"$f":"SUM(C23:C24)-C25","v":5349900582},{"$f":"SUM(D23:D24)-D25","v":5969111708.6899996},6513885671.7600002,9715593110.1851978,8489173656,8489173656,6959684864.7399998,9114556386,9779302786,10257580383]
[]
["LIABILITIES"]
[{"$f":"'A6-FinPos'!A28&\" - \"&'A6-FinPos'!A30","v":"Current liabilities - Borrowing"}]
["Short term loans (other than bank overdraft)",null,{"$f":"[3]SA3!C30","v":0},{"$f":"[3]SA3!D30","v":0},{"$f":"[3]SA3!E30","v":0},{"$f":"[3]SA3!F30","v":0},{"$f":"[3]SA3!G30","v":0},{"$f":"[3]SA3!H30","v":0},{"$f":"[3]SA3!I30","v":0}]
["Current portion of long-term liabilities",null,{"$f":"[3]SA3!C31","v":0},{"$f":"[3]SA3!D31","v":0},{"$f":"[3]SA3!E31","v":0},{"$f":"[3]SA3!F31","v":297648},{"$f":"[3]SA3!G31","v":0},{"$f":"[3]SA3!H31","v":0},{"$f":"[3]SA3!I31","v":0},0,0,0]
[{"$f":"\"Total \"&A29","v":"Total Current liabilities - Borrowing"},null,{"$f":"SUM(C30:C31)","v":0},{"$f":"SUM(D30:D31)","v":0},0,297648,0,0,0,0,0,0]
[]
[{"$f":"'A6-FinPos'!A32","v":"Trade and other payables"}]
["Trade Payables",5,{"$f":"[3]SA3!C35","v":380241446},{"$f":"[3]SA3!D35","v":461201744},{"$f":"[3]SA3!E35","v":630946025},{"$f":"[3]SA3!F35","v":278568378.48887098},{"$f":"[3]SA3!G35","v":104874306},{"$f":"[3]SA3!H35","v":104874306},{"$f":"[3]SA3!I35","v":48375230.079999998},101915877,327462503.13237596,279145705.13237596]
[" Other creditors",null,{"$f":"[3]SA3!C36","v":4034359},{"$f":"[3]SA3!D36","v":0},{"$f":"[3]SA3!E36","v":0},{"$f":"[3]SA3!F36","v":0},{"$f":"[3]SA3!G36","v":0},{"$f":"[3]SA3!H36","v":0},{"$f":"[3]SA3!I36","v":0},0,0,0]
["Unspent conditional transfers",null,{"$f":"[3]SA3!C37","v":7229655},{"$f":"[3]SA3!D37","v":0},{"$f":"[3]SA3!E37","v":0},{"$f":"[3]SA3!F37","v":0},{"$f":"[3]SA3!G37","v":0},{"$f":"[3]SA3!H37","v":0},{"$f":"[3]SA3!I37","v":823679284.84000003},0,0,0]
["VAT",null,{"$f":"[3]SA3!C38","v":0},{"$f":"[3]SA3!D38","v":0},{"$f":"[3]SA3!E38","v":0},{"$f":"[3]SA3!F38","v":0},{"$f":"[3]SA3!G38","v":350000},{"$f":"[3]SA3!H38","v":350000},{"$f":"[3]SA3!I38","v":30828751.760000002},0,0,0]
[{"$f":"\"Total \"&A34","v":"Total Trade and other payables"},2,{"$f":"SUM(C35:C38)","v":391505460},461201744,630946025,278568378.48887098,105224306,105224306,902883266.68000007,101915877,327462503.13237596,{"$f":"SUM(L35:L38)","v":279145705.13237596}]
[]
[{"$f":"'A6-FinPos'!A36&\" - \"&'A6-FinPos'!A37","v":"Non current liabilities - Borrowing"}]
["Borrowing",4,{"$f":"[3]SA3!C42","v":38795339},{"$f":"[3]SA3!D42","v":0},{"$f":"[3]SA3!E42","v":0},{"$f":"[3]SA3!F42","v":104000},{"$f":"[3]SA3!G42","v":0},{"$f":"[3]SA3!H42","v":0},{"$f":"[3]SA3!I42","v":0},0,0,0]
["Finance leases (including PPP asset element)",null,{"$f":"[3]SA3!C43","v":0},{"$f":"[3]SA3!D43","v":0},{"$f":"[3]SA3!E43","v":0},{"$f":"[3]SA3!F43","v":0},{"$f":"[3]SA3!G43","v":0},{"$f":"[3]SA3!H43","v":0},{"$f":"[3]SA3!I43","v":0}]
[{"$f":"\"Total \"&A41","v":"Total Non current liabilities - Borrowing"},null,{"$f":"SUM(C42:C43)","v":38795339},{"$f":"SUM(D42:D43)","v":0},0,104000,0,0,0,0,0,0]
[]
[{"$f":"'A6-FinPos'!A38&\" - non-current\"","v":"Provisions - non-current"}]
["Retirement benefits",null,{"$f":"[3]SA3!C47","v":64042052},{"$f":"[3]SA3!D47","v":87087052},{"$f":"[3]SA3!E47","v":113540052},{"$f":"[3]SA3!F47","v":40570534.079999998},{"$f":"[3]SA3!G47","v":0},{"$f":"[3]SA3!H47","v":0},{"$f":"[3]SA3!I47","v":0},0,0,0]
[null,null,{"$f":"[3]SA3!C48","v":0},{"$f":"[3]SA3!D48","v":0},{"$f":"[3]SA3!E48","v":0},{"$f":"[3]SA3!F48","v":0},{"$f":"[3]SA3!G48","v":0},{"$f":"[3]SA3!H48","v":0},{"$f":"[3]SA3!I48","v":0}]
["Refuse landfill site rehabilitation",null,{"$f":"[3]SA3!C49","v":0},{"$f":"[3]SA3!D49","v":0},{"$f":"[3]SA3!E49","v":0},{"$f":"[3]SA3!F49","v":0},{"$f":"[3]SA3!G49","v":0},{"$f":"[3]SA3!H49","v":0},{"$f":"[3]SA3!I49","v":0}]
["Other",null,{"$f":"[3]SA3!C50","v":0},{"$f":"[3]SA3!D50","v":0},{"$f":"[3]SA3!E50","v":0},{"$f":"[3]SA3!F50","v":0},{"$f":"[3]SA3!G50","v":0},{"$f":"[3]SA3!H50","v":0},{"$f":"[3]SA3!I50","v":0},0,0,0]
[{"$f":"\"Total \"&A46","v":"Total Provisions - non-current"},null,{"$f":"+C47+C49+C50","v":64042052},87087052,113540052,40570534.079999998,0,0,{"$f":"+I47+I49+I50","v":0},{"$f":"+J47+J49+J50","v":0},0,0]
[]
["CHANGES IN NET ASSETS"]
[{"$f":"'A6-FinPos'!A45","v":"Accumulated Surplus/(Deficit)"}]
[{"$f":"A54&\" - opening balance\"","v":"Accumulated Surplus/(Deficit) - opening balance"},null,{"$f":"[3]SA3!C55","v":4878006763},{"$f":"[3]SA3!D55","v":5365908670.8500004},{"$f":"[3]SA3!E55","v":5903106046.9700003},{"$f":"[3]SA3!F55","v":9067548604.7507324},{"$f":"[3]SA3!G55","v":7341008104},{"$f":"[3]SA3!H55","v":7341008104},{"$f":"[3]SA3!I55","v":6294141065.6400003},8213472091,8880397136,9280015007]
["GRAP adjustments",null,{"$f":"[3]SA3!C56","v":0},{"$f":"[3]SA3!D56","v":0},{"$f":"[3]SA3!E56","v":0},{"$f":"[3]SA3!F56","v":0},{"$f":"[3]SA3!G56","v":0},{"$f":"[3]SA3!H56","v":0},{"$f":"[3]SA3!I56","v":0},0,0,0]
["Restated balance",null,{"$f":"SUM(C55:C56)","v":4878006763},{"$f":"SUM(D55:D56)","v":5365908670.8500004},{"$f":"SUM(E55:E56)","v":5903106046.9700003},{"$f":"SUM(F55:F56)","v":9067548604.7507324},7341008104,7341008104,6294141065.6400003,8213472091,8880397136,9280015007]
[{"$f":"'A4-FinPerf RE'!A37","v":"Surplus/(Deficit)"},null,{"$f":"'A4-FinPerf RE'!C45","v":471999377},{"$f":"'A4-FinPerf RE'!D45","v":537404797.00999999},{"$f":"'A4-FinPerf RE'!E45","v":555831841.8599999},{"$f":"'A4-FinPerf RE'!F45","v":1049572706},{"$f":"'A4-FinPerf RE'!G45","v":1112828510},{"$f":"'A4-FinPerf RE'!H45","v":1112828510},{"$f":"'A4-FinPerf RE'!I45","v":216229391.84000012},{"$f":"'A4-FinPerf RE'!J45","v":933925264},{"$f":"'A4-FinPerf RE'!K45","v":881520194},{"$f":"'A4-FinPerf RE'!L45","v":992772040}]
[]
["Transfers to/from Reserves",null,{"$f":"[3]SA3!C60","v":0},{"$f":"[3]SA3!D60","v":0},{"$f":"[3]SA3!E60","v":0},{"$f":"[3]SA3!F60","v":0},{"$f":"[3]SA3!G60","v":258810617},{"$f":"[3]SA3!H60","v":258810617},{"$f":"[3]SA3!I60","v":0},110881790,97139637,67877393]
["Depreciation offsets",null,{"$f":"[3]SA3!C61","v":0},{"$f":"[3]SA3!D61","v":0},{"$f":"[3]SA3!E61","v":0},{"$f":"[3]SA3!F61","v":0},{"$f":"[3]SA3!G61","v":0},{"$f":"[3]SA3!H61","v":0},{"$f":"[3]SA3!I61","v":0},0,0,0]
["Other adjustments",null,{"$f":"[3]SA3!C62","v":0},{"$f":"[3]SA3!D62","v":0},{"$f":"[3]SA3!E62","v":0},{"$f":"[3]SA3!F62","v":-58907286.038803101},{"$f":"[3]SA3!G62","v":0},{"$f":"[3]SA3!H62","v":0},{"$f":"[3]SA3!I62","v":-10563007.890000001},0,0,0]
["Accumulated Surplus/(Deficit)",1,{"$f":"SUM(C57:C62)","v":5350006140},{"$f":"SUM(D57:D62)","v":5903313467.8600006},{"$f":"SUM(E57:E62)","v":6458937888.8299999},10058214024.711929,8712647231,8712647231,6499807449.5900002,9258279145,9859056967,10340664440]
["Reserves"]
["Housing Development Fund",null,{"$f":"[3]SA3!C65","v":0},{"$f":"[3]SA3!D65","v":0},{"$f":"[3]SA3!E65","v":0},{"$f":"[3]SA3!F65","v":0},{"$f":"[3]SA3!G65","v":0},{"$f":"[3]SA3!H65","v":0},{"$f":"[3]SA3!I65","v":0}]
["Capital replacement",null,{"$f":"[3]SA3!C66","v":0},{"$f":"[3]SA3!D66","v":0},{"$f":"[3]SA3!E66","v":0},{"$f":"[3]SA3!F66","v":0},{"$f":"[3]SA3!G66","v":0},{"$f":"[3]SA3!H66","v":0},{"$f":"[3]SA3!I66","v":0}]
["Self-insurance",null,{"$f":"[3]SA3!C67","v":0},{"$f":"[3]SA3!D67","v":0},{"$f":"[3]SA3!E67","v":0},{"$f":"[3]SA3!F67","v":0},{"$f":"[3]SA3!G67","v":0},{"$f":"[3]SA3!H67","v":0},{"$f":"[3]SA3!I67","v":0}]
["Other reserves",null,{"$f":"[3]SA3!C68","v":0},{"$f":"[3]SA3!D68","v":0},{"$f":"[3]SA3!E68","v":0},{"$f":"[3]SA3!F68","v":0},{"$f":"[3]SA3!G68","v":0},{"$f":"[3]SA3!H68","v":0},{"$f":"[3]SA3!I68","v":0}]
["Revaluation",null,{"$f":"[3]SA3!C69","v":0},{"$f":"[3]SA3!D69","v":0},{"$f":"[3]SA3!E69","v":0},{"$f":"[3]SA3!F69","v":0},{"$f":"[3]SA3!G69","v":0},{"$f":"[3]SA3!H69","v":0},{"$f":"[3]SA3!I69","v":0}]
["Total Reserves",2,{"$f":"SUM(C65:C69)","v":0},0,0,0,0,0,0,0,0,0]
[{"$f":"'A6-FinPos'!A48","v":"TOTAL COMMUNITY WEALTH/EQUITY"},2,{"$f":"C63+C70","v":5350006140},5903313467.8600006,6458937888.8299999,10058214024.711929,8712647231,8712647231,6499807449.5900002,9258279145,9859056967,10340664440]
[]
[]
[]
[]
[]
[{"$f":"head27a","v":"References"}]
[{"$f":"\"1. Must reconcile with \"&'Template names'!F103","v":"1. Must reconcile with Table A4 Budgeted Financial Performance (revenue and expenditure)"}]
[{"$f":"\"2. Must reconcile with \"&'Template names'!F105","v":"2. Must reconcile with Table A6 Budgeted Financial Position"}]
["3. Leases treated as assets to be depreciated as the same as purchased/constructed assets.  Includes PPP asset element accounted for as finance leases"]
["4. Borrowing must reconcile to Table A17"]
["5. Trade Payable should only include Trade Payables from Exchance Transactions (\"True Creditors\")"]
["check",null,{"$f":"C71-'A6-FinPos'!C48","v":0},{"$f":"D71-'A6-FinPos'!D48","v":0},{"$f":"E71-'A6-FinPos'!E48","v":0},{"$f":"F71-'A6-FinPos'!F48","v":0},{"$f":"G71-'A6-FinPos'!G48","v":-5679000},{"$f":"H71-'A6-FinPos'!H48","v":-5679000},{"$f":"I71-'A6-FinPos'!I48","v":125903872.44000053},{"$f":"J71-'A6-FinPos'!J48","v":0},{"$f":"K71-'A6-FinPos'!K48","v":0},{"$f":"L71-'A6-FinPos'!L48","v":0}]
[null,null,{"$f":"TREND(D84:H84)","v":0},{"$f":"TREND(E84:H84)","v":0},{"$f":"E74","v":0},{"$f":"H74","v":0},{"$f":"J74","v":0},{"$f":"K74","v":0},{"$f":"L74","v":0}]

{"sheet":"SA4","index":23,"n_rows":14,"n_cols":13,"rows_kept":14,"cut":false,"hidden":false,"merged":[[1,7,1,9],[1,10,1,12],[1,3,2,3]]}
[{"$f":"muni&\" - \"&TableA4","v":"DC15 O .R. Tambo - Supporting Table SA4 Reconciliation of IDP strategic objectives and budget (revenue)"}]
["Strategic Objective","Goal","Goal\nCode",{"$f":"head27","v":"Ref"},{"$f":"head1b","v":"2016/17"},{"$f":"head1A","v":"2017/18"},{"$f":"Head1","v":"2018/19"},{"$f":"Head2","v":"Current Year 2019/20"},null,null,{"$f":"Head3","v":"2020/21 Medium Term Revenue & Expenditure Framework"}]
["R thousand",null,null,null,{"$f":"Head5","v":"Audited Outcome"},{"$f":"Head5","v":"Audited Outcome"},{"$f":"Head5","v":"Audited Outcome"},{"$f":"Head6","v":"Original Budget"},{"$f":"Head7","v":"Adjusted Budget"},{"$f":"Head8","v":"Full Year Forecast"},{"$f":"Head9","v":"Budget Year 2020/21"},{"$f":"Head10","v":"Budget Year +1 2021/22"},{"$f":"Head11","v":"Budget Year +2 2022/23"}]
["FINANCIAL VIABILITY AND MANAGEMENT",null,null,null,1098242422.0800004,780698013.07000005,834234881.65999997,156037284,286242945,286242945,273122342,271988681,279058881]
["STRENGTHINING GOVERNANCE AND CONTROL ENVIRONMENT",null,null,null,0,0,0,217599311,245902485,245902485,243214080,267834842,280163051]
["PROMOTE WORKPLANCE SKILLS DEVELOPMENT",null,null,null,391531.86,0,0,172353099,161353099,161353099,165464271,188006861,198512387]
["IMPROVE COORDINATION AND INTERGRATION OF LED PROGRAMS AND ENHANCING ACCESS TO LED INFRASTRUCTURE AND PROMOTING SUSTAINABLE COMMUNITY LIVELYHOOD",null,null,null,3174662.97,4811000,4882000,107125932,124400932,124400932,142836096,129733375,131224190]
["PROVIDING ACESS TO POTABLE WATER, AND SANITATION SERVICES AND IMPROVE THE COMMUNITY LIVELYHOOD",null,null,null,{"$f":"758672153.09-237146.000000477","v":758435007.08999956},1320353196.98,1393694602.1000001,1829700808,1954495471,1954495471,1815689718,1816461254,1967820792]
["Allocations to other priorities",null,null,2]
[{"$f":"'A4-FinPerf RE'!A21","v":"Total Revenue (excluding capital transfers and contributions)"},null,null,1,{"$f":"SUM(E4:E9)","v":1860243624},2105862210.0500002,2232811483.7600002,2482816434,2772394932,2772394932,2640326507,2674025013,2856779301]
[{"$f":"head27a","v":"References"}]
[{"$f":"\"1. Total revenue must reconcile to \"&'Template names'!F103","v":"1. Total revenue must reconcile to Table A4 Budgeted Financial Performance (revenue and expenditure)"}]
["2. Balance of allocations not directly linked to an IDP strategic objective"]
["check op revenue balance",null,null,null,{"$f":"E10-'A4-FinPerf RE'!C59","v":0},{"$f":"F10-'A4-FinPerf RE'!D59","v":0},{"$f":"G10-'A4-FinPerf RE'!E59","v":0},{"$f":"H10-'A4-FinPerf RE'!F59","v":0},{"$f":"I10-'A4-FinPerf RE'!G59","v":0},{"$f":"J10-'A4-FinPerf RE'!H59","v":0},{"$f":"K10-'A4-FinPerf RE'!J59","v":0},{"$f":"L10-'A4-FinPerf RE'!K59","v":0},{"$f":"M10-'A4-FinPerf RE'!L59","v":0}]

{"sheet":"SA5","index":24,"n_rows":14,"n_cols":13,"rows_kept":14,"cut":false,"hidden":false,"merged":[[1,7,1,9],[1,10,1,12],[1,3,2,3]]}
[{"$f":"muni&\" - \"&TableA5","v":"DC15 O .R. Tambo - Supporting Table SA5 Reconciliation of IDP strategic objectives and budget (operating expenditure)"}]
["Strategic Objective","Goal","Goal\nCode",{"$f":"head27","v":"Ref"},{"$f":"head1b","v":"2016/17"},{"$f":"head1A","v":"2017/18"},{"$f":"Head1","v":"2018/19"},{"$f":"Head2","v":"Current Year 2019/20"},null,null,{"$f":"Head3","v":"2020/21 Medium Term Revenue & Expenditure Framework"}]
["R thousand",null,null,null,{"$f":"Head5","v":"Audited Outcome"},{"$f":"Head5","v":"Audited Outcome"},{"$f":"Head5","v":"Audited Outcome"},{"$f":"Head6","v":"Original Budget"},{"$f":"Head7","v":"Adjusted Budget"},{"$f":"Head8","v":"Full Year Forecast"},{"$f":"Head9","v":"Budget Year 2020/21"},{"$f":"Head10","v":"Budget Year +1 2021/22"},{"$f":"Head11","v":"Budget Year +2 2022/23"}]
["FINANCIAL VIABILITY AND MANAGEMENT",null,null,null,294573021.15999991,191052286.91999999,170790413.38,137387287,329514911,329514911,232379728,250066290,266104175]
["STRENGTHINING GOVERNANCE AND CONTROL ENVIRONMENT",null,null,null,145797885.81,202225837.00999999,250420048.41,221893304,250546481,250546481,253320022,273342325,286351030]
["PROMOTE WORKPLANCE SKILLS DEVELOPMENT",null,null,null,87441494.590000004,115152661.58,130842779.5,169166942,157766940,157766940,162402569,184027196,193362386]
["IMPROVE COORDINATION AND INTERGRATION OF LED PROGRAMS AND ENHANCING ACCESS TO LED INFRASTRUCTURE AND PROMOTING SUSTAINABLE COMMUNITY LIVELYHOOD",null,null,null,102473150.53,167322512.43000001,94924058.25,100831932,118106932,118106932,135927098,128655205,131224190]
["PROVIDING ACESS TO POTABLE WATER, AND SANITATION SERVICES AND IMPROVE THE COMMUNITY LIVELYHOOD",null,null,null,{"$f":"774449994.91-16491300","v":757958694.90999997},894570542.10000002,1035355466.3600003,803964263,803631158,803631158,922371826,956413803,986965480]
["Allocations to other priorities"]
[{"$f":"'A4-FinPerf RE'!A35","v":"Total Expenditure"},null,null,1,{"$f":"SUM(E4:E9)","v":1388244247},1570323840.04,1682332765.9000001,1433243728,1659566422,1659566422,1706401243,1792504819,1864007261]
[{"$f":"head27a","v":"References"}]
[{"$f":"\"1. Total expenditure must reconcile to \"&'Template names'!F103","v":"1. Total expenditure must reconcile to Table A4 Budgeted Financial Performance (revenue and expenditure)"}]
["2. Balance of allocations not directly linked to an IDP strategic objective"]
["check op expenditure balance",null,null,null,{"$f":"E10-'A4-FinPerf RE'!C35","v":0},{"$f":"F10-'A4-FinPerf RE'!D35","v":0},{"$f":"G10-'A4-FinPerf RE'!E35","v":0},{"$f":"H10-'A4-FinPerf RE'!F35","v":0},{"$f":"I10-'A4-FinPerf RE'!G35","v":0},{"$f":"J10-'A4-FinPerf RE'!H35","v":0},{"$f":"K10-'A4-FinPerf RE'!J35","v":0},{"$f":"L10-'A4-FinPerf RE'!K35","v":0},{"$f":"M10-'A4-FinPerf RE'!L35","v":0}]

{"sheet":"SA6","index":25,"n_rows":15,"n_cols":13,"rows_kept":15,"cut":false,"hidden":false,"merged":[[1,7,1,9],[1,10,1,12],[1,3,2,3]]}
[{"$f":"muni&\" - \"&TableA6","v":"DC15 O .R. Tambo - Supporting Table SA6 Reconciliation of IDP strategic objectives and budget (capital expenditure)"}]
["Strategic Objective","Goal","Goal Code",{"$f":"head27","v":"Ref"},{"$f":"head1b","v":"2016/17"},{"$f":"head1A","v":"2017/18"},{"$f":"Head1","v":"2018/19"},{"$f":"Head2","v":"Current Year 2019/20"},null,null,{"$f":"Head3","v":"2020/21 Medium Term Revenue & Expenditure Framework"}]
["R thousand",null,null,null,{"$f":"Head5","v":"Audited Outcome"},{"$f":"Head5","v":"Audited Outcome"},{"$f":"Head5","v":"Audited Outcome"},{"$f":"Head6","v":"Original Budget"},{"$f":"Head7","v":"Adjusted Budget"},{"$f":"Head8","v":"Full Year Forecast"},{"$f":"Head9","v":"Budget Year 2020/21"},{"$f":"Head10","v":"Budget Year +1 2021/22"},{"$f":"Head11","v":"Budget Year +2 2022/23"}]
["FINANCIAL VIABILITY AND MANAGEMENT",null,null,null,15561508,29147260.219999999,4782154.3099999996,18650000,29395000,29395000,41246000,17183000,11852800]
["STRENGTHINING GOVERNANCE AND CONTROL ENVIRONMENT",null,null,null,0,0,0,2000000,2000000,2000000,5000000,3500000,0]
["PROMOTE WORKPLANCE SKILLS DEVELOPMENT",null,null,null,0,5063616.74,837026.21,3186154,3586154,3586154,3804207,4762259,5150000]
["IMPROVE COORDINATION AND INTERGRATION OF LED PROGRAMS AND ENHANCING ACCESS TO LED INFRASTRUCTURE AND PROMOTING SUSTAINABLE COMMUNITY LIVELYHOOD",null,null,null,1775877,0,3294698.1,0,0,0,2500000,3300000,0]
["PROVIDING ACESS TO POTABLE WATER, AND SANITATION SERVICES AND IMPROVE THE COMMUNITY LIVELYHOOD",null,null,null,{"$f":"784897113+8160561","v":793057674},745084832.03999996,866264633.38,1099391380,1316728257,1316728257,992256846,949914573,1043646635]
["Allocations to other priorities",null,null,3]
["Total Capital Expenditure",null,null,1,{"$f":"SUM(E4:E9)","v":810395059},779295709,875178512,1123227534,1351709411,1351709411,1044807053,978659832,1060649435]
[{"$f":"head27a","v":"References"}]
["1. Total capital expenditure must reconcile to Budgeted Capital Expenditure"]
["2. Goal code must be used on Table SA36"]
["3. Balance of allocations not directly linked to an IDP strategic objective"]
["check capital balance",null,null,null,{"$f":"E10-'A5-Capex'!C40","v":0},{"$f":"F10-'A5-Capex'!D40","v":0},{"$f":"G10-'A5-Capex'!E40","v":0},{"$f":"H10-'A5-Capex'!F40","v":0},{"$f":"I10-'A5-Capex'!G40","v":0},{"$f":"J10-'A5-Capex'!H40","v":0},{"$f":"K10-'A5-Capex'!J40","v":0},{"$f":"L10-'A5-Capex'!K40","v":0},{"$f":"M10-'A5-Capex'!L40","v":0}]

{"sheet":"SA7","index":26,"n_rows":26,"n_cols":11,"rows_kept":26,"cut":false,"hidden":false,"merged":[[1,1,2,1],[1,0,2,0],[1,5,1,7],[1,8,1,10],[24,0,24,10],[4,0,4,10],[9,0,10,0],[9,1,10,1],[9,5,9,7],[9,8,9,10]]}
[{"$f":"muni&\" - \"&TableA7","v":"DC15 O .R. Tambo - Supporting Table SA7 Measureable performance objectives"}]
["Description","Unit of measurement",{"$f":"head1b","v":"2016/17"},{"$f":"head1A","v":"2017/18"},{"$f":"Head1","v":"2018/19"},{"$f":"Head2","v":"Current Year 2019/20"},null,null,{"$f":"Head3","v":"2020/21 Medium Term Revenue & Expenditure Framework"}]
[null,null,{"$f":"Head5","v":"Audited Outcome"},{"$f":"Head5","v":"Audited Outcome"},{"$f":"Head5","v":"Audited Outcome"},{"$f":"Head6","v":"Original Budget"},{"$f":"Head7","v":"Adjusted Budget"},{"$f":"Head8","v":"Full Year Forecast"},{"$f":"Head9","v":"Budget Year 2020/21"},{"$f":"Head10","v":"Budget Year +1 2021/22"},{"$f":"Head11","v":"Budget Year +2 2022/23"}]
[]
["1. Include a measurable performance objective for each revenue source (within a relevant function) and each vote (MFMA s17(3)(b))"]
["2. Include all Basic Services performance targets from 'Basic Service Delivery' to ensure Table SA7 represents all strategic responsibilities"]
["3. Only include prior year comparative information for individual measures where relevant activity occurred in that year/s"]
[]
[{"$f":"muni&\" - \"&\"Entities measureable performance objectives\"","v":"DC15 O .R. Tambo - Entities measureable performance objectives"}]
[{"$f":"A2","v":"Description"},"Unit of measurement",{"$f":"head1b","v":"2016/17"},{"$f":"head1A","v":"2017/18"},{"$f":"Head1","v":"2018/19"},{"$f":"Head2","v":"Current Year 2019/20"},null,null,{"$f":"Head3","v":"2020/21 Medium Term Revenue & Expenditure Framework"}]
[null,null,{"$f":"Head5","v":"Audited Outcome"},{"$f":"Head5","v":"Audited Outcome"},{"$f":"Head5","v":"Audited Outcome"},{"$f":"Head6","v":"Original Budget"},{"$f":"Head7","v":"Adjusted Budget"},{"$f":"Head8","v":"Full Year Forecast"},{"$f":"Head9","v":"Budget Year 2020/21"},{"$f":"Head10","v":"Budget Year +1 2021/22"},{"$f":"Head11","v":"Budget Year +2 2022/23"}]
["Vote 1 - vote name","Number of Meetings",14,14,14,14,14,14,14,14,14]
["Function 1 - (name)","Number of Meetings",4,4,4,4,4,4,4,4,4]
["Vote 1 - vote name"]
[]
["Entity 2 - (name of entity)"]
[{"$f":"#REF!","v":{"$error":"#REF!"}}]
[]
[]
["Entity 3 - (name of entity)"]
[{"$f":"#REF!","v":{"$error":"#REF!"}}]
[]
[]
["And so on for the rest of the Entities"]
["1. Include a measurable performance objective as agreed with the parent municipality (MFMA s87(5)(d))"]
["2. Only include prior year comparative information for individual measures where relevant activity occurred in that year/s"]

{"sheet":"SA8","index":27,"n_rows":49,"n_cols":12,"rows_kept":49,"cut":false,"hidden":false,"merged":[[28,0,30,0],[1,0,2,0],[1,9,1,11],[1,1,2,1],[1,5,1,8],[25,0,27,0]]}
[{"$f":"muni&\" - \"&TableA8","v":"DC15 O .R. Tambo - Supporting Table SA8 Performance indicators and benchmarks"}]
["Description of financial indicator","Basis of calculation",{"$f":"head1b","v":"2016/17"},{"$f":"head1A","v":"2017/18"},{"$f":"Head1","v":"2018/19"},{"$f":"Head2","v":"Current Year 2019/20"},null,null,null,{"$f":"Head3","v":"2020/21 Medium Term Revenue & Expenditure Framework"}]
[null,null,{"$f":"Head5","v":"Audited Outcome"},{"$f":"Head5","v":"Audited Outcome"},{"$f":"Head5","v":"Audited Outcome"},{"$f":"Head6","v":"Original Budget"},{"$f":"Head7","v":"Adjusted Budget"},{"$f":"Head8","v":"Full Year Forecast"},{"$f":"Head5b","v":"Pre-audit outcome"},{"$f":"Head9","v":"Budget Year 2020/21"},{"$f":"Head10","v":"Budget Year +1 2021/22"},{"$f":"Head11","v":"Budget Year +2 2022/23"}]
["Borrowing Management"]
[]
["Credit Rating"]
["Capital Charges to Operating Expenditure","Interest & Principal Paid /Operating Expenditure",{"$f":"IF(ISERROR(('A4-FinPerf RE'!C28-'A7-CFlow'!C35)/'A4-FinPerf RE'!C35),0,(('A4-FinPerf RE'!C28-'A7-CFlow'!C35)/'A4-FinPerf RE'!C35))","v":9.2131172361343133E-3},{"$f":"IF(ISERROR(('A4-FinPerf RE'!D28-'A7-CFlow'!D35)/'A4-FinPerf RE'!D35),0,(('A4-FinPerf RE'!D28-'A7-CFlow'!D35)/'A4-FinPerf RE'!D35))","v":3.0533394308513245E-2},{"$f":"IF(ISERROR(('A4-FinPerf RE'!E28-'A7-CFlow'!E35)/'A4-FinPerf RE'!E35),0,(('A4-FinPerf RE'!E28-'A7-CFlow'!E35)/'A4-FinPerf RE'!E35))","v":5.5610621094899998E-3},{"$f":"IF(ISERROR(('A4-FinPerf RE'!F28-'A7-CFlow'!F35)/'A4-FinPerf RE'!F35),0,(('A4-FinPerf RE'!F28-'A7-CFlow'!F35)/'A4-FinPerf RE'!F35))","v":0},{"$f":"IF(ISERROR(('A4-FinPerf RE'!G28-'A7-CFlow'!G35)/'A4-FinPerf RE'!G35),0,(('A4-FinPerf RE'!G28-'A7-CFlow'!G35)/'A4-FinPerf RE'!G35))","v":0},{"$f":"IF(ISERROR(('A4-FinPerf RE'!H28-'A7-CFlow'!H35)/'A4-FinPerf RE'!H35),0,(('A4-FinPerf RE'!H28-'A7-CFlow'!H35)/'A4-FinPerf RE'!H35))","v":0},{"$f":"IF(ISERROR(('A4-FinPerf RE'!I28-'A7-CFlow'!I35)/'A4-FinPerf RE'!I35),0,(('A4-FinPerf RE'!I28-'A7-CFlow'!I35)/'A4-FinPerf RE'!I35))","v":1.3411196221247454E-4},{"$f":"IF(ISERROR(('A4-FinPerf RE'!J28-'A7-CFlow'!J35)/'A4-FinPerf RE'!J35),0,(('A4-FinPerf RE'!J28-'A7-CFlow'!J35)/'A4-FinPerf RE'!J35))","v":0},{"$f":"IF(ISERROR(('A4-FinPerf RE'!K28-'A7-CFlow'!K35)/'A4-FinPerf RE'!K35),0,(('A4-FinPerf RE'!K28-'A7-CFlow'!K35)/'A4-FinPerf RE'!K35))","v":0},{"$f":"IF(ISERROR(('A4-FinPerf RE'!L28-'A7-CFlow'!L35)/'A4-FinPerf RE'!L35),0,(('A4-FinPerf RE'!L28-'A7-CFlow'!L35)/'A4-FinPerf RE'!L35))","v":0}]
["Capital Charges to Own Revenue","Finance charges & Repayment of borrowing /Own Revenue",{"$f":"IF(ISERROR(('A4-FinPerf RE'!C28-'A7-CFlow'!C35)/('A4-FinPerf RE'!C21-'A4-FinPerf RE'!C18)),0,(('A4-FinPerf RE'!C28-'A7-CFlow'!C35)/('A4-FinPerf RE'!C21-'A4-FinPerf RE'!C18)))","v":2.9661915389357578E-2},{"$f":"IF(ISERROR(('A4-FinPerf RE'!D28-'A7-CFlow'!D35)/('A4-FinPerf RE'!D21-'A4-FinPerf RE'!D18)),0,(('A4-FinPerf RE'!D28-'A7-CFlow'!D35)/('A4-FinPerf RE'!D21-'A4-FinPerf RE'!D18)))","v":0.13473512480472044},{"$f":"IF(ISERROR(('A4-FinPerf RE'!E28-'A7-CFlow'!E35)/('A4-FinPerf RE'!E21-'A4-FinPerf RE'!E18)),0,(('A4-FinPerf RE'!E28-'A7-CFlow'!E35)/('A4-FinPerf RE'!E21-'A4-FinPerf RE'!E18)))","v":2.6796363060776041E-2},{"$f":"IF(ISERROR(('A4-FinPerf RE'!F28-'A7-CFlow'!F35)/('A4-FinPerf RE'!F21-'A4-FinPerf RE'!F18)),0,(('A4-FinPerf RE'!F28-'A7-CFlow'!F35)/('A4-FinPerf RE'!F21-'A4-FinPerf RE'!F18)))","v":0},{"$f":"IF(ISERROR(('A4-FinPerf RE'!G28-'A7-CFlow'!G35)/('A4-FinPerf RE'!G21-'A4-FinPerf RE'!G18)),0,(('A4-FinPerf RE'!G28-'A7-CFlow'!G35)/('A4-FinPerf RE'!G21-'A4-FinPerf RE'!G18)))","v":0},{"$f":"IF(ISERROR(('A4-FinPerf RE'!H28-'A7-CFlow'!H35)/('A4-FinPerf RE'!H21-'A4-FinPerf RE'!H18)),0,(('A4-FinPerf RE'!H28-'A7-CFlow'!H35)/('A4-FinPerf RE'!H21-'A4-FinPerf RE'!H18)))","v":0},{"$f":"IF(ISERROR(('A4-FinPerf RE'!I28-'A7-CFlow'!I35)/('A4-FinPerf RE'!I21-'A4-FinPerf RE'!I18)),0,(('A4-FinPerf RE'!I28-'A7-CFlow'!I35)/('A4-FinPerf RE'!I21-'A4-FinPerf RE'!I18)))","v":4.5178924461084983E-4},{"$f":"IF(ISERROR(('A4-FinPerf RE'!J28-'A7-CFlow'!J35)/('A4-FinPerf RE'!J21-'A4-FinPerf RE'!J18)),0,(('A4-FinPerf RE'!J28-'A7-CFlow'!J35)/('A4-FinPerf RE'!J21-'A4-FinPerf RE'!J18)))","v":0},{"$f":"IF(ISERROR(('A4-FinPerf RE'!K28-'A7-CFlow'!K35)/('A4-FinPerf RE'!K21-'A4-FinPerf RE'!K18)),0,(('A4-FinPerf RE'!K28-'A7-CFlow'!K35)/('A4-FinPerf RE'!K21-'A4-FinPerf RE'!K18)))","v":0},{"$f":"IF(ISERROR(('A4-FinPerf RE'!L28-'A7-CFlow'!L35)/('A4-FinPerf RE'!L21-'A4-FinPerf RE'!L18)),0,(('A4-FinPerf RE'!L28-'A7-CFlow'!L35)/('A4-FinPerf RE'!L21-'A4-FinPerf RE'!L18)))","v":0}]
["Borrowed funding of 'own' capital expenditure","Borrowing/Capital expenditure excl. transfers and grants and contributions",{"$f":"IF(ISERROR(C49/C48),0,(C49/C48))","v":0},{"$f":"IF(ISERROR(D49/D48),0,(D49/D48))","v":0},{"$f":"IF(ISERROR(E49/E48),0,(E49/E48))","v":0},0,0,0,0,0,0,0]
["Safety of Capital"]
["Gearing","Long Term Borrowing/ Funds & Reserves",{"$f":"IF(ISERROR(('A6-FinPos'!C37/'A6-FinPos'!C46)),0,(('A6-FinPos'!C37/'A6-FinPos'!C46)))","v":0},{"$f":"IF(ISERROR(('A6-FinPos'!D37/'A6-FinPos'!D46)),0,(('A6-FinPos'!D37/'A6-FinPos'!D46)))","v":0},{"$f":"IF(ISERROR(('A6-FinPos'!E37/'A6-FinPos'!E46)),0,(('A6-FinPos'!E37/'A6-FinPos'!E46)))","v":0},{"$f":"IF(ISERROR(('A6-FinPos'!F37/'A6-FinPos'!F46)),0,(('A6-FinPos'!F37/'A6-FinPos'!F46)))","v":0},{"$f":"IF(ISERROR(('A6-FinPos'!G37/'A6-FinPos'!G46)),0,(('A6-FinPos'!G37/'A6-FinPos'!G46)))","v":0},{"$f":"IF(ISERROR(('A6-FinPos'!H37/'A6-FinPos'!H46)),0,(('A6-FinPos'!H37/'A6-FinPos'!H46)))","v":0},{"$f":"IF(ISERROR(('A6-FinPos'!I37/'A6-FinPos'!I46)),0,(('A6-FinPos'!I37/'A6-FinPos'!I46)))","v":0},{"$f":"IF(ISERROR(('A6-FinPos'!J37/'A6-FinPos'!J46)),0,(('A6-FinPos'!J37/'A6-FinPos'!J46)))","v":0},{"$f":"IF(ISERROR(('A6-FinPos'!K37/'A6-FinPos'!K46)),0,(('A6-FinPos'!K37/'A6-FinPos'!K46)))","v":0},{"$f":"IF(ISERROR(('A6-FinPos'!L37/'A6-FinPos'!L46)),0,(('A6-FinPos'!L37/'A6-FinPos'!L46)))","v":0}]
["Liquidity"]
["Current Ratio","Current assets/current liabilities",{"$f":"IF(ISERROR('A6-FinPos'!C12/'A6-FinPos'!C34),0,('A6-FinPos'!C12/'A6-FinPos'!C34))","v":1.1526436606422195},{"$f":"IF(ISERROR('A6-FinPos'!D12/'A6-FinPos'!D34),0,('A6-FinPos'!D12/'A6-FinPos'!D34))","v":1.0181397108542516},{"$f":"IF(ISERROR('A6-FinPos'!E12/'A6-FinPos'!E34),0,('A6-FinPos'!E12/'A6-FinPos'!E34))","v":0.86267030603027628},{"$f":"IF(ISERROR('A6-FinPos'!F12/'A6-FinPos'!F34),0,('A6-FinPos'!F12/'A6-FinPos'!F34))","v":2.3488182317730004},{"$f":"IF(ISERROR('A6-FinPos'!G12/'A6-FinPos'!G34),0,('A6-FinPos'!G12/'A6-FinPos'!G34))","v":1.9345556709106968},{"$f":"IF(ISERROR('A6-FinPos'!H12/'A6-FinPos'!H34),0,('A6-FinPos'!H12/'A6-FinPos'!H34))","v":1.9345556709106968},{"$f":"IF(ISERROR('A6-FinPos'!I12/'A6-FinPos'!I34),0,('A6-FinPos'!I12/'A6-FinPos'!I34))","v":0.45526070620389891},{"$f":"IF(ISERROR('A6-FinPos'!J12/'A6-FinPos'!J34),0,('A6-FinPos'!J12/'A6-FinPos'!J34))","v":1.5475698891752503},{"$f":"IF(ISERROR('A6-FinPos'!K12/'A6-FinPos'!K34),0,('A6-FinPos'!K12/'A6-FinPos'!K34))","v":1.138959681569732},{"$f":"IF(ISERROR('A6-FinPos'!L12/'A6-FinPos'!L34),0,('A6-FinPos'!L12/'A6-FinPos'!L34))","v":1.1598559020055081}]
["Current Ratio adjusted for aged debtors","Current assets less debtors > 90 days/current liabilities",{"$f":"IF(ISERROR(('A6-FinPos'!C12-'SA8'!C45)/'A6-FinPos'!C34),0,(('A6-FinPos'!C12-'SA8'!C45)/'A6-FinPos'!C34))","v":1.1526436606422195},{"$f":"IF(ISERROR(('A6-FinPos'!D12-'SA8'!D45)/'A6-FinPos'!D34),0,(('A6-FinPos'!D12-'SA8'!D45)/'A6-FinPos'!D34))","v":1.0181397108542516},{"$f":"IF(ISERROR(('A6-FinPos'!E12-'SA8'!E45)/'A6-FinPos'!E34),0,(('A6-FinPos'!E12-'SA8'!E45)/'A6-FinPos'!E34))","v":0.86267030603027628},{"$f":"IF(ISERROR(('A6-FinPos'!F12-'SA8'!F45)/'A6-FinPos'!F34),0,(('A6-FinPos'!F12-'SA8'!F45)/'A6-FinPos'!F34))","v":2.3488182317730004},{"$f":"IF(ISERROR(('A6-FinPos'!G12-'SA8'!G45)/'A6-FinPos'!G34),0,(('A6-FinPos'!G12-'SA8'!G45)/'A6-FinPos'!G34))","v":1.9345556709106968},{"$f":"IF(ISERROR(('A6-FinPos'!H12-'SA8'!H45)/'A6-FinPos'!H34),0,(('A6-FinPos'!H12-'SA8'!H45)/'A6-FinPos'!H34))","v":1.9345556709106968},{"$f":"IF(ISERROR(('A6-FinPos'!I12-'SA8'!I45)/'A6-FinPos'!I34),0,(('A6-FinPos'!I12-'SA8'!I45)/'A6-FinPos'!I34))","v":0.45526070620389891},{"$f":"IF(ISERROR(('A6-FinPos'!J12-'SA8'!J45)/'A6-FinPos'!J34),0,(('A6-FinPos'!J12-'SA8'!J45)/'A6-FinPos'!J34))","v":1.5475698891752503},{"$f":"IF(ISERROR(('A6-FinPos'!K12-'SA8'!K45)/'A6-FinPos'!K34),0,(('A6-FinPos'!K12-'SA8'!K45)/'A6-FinPos'!K34))","v":1.138959681569732},{"$f":"IF(ISERROR(('A6-FinPos'!L12-'SA8'!L45)/'A6-FinPos'!L34),0,(('A6-FinPos'!L12-'SA8'!L45)/'A6-FinPos'!L34))","v":1.1598559020055081}]
["Liquidity Ratio","Monetary Assets/Current Liabilities",{"$f":"IF(ISERROR(('A6-FinPos'!C6+'A6-FinPos'!C7)/'A6-FinPos'!C34),0,(('A6-FinPos'!C6+'A6-FinPos'!C7)/'A6-FinPos'!C34))","v":0.73690553399803349},{"$f":"IF(ISERROR(('A6-FinPos'!D6+'A6-FinPos'!D7)/'A6-FinPos'!D34),0,(('A6-FinPos'!D6+'A6-FinPos'!D7)/'A6-FinPos'!D34))","v":0.45890334619388728},{"$f":"IF(ISERROR(('A6-FinPos'!E6+'A6-FinPos'!E7)/'A6-FinPos'!E34),0,(('A6-FinPos'!E6+'A6-FinPos'!E7)/'A6-FinPos'!E34))","v":0.4336751242965719},{"$f":"IF(ISERROR(('A6-FinPos'!F6+'A6-FinPos'!F7)/'A6-FinPos'!F34),0,(('A6-FinPos'!F6+'A6-FinPos'!F7)/'A6-FinPos'!F34))","v":1.6142843572366501},{"$f":"IF(ISERROR(('A6-FinPos'!G6+'A6-FinPos'!G7)/'A6-FinPos'!G34),0,(('A6-FinPos'!G6+'A6-FinPos'!G7)/'A6-FinPos'!G34))","v":1.1459986092085996},{"$f":"IF(ISERROR(('A6-FinPos'!H6+'A6-FinPos'!H7)/'A6-FinPos'!H34),0,(('A6-FinPos'!H6+'A6-FinPos'!H7)/'A6-FinPos'!H34))","v":1.1459986092085996},{"$f":"IF(ISERROR(('A6-FinPos'!I6+'A6-FinPos'!I7)/'A6-FinPos'!I34),0,(('A6-FinPos'!I6+'A6-FinPos'!I7)/'A6-FinPos'!I34))","v":0.19874304162478187},{"$f":"IF(ISERROR(('A6-FinPos'!J6+'A6-FinPos'!J7)/'A6-FinPos'!J34),0,(('A6-FinPos'!J6+'A6-FinPos'!J7)/'A6-FinPos'!J34))","v":1.0858679392929542},{"$f":"IF(ISERROR(('A6-FinPos'!K6+'A6-FinPos'!K7)/'A6-FinPos'!K34),0,(('A6-FinPos'!K6+'A6-FinPos'!K7)/'A6-FinPos'!K34))","v":0.56349877962280592},{"$f":"IF(ISERROR(('A6-FinPos'!L6+'A6-FinPos'!L7)/'A6-FinPos'!L34),0,(('A6-FinPos'!L6+'A6-FinPos'!L7)/'A6-FinPos'!L34))","v":0.6482355603210681}]
["Revenue Management"]
["Annual Debtors Collection Rate (Payment Level %)","Last 12 Mths Receipts/Last 12 Mths Billing",null,{"$f":"IF(ISERROR(('A7-CFlow'!C6+'A7-CFlow'!C7+'A7-CFlow'!C22+'A7-CFlow'!C23)/SUM('A4-FinPerf RE'!C5:C10)),0,('A7-CFlow'!C6+'A7-CFlow'!C7+'A7-CFlow'!C22+'A7-CFlow'!C23)/(SUM('A4-FinPerf RE'!C5:C10)))","v":0.61676320322158618},{"$f":"IF(ISERROR(('A7-CFlow'!D6+'A7-CFlow'!D7+'A7-CFlow'!D22+'A7-CFlow'!D23)/SUM('A4-FinPerf RE'!D5:D10)),0,('A7-CFlow'!D6+'A7-CFlow'!D7+'A7-CFlow'!D22+'A7-CFlow'!D23)/(SUM('A4-FinPerf RE'!D5:D10)))","v":0.57088904048191957},{"$f":"IF(ISERROR(('A7-CFlow'!E6+'A7-CFlow'!E7+'A7-CFlow'!E22+'A7-CFlow'!E23)/SUM('A4-FinPerf RE'!E5:E10)),0,('A7-CFlow'!E6+'A7-CFlow'!E7+'A7-CFlow'!E22+'A7-CFlow'!E23)/(SUM('A4-FinPerf RE'!E5:E10)))","v":0.44368955681981193},{"$f":"IF(ISERROR(('A7-CFlow'!F6+'A7-CFlow'!F7+'A7-CFlow'!F22+'A7-CFlow'!F23)/SUM('A4-FinPerf RE'!F5:F10)),0,('A7-CFlow'!F6+'A7-CFlow'!F7+'A7-CFlow'!F22+'A7-CFlow'!F23)/(SUM('A4-FinPerf RE'!F5:F10)))","v":1.0400000007188748},{"$f":"IF(ISERROR(('A7-CFlow'!G6+'A7-CFlow'!G7+'A7-CFlow'!G22+'A7-CFlow'!G23)/SUM('A4-FinPerf RE'!G5:G10)),0,('A7-CFlow'!G6+'A7-CFlow'!G7+'A7-CFlow'!G22+'A7-CFlow'!G23)/(SUM('A4-FinPerf RE'!G5:G10)))","v":0.97594820137161675},{"$f":"IF(ISERROR(('A7-CFlow'!H6+'A7-CFlow'!H7+'A7-CFlow'!H22+'A7-CFlow'!H23)/SUM('A4-FinPerf RE'!H5:H10)),0,('A7-CFlow'!H6+'A7-CFlow'!H7+'A7-CFlow'!H22+'A7-CFlow'!H23)/(SUM('A4-FinPerf RE'!H5:H10)))","v":0.97594820137161675},{"$f":"IF(ISERROR(('A7-CFlow'!I6+'A7-CFlow'!I7+'A7-CFlow'!I22+'A7-CFlow'!I23)/SUM('A4-FinPerf RE'!I5:I10)),0,('A7-CFlow'!I6+'A7-CFlow'!I7+'A7-CFlow'!I22+'A7-CFlow'!I23)/(SUM('A4-FinPerf RE'!I5:I10)))","v":1.3033127067276487},{"$f":"IF(ISERROR(('A7-CFlow'!J6+'A7-CFlow'!J7+'A7-CFlow'!J22+'A7-CFlow'!J23)/SUM('A4-FinPerf RE'!J5:J10)),0,('A7-CFlow'!J6+'A7-CFlow'!J7+'A7-CFlow'!J22+'A7-CFlow'!J23)/(SUM('A4-FinPerf RE'!J5:J10)))","v":0.56321996418918718},{"$f":"IF(ISERROR(('A7-CFlow'!K6+'A7-CFlow'!K7+'A7-CFlow'!K22+'A7-CFlow'!K23)/SUM('A4-FinPerf RE'!K5:K10)),0,('A7-CFlow'!K6+'A7-CFlow'!K7+'A7-CFlow'!K22+'A7-CFlow'!K23)/(SUM('A4-FinPerf RE'!K5:K10)))","v":0.53311247105328374}]
["Current Debtors Collection Rate (Cash receipts % of Ratepayer & Other revenue)",null,{"$f":"IF(ISERROR(('A7-CFlow'!C6+'A7-CFlow'!C7)/SUM('A4-FinPerf RE'!C5:C10)),0,(('A7-CFlow'!C6+'A7-CFlow'!C7)/SUM('A4-FinPerf RE'!C5:C10)))","v":0.61676320322158618},{"$f":"IF(ISERROR(('A7-CFlow'!D6+'A7-CFlow'!D7)/SUM('A4-FinPerf RE'!D5:D10)),0,(('A7-CFlow'!D6+'A7-CFlow'!D7)/SUM('A4-FinPerf RE'!D5:D10)))","v":0.57088904048191957},{"$f":"IF(ISERROR(('A7-CFlow'!E6+'A7-CFlow'!E7)/SUM('A4-FinPerf RE'!E5:E10)),0,(('A7-CFlow'!E6+'A7-CFlow'!E7)/SUM('A4-FinPerf RE'!E5:E10)))","v":0.44368955681981193},{"$f":"IF(ISERROR(('A7-CFlow'!F6+'A7-CFlow'!F7)/SUM('A4-FinPerf RE'!F5:F10)),0,(('A7-CFlow'!F6+'A7-CFlow'!F7)/SUM('A4-FinPerf RE'!F5:F10)))","v":1.0400000007188748},{"$f":"IF(ISERROR(('A7-CFlow'!G6+'A7-CFlow'!G7)/SUM('A4-FinPerf RE'!G5:G10)),0,(('A7-CFlow'!G6+'A7-CFlow'!G7)/SUM('A4-FinPerf RE'!G5:G10)))","v":0.97594820137161675},{"$f":"IF(ISERROR(('A7-CFlow'!H6+'A7-CFlow'!H7)/SUM('A4-FinPerf RE'!H5:H10)),0,(('A7-CFlow'!H6+'A7-CFlow'!H7)/SUM('A4-FinPerf RE'!H5:H10)))","v":0.97594820137161675},{"$f":"IF(ISERROR(('A7-CFlow'!I6+'A7-CFlow'!I7)/SUM('A4-FinPerf RE'!I5:I10)),0,(('A7-CFlow'!I6+'A7-CFlow'!I7)/SUM('A4-FinPerf RE'!I5:I10)))","v":1.3033127067276487},{"$f":"IF(ISERROR(('A7-CFlow'!J6+'A7-CFlow'!J7)/SUM('A4-FinPerf RE'!J5:J10)),0,(('A7-CFlow'!J6+'A7-CFlow'!J7)/SUM('A4-FinPerf RE'!J5:J10)))","v":0.56321996418918718},{"$f":"IF(ISERROR(('A7-CFlow'!K6+'A7-CFlow'!K7)/SUM('A4-FinPerf RE'!K5:K10)),0,(('A7-CFlow'!K6+'A7-CFlow'!K7)/SUM('A4-FinPerf RE'!K5:K10)))","v":0.53311247105328374},{"$f":"IF(ISERROR(('A7-CFlow'!L6+'A7-CFlow'!L7)/SUM('A4-FinPerf RE'!L5:L10)),0,(('A7-CFlow'!L6+'A7-CFlow'!L7)/SUM('A4-FinPerf RE'!L5:L10)))","v":0.53928127091804556}]
["Outstanding Debtors to Revenue","Total Outstanding Debtors to Annual Revenue",{"$f":"IF(ISERROR(('A6-FinPos'!C8+'A6-FinPos'!C9+'A6-FinPos'!C10+'A6-FinPos'!C15)/'A4-FinPerf RE'!C21),0,(('A6-FinPos'!C8+'A6-FinPos'!C9+'A6-FinPos'!C10+'A6-FinPos'!C15)/'A4-FinPerf RE'!C21))","v":0.13399100539383391},{"$f":"IF(ISERROR(('A6-FinPos'!D8+'A6-FinPos'!D9+'A6-FinPos'!D10+'A6-FinPos'!D15)/'A4-FinPerf RE'!D21),0,(('A6-FinPos'!D8+'A6-FinPos'!D9+'A6-FinPos'!D10+'A6-FinPos'!D15)/'A4-FinPerf RE'!D21))","v":0.22261072691844691},{"$f":"IF(ISERROR(('A6-FinPos'!E8+'A6-FinPos'!E9+'A6-FinPos'!E10+'A6-FinPos'!E15)/'A4-FinPerf RE'!E21),0,(('A6-FinPos'!E8+'A6-FinPos'!E9+'A6-FinPos'!E10+'A6-FinPos'!E15)/'A4-FinPerf RE'!E21))","v":0.22446706552296775},{"$f":"IF(ISERROR(('A6-FinPos'!F8+'A6-FinPos'!F9+'A6-FinPos'!F10+'A6-FinPos'!F15)/'A4-FinPerf RE'!F21),0,(('A6-FinPos'!F8+'A6-FinPos'!F9+'A6-FinPos'!F10+'A6-FinPos'!F15)/'A4-FinPerf RE'!F21))","v":0.11444514647877942},{"$f":"IF(ISERROR(('A6-FinPos'!G8+'A6-FinPos'!G9+'A6-FinPos'!G10+'A6-FinPos'!G15)/'A4-FinPerf RE'!G21),0,(('A6-FinPos'!G8+'A6-FinPos'!G9+'A6-FinPos'!G10+'A6-FinPos'!G15)/'A4-FinPerf RE'!G21))","v":9.7255191915423728E-2},{"$f":"IF(ISERROR(('A6-FinPos'!H8+'A6-FinPos'!H9+'A6-FinPos'!H10+'A6-FinPos'!H15)/'A4-FinPerf RE'!H21),0,(('A6-FinPos'!H8+'A6-FinPos'!H9+'A6-FinPos'!H10+'A6-FinPos'!H15)/'A4-FinPerf RE'!H21))","v":9.7255191915423728E-2},{"$f":"IF(ISERROR(('A6-FinPos'!I8+'A6-FinPos'!I9+'A6-FinPos'!I10+'A6-FinPos'!I15)/'A4-FinPerf RE'!I21),0,(('A6-FinPos'!I8+'A6-FinPos'!I9+'A6-FinPos'!I10+'A6-FinPos'!I15)/'A4-FinPerf RE'!I21))","v":0.25036333788471177},{"$f":"IF(ISERROR(('A6-FinPos'!J8+'A6-FinPos'!J9+'A6-FinPos'!J10+'A6-FinPos'!J15)/'A4-FinPerf RE'!J21),0,(('A6-FinPos'!J8+'A6-FinPos'!J9+'A6-FinPos'!J10+'A6-FinPos'!J15)/'A4-FinPerf RE'!J21))","v":4.8966129084883875E-2},{"$f":"IF(ISERROR(('A6-FinPos'!K8+'A6-FinPos'!K9+'A6-FinPos'!K10+'A6-FinPos'!K15)/'A4-FinPerf RE'!K21),0,(('A6-FinPos'!K8+'A6-FinPos'!K9+'A6-FinPos'!K10+'A6-FinPos'!K15)/'A4-FinPerf RE'!K21))","v":0.13641641829409148},{"$f":"IF(ISERROR(('A6-FinPos'!L8+'A6-FinPos'!L9+'A6-FinPos'!L10+'A6-FinPos'!L15)/'A4-FinPerf RE'!L21),0,(('A6-FinPos'!L8+'A6-FinPos'!L9+'A6-FinPos'!L10+'A6-FinPos'!L15)/'A4-FinPerf RE'!L21))","v":0.10294875196554036}]
["Longstanding Debtors Recovered","Debtors > 12 Mths Recovered/Total Debtors > 12 Months Old"]
["Creditors Management"]
["Creditors System Efficiency","% of Creditors Paid Within Terms (within`MFMA' s 65(e))"]
["Creditors to Cash and Investments",null,{"$f":"IF(ISERROR('SA3'!C35/'A7-CFlow'!C40),0,('SA3'!C35/'A7-CFlow'!C40))","v":1.3052608147590741},{"$f":"IF(ISERROR('SA3'!D35/'A7-CFlow'!D40),0,('SA3'!D35/'A7-CFlow'!D40))","v":2.1485770040424494},{"$f":"IF(ISERROR('SA3'!E35/'A7-CFlow'!E40),0,('SA3'!E35/'A7-CFlow'!E40))","v":2.2826294896800241},{"$f":"IF(ISERROR('SA3'!F35/'A7-CFlow'!F40),0,('SA3'!F35/'A7-CFlow'!F40))","v":1.1897956885771401},{"$f":"IF(ISERROR('SA3'!G35/'A7-CFlow'!G40),0,('SA3'!G35/'A7-CFlow'!G40))","v":0.41153996865934189},{"$f":"IF(ISERROR('SA3'!H35/'A7-CFlow'!H40),0,('SA3'!H35/'A7-CFlow'!H40))","v":0.41153996865934189},{"$f":"IF(ISERROR('SA3'!I35/'A7-CFlow'!I40),0,('SA3'!I35/'A7-CFlow'!I40))","v":0.22414841058651278},{"$f":"IF(ISERROR('SA3'!J35/'A7-CFlow'!J40),0,('SA3'!J35/'A7-CFlow'!J40))","v":0.412992160830711},{"$f":"IF(ISERROR('SA3'!K35/'A7-CFlow'!K40),0,('SA3'!K35/'A7-CFlow'!K40))","v":1.2589860833980757},{"$f":"IF(ISERROR('SA3'!L35/'A7-CFlow'!L40),0,('SA3'!L35/'A7-CFlow'!L40))","v":1.0270084385498219}]
[]
["Other Indicators"]
["Electricity Distribution Losses (2)","Total Volume Losses (kW)"]
[null,"Total Cost of Losses (Rand '000)"]
[null,"% Volume (units purchased and generated less units sold)/units purchased and generated"]
["Water Distribution Losses (2)","Total Volume Losses (kℓ)",13241441,10606302,5012678,7386577.2000000002,7386577.2000000002,7386577.2000000002,7386577.2000000002,6647919.4800000004,5983127.5320000006,5983127.5320000006]
[null,"Total Cost of Losses (Rand '000)",22510449.699999999,21424730.039999999,11086452,16767530.244000001,16767530.244000001,16767530.244000001,16767530.244000001,15955006.752,15256975.206600001,15256975.206600001]
[null,"% Volume (units purchased and generated less units sold)/units purchased and generated",0.54,0.47,0.31,0.35,0.35,0.35,0.35,0.32,0.3,0.3]
["Employee costs","Employee costs/(Total Revenue - capital revenue)",{"$f":"IF(ISERROR('A4-FinPerf RE'!C24/'A4-FinPerf RE'!C21),0,('A4-FinPerf RE'!C24/'A4-FinPerf RE'!C21))","v":0.40416170216900682},{"$f":"IF(ISERROR('A4-FinPerf RE'!D24/'A4-FinPerf RE'!D21),0,('A4-FinPerf RE'!D24/'A4-FinPerf RE'!D21))","v":0.50312587933455699},{"$f":"IF(ISERROR('A4-FinPerf RE'!E24/'A4-FinPerf RE'!E21),0,('A4-FinPerf RE'!E24/'A4-FinPerf RE'!E21))","v":0.50796410791161739},{"$f":"IF(ISERROR('A4-FinPerf RE'!F24/'A4-FinPerf RE'!F21),0,('A4-FinPerf RE'!F24/'A4-FinPerf RE'!F21))","v":0.38649612627727992},{"$f":"IF(ISERROR('A4-FinPerf RE'!G24/'A4-FinPerf RE'!G21),0,('A4-FinPerf RE'!G24/'A4-FinPerf RE'!G21))","v":0.3850931736579602},{"$f":"IF(ISERROR('A4-FinPerf RE'!H24/'A4-FinPerf RE'!H21),0,('A4-FinPerf RE'!H24/'A4-FinPerf RE'!H21))","v":0.3850931736579602},{"$f":"IF(ISERROR('A4-FinPerf RE'!I24/'A4-FinPerf RE'!I21),0,('A4-FinPerf RE'!I24/'A4-FinPerf RE'!I21))","v":0.46743196521701291},{"$f":"IF(ISERROR('A4-FinPerf RE'!J24/'A4-FinPerf RE'!J21),0,('A4-FinPerf RE'!J24/'A4-FinPerf RE'!J21))","v":0.38892790789009346},{"$f":"IF(ISERROR('A4-FinPerf RE'!K24/'A4-FinPerf RE'!K21),0,('A4-FinPerf RE'!K24/'A4-FinPerf RE'!K21))","v":0.40224818525239098},{"$f":"IF(ISERROR('A4-FinPerf RE'!L24/'A4-FinPerf RE'!L21),0,('A4-FinPerf RE'!L24/'A4-FinPerf RE'!L21))","v":0.40975696615670643}]
["Remuneration","Total remuneration/(Total Revenue - capital revenue)",{"$f":"IF(ISERROR('SA22'!C102/'A4-FinPerf RE'!C21),0,('SA22'!C102/'A4-FinPerf RE'!C21))","v":0.42057701287824384},{"$f":"IF(ISERROR('SA22'!D102/'A4-FinPerf RE'!D21),0,('SA22'!D102/'A4-FinPerf RE'!D21))","v":0.48706042438014463},{"$f":"IF(ISERROR('SA22'!E102/'A4-FinPerf RE'!E21),0,('SA22'!E102/'A4-FinPerf RE'!E21))","v":0.49070007559708079},{"$f":"IF(ISERROR('SA22'!F102/'A4-FinPerf RE'!F21),0,('SA22'!F102/'A4-FinPerf RE'!F21))","v":0.40160308358580055},{"$f":"IF(ISERROR('SA22'!G102/'A4-FinPerf RE'!G21),0,('SA22'!G102/'A4-FinPerf RE'!G21))","v":0.39905752135279671},{"$f":"IF(ISERROR('SA22'!H102/'A4-FinPerf RE'!H21),0,('SA22'!H102/'A4-FinPerf RE'!H21))","v":0.39905752135279671},null,{"$f":"IF(ISERROR('SA22'!I102/'A4-FinPerf RE'!J21),0,('SA22'!I102/'A4-FinPerf RE'!J21))","v":0.40269434181929087},{"$f":"IF(ISERROR('SA22'!J102/'A4-FinPerf RE'!K21),0,('SA22'!J102/'A4-FinPerf RE'!K21))","v":0.41652629696195415},{"$f":"IF(ISERROR('SA22'!K102/'A4-FinPerf RE'!L21),0,('SA22'!K102/'A4-FinPerf RE'!L21))","v":0.42430421158676124}]
["Repairs & Maintenance","R&M/(Total Revenue excluding capital revenue)",{"$f":"IF(ISERROR('A9-Asset'!C169/'A4-FinPerf RE'!C21),0,('A9-Asset'!C169/'A4-FinPerf RE'!C21))","v":7.9947964180394182E-2},{"$f":"IF(ISERROR('A9-Asset'!D169/'A4-FinPerf RE'!D21),0,('A9-Asset'!D169/'A4-FinPerf RE'!D21))","v":0.14464217120686904},{"$f":"IF(ISERROR('A9-Asset'!E169/'A4-FinPerf RE'!E21),0,('A9-Asset'!E169/'A4-FinPerf RE'!E21))","v":0.12699112340187294},{"$f":"IF(ISERROR('A9-Asset'!F169/'A4-FinPerf RE'!F21),0,('A9-Asset'!F169/'A4-FinPerf RE'!F21))","v":5.5209577794311286E-2},{"$f":"IF(ISERROR('A9-Asset'!G169/'A4-FinPerf RE'!G21),0,('A9-Asset'!G169/'A4-FinPerf RE'!G21))","v":4.7019519130291544E-2},{"$f":"IF(ISERROR('A9-Asset'!H169/'A4-FinPerf RE'!H21),0,('A9-Asset'!H169/'A4-FinPerf RE'!H21))","v":4.7019519130291544E-2},null,{"$f":"IF(ISERROR('A9-Asset'!I169/'A4-FinPerf RE'!J21),0,('A9-Asset'!I169/'A4-FinPerf RE'!J21))","v":5.5592518107826262E-2},{"$f":"IF(ISERROR('A9-Asset'!J169/'A4-FinPerf RE'!K21),0,('A9-Asset'!J169/'A4-FinPerf RE'!K21))","v":5.2083246066510637E-2},{"$f":"IF(ISERROR('A9-Asset'!K169/'A4-FinPerf RE'!L21),0,('A9-Asset'!K169/'A4-FinPerf RE'!L21))","v":4.8941741002737162E-2}]
["Finance charges & Depreciation","FC&D/(Total Revenue - capital revenue)",{"$f":"IF(ISERROR(('A4-FinPerf RE'!C28+'A4-FinPerf RE'!C27)/'A4-FinPerf RE'!C21),0,(('A4-FinPerf RE'!C28+'A4-FinPerf RE'!C27)/'A4-FinPerf RE'!C21))","v":0.16415930386177899},{"$f":"IF(ISERROR(('A4-FinPerf RE'!D28+'A4-FinPerf RE'!D27)/'A4-FinPerf RE'!D21),0,(('A4-FinPerf RE'!D28+'A4-FinPerf RE'!D27)/'A4-FinPerf RE'!D21))","v":0.18305704869050474},{"$f":"IF(ISERROR(('A4-FinPerf RE'!E28+'A4-FinPerf RE'!E27)/'A4-FinPerf RE'!E21),0,(('A4-FinPerf RE'!E28+'A4-FinPerf RE'!E27)/'A4-FinPerf RE'!E21))","v":0.18013165632668426},{"$f":"IF(ISERROR(('A4-FinPerf RE'!F28+'A4-FinPerf RE'!F27)/'A4-FinPerf RE'!F21),0,(('A4-FinPerf RE'!F28+'A4-FinPerf RE'!F27)/'A4-FinPerf RE'!F21))","v":0.11050519133518386},{"$f":"IF(ISERROR(('A4-FinPerf RE'!G28+'A4-FinPerf RE'!G27)/'A4-FinPerf RE'!G21),0,(('A4-FinPerf RE'!G28+'A4-FinPerf RE'!G27)/'A4-FinPerf RE'!G21))","v":0.14859861989208861},{"$f":"IF(ISERROR(('A4-FinPerf RE'!H28+'A4-FinPerf RE'!H27)/'A4-FinPerf RE'!H21),0,(('A4-FinPerf RE'!H28+'A4-FinPerf RE'!H27)/'A4-FinPerf RE'!H21))","v":0.14859861989208861},{"$f":"IF(ISERROR(('A4-FinPerf RE'!I28+'A4-FinPerf RE'!I27)/'A4-FinPerf RE'!I21),0,(('A4-FinPerf RE'!I28+'A4-FinPerf RE'!I27)/'A4-FinPerf RE'!I21))","v":1.0988507543459304E-4},{"$f":"IF(ISERROR(('A4-FinPerf RE'!J28+'A4-FinPerf RE'!J27)/'A4-FinPerf RE'!J21),0,(('A4-FinPerf RE'!J28+'A4-FinPerf RE'!J27)/'A4-FinPerf RE'!J21))","v":0.1011910003197396},{"$f":"IF(ISERROR(('A4-FinPerf RE'!K28+'A4-FinPerf RE'!K27)/'A4-FinPerf RE'!K21),0,(('A4-FinPerf RE'!K28+'A4-FinPerf RE'!K27)/'A4-FinPerf RE'!K21))","v":0.10374105285414181},{"$f":"IF(ISERROR(('A4-FinPerf RE'!L28+'A4-FinPerf RE'!L27)/'A4-FinPerf RE'!L21),0,(('A4-FinPerf RE'!L28+'A4-FinPerf RE'!L27)/'A4-FinPerf RE'!L21))","v":0.10384736667159579}]
["IDP regulation financial viability indicators"]
["i. Debt coverage","(Total Operating Revenue - Operating Grants)/Debt service payments due within financial year)",{"$f":"IF(ISERROR(('A4-FinPerf RE'!C21-'A4-FinPerf RE'!C18)/('A7-CFlow'!D11-'A7-CFlow'!D35)),0,(('A4-FinPerf RE'!C21-'A4-FinPerf RE'!C18)/('A7-CFlow'!D11-'A7-CFlow'!D35)))","v":3.2483943486448186},{"$f":"IF(ISERROR(('A4-FinPerf RE'!D21-'A4-FinPerf RE'!D18)/('A7-CFlow'!E11-'A7-CFlow'!E35)),0,(('A4-FinPerf RE'!D21-'A4-FinPerf RE'!D18)/('A7-CFlow'!E11-'A7-CFlow'!E35)))","v":2.8559571613081749},{"$f":"IF(ISERROR(('A4-FinPerf RE'!E21-'A4-FinPerf RE'!E18)/('A7-CFlow'!F11-'A7-CFlow'!F35)),0,(('A4-FinPerf RE'!E21-'A4-FinPerf RE'!E18)/('A7-CFlow'!F11-'A7-CFlow'!F35)))","v":9.4662283638177769},{"$f":"IF(ISERROR(('A4-FinPerf RE'!F21-'A4-FinPerf RE'!F18)/('A7-CFlow'!G11-'A7-CFlow'!G35)),0,(('A4-FinPerf RE'!F21-'A4-FinPerf RE'!F18)/('A7-CFlow'!G11-'A7-CFlow'!G35)))","v":26.629013826196918},{"$f":"F37","v":26.629013826196918},{"$f":"G37","v":26.629013826196918},{"$f":"IF(ISERROR(('A4-FinPerf RE'!I21-'A4-FinPerf RE'!I18)/('A7-CFlow'!J11-'A7-CFlow'!J35)),0,(('A4-FinPerf RE'!I21-'A4-FinPerf RE'!I18)/('A7-CFlow'!J11-'A7-CFlow'!J35)))","v":4.3850764908271884},{"$f":"IF(ISERROR(('A4-FinPerf RE'!J21-'A4-FinPerf RE'!J18)/('A7-CFlow'!K11-'A7-CFlow'!K35)),0,(('A4-FinPerf RE'!J21-'A4-FinPerf RE'!J18)/('A7-CFlow'!K11-'A7-CFlow'!K35)))","v":10.576832928249416},{"$f":"IF(ISERROR(('A4-FinPerf RE'!K21-'A4-FinPerf RE'!K18)/('A7-CFlow'!L11-'A7-CFlow'!L35)),0,(('A4-FinPerf RE'!K21-'A4-FinPerf RE'!K18)/('A7-CFlow'!L11-'A7-CFlow'!L35)))","v":9.8207912062074598},{"$f":"IF(ISERROR(('A4-FinPerf RE'!L21-'A4-FinPerf RE'!L18)/('A7-CFlow'!L11-'A7-CFlow'!L35)),0,(('A4-FinPerf RE'!L21-'A4-FinPerf RE'!L18)/('A7-CFlow'!L11-'A7-CFlow'!L35)))","v":9.9310999578132026}]
["ii.O/S Service Debtors to Revenue","Total outstanding service debtors/annual revenue received for services",{"$f":"IF(ISERROR(('A6-FinPos'!C8+'A6-FinPos'!C9+'A6-FinPos'!C10)/SUM('A4-FinPerf RE'!C5:C11)),0,(('A6-FinPos'!C8+'A6-FinPos'!C9+'A6-FinPos'!C10)/SUM('A4-FinPerf RE'!C5:C11)))","v":0.6908765761831116},{"$f":"IF(ISERROR(('A6-FinPos'!D8+'A6-FinPos'!D9+'A6-FinPos'!D10)/SUM('A4-FinPerf RE'!D5:D11)),0,(('A6-FinPos'!D8+'A6-FinPos'!D9+'A6-FinPos'!D10)/SUM('A4-FinPerf RE'!D5:D11)))","v":1.0428544783814355},{"$f":"IF(ISERROR(('A6-FinPos'!E8+'A6-FinPos'!E9+'A6-FinPos'!E10)/SUM('A4-FinPerf RE'!E5:E11)),0,(('A6-FinPos'!E8+'A6-FinPos'!E9+'A6-FinPos'!E10)/SUM('A4-FinPerf RE'!E5:E11)))","v":1.0397350554749756},{"$f":"IF(ISERROR(('A6-FinPos'!F8+'A6-FinPos'!F9+'A6-FinPos'!F10)/SUM('A4-FinPerf RE'!F5:F11)),0,(('A6-FinPos'!F8+'A6-FinPos'!F9+'A6-FinPos'!F10)/SUM('A4-FinPerf RE'!F5:F11)))","v":0.55817249116769208},{"$f":"IF(ISERROR(('A6-FinPos'!G8+'A6-FinPos'!G9+'A6-FinPos'!G10)/SUM('A4-FinPerf RE'!G5:G11)),0,(('A6-FinPos'!G8+'A6-FinPos'!G9+'A6-FinPos'!G10)/SUM('A4-FinPerf RE'!G5:G11)))","v":0.46258946034362652},{"$f":"IF(ISERROR(('A6-FinPos'!H8+'A6-FinPos'!H9+'A6-FinPos'!H10)/SUM('A4-FinPerf RE'!H5:H11)),0,(('A6-FinPos'!H8+'A6-FinPos'!H9+'A6-FinPos'!H10)/SUM('A4-FinPerf RE'!H5:H11)))","v":0.46258946034362652},{"$f":"IF(ISERROR(('A6-FinPos'!I8+'A6-FinPos'!I9+'A6-FinPos'!I10)/SUM('A4-FinPerf RE'!I5:I11)),0,(('A6-FinPos'!I8+'A6-FinPos'!I9+'A6-FinPos'!I10)/SUM('A4-FinPerf RE'!I5:I11)))","v":1.234981020770894},{"$f":"IF(ISERROR(('A6-FinPos'!J8+'A6-FinPos'!J9+'A6-FinPos'!J10)/SUM('A4-FinPerf RE'!J5:J11)),0,(('A6-FinPos'!J8+'A6-FinPos'!J9+'A6-FinPos'!J10)/SUM('A4-FinPerf RE'!J5:J11)))","v":0.23258923601080617},{"$f":"IF(ISERROR(('A6-FinPos'!K8+'A6-FinPos'!K9+'A6-FinPos'!K10)/SUM('A4-FinPerf RE'!K5:K11)),0,(('A6-FinPos'!K8+'A6-FinPos'!K9+'A6-FinPos'!K10)/SUM('A4-FinPerf RE'!K5:K11)))","v":0.66128859420507979},{"$f":"IF(ISERROR(('A6-FinPos'!L8+'A6-FinPos'!L9+'A6-FinPos'!L10)/SUM('A4-FinPerf RE'!L5:L11)),0,(('A6-FinPos'!L8+'A6-FinPos'!L9+'A6-FinPos'!L10)/SUM('A4-FinPerf RE'!L5:L11)))","v":0.49087813048570605}]
["iii. Cost coverage","(Available cash + Investments)/monthly fixed operational expenditure",{"$f":"IF(ISERROR('A7-CFlow'!C40/'SA8'!C46),0,('A7-CFlow'!C40/'SA8'!C46))","v":3.7066027043038186},{"$f":"IF(ISERROR('A7-CFlow'!D40/'SA8'!D46),0,('A7-CFlow'!D40/'SA8'!D46))","v":2.3935062014852528},{"$f":"IF(ISERROR('A7-CFlow'!E40/'SA8'!E46),0,('A7-CFlow'!E40/'SA8'!E46))","v":2.8395667299359353},{"$f":"IF(ISERROR('A7-CFlow'!F40/'SA8'!F46),0,('A7-CFlow'!F40/'SA8'!F46))","v":2.5976301806759996},{"$f":"IF(ISERROR('A7-CFlow'!G40/'SA8'!G46),0,('A7-CFlow'!G40/'SA8'!G46))","v":2.6091682378255698},{"$f":"IF(ISERROR('A7-CFlow'!H40/'SA8'!H46),0,('A7-CFlow'!H40/'SA8'!H46))","v":2.6091682378255698},{"$f":"IF(ISERROR('A7-CFlow'!I40/'SA8'!I46),0,('A7-CFlow'!I40/'SA8'!I46))","v":3.3751340736743205},{"$f":"IF(ISERROR('A7-CFlow'!J40/'SA8'!J46),0,('A7-CFlow'!J40/'SA8'!J46))","v":2.2819025508589728},{"$f":"IF(ISERROR('A7-CFlow'!K40/'SA8'!K46),0,('A7-CFlow'!K40/'SA8'!K46))","v":2.2861039416766373},{"$f":"IF(ISERROR('A7-CFlow'!L40/'SA8'!L46),0,('A7-CFlow'!L40/'SA8'!L46))","v":2.2979109103282647}]
[{"$f":"head27a","v":"References"}]
["1. Consumer debtors > 12 months old are excluded from current assets"]
["2. Only include if services provided by the municipality"]
[]
["Calculation data"]
["Debtors > 90 days"]
["Monthly fixed operational expenditure",null,{"$f":"(('A4-FinPerf RE'!C24+'A4-FinPerf RE'!C25+'A4-FinPerf RE'!C26+'A4-FinPerf RE'!C28+'A4-FinPerf RE'!C29+'A4-FinPerf RE'!C31+'SA1'!C91+'A7-CFlow'!C35)+(('A4-FinPerf RE'!C30+'A4-FinPerf RE'!C33)*'SA8'!C47))/12","v":78593406.75},{"$f":"(('A4-FinPerf RE'!D24+'A4-FinPerf RE'!D25+'A4-FinPerf RE'!D26+'A4-FinPerf RE'!D28+'A4-FinPerf RE'!D29+'A4-FinPerf RE'!D31+'SA1'!D91+'A7-CFlow'!D35)+(('A4-FinPerf RE'!D30+'A4-FinPerf RE'!D33)*'SA8'!D47))/12","v":89682036.280833319},{"$f":"(('A4-FinPerf RE'!E24+'A4-FinPerf RE'!E25+'A4-FinPerf RE'!E26+'A4-FinPerf RE'!E28+'A4-FinPerf RE'!E29+'A4-FinPerf RE'!E31+'SA1'!E91+'A7-CFlow'!E35)+(('A4-FinPerf RE'!E30+'A4-FinPerf RE'!E33)*'SA8'!E47))/12","v":97342995.354166672},{"$f":"(('A4-FinPerf RE'!F24+'A4-FinPerf RE'!F25+'A4-FinPerf RE'!F26+'A4-FinPerf RE'!F28+'A4-FinPerf RE'!F29+'A4-FinPerf RE'!F31+'SA1'!F91+'A7-CFlow'!F35)+(('A4-FinPerf RE'!F30+'A4-FinPerf RE'!F33)*'SA8'!F47))/12","v":90132642.5},{"$f":"(('A4-FinPerf RE'!G24+'A4-FinPerf RE'!G25+'A4-FinPerf RE'!G26+'A4-FinPerf RE'!G28+'A4-FinPerf RE'!G29+'A4-FinPerf RE'!G31+'SA1'!G91+'A7-CFlow'!G35)+(('A4-FinPerf RE'!G30+'A4-FinPerf RE'!G33)*'SA8'!G47))/12","v":97668607.683333337},{"$f":"(('A4-FinPerf RE'!H24+'A4-FinPerf RE'!H25+'A4-FinPerf RE'!H26+'A4-FinPerf RE'!H28+'A4-FinPerf RE'!H29+'A4-FinPerf RE'!H31+'SA1'!H91+'A7-CFlow'!H35)+(('A4-FinPerf RE'!H30+'A4-FinPerf RE'!H33)*'SA8'!H47))/12","v":97668607.683333337},{"$f":"(('A4-FinPerf RE'!I24+'A4-FinPerf RE'!I25+'A4-FinPerf RE'!I26+'A4-FinPerf RE'!I28+'A4-FinPerf RE'!I29+'A4-FinPerf RE'!I31+'SA1'!I91+'A7-CFlow'!I35)+(('A4-FinPerf RE'!I30+'A4-FinPerf RE'!I33)*'SA8'!I47))/12","v":63943492.118833326},{"$f":"(('A4-FinPerf RE'!J24+'A4-FinPerf RE'!J25+'A4-FinPerf RE'!J26+'A4-FinPerf RE'!J28+'A4-FinPerf RE'!J29+'A4-FinPerf RE'!J31+'SA1'!J91+'A7-CFlow'!J35)+(('A4-FinPerf RE'!J30+'A4-FinPerf RE'!J33)*'SA8'!J47))/12","v":108144128.2},{"$f":"(('A4-FinPerf RE'!K24+'A4-FinPerf RE'!K25+'A4-FinPerf RE'!K26+'A4-FinPerf RE'!K28+'A4-FinPerf RE'!K29+'A4-FinPerf RE'!K31+'SA1'!K91+'A7-CFlow'!K35)+(('A4-FinPerf RE'!K30+'A4-FinPerf RE'!K33)*'SA8'!K47))/12","v":113774431.8},{"$f":"(('A4-FinPerf RE'!L24+'A4-FinPerf RE'!L25+'A4-FinPerf RE'!L26+'A4-FinPerf RE'!L28+'A4-FinPerf RE'!L29+'A4-FinPerf RE'!L31+'SA1'!L91+'A7-CFlow'!L35)+(('A4-FinPerf RE'!L30+'A4-FinPerf RE'!L33)*'SA8'!L47))/12","v":118283386.78333335}]
["Fixed operational expenditure % assumption",null,0.4,{"$f":"$C$47","v":0.4},{"$f":"$C$47","v":0.4},0.4,0.4,0.4,0.4,0.4,0.4,0.4]
["Own capex",null,{"$f":"'A5-Capex'!C40-'A5-Capex'!C70-'A5-Capex'!C71","v":1123184},{"$f":"'A5-Capex'!D40-'A5-Capex'!D70-'A5-Capex'!D71","v":47515915},{"$f":"'A5-Capex'!E40-'A5-Capex'!E70-'A5-Capex'!E71","v":12641367},{"$f":"'A5-Capex'!F40-'A5-Capex'!F70-'A5-Capex'!F71","v":140322533},{"$f":"'A5-Capex'!G40-'A5-Capex'!G70-'A5-Capex'!G71","v":132243639},{"$f":"'A5-Capex'!H40-'A5-Capex'!H70-'A5-Capex'!H71","v":132243639},{"$f":"'A5-Capex'!I40-'A5-Capex'!I70-'A5-Capex'!I71","v":51902247.859999955},{"$f":"'A5-Capex'!J40-'A5-Capex'!J70-'A5-Capex'!J71","v":124392053},{"$f":"'A5-Capex'!K40-'A5-Capex'!K70-'A5-Capex'!K71","v":89361832},{"$f":"'A5-Capex'!L40-'A5-Capex'!L70-'A5-Capex'!L71","v":65359635}]
["Borrowing",null,{"$f":"'A7-CFlow'!C31+'A7-CFlow'!C32","v":0},{"$f":"'A7-CFlow'!D31+'A7-CFlow'!D32","v":0},{"$f":"'A7-CFlow'!E31+'A7-CFlow'!E32","v":0},{"$f":"'A7-CFlow'!F31+'A7-CFlow'!F32","v":0},{"$f":"'A7-CFlow'!G31+'A7-CFlow'!G32","v":0},{"$f":"'A7-CFlow'!H31+'A7-CFlow'!H32","v":0},{"$f":"'A7-CFlow'!I31+'A7-CFlow'!I32","v":0},{"$f":"'A7-CFlow'!J31+'A7-CFlow'!J32","v":0},{"$f":"'A7-CFlow'!K31+'A7-CFlow'!K32","v":0},{"$f":"'A7-CFlow'!L31+'A7-CFlow'!L32","v":0}]

{"sheet":"SA9","index":28,"n_rows":310,"n_cols":13,"rows_kept":310,"cut":false,"hidden":false,"merged":[[108,10,108,12],[1,5,2,5],[62,7,62,9],[62,10,62,12],[108,0,109,0],[108,7,108,9],[1,0,2,0],[62,0,63,0],[1,3,2,3],[1,4,2,4],[1,10,1,12],[1,1,2,1],[1,2,2,2],[246,7,246,9],[246,10,246,12],[246,0,247,0],[154,0,155,0],[154,7,154,9],[200,7,200,9],[200,10,200,12],[154,10,154,12],[200,0,201,0]]}
[{"$f":"muni&\" - \"&TableA9","v":"DC15 O .R. Tambo - Supporting Table SA9 Social, economic and demographic statistics and assumptions"}]
["Description of economic indicator","Ref.","Basis of calculation",{"$f":"Head44","v":"2001 Census"},"2007 Survey",{"$f":"Head45","v":"2011 Census"},{"$f":"head1b","v":"2016/17"},{"$f":"head1A","v":"2017/18"},{"$f":"Head1","v":"2018/19"},{"$f":"Head2","v":"Current Year 2019/20"},{"$f":"Head3","v":"2020/21 Medium Term Revenue & Expenditure Framework"}]
[null,null,null,null,null,null,{"$f":"Head5A","v":"Outcome"},"Outcome","Outcome",{"$f":"Head6","v":"Original Budget"},"Outcome","Outcome","Outcome"]
["Demographics"]
["Population"]
["Females aged 5 - 14",null,null,{"$f":"[3]SA9!D6","v":1676592},{"$f":"[3]SA9!E6","v":1350000},{"$f":"[3]SA9!F6","v":1390000},{"$f":"[3]SA9!G6","v":1470000},{"$f":"[3]SA9!H6","v":1490},{"$f":"[3]SA9!I6","v":1510},{"$f":"[3]SA9!J6","v":1520},{"$f":"[3]SA9!K6","v":1514},{"$f":"[3]SA9!L6","v":1524},{"$f":"[3]SA9!M6","v":1544}]
["Males aged 5 - 14",null,null,{"$f":"[3]SA9!D7","v":140208.461538462},{"$f":"[3]SA9!E7","v":117821.5},{"$f":"[3]SA9!F7","v":153168},{"$f":"[3]SA9!G7","v":182271},{"$f":"[3]SA9!H7","v":182271},{"$f":"[3]SA9!I7","v":184240},{"$f":"[3]SA9!J7","v":186260},{"$f":"[3]SA9!K7","v":188280},{"$f":"[3]SA9!L7","v":190280},{"$f":"[3]SA9!M7","v":192320}]
["Females aged 15 - 34",null,null,{"$f":"[3]SA9!D8","v":143929.23076923101},{"$f":"[3]SA9!E8","v":121973.846153846},{"$f":"[3]SA9!F8","v":158566},{"$f":"[3]SA9!G8","v":187108},{"$f":"[3]SA9!H8","v":189128},{"$f":"[3]SA9!I8","v":190130},{"$f":"[3]SA9!J8","v":192137},{"$f":"[3]SA9!K8","v":194248},{"$f":"[3]SA9!L8","v":196268},{"$f":"[3]SA9!M8","v":198288}]
["Males aged 15 - 34",null,null,{"$f":"[3]SA9!D9","v":225881.538461538},{"$f":"[3]SA9!E9","v":176324.615384615},{"$f":"[3]SA9!F9","v":229222},{"$f":"[3]SA9!G9","v":293646},{"$f":"[3]SA9!H9","v":237316},{"$f":"[3]SA9!I9","v":239338},{"$f":"[3]SA9!J9","v":241083},{"$f":"[3]SA9!K9","v":261193},{"$f":"[3]SA9!L9","v":263195},{"$f":"[3]SA9!M9","v":265230}]
["Unemployment",null,null,{"$f":"[3]SA9!D10","v":215816.15384615399},{"$f":"[3]SA9!E10","v":192947.69230769199},{"$f":"[3]SA9!F10","v":250832},{"$f":"[3]SA9!G10","v":280561},{"$f":"[3]SA9!H10","v":283275},{"$f":"[3]SA9!I10","v":290301},{"$f":"[3]SA9!J10","v":291080},{"$f":"[3]SA9!K10","v":293102},{"$f":"[3]SA9!L10","v":295122},{"$f":"[3]SA9!M10","v":297152}]
[]
["Monthly household income (no. of households)","1, 12"]
["No income",null,null,{"$f":"[3]SA9!D13","v":60.019722338452958},{"$f":"[3]SA9!E13","v":69.622877912605432},{"$f":"[3]SA9!F13","v":77.281394482992027},{"$f":"[3]SA9!G13","v":63.345405313927898},{"$f":"[3]SA9!H13","v":47},{"$f":"[3]SA9!I13","v":52},{"$f":"[3]SA9!J13","v":58},{"$f":"[3]SA9!K13","v":65},{"$f":"[3]SA9!L13","v":72},{"$f":"[3]SA9!M13","v":77}]
["R1 - R1 600",null,null,{"$f":"[3]SA9!D14","v":999.90303385124832},{"$f":"[3]SA9!E14","v":1159.8875192674482},{"$f":"[3]SA9!F14","v":1287.4751463868674},{"$f":"[3]SA9!G14","v":1055.3074970384159},{"$f":"[3]SA9!H14","v":783},{"$f":"[3]SA9!I14","v":865.68},{"$f":"[3]SA9!J14","v":957},{"$f":"[3]SA9!K14","v":1048},{"$f":"[3]SA9!L14","v":1139},{"$f":"[3]SA9!M14","v":1230}]
["R1 601 - R3 200",null,null,{"$f":"[3]SA9!D15","v":10279.973719671199},{"$f":"[3]SA9!E15","v":11924.769514818592},{"$f":"[3]SA9!F15","v":13236.494161448638},{"$f":"[3]SA9!G15","v":10849.585378236588},{"$f":"[3]SA9!H15","v":3800},{"$f":"[3]SA9!I15","v":4201},{"$f":"[3]SA9!J15","v":4645},{"$f":"[3]SA9!K15","v":5089},{"$f":"[3]SA9!L15","v":5533},{"$f":"[3]SA9!M15","v":5977}]
["R3 201 - R6 400",null,null,{"$f":"[3]SA9!D16","v":19921.439754890769},{"$f":"[3]SA9!E16","v":23108.870115673293},{"$f":"[3]SA9!F16","v":25650.845828397356},{"$f":"[3]SA9!G16","v":21025.283465899473},{"$f":"[3]SA9!H16","v":8050},{"$f":"[3]SA9!I16","v":8900},{"$f":"[3]SA9!J16","v":9840},{"$f":"[3]SA9!K16","v":10780},{"$f":"[3]SA9!L16","v":11720},{"$f":"[3]SA9!M16","v":12668}]
["R6 401 - R12 800",null,null,{"$f":"[3]SA9!D17","v":58998.110043330358},{"$f":"[3]SA9!E17","v":68437.807650263218},{"$f":"[3]SA9!F17","v":75965.966491792176},{"$f":"[3]SA9!G17","v":62267.185649009982},{"$f":"[3]SA9!H17","v":46200},{"$f":"[3]SA9!I17","v":51078},{"$f":"[3]SA9!J17","v":56472},{"$f":"[3]SA9!K17","v":61866},{"$f":"[3]SA9!L17","v":67260},{"$f":"[3]SA9!M17","v":72654}]
["R12 801 - R25 600",null,null,{"$f":"[3]SA9!D18","v":60658.230022904594},{"$f":"[3]SA9!E18","v":70363.546826569334},{"$f":"[3]SA9!F18","v":78103.536977491953},{"$f":"[3]SA9!G18","v":64019.292604501607},{"$f":"[3]SA9!H18","v":47500},{"$f":"[3]SA9!I18","v":52156},{"$f":"[3]SA9!J18","v":57664},{"$f":"[3]SA9!K18","v":63172},{"$f":"[3]SA9!L18","v":68680},{"$f":"[3]SA9!M18","v":74260}]
["R25 601 - R51 200",null,null,{"$f":"[3]SA9!D19","v":53154.706430568498},{"$f":"[3]SA9!E19","v":61659.45945945946},{"$f":"[3]SA9!F19","v":68442},{"$f":"[3]SA9!G19","v":56100},{"$f":"[3]SA9!H19","v":26700},{"$f":"[3]SA9!I19","v":29519},{"$f":"[3]SA9!J19","v":32636},{"$f":"[3]SA9!K19","v":35753},{"$f":"[3]SA9!L19","v":38870},{"$f":"[3]SA9!M19","v":42425}]
["R52 201 - R102 400",null,null,{"$f":"[3]SA9!D20","v":21981.981981981979},{"$f":"[3]SA9!E20","v":25499.099099099098},{"$f":"[3]SA9!F20","v":28304},{"$f":"[3]SA9!G20","v":23200},{"$f":"[3]SA9!H20","v":21000},{"$f":"[3]SA9!I20","v":23217},{"$f":"[3]SA9!J20","v":25668},{"$f":"[3]SA9!K20","v":28119},{"$f":"[3]SA9!L20","v":30570},{"$f":"[3]SA9!M20","v":33015}]
["R102 401 - R204 800",null,null,{"$f":"[3]SA9!D21","v":45195.712954333641},{"$f":"[3]SA9!E21","v":52427.027027027027},{"$f":"[3]SA9!F21","v":58194},{"$f":"[3]SA9!G21","v":47700},{"$f":"[3]SA9!H21","v":20200},{"$f":"[3]SA9!I21","v":22333},{"$f":"[3]SA9!J21","v":24691},{"$f":"[3]SA9!K21","v":27049},{"$f":"[3]SA9!L21","v":29407},{"$f":"[3]SA9!M21","v":31791}]
["R204 801 - R409 600",null,null,{"$f":"[3]SA9!D22","v":19139.484311898104},{"$f":"[3]SA9!E22","v":22201.801801801801},{"$f":"[3]SA9!F22","v":24644},{"$f":"[3]SA9!G22","v":20200},{"$f":"[3]SA9!H22","v":10300},{"$f":"[3]SA9!I22","v":11388},{"$f":"[3]SA9!J22","v":12591},{"$f":"[3]SA9!K22","v":13794},{"$f":"[3]SA9!L22","v":14997},{"$f":"[3]SA9!M22","v":16200}]
["R409 601 - R819 200",null,null,{"$f":"[3]SA9!D23","v":17174.370922646784},{"$f":"[3]SA9!E23","v":19922.27027027027},{"$f":"[3]SA9!F23","v":22113.72},{"$f":"[3]SA9!G23","v":18126},{"$f":"[3]SA9!H23","v":6150},{"$f":"[3]SA9!I23","v":6799},{"$f":"[3]SA9!J23","v":7517},{"$f":"[3]SA9!K23","v":8235},{"$f":"[3]SA9!L23","v":8953},{"$f":"[3]SA9!M23","v":9668}]
[" > R819 200",null,null,{"$f":"[3]SA9!D24","v":176.23485554520036},{"$f":"[3]SA9!E24","v":204.43243243243242},{"$f":"[3]SA9!F24","v":226.92},{"$f":"[3]SA9!G24","v":186},{"$f":"[3]SA9!H24","v":186},{"$f":"[3]SA9!I24","v":2064},{"$f":"[3]SA9!J24","v":2282},{"$f":"[3]SA9!K24","v":2500},{"$f":"[3]SA9!L24","v":2718},{"$f":"[3]SA9!M24","v":2936}]
[null,null,null,{"$f":"[3]SA9!D25","v":0},{"$f":"[3]SA9!E25","v":0},{"$f":"[3]SA9!F25","v":0},{"$f":"[3]SA9!G25","v":0},{"$f":"[3]SA9!H25","v":0},{"$f":"[3]SA9!I25","v":0},{"$f":"[3]SA9!J25","v":0},{"$f":"[3]SA9!K25","v":0},{"$f":"[3]SA9!L25","v":0},{"$f":"[3]SA9!M25","v":0}]
[]
["Poverty profiles (no. of households)"]
["< R2 060 per household per month",13,null,{"$f":"[3]SA9!D28","v":0},{"$f":"[3]SA9!E28","v":0},{"$f":"[3]SA9!F28","v":0},{"$f":"[3]SA9!G28","v":0},{"$f":"[3]SA9!H28","v":0},{"$f":"[3]SA9!I28","v":0},{"$f":"[3]SA9!J28","v":0},{"$f":"[3]SA9!K28","v":0},{"$f":"[3]SA9!L28","v":0},{"$f":"[3]SA9!M28","v":0}]
["Insert description",2,null,{"$f":"[3]SA9!D29","v":10659},{"$f":"[3]SA9!E29","v":12101.68},{"$f":"[3]SA9!F29","v":12995},{"$f":"[3]SA9!G29","v":11369},{"$f":"[3]SA9!H29","v":47},{"$f":"[3]SA9!I29","v":52},{"$f":"[3]SA9!J29","v":58},{"$f":"[3]SA9!K29","v":62},{"$f":"[3]SA9!L29","v":66},{"$f":"[3]SA9!M29","v":70}]
[]
["Household/demographics (000)"]
["Number of people in municipal area",null,null,{"$f":"[3]SA9!D32","v":1676592},{"$f":"[3]SA9!E32","v":1350000},{"$f":"[3]SA9!F32","v":1390000},{"$f":"[3]SA9!G32","v":1470000},{"$f":"[3]SA9!H32","v":1490000},{"$f":"[3]SA9!I32","v":1510},{"$f":"[3]SA9!J32","v":1520},{"$f":"[3]SA9!K32","v":1530},{"$f":"[3]SA9!L32","v":1550},{"$f":"[3]SA9!M32","v":1570}]
["Number of poor people in municipal area",null,null,{"$f":"[3]SA9!D33","v":1257444},{"$f":"[3]SA9!E33","v":985500},{"$f":"[3]SA9!F33","v":1042500},{"$f":"[3]SA9!G33","v":1161300},{"$f":"[3]SA9!H33","v":1100000000},{"$f":"[3]SA9!I33","v":876000000},{"$f":"[3]SA9!J33","v":866000000},{"$f":"[3]SA9!K33","v":995638.43795231206},{"$f":"[3]SA9!L33","v":1125276},{"$f":"[3]SA9!M33","v":1254914}]
["Number of households in municipal area",null,null,{"$f":"[3]SA9!D34","v":364476.52173913049},{"$f":"[3]SA9!E34","v":293478.26086956525},{"$f":"[3]SA9!F34","v":298531},{"$f":"[3]SA9!G34","v":314080},{"$f":"[3]SA9!H34","v":314080},{"$f":"[3]SA9!I34","v":320220},{"$f":"[3]SA9!J34","v":326080},{"$f":"[3]SA9!K34","v":348506.14105904446},{"$f":"[3]SA9!L34","v":370932},{"$f":"[3]SA9!M34","v":393358}]
["Number of poor households in municipal area",null,null,{"$f":"[3]SA9!D35","v":273357.39130434784},{"$f":"[3]SA9!E35","v":214239.13043478262},{"$f":"[3]SA9!F35","v":226630.4347826087},{"$f":"[3]SA9!G35","v":252456.52173913046},{"$f":"[3]SA9!H35","v":234495},{"$f":"[3]SA9!I35","v":0},{"$f":"[3]SA9!J35","v":0},{"$f":"[3]SA9!K35","v":196160.73118547499},{"$f":"[3]SA9!L35","v":208552},{"$f":"[3]SA9!M35","v":220943}]
["Definition of poor household (R per month)",null,null,{"$f":"[3]SA9!D36","v":992},{"$f":"[3]SA9!E36","v":992},{"$f":"[3]SA9!F36","v":992},{"$f":"[3]SA9!G36","v":992},{"$f":"[3]SA9!H36","v":992},{"$f":"[3]SA9!I36","v":992},{"$f":"[3]SA9!J36","v":992},{"$f":"[3]SA9!K36","v":992},{"$f":"[3]SA9!L36","v":992},{"$f":"[3]SA9!M36","v":992}]
[]
["Housing statistics",3]
["Formal",null,null,{"$f":"[3]SA9!D39","v":139374.18528216353},{"$f":"[3]SA9!E39","v":135247.44467272607},{"$f":"[3]SA9!F39","v":141785.32347752296},{"$f":"[3]SA9!G39","v":141089},{"$f":"[3]SA9!H39","v":141089},{"$f":"[3]SA9!I39","v":0},{"$f":"[3]SA9!J39","v":146691.93475742103},{"$f":"[3]SA9!K39","v":152345},{"$f":"[3]SA9!L39","v":157998},{"$f":"[3]SA9!M39","v":163640}]
["Informal",null,null,{"$f":"[3]SA9!D40","v":176939},{"$f":"[3]SA9!E40","v":171700},{"$f":"[3]SA9!F40","v":180000},{"$f":"[3]SA9!G40","v":179116},{"$f":"[3]SA9!H40","v":179116},{"$f":"[3]SA9!I40","v":0},{"$f":"[3]SA9!J40","v":186229.06524257894},{"$f":"[3]SA9!K40","v":196160.73118547499},{"$f":"[3]SA9!L40","v":206093},{"$f":"[3]SA9!M40","v":216025}]
["Total number of households",null,null,{"$f":"SUM(D39:D40)","v":316313.18528216355},{"$f":"SUM(E39:E40)","v":306947.44467272609},321785.32347752294,320205,320205,0,332921,348505.73118547502,364091,379665]
["Dwellings provided by municipality",4,null,{"$f":"[3]SA9!D42","v":0},{"$f":"[3]SA9!E42","v":0},{"$f":"[3]SA9!F42","v":0},{"$f":"[3]SA9!G42","v":0},{"$f":"[3]SA9!H42","v":0},{"$f":"[3]SA9!I42","v":0},{"$f":"[3]SA9!J42","v":0},{"$f":"[3]SA9!K42","v":0},{"$f":"[3]SA9!L42","v":0},{"$f":"[3]SA9!M42","v":0}]
["Dwellings provided by province/s",null,null,{"$f":"[3]SA9!D43","v":0},{"$f":"[3]SA9!E43","v":0},{"$f":"[3]SA9!F43","v":0},{"$f":"[3]SA9!G43","v":0},{"$f":"[3]SA9!H43","v":0},{"$f":"[3]SA9!I43","v":0},{"$f":"[3]SA9!J43","v":0},{"$f":"[3]SA9!K43","v":0},{"$f":"[3]SA9!L43","v":0},{"$f":"[3]SA9!M43","v":0}]
["Dwellings provided by private sector",5,null,{"$f":"[3]SA9!D44","v":0},{"$f":"[3]SA9!E44","v":0},{"$f":"[3]SA9!F44","v":0},{"$f":"[3]SA9!G44","v":0},{"$f":"[3]SA9!H44","v":0},{"$f":"[3]SA9!I44","v":0},{"$f":"[3]SA9!J44","v":0},{"$f":"[3]SA9!K44","v":0},{"$f":"[3]SA9!L44","v":0},{"$f":"[3]SA9!M44","v":0}]
["Total new housing dwellings",null,null,{"$f":"SUM(D42:D44)","v":0},{"$f":"SUM(E42:E44)","v":0},0,0,0,0,0,0,0,0]
[]
["Economic",6]
["Inflation/inflation outlook (CPIX)",null,null,null,null,null,{"$f":"[3]SA9!G48","v":4.7E-2},{"$f":"[3]SA9!H48","v":4.7E-2},{"$f":"[3]SA9!I48","v":4.7E-2},{"$f":"[3]SA9!J48","v":5.1999999999999998E-2},{"$f":"[3]SA9!K48","v":5.1999999999999998E-2},{"$f":"[3]SA9!L48","v":5.3999999999999999E-2},{"$f":"[3]SA9!M48","v":5.3999999999999999E-2}]
["Interest rate - borrowing"]
["Interest rate - investment"]
["Remuneration increases",null,null,null,null,null,{"$f":"[3]SA9!G51","v":7.0999999999999994E-2},{"$f":"[3]SA9!H51","v":7.0999999999999994E-2},{"$f":"[3]SA9!I51","v":7.0999999999999994E-2},{"$f":"[3]SA9!J51","v":6.9000000000000006E-2},{"$f":"[3]SA9!K51","v":6.9000000000000006E-2},{"$f":"[3]SA9!L51","v":6.7000000000000004E-2},{"$f":"[3]SA9!M51","v":6.7000000000000004E-2}]
["Consumption growth (electricity)"]
["Consumption growth (water)"]
[]
["Collection rates",7]
["Property tax/service charges"]
["Rental of facilities & equipment"]
["Interest - external investments"]
["Interest - debtors"]
["Revenue from agency services"]
[]
["Detail on the provision of municipal services for A10"]
["Total municipal services",null,null,null,{"$f":"head1b","v":"2016/17"},{"$f":"head1A","v":"2017/18"},{"$f":"Head1","v":"2018/19"},{"$f":"Head2","v":"Current Year 2019/20"},null,null,{"$f":"Head3","v":"2020/21 Medium Term Revenue & Expenditure Framework"}]
[null,"Ref.",null,null,{"$f":"Head5A","v":"Outcome"},{"$f":"Head5A","v":"Outcome"},{"$f":"Head5A","v":"Outcome"},{"$f":"Head6","v":"Original Budget"},{"$f":"Head7","v":"Adjusted Budget"},{"$f":"Head8","v":"Full Year Forecast"},{"$f":"Head9","v":"Budget Year 2020/21"},{"$f":"Head10","v":"Budget Year +1 2021/22"},{"$f":"Head11","v":"Budget Year +2 2022/23"}]
[null,null,"Household service targets (000)"]
[null,null,"Water:"]
[null,null,"Piped water inside dwelling",null,{"$f":"E113+E159+E205","v":33554},{"$f":"F113+F159+F205","v":20181},20181,20493,20493,20493,20805,20805,20805]
[null,null,"Piped water inside yard (but not in dwelling)",null,{"$f":"E114+E160+E206","v":29809},39480,39480,40091,40091,40091,40702,40702,40702]
[null,8,"Using public tap (at least min.service level)",null,47727,91252,93636,95087,95087,95087,96538,96538,96538]
[null,10,"Other water supply (at least min.service level)",null,0,0,0,0,0,0,0,0,0]
[null,null,"Minimum Service Level and Above sub-total",null,{"$f":"SUM(E67:E70)","v":111090},{"$f":"SUM(F67:F70)","v":150913},153297,155671,155671,155671,158045,158045,158045]
[null,9,"Using public tap (< min.service level)",null,{"$f":"E118+E164+E210","v":0},0,0,0,0,0,0,0,0]
[null,10,"Other water supply (< min.service level)",null,18954,10966,11767,13578,13578,13578,25389,37512,49624]
[null,null,"No water supply",null,193186,158341,161016,163672,163672,163672,165072,168534,171996]
[null,null,"Below Minimum Service Level sub-total",null,{"$f":"SUM(E72:E74)","v":212140},{"$f":"SUM(F72:F74)","v":169307},172783,177250,177250,177250,190461,206046,221620]
[null,null,"Total number of households",null,{"$f":"E71+E75","v":323230},{"$f":"F71+F75","v":320220},326080,332921,332921,332921,348506,364091,379665]
[null,null,"Sanitation/sewerage:"]
[null,null,"Flush toilet (connected to sewerage)",null,{"$f":"E124+E170+E216","v":33554},29650,46389,52153,52153,52153,57948,63743,69538]
[null,null,"Flush toilet (with septic tank)",null,{"$f":"E125+E171+E217","v":22444},2027,2027,2058,2058,2058,2058,2058,2058]
[null,null,"Chemical toilet",null,{"$f":"E126+E172+E218","v":0},46792,46792,47517,47517,47517,47517,47517,47517]
[null,null,"Pit toilet (ventilated)",null,{"$f":"E127+E173+E219","v":238152},163057,163057,165584,165584,165584,181207,196830,212626]
[null,null,"Other toilet provisions (> min.service level)",null,{"$f":"E128+E174+E220","v":0},2542,2542,2581,2581,2581,0,0,0]
[null,null,"Minimum Service Level and Above sub-total",null,{"$f":"SUM(E78:E82)","v":294150},{"$f":"SUM(F78:F82)","v":244068},260807,269893,269893,269893,288730,310148,331739]
[null,null,"Bucket toilet",null,{"$f":"E130+E176+E222","v":0},0,0,0,0,0,0,0,0]
[null,null,"Other toilet provisions (< min.service level)",null,{"$f":"E131+E177+E223","v":29080},18185,18185,18467,18467,18467,18467,18467,18467]
[null,null,"No toilet provisions",null,{"$f":"E132+E178+E224","v":0},57967,47088,44561,44561,44561,41309,35476,29459]
[null,null,"Below Minimum Service Level sub-total",null,{"$f":"SUM(E84:E86)","v":29080},{"$f":"SUM(F84:F86)","v":76152},65273,63028,63028,63028,59776,53943,47926]
[null,null,"Total number of households",null,{"$f":"E83+E87","v":323230},{"$f":"F83+F87","v":320220},326080,332921,332921,332921,348506,364091,379665]
[null,null,"Energy:"]
[null,null,"Electricity (at least min.service level)",null,{"$f":"E136+E182+E228","v":0},0,0,0,0,0,0,0,0]
[null,null,"Electricity - prepaid (min.service level)",null,{"$f":"E137+E183+E229","v":0},0,0,0,0,0,0,0,0]
[null,null,"Minimum Service Level and Above sub-total",null,{"$f":"SUM(E90:E91)","v":0},{"$f":"SUM(F90:F91)","v":0},0,0,0,0,0,0,0]
[null,null,"Electricity (< min.service level)",null,{"$f":"E139+E185+E231","v":0},0,0,0,0,0,0,0,0]
[null,null,"Electricity - prepaid (< min. service level)",null,{"$f":"E140+E186+E232","v":0},0,0,0,0,0,0,0,0]
[null,null,"Other energy sources",null,{"$f":"E141+E187+E233","v":0},0,0,0,0,0,0,0,0]
[null,null,"Below Minimum Service Level sub-total",null,{"$f":"SUM(E93:E95)","v":0},{"$f":"SUM(F93:F95)","v":0},0,0,0,0,0,0,0]
[null,null,"Total number of households",null,{"$f":"E92+E96","v":0},{"$f":"F92+F96","v":0},0,0,0,0,0,0,0]
[null,null,"Refuse:"]
[null,null,"Removed at least once a week",null,{"$f":"E145+E191+E237","v":0},0,0,0,0,0,0,0,0]
[null,null,"Minimum Service Level and Above sub-total",null,{"$f":"SUM(E99)","v":0},{"$f":"SUM(F99)","v":0},0,0,0,0,0,0,0]
[null,null,"Removed less frequently than once a week",null,{"$f":"E147+E193+E239","v":0},0,0,0,0,0,0,0,0]
[null,null,"Using communal refuse dump",null,{"$f":"E148+E194+E240","v":0},0,0,0,0,0,0,0,0]
[null,null,"Using own refuse dump",null,{"$f":"E149+E195+E241","v":0},0,0,0,0,0,0,0,0]
[null,null,"Other rubbish disposal",null,{"$f":"E150+E196+E242","v":0},0,0,0,0,0,0,0,0]
[null,null,"No rubbish disposal",null,{"$f":"E151+E197+E243","v":0},0,0,0,0,0,0,0,0]
[null,null,"Below Minimum Service Level sub-total",null,{"$f":"SUM(E101:E105)","v":0},0,0,0,0,0,0,0,0]
[null,null,"Total number of households",null,{"$f":"E100+E106","v":0},{"$f":"F100+F106","v":0},0,0,0,0,0,0,0]
[]
["Municipal in-house services",null,null,null,{"$f":"head1b","v":"2016/17"},{"$f":"head1A","v":"2017/18"},{"$f":"Head1","v":"2018/19"},{"$f":"Head2","v":"Current Year 2019/20"},null,null,{"$f":"Head3","v":"2020/21 Medium Term Revenue & Expenditure Framework"}]
[null,"Ref.",null,null,{"$f":"Head5A","v":"Outcome"},{"$f":"Head5A","v":"Outcome"},{"$f":"Head5A","v":"Outcome"},{"$f":"Head6","v":"Original Budget"},{"$f":"Head7","v":"Adjusted Budget"},{"$f":"Head8","v":"Full Year Forecast"},{"$f":"Head9","v":"Budget Year 2020/21"},{"$f":"Head10","v":"Budget Year +1 2021/22"},{"$f":"Head11","v":"Budget Year +2 2022/23"}]
[null,null,"Household service targets (000)"]
[null,null,"Water:"]
[null,null,"Piped water inside dwelling",null,{"$f":"[3]SA9!E113","v":33554},{"$f":"[3]SA9!F113","v":20181},{"$f":"[3]SA9!G113","v":20181},{"$f":"[3]SA9!H113","v":20493},{"$f":"[3]SA9!I113","v":20493},{"$f":"[3]SA9!J113","v":20493},{"$f":"[3]SA9!K113","v":20805},{"$f":"[3]SA9!L113","v":20805},{"$f":"[3]SA9!M113","v":20805}]
[null,null,"Piped water inside yard (but not in dwelling)",null,{"$f":"[3]SA9!E114","v":29809},{"$f":"[3]SA9!F114","v":39480},{"$f":"[3]SA9!G114","v":39480},{"$f":"[3]SA9!H114","v":40091},{"$f":"[3]SA9!I114","v":40091},{"$f":"[3]SA9!J114","v":40091},{"$f":"[3]SA9!K114","v":40702},{"$f":"[3]SA9!L114","v":40702},{"$f":"[3]SA9!M114","v":40702}]
[null,8,"Using public tap (at least min.service level)",null,{"$f":"[3]SA9!E115","v":47727},{"$f":"[3]SA9!F115","v":91252},{"$f":"[3]SA9!G115","v":93636},{"$f":"[3]SA9!H115","v":95087},{"$f":"[3]SA9!I115","v":95087},{"$f":"[3]SA9!J115","v":95087},{"$f":"[3]SA9!K115","v":96538},{"$f":"[3]SA9!L115","v":96538},{"$f":"[3]SA9!M115","v":96538}]
[null,10,"Other water supply (at least min.service level)",null,{"$f":"[3]SA9!E116","v":0},{"$f":"[3]SA9!F116","v":0},{"$f":"[3]SA9!G116","v":0},{"$f":"[3]SA9!H116","v":0},{"$f":"[3]SA9!I116","v":0},{"$f":"[3]SA9!J116","v":0},{"$f":"[3]SA9!K116","v":0},{"$f":"[3]SA9!L116","v":0},{"$f":"[3]SA9!M116","v":0}]
[null,null,"Minimum Service Level and Above sub-total",null,{"$f":"SUM(E113:E116)","v":111090},{"$f":"SUM(F113:F116)","v":150913},153297,155671,155671,155671,158045,158045,158045]
[null,9,"Using public tap (< min.service level)",null,{"$f":"[3]SA9!E118","v":0},{"$f":"[3]SA9!F118","v":0},{"$f":"[3]SA9!G118","v":0},{"$f":"[3]SA9!H118","v":0},{"$f":"[3]SA9!I118","v":0},{"$f":"[3]SA9!J118","v":0},{"$f":"[3]SA9!K118","v":0},{"$f":"[3]SA9!L118","v":0},{"$f":"[3]SA9!M118","v":0}]
[null,10,"Other water supply (< min.service level)",null,{"$f":"[3]SA9!E119","v":18954},{"$f":"[3]SA9!F119","v":10966},{"$f":"[3]SA9!G119","v":11767},{"$f":"[3]SA9!H119","v":13578},{"$f":"[3]SA9!I119","v":13578},{"$f":"[3]SA9!J119","v":13578},{"$f":"[3]SA9!K119","v":25389},{"$f":"[3]SA9!L119","v":37512},{"$f":"[3]SA9!M119","v":49624}]
[null,null,"No water supply",null,{"$f":"[3]SA9!E120","v":193186},{"$f":"[3]SA9!F120","v":158341},{"$f":"[3]SA9!G120","v":161016},{"$f":"[3]SA9!H120","v":163672},{"$f":"[3]SA9!I120","v":163672},{"$f":"[3]SA9!J120","v":163672},{"$f":"[3]SA9!K120","v":165072},{"$f":"[3]SA9!L120","v":168534},{"$f":"[3]SA9!M120","v":171996}]
[null,null,"Below Minimum Service Level sub-total",null,{"$f":"SUM(E118:E120)","v":212140},{"$f":"SUM(F118:F120)","v":169307},172783,177250,177250,177250,190461,206046,221620]
[null,null,"Total number of households",null,{"$f":"E117+E121","v":323230},{"$f":"F117+F121","v":320220},326080,332921,332921,332921,348506,364091,379665]
[null,null,"Sanitation/sewerage:"]
[null,null,"Flush toilet (connected to sewerage)",null,{"$f":"[3]SA9!E124","v":33554},{"$f":"[3]SA9!F124","v":29650},{"$f":"[3]SA9!G124","v":46389},{"$f":"[3]SA9!H124","v":52153},{"$f":"[3]SA9!I124","v":52153},{"$f":"[3]SA9!J124","v":52153},{"$f":"[3]SA9!K124","v":57948},{"$f":"[3]SA9!L124","v":63743},{"$f":"[3]SA9!M124","v":69538}]
[null,null,"Flush toilet (with septic tank)",null,{"$f":"[3]SA9!E125","v":22444},{"$f":"[3]SA9!F125","v":2027},{"$f":"[3]SA9!G125","v":2027},{"$f":"[3]SA9!H125","v":2058},{"$f":"[3]SA9!I125","v":2058},{"$f":"[3]SA9!J125","v":2058},{"$f":"[3]SA9!K125","v":2058},{"$f":"[3]SA9!L125","v":2058},{"$f":"[3]SA9!M125","v":2058}]
[null,null,"Chemical toilet",null,{"$f":"[3]SA9!E126","v":0},{"$f":"[3]SA9!F126","v":46792},{"$f":"[3]SA9!G126","v":46792},{"$f":"[3]SA9!H126","v":47517},{"$f":"[3]SA9!I126","v":47517},{"$f":"[3]SA9!J126","v":47517},{"$f":"[3]SA9!K126","v":47517},{"$f":"[3]SA9!L126","v":47517},{"$f":"[3]SA9!M126","v":47517}]
[null,null,"Pit toilet (ventilated)",null,{"$f":"[3]SA9!E127","v":238152},{"$f":"[3]SA9!F127","v":163057},{"$f":"[3]SA9!G127","v":163057},{"$f":"[3]SA9!H127","v":165584},{"$f":"[3]SA9!I127","v":165584},{"$f":"[3]SA9!J127","v":165584},{"$f":"[3]SA9!K127","v":181207},{"$f":"[3]SA9!L127","v":196830},{"$f":"[3]SA9!M127","v":212626}]
[null,null,"Other toilet provisions (> min.service level)",null,{"$f":"[3]SA9!E128","v":0},{"$f":"[3]SA9!F128","v":2542},{"$f":"[3]SA9!G128","v":2542},{"$f":"[3]SA9!H128","v":2581},{"$f":"[3]SA9!I128","v":2581},{"$f":"[3]SA9!J128","v":2581},{"$f":"[3]SA9!K128","v":0},{"$f":"[3]SA9!L128","v":0},{"$f":"[3]SA9!M128","v":0}]
[null,null,"Minimum Service Level and Above sub-total",null,{"$f":"SUM(E124:E128)","v":294150},{"$f":"SUM(F124:F128)","v":244068},260807,269893,269893,269893,288730,310148,331739]
[null,null,"Bucket toilet",null,{"$f":"[3]SA9!E130","v":0},{"$f":"[3]SA9!F130","v":0},{"$f":"[3]SA9!G130","v":0},{"$f":"[3]SA9!H130","v":0},{"$f":"[3]SA9!I130","v":0},{"$f":"[3]SA9!J130","v":0},{"$f":"[3]SA9!K130","v":0},{"$f":"[3]SA9!L130","v":0},{"$f":"[3]SA9!M130","v":0}]
[null,null,"Other toilet provisions (< min.service level)",null,{"$f":"[3]SA9!E131","v":29080},{"$f":"[3]SA9!F131","v":18185},{"$f":"[3]SA9!G131","v":18185},{"$f":"[3]SA9!H131","v":18467},{"$f":"[3]SA9!I131","v":18467},{"$f":"[3]SA9!J131","v":18467},{"$f":"[3]SA9!K131","v":18467},{"$f":"[3]SA9!L131","v":18467},{"$f":"[3]SA9!M131","v":18467}]
[null,null,"No toilet provisions",null,{"$f":"[3]SA9!E132","v":0},{"$f":"[3]SA9!F132","v":57967},{"$f":"[3]SA9!G132","v":47088},{"$f":"[3]SA9!H132","v":44561},{"$f":"[3]SA9!I132","v":44561},{"$f":"[3]SA9!J132","v":44561},{"$f":"[3]SA9!K132","v":41309},{"$f":"[3]SA9!L132","v":35476},{"$f":"[3]SA9!M132","v":29459}]
[null,null,"Below Minimum Service Level sub-total",null,{"$f":"SUM(E130:E132)","v":29080},{"$f":"SUM(F130:F132)","v":76152},65273,63028,63028,63028,59776,53943,47926]
[null,null,"Total number of households",null,{"$f":"E129+E133","v":323230},{"$f":"F129+F133","v":320220},326080,332921,332921,332921,348506,364091,379665]
[null,null,"Energy:"]
[null,null,"Electricity (at least min.service level)"]
[null,null,"Electricity - prepaid (min.service level)"]
[null,null,"Minimum Service Level and Above sub-total",null,{"$f":"SUM(E136:E137)","v":0},{"$f":"SUM(F136:F137)","v":0},0,0,0,0,0,0,0]
[null,null,"Electricity (< min.service level)"]
[null,null,"Electricity - prepaid (< min. service level)"]
[null,null,"Other energy sources"]
[null,null,"Below Minimum Service Level sub-total",null,{"$f":"SUM(E139:E141)","v":0},{"$f":"SUM(F139:F141)","v":0},0,0,0,0,0,0,0]
[null,null,"Total number of households",null,{"$f":"E138+E142","v":0},{"$f":"F138+F142","v":0},0,0,0,0,0,0,0]
[null,null,"Refuse:"]
[null,null,"Removed at least once a week"]
[null,null,"Minimum Service Level and Above sub-total",null,{"$f":"SUM(E145)","v":0},{"$f":"SUM(F145)","v":0},0,0,0,0,0,0,0]
[null,null,"Removed less frequently than once a week"]
[null,null,"Using communal refuse dump"]
[null,null,"Using own refuse dump"]
[null,null,"Other rubbish disposal"]
[null,null,"No rubbish disposal"]
[null,null,"Below Minimum Service Level sub-total",null,{"$f":"SUM(E147:E151)","v":0},0,0,0,0,0,0,0,0]
[null,null,"Total number of households",null,{"$f":"E146+E152","v":0},{"$f":"F146+F152","v":0},0,0,0,0,0,0,0]
[]
["Municipal entity services",null,null,null,{"$f":"head1b","v":"2016/17"},{"$f":"head1A","v":"2017/18"},{"$f":"Head1","v":"2018/19"},{"$f":"Head2","v":"Current Year 2019/20"},null,null,{"$f":"Head3","v":"2020/21 Medium Term Revenue & Expenditure Framework"}]
[null,"Ref.",null,null,{"$f":"Head5A","v":"Outcome"},{"$f":"Head5A","v":"Outcome"},{"$f":"Head5A","v":"Outcome"},{"$f":"Head6","v":"Original Budget"},{"$f":"Head7","v":"Adjusted Budget"},{"$f":"Head8","v":"Full Year Forecast"},{"$f":"Head9","v":"Budget Year 2020/21"},{"$f":"Head10","v":"Budget Year +1 2021/22"},{"$f":"Head11","v":"Budget Year +2 2022/23"}]
[null,null,"Household service targets (000)"]
["Name of municipal entity",null,"Water:"]
[null,null,"Piped water inside dwelling"]
[null,null,"Piped water inside yard (but not in dwelling)"]
[null,8,"Using public tap (at least min.service level)"]
[null,10,"Other water supply (at least min.service level)"]
[null,null,"Minimum Service Level and Above sub-total",null,{"$f":"SUM(E159:E162)","v":0},{"$f":"SUM(F159:F162)","v":0},0,0,0,0,0,0,0]
[null,9,"Using public tap (< min.service level)"]
[null,10,"Other water supply (< min.service level)"]
[null,null,"No water supply"]
[null,null,"Below Minimum Service Level sub-total",null,{"$f":"SUM(E164:E166)","v":0},{"$f":"SUM(F164:F166)","v":0},0,0,0,0,0,0,0]
[null,null,"Total number of households",null,{"$f":"E163+E167","v":0},{"$f":"F163+F167","v":0},0,0,0,0,0,0,0]
["Name of municipal entity",null,"Sanitation/sewerage:"]
[null,null,"Flush toilet (connected to sewerage)"]
[null,null,"Flush toilet (with septic tank)"]
[null,null,"Chemical toilet"]
[null,null,"Pit toilet (ventilated)"]
[null,null,"Other toilet provisions (> min.service level)"]
[null,null,"Minimum Service Level and Above sub-total",null,{"$f":"SUM(E170:E174)","v":0},{"$f":"SUM(F170:F174)","v":0},0,0,0,0,0,0,0]
[null,null,"Bucket toilet"]
[null,null,"Other toilet provisions (< min.service level)"]
[null,null,"No toilet provisions"]
[null,null,"Below Minimum Service Level sub-total",null,{"$f":"SUM(E176:E178)","v":0},{"$f":"SUM(F176:F178)","v":0},0,0,0,0,0,0,0]
[null,null,"Total number of households",null,{"$f":"E175+E179","v":0},{"$f":"F175+F179","v":0},0,0,0,0,0,0,0]
["Name of municipal entity",null,"Energy:"]
[null,null,"Electricity (at least min.service level)"]
[null,null,"Electricity - prepaid (min.service level)"]
[null,null,"Minimum Service Level and Above sub-total",null,{"$f":"SUM(E182:E183)","v":0},{"$f":"SUM(F182:F183)","v":0},0,0,0,0,0,0,0]
[null,null,"Electricity (< min.service level)"]
[null,null,"Electricity - prepaid (< min. service level)"]
[null,null,"Other energy sources"]
[null,null,"Below Minimum Service Level sub-total",null,{"$f":"SUM(E185:E187)","v":0},{"$f":"SUM(F185:F187)","v":0},0,0,0,0,0,0,0]
[null,null,"Total number of households",null,{"$f":"E184+E188","v":0},{"$f":"F184+F188","v":0},0,0,0,0,0,0,0]
["Name of municipal entity",null,"Refuse:"]
[null,null,"Removed at least once a week"]
[null,null,"Minimum Service Level and Above sub-total",null,{"$f":"SUM(E191)","v":0},{"$f":"SUM(F191)","v":0},0,0,0,0,0,0,0]
[null,null,"Removed less frequently than once a week"]
[null,null,"Using communal refuse dump"]
[null,null,"Using own refuse dump"]
[null,null,"Other rubbish disposal"]
[null,null,"No rubbish disposal"]
[null,null,"Below Minimum Service Level sub-total",null,{"$f":"SUM(E193:E197)","v":0},0,0,0,0,0,0,0,0]
[null,null,"Total number of households",null,{"$f":"E192+E198","v":0},{"$f":"F192+F198","v":0},0,0,0,0,0,0,0]
[]
["Services provided by 'external mechanisms'",null,null,null,{"$f":"head1b","v":"2016/17"},{"$f":"head1A","v":"2017/18"},{"$f":"Head1","v":"2018/19"},{"$f":"Head2","v":"Current Year 2019/20"},null,null,{"$f":"Head3","v":"2020/21 Medium Term Revenue & Expenditure Framework"}]
[null,"Ref.",null,null,{"$f":"Head5A","v":"Outcome"},{"$f":"Head5A","v":"Outcome"},{"$f":"Head5A","v":"Outcome"},{"$f":"Head6","v":"Original Budget"},{"$f":"Head7","v":"Adjusted Budget"},{"$f":"Head8","v":"Full Year Forecast"},{"$f":"Head9","v":"Budget Year 2020/21"},{"$f":"Head10","v":"Budget Year +1 2021/22"},{"$f":"Head11","v":"Budget Year +2 2022/23"}]
["Names of service providers",null,"Household service targets (000)"]
[null,null,"Water:"]
[null,null,"Piped water inside dwelling"]
[null,null,"Piped water inside yard (but not in dwelling)"]
[null,8,"Using public tap (at least min.service level)"]
[null,10,"Other water supply (at least min.service level)"]
[null,null,"Minimum Service Level and Above sub-total",null,{"$f":"SUM(E205:E208)","v":0},{"$f":"SUM(F205:F208)","v":0},0,0,0,0,0,0,0]
[null,9,"Using public tap (< min.service level)"]
[null,10,"Other water supply (< min.service level)"]
[null,null,"No water supply"]
[null,null,"Below Minimum Service Level sub-total",null,{"$f":"SUM(E210:E212)","v":0},{"$f":"SUM(F210:F212)","v":0},0,0,0,0,0,0,0]
[null,null,"Total number of households",null,{"$f":"E209+E213","v":0},{"$f":"F209+F213","v":0},0,0,0,0,0,0,0]
["Names of service providers",null,"Sanitation/sewerage:"]
[null,null,"Flush toilet (connected to sewerage)"]
[null,null,"Flush toilet (with septic tank)"]
[null,null,"Chemical toilet"]
[null,null,"Pit toilet (ventilated)"]
[null,null,"Other toilet provisions (> min.service level)"]
[null,null,"Minimum Service Level and Above sub-total",null,{"$f":"SUM(E216:E220)","v":0},{"$f":"SUM(F216:F220)","v":0},0,0,0,0,0,0,0]
[null,null,"Bucket toilet"]
[null,null,"Other toilet provisions (< min.service level)"]
[null,null,"No toilet provisions"]
[null,null,"Below Minimum Service Level sub-total",null,{"$f":"SUM(E222:E224)","v":0},{"$f":"SUM(F222:F224)","v":0},0,0,0,0,0,0,0]
[null,null,"Total number of households",null,{"$f":"E221+E225","v":0},{"$f":"F221+F225","v":0},0,0,0,0,0,0,0]
["Names of service providers",null,"Energy:"]
[null,null,"Electricity (at least min.service level)"]
[null,null,"Electricity - prepaid (min.service level)"]
[null,null,"Minimum Service Level and Above sub-total",null,{"$f":"SUM(E228:E229)","v":0},{"$f":"SUM(F228:F229)","v":0},0,0,0,0,0,0,0]
[null,null,"Electricity (< min.service level)"]
[null,null,"Electricity - prepaid (< min. service level)"]
[null,null,"Other energy sources"]
[null,null,"Below Minimum Service Level sub-total",null,{"$f":"SUM(E231:E233)","v":0},{"$f":"SUM(F231:F233)","v":0},0,0,0,0,0,0,0]
[null,null,"Total number of households",null,{"$f":"E230+E234","v":0},{"$f":"F230+F234","v":0},0,0,0,0,0,0,0]
["Names of service providers",null,"Refuse:"]
[null,null,"Removed at least once a week"]
[null,null,"Minimum Service Level and Above sub-total",null,{"$f":"SUM(E237)","v":0},{"$f":"SUM(F237)","v":0},0,0,0,0,0,0,0]
[null,null,"Removed less frequently than once a week"]
[null,null,"Using communal refuse dump"]
[null,null,"Using own refuse dump"]
[null,null,"Other rubbish disposal"]
[null,null,"No rubbish disposal"]
[null,null,"Below Minimum Service Level sub-total",null,{"$f":"SUM(E239:E243)","v":0},0,0,0,0,0,0,0,0]
[null,null,"Total number of households",null,{"$f":"E238+E244","v":0},{"$f":"F238+F244","v":0},0,0,0,0,0,0,0]
[]
["Detail of Free Basic Services (FBS) provided",null,null,null,{"$f":"head1b","v":"2016/17"},{"$f":"head1A","v":"2017/18"},{"$f":"Head1","v":"2018/19"},{"$f":"Head2","v":"Current Year 2019/20"},null,null,{"$f":"Head3","v":"2020/21 Medium Term Revenue & Expenditure Framework"}]
[null,null,null,null,{"$f":"Head5A","v":"Outcome"},{"$f":"Head5A","v":"Outcome"},{"$f":"Head5A","v":"Outcome"},{"$f":"Head6","v":"Original Budget"},{"$f":"Head7","v":"Adjusted Budget"},{"$f":"Head8","v":"Full Year Forecast"},{"$f":"Head9","v":"Budget Year 2020/21"},{"$f":"Head10","v":"Budget Year +1 2021/22"},{"$f":"Head11","v":"Budget Year +2 2022/23"}]
["Electricity","Ref.","Location of households for each type of FBS"]
["List type of FBS service",null,"Formal settlements -  (50 kwh per indigent household per month Rands)"]
[null,null,"Number of HH receiving this type of FBS"]
[null,null,"Informal settlements (Rands)"]
[null,null,"Number of HH receiving this type of FBS"]
[null,null,"Informal settlements targeted for upgrading (Rands)"]
[null,null,"Number of HH receiving this type of FBS"]
[null,null,"Living in informal backyard rental agreement (Rands)"]
[null,null,"Number of HH receiving this type of FBS"]
[null,null,"Other (Rands)"]
[null,null,"Number of HH receiving this type of FBS"]
[null,null,"Total cost of FBS - Electricity for informal settlements",null,{"$f":"E252+E254+E256+E258","v":0},{"$f":"F252+F254+F256+F258","v":0},0,0,0,0,0,0,0]
["Water","Ref.","Location of households for each type of FBS"]
["List type of FBS service",null,"Formal settlements -  (6 kilolitre per indigent household per month Rands)",null,{"$f":"[3]SA9!E262","v":0},{"$f":"[3]SA9!F262","v":0},{"$f":"[3]SA9!G262","v":0},{"$f":"[3]SA9!H262","v":577491524.99999988},{"$f":"[3]SA9!I262","v":577491524.99999988},{"$f":"[3]SA9!J262","v":577491524.99999988},{"$f":"[3]SA9!K262","v":612141016.49999988},{"$f":"[3]SA9!L262","v":648869477.48999989},{"$f":"[3]SA9!M262","v":687801646.13939989}]
[null,null,"Number of HH receiving this type of FBS",null,{"$f":"[3]SA9!E263","v":0},{"$f":"[3]SA9!F263","v":0},{"$f":"[3]SA9!G263","v":0},{"$f":"[3]SA9!H263","v":299628.90000000002},{"$f":"[3]SA9!I263","v":299628.90000000002},{"$f":"[3]SA9!J263","v":299628.90000000002},{"$f":"[3]SA9!K263","v":328992.53220000007},{"$f":"[3]SA9!L263","v":361233.80035560013},{"$f":"[3]SA9!M263","v":396634.71279044898}]
[null,null,"Informal settlements (Rands)"]
[null,null,"Number of HH receiving this type of FBS"]
[null,null,"Informal settlements targeted for upgrading (Rands)"]
[null,null,"Number of HH receiving this type of FBS"]
[null,null,"Living in informal backyard rental agreement (Rands)"]
[null,null,"Number of HH receiving this type of FBS"]
[null,null,"Other (Rands)"]
[null,null,"Number of HH receiving this type of FBS"]
[null,null,"Total cost of FBS - Water  for informal settlements",null,{"$f":"E264+E266+E268+E270","v":0},{"$f":"F264+F266+F268+F270","v":0},0,0,0,0,0,0,0]
["Sanitation","Ref.","Location of households for each type of FBS"]
["List type of FBS service",null,"Formal settlements -  (free sanitation service to indigent households)",null,null,null,null,{"$f":"[3]SA9!H274","v":0},{"$f":"[3]SA9!I274","v":0},{"$f":"[3]SA9!J274","v":0},{"$f":"[3]SA9!K274","v":0},{"$f":"[3]SA9!L274","v":0},{"$f":"[3]SA9!M274","v":0}]
[null,null,"Number of HH receiving this type of FBS",null,null,null,null,{"$f":"[3]SA9!H275","v":0},{"$f":"[3]SA9!I275","v":0},{"$f":"[3]SA9!J275","v":0},{"$f":"[3]SA9!K275","v":0},{"$f":"[3]SA9!L275","v":0},{"$f":"[3]SA9!M275","v":0}]
[null,null,"Informal settlements (Rands)",null,null,null,null,{"$f":"[3]SA9!H276","v":0},{"$f":"[3]SA9!I276","v":0},{"$f":"[3]SA9!J276","v":0},{"$f":"[3]SA9!K276","v":0},{"$f":"[3]SA9!L276","v":0},{"$f":"[3]SA9!M276","v":0}]
[null,null,"Number of HH receiving this type of FBS"]
[null,null,"Informal settlements targeted for upgrading (Rands)"]
[null,null,"Number of HH receiving this type of FBS"]
[null,null,"Living in informal backyard rental agreement (Rands)"]
[null,null,"Number of HH receiving this type of FBS"]
[null,null,"Other (Rands)"]
[null,null,"Number of HH receiving this type of FBS"]
[null,null,"Total cost of FBS - Sanitation for informal settlements",null,{"$f":"E276+E278+E280+E282","v":0},{"$f":"F276+F278+F280+F282","v":0},0,0,0,0,0,0,0]
["Refuse Removal","Ref.","Location of households for each type of FBS"]
["List type of FBS service",null,"Formal settlements -  (removed once a week to indigent households)"]
[null,null,"Number of HH receiving this type of FBS"]
[null,null,"Informal settlements (Rands)"]
[null,null,"Number of HH receiving this type of FBS"]
[null,null,"Informal settlements targeted for upgrading (Rands)"]
[null,null,"Number of HH receiving this type of FBS"]
[null,null,"Living in informal backyard rental agreement (Rands)"]
[null,null,"Number of HH receiving this type of FBS"]
[null,null,"Other (Rands)"]
[null,null,"Number of HH receiving this type of FBS"]
[null,null,"Total cost of FBS - Refuse Removal for informal settlements",null,{"$f":"E288+E290+E292+E294","v":0},{"$f":"F288+F290+F292+F294","v":0},0,0,0,0,0,0,0]
[{"$f":"head27a","v":"References"}]
["1. Monthly household income threshold. Should include all sources of income."]
["2. Show the poverty analysis the municipality uses to determine its indigents policy and the provision of services"]
["3. Include total of all housing units within the municipality"]
["4. Number of subsidised dwellings to be constructed by the municipality under agency agreement with province"]
["5. Provide estimate based on building approval information. Include any non-subsidised dwellings constructed by the municipality"]
["6. Insert actual or estimated % increases assumed as a basis for budget calculations"]
["7. Insert actual or estimated % collection rate assumed as a basis for budget calculations for each revenue group"]
["8. Stand distance <= 200m from dwelling"]
["9. Stand distance > 200m from dwelling"]
["10. Borehole, spring, rain-water tank etc."]
["11. Must agree to total number of households in municipal area"]
["12. Household income categories assume an average 4 person household. Stats SA - Census 2011 Questionnaire"]
["13. Based on National poverty line of R515 per capita per month (2008 prices), assuming an average household size of 4 persons"]

{"sheet":"SA10","index":29,"n_rows":132,"n_cols":13,"rows_kept":132,"cut":false,"hidden":false,"merged":[[1,0,2,0],[1,10,1,12],[1,1,2,1],[1,2,2,2],[1,6,1,9]]}
[{"$f":"muni &\" \" & TableA10","v":"DC15 O .R. Tambo Supporting Table SA10 Funding measurement"}]
[{"$f":"desc","v":"Description"},"MFMA section",{"$f":"head27","v":"Ref"},{"$f":"head1b","v":"2016/17"},{"$f":"head1A","v":"2017/18"},{"$f":"Head1","v":"2018/19"},{"$f":"Head2","v":"Current Year 2019/20"},null,null,null,{"$f":"Head3","v":"2020/21 Medium Term Revenue & Expenditure Framework"}]
[null,null,null,{"$f":"Head5","v":"Audited Outcome"},{"$f":"Head5","v":"Audited Outcome"},{"$f":"Head5","v":"Audited Outcome"},{"$f":"Head6","v":"Original Budget"},{"$f":"Head7","v":"Adjusted Budget"},{"$f":"Head8","v":"Full Year Forecast"},{"$f":"Head5b","v":"Pre-audit outcome"},{"$f":"Head9","v":"Budget Year 2020/21"},{"$f":"Head10","v":"Budget Year +1 2021/22"},{"$f":"Head11","v":"Budget Year +2 2022/23"}]
["Funding measures"]
[{"$f":"LEFT('A7-CFlow'!A40,37)&\" - R'000\"","v":"Cash/cash equivalents at the year end - R'000"},"18(1)b",1,{"$f":"'A7-CFlow'!C40","v":291314534},{"$f":"'A7-CFlow'!D40","v":214654510},{"$f":"'A7-CFlow'!E40","v":276411931},{"$f":"'A7-CFlow'!F40","v":234131272.42208028},{"$f":"'A7-CFlow'!G40","v":254833828.99999976},{"$f":"'A7-CFlow'!H40","v":254833828.99999976},{"$f":"'A7-CFlow'!I40","v":215817859.03999972},{"$f":"'A7-CFlow'!J40","v":246774361.99999976},{"$f":"'A7-CFlow'!K40","v":260100176.99999976},{"$f":"'A7-CFlow'!L40","v":271804684.99999976}]
["Cash + investments at the yr end less applications - R'000","18(1)b",2,{"$f":"'A8-ResRecon'!C8-'A8-ResRecon'!C18","v":-6383926},{"$f":"'A8-ResRecon'!D8-'A8-ResRecon'!D18","v":-45605234},{"$f":"'A8-ResRecon'!E8-'A8-ResRecon'!E18","v":-261682096},{"$f":"'A8-ResRecon'!F8-'A8-ResRecon'!F18","v":479420634.33986557},{"$f":"'A8-ResRecon'!G8-'A8-ResRecon'!G18","v":382568162.17488003},{"$f":"'A8-ResRecon'!H8-'A8-ResRecon'!H18","v":382568162.17488003},{"$f":"'A8-ResRecon'!I8-'A8-ResRecon'!I18","v":-96407016.705119967},{"$f":"'A8-ResRecon'!J8-'A8-ResRecon'!J18","v":372328437.66349995},{"$f":"'A8-ResRecon'!K8-'A8-ResRecon'!K18","v":199514323.70215306},{"$f":"'A8-ResRecon'!L8-'A8-ResRecon'!L18","v":206332703.32537225}]
["Cash year end/monthly employee/supplier payments","18(1)b",3,{"$f":"IF(ISERROR('SA8'!C39),0,('SA8'!C39))","v":3.7066027043038186},{"$f":"IF(ISERROR('SA8'!D39),0,('SA8'!D39))","v":2.3935062014852528},{"$f":"IF(ISERROR('SA8'!E39),0,('SA8'!E39))","v":2.8395667299359353},{"$f":"IF(ISERROR('SA8'!F39),0,('SA8'!F39))","v":2.5976301806759996},{"$f":"IF(ISERROR('SA8'!G39),0,('SA8'!G39))","v":2.6091682378255698},{"$f":"IF(ISERROR('SA8'!H39),0,('SA8'!H39))","v":2.6091682378255698},{"$f":"IF(ISERROR('SA8'!I39),0,('SA8'!I39))","v":3.3751340736743205},{"$f":"IF(ISERROR('SA8'!J39),0,('SA8'!J39))","v":2.2819025508589728},{"$f":"IF(ISERROR('SA8'!K39),0,('SA8'!K39))","v":2.2861039416766373},{"$f":"IF(ISERROR('SA8'!L39),0,('SA8'!L39))","v":2.2979109103282647}]
["Surplus/(Deficit) excluding depreciation offsets: R'000","18(1)",4,{"$f":"'A4-FinPerf RE'!C41+'SA3'!C61","v":471999377},{"$f":"'A4-FinPerf RE'!D41+'SA3'!D61","v":535538370.00999999},{"$f":"'A4-FinPerf RE'!E41+'SA3'!E61","v":550478717.8599999},{"$f":"'A4-FinPerf RE'!F41+'SA3'!F61","v":1049572706},{"$f":"'A4-FinPerf RE'!G41+'SA3'!G61","v":1112828510},{"$f":"'A4-FinPerf RE'!H41+'SA3'!H61","v":1112828510},{"$f":"'A4-FinPerf RE'!I41+'SA3'!I61","v":216229391.84000012},{"$f":"'A4-FinPerf RE'!J41+'SA3'!J61","v":933925264},{"$f":"'A4-FinPerf RE'!K41+'SA3'!K61","v":881520194},{"$f":"'A4-FinPerf RE'!L41+'SA3'!L61","v":992772040}]
["Service charge rev % change - macro CPIX target exclusive","18(1)a,(2)",5,"N.A.",{"$f":"IF(ISERROR(E36-E61),0,(E36-E61))","v":5.3368002137293147E-2},{"$f":"IF(ISERROR(F36-F61),0,(F36-F61))","v":1.114363462175999E-2},0.18659256513174199,4.8952291736328368E-2,-0.06,-0.39897433237935648,{"$f":"IF(ISERROR(K36-K61),0,(K36-K61))","v":1.7215388381428387E-2},-5.7053796017216996E-2,5.4288911704447607E-6]
["Cash receipts % of Ratepayer & Other revenue","18(1)a,(2)",6,{"$f":"IF(ISERROR(D53/D54),0,(D53/D54))","v":0.64848054293992796},{"$f":"IF(ISERROR(E53/E54),0,(E53/E54))","v":0.83229868054478295},0.46531437340037862,0.94460306824948093,0.59162848755797659,0.59162848755797659,1.5085607041866049,0.62984051271343244,0.55057615005015337,0.48413157729009415]
["Debt impairment expense as a % of total billable revenue","18(1)a,(2)",7,{"$f":"IF(ISERROR('A4-FinPerf RE'!C26/'SA10'!D43),0,('A4-FinPerf RE'!C26/'SA10'!D43))","v":0.71095806886823565},{"$f":"IF(ISERROR('A4-FinPerf RE'!D26/'SA10'!E43),0,('A4-FinPerf RE'!D26/'SA10'!E43))","v":0.40668958058156035},{"$f":"IF(ISERROR('A4-FinPerf RE'!E26/'SA10'!F43),0,('A4-FinPerf RE'!E26/'SA10'!F43))","v":0.35110626650781224},{"$f":"IF(ISERROR('A4-FinPerf RE'!F26/'SA10'!G43),0,('A4-FinPerf RE'!F26/'SA10'!G43))","v":0.30053093134747627},{"$f":"IF(ISERROR('A4-FinPerf RE'!G26/'SA10'!H43),0,('A4-FinPerf RE'!G26/'SA10'!H43))","v":0.27100438277369326},{"$f":"IF(ISERROR('A4-FinPerf RE'!H26/'SA10'!I43),0,('A4-FinPerf RE'!H26/'SA10'!I43))","v":0.27100438277369326},{"$f":"IF(ISERROR('A4-FinPerf RE'!I26/'SA10'!J43),0,('A4-FinPerf RE'!I26/'SA10'!J43))","v":0},{"$f":"IF(ISERROR('A4-FinPerf RE'!J26/'SA10'!K43),0,('A4-FinPerf RE'!J26/'SA10'!K43))","v":0.43678003581081282},{"$f":"IF(ISERROR('A4-FinPerf RE'!K26/'SA10'!L43),0,('A4-FinPerf RE'!K26/'SA10'!L43))","v":0.4668875289467162},{"$f":"IF(ISERROR('A4-FinPerf RE'!L26/'SA10'!M43),0,('A4-FinPerf RE'!L26/'SA10'!M43))","v":0.46071872908195438}]
["Capital payments % of capital expenditure","18(1)c;19",8,{"$f":"IF(ISERROR(-'A7-CFlow'!C26/'A5-Capex'!C40),0,(-'A7-CFlow'!C26/'A5-Capex'!C40))","v":0.98823524416379738},{"$f":"IF(ISERROR(-'A7-CFlow'!D26/'A5-Capex'!D40),0,(-'A7-CFlow'!D26/'A5-Capex'!D40))","v":1.0003187288177406},{"$f":"IF(ISERROR(-'A7-CFlow'!E26/'A5-Capex'!E40),0,(-'A7-CFlow'!E26/'A5-Capex'!E40))","v":1.0012710572583163},{"$f":"IF(ISERROR(-'A7-CFlow'!F26/'A5-Capex'!F40),0,(-'A7-CFlow'!F26/'A5-Capex'!F40))","v":0.98610076694832871},{"$f":"IF(ISERROR(-'A7-CFlow'!G26/'A5-Capex'!G40),0,(-'A7-CFlow'!G26/'A5-Capex'!G40))","v":0.9482150914275761},{"$f":"IF(ISERROR(-'A7-CFlow'!H26/'A5-Capex'!H40),0,(-'A7-CFlow'!H26/'A5-Capex'!H40))","v":0.9482150914275761},{"$f":"IF(ISERROR(-'A7-CFlow'!I26/'A5-Capex'!I40),0,(-'A7-CFlow'!I26/'A5-Capex'!I40))","v":2.4499526369259561},{"$f":"IF(ISERROR(-'A7-CFlow'!J26/'A5-Capex'!J40),0,(-'A7-CFlow'!J26/'A5-Capex'!J40))","v":1},{"$f":"IF(ISERROR(-'A7-CFlow'!K26/'A5-Capex'!K40),0,(-'A7-CFlow'!K26/'A5-Capex'!K40))","v":1},{"$f":"IF(ISERROR(-'A7-CFlow'!L26/'A5-Capex'!L40),0,(-'A7-CFlow'!L26/'A5-Capex'!L40))","v":1}]
["Borrowing receipts % of capital expenditure (excl. transfers)","18(1)c",9,{"$f":"IF(ISERROR('A7-CFlow'!C32/'SA10'!D52),0,('A7-CFlow'!C32/'SA10'!D52))","v":0},{"$f":"IF(ISERROR('A7-CFlow'!D32/'SA10'!E52),0,('A7-CFlow'!D32/'SA10'!E52))","v":0},{"$f":"IF(ISERROR('A7-CFlow'!E32/'SA10'!F52),0,('A7-CFlow'!E32/'SA10'!F52))","v":0},{"$f":"IF(ISERROR('A7-CFlow'!F32/'SA10'!G52),0,('A7-CFlow'!F32/'SA10'!G52))","v":0},{"$f":"IF(ISERROR('A7-CFlow'!G32/'SA10'!H52),0,('A7-CFlow'!G32/'SA10'!H52))","v":0},{"$f":"IF(ISERROR('A7-CFlow'!H32/'SA10'!I52),0,('A7-CFlow'!H32/'SA10'!I52))","v":0},{"$f":"IF(ISERROR('A7-CFlow'!I32/'SA10'!J52),0,('A7-CFlow'!I32/'SA10'!J52))","v":0},{"$f":"IF(ISERROR('A7-CFlow'!J32/'SA10'!K52),0,('A7-CFlow'!J32/'SA10'!K52))","v":0},{"$f":"IF(ISERROR('A7-CFlow'!K32/'SA10'!L52),0,('A7-CFlow'!K32/'SA10'!L52))","v":0},{"$f":"IF(ISERROR('A7-CFlow'!L32/'SA10'!M52),0,('A7-CFlow'!L32/'SA10'!M52))","v":0}]
["Grants % of Govt. legislated/gazetted allocations","18(1)a",10,null,null,null,null,null,null,null,{"$f":"IF(ISERROR(K56/K68),0,(K56/K68))","v":0},{"$f":"IF(ISERROR(L56/L68),0,(L56/L68))","v":0},{"$f":"IF(ISERROR(M56/M68),0,(M56/M68))","v":0}]
["Current consumer debtors % change - incr(decr)","18(1)a",11,"N.A.",{"$f":"IF(ISERROR(ROUND((SUM('A6-FinPos'!D8:D10)-SUM('A6-FinPos'!C8:C10))/SUM('A6-FinPos'!C8:C10),3)),0,(ROUND((SUM('A6-FinPos'!D8:D10)-SUM('A6-FinPos'!C8:C10))/SUM('A6-FinPos'!C8:C10),3)))","v":0.67500000000000004},{"$f":"IF(ISERROR(ROUND((SUM('A6-FinPos'!E8:E10)-SUM('A6-FinPos'!D8:D10))/SUM('A6-FinPos'!D8:D10),3)),0,(ROUND((SUM('A6-FinPos'!E8:E10)-SUM('A6-FinPos'!D8:D10))/SUM('A6-FinPos'!D8:D10),3)))","v":6.8000000000000005E-2},{"$f":"IF(ISERROR(ROUND((SUM('A6-FinPos'!F8:F10)-SUM('A6-FinPos'!E8:E10))/SUM('A6-FinPos'!E8:E10),3)),0,(ROUND((SUM('A6-FinPos'!F8:F10)-SUM('A6-FinPos'!E8:E10))/SUM('A6-FinPos'!E8:E10),3)))","v":-0.33100000000000002},{"$f":"IF(ISERROR(ROUND((SUM('A6-FinPos'!G8:G10)-SUM('A6-FinPos'!F8:F10))/SUM('A6-FinPos'!F8:F10),3)),0,(ROUND((SUM('A6-FinPos'!G8:G10)-SUM('A6-FinPos'!F8:F10))/SUM('A6-FinPos'!F8:F10),3)))","v":-8.1000000000000003E-2},{"$f":"IF(ISERROR(ROUND((SUM('A6-FinPos'!H8:H10)-SUM('A6-FinPos'!G8:G10))/SUM('A6-FinPos'!G8:G10),3)),0,(ROUND((SUM('A6-FinPos'!H8:H10)-SUM('A6-FinPos'!G8:G10))/SUM('A6-FinPos'!G8:G10),3)))","v":0},{"$f":"IF(ISERROR(ROUND((SUM('A6-FinPos'!I8:I10)-SUM('A6-FinPos'!H8:H10))/SUM('A6-FinPos'!H8:H10),3)),0,(ROUND((SUM('A6-FinPos'!I8:I10)-SUM('A6-FinPos'!H8:H10))/SUM('A6-FinPos'!H8:H10),3)))","v":0.76400000000000001},{"$f":"IF(ISERROR(ROUND((SUM('A6-FinPos'!J8:J10)-SUM('A6-FinPos'!G8:G10))/SUM('A6-FinPos'!G8:G10),3)),0,(ROUND((SUM('A6-FinPos'!J8:J10)-SUM('A6-FinPos'!G8:G10))/SUM('A6-FinPos'!G8:G10),3)))","v":-0.45700000000000002},{"$f":"IF(ISERROR(ROUND((SUM('A6-FinPos'!K8:K10)-SUM('A6-FinPos'!J8:J10))/SUM('A6-FinPos'!J8:J10),3)),0,(ROUND((SUM('A6-FinPos'!K8:K10)-SUM('A6-FinPos'!J8:J10))/SUM('A6-FinPos'!J8:J10),3)))","v":1.8540000000000001},{"$f":"IF(ISERROR(ROUND((SUM('A6-FinPos'!L8:L10)-SUM('A6-FinPos'!K8:K10))/SUM('A6-FinPos'!K8:K10),3)),0,(ROUND((SUM('A6-FinPos'!L8:L10)-SUM('A6-FinPos'!K8:K10))/SUM('A6-FinPos'!K8:K10),3)))","v":-0.21299999999999999}]
["Long term receivables % change - incr(decr)","18(1)a",12,"N.A.",{"$f":"IF(ISERROR(ROUND(('A6-FinPos'!D15-'A6-FinPos'!C15)/'A6-FinPos'!C15,3)),0,(ROUND(('A6-FinPos'!D15-'A6-FinPos'!C15)/'A6-FinPos'!C15,3)))","v":0},{"$f":"IF(ISERROR(ROUND(('A6-FinPos'!E15-'A6-FinPos'!D15)/'A6-FinPos'!D15,3)),0,(ROUND(('A6-FinPos'!E15-'A6-FinPos'!D15)/'A6-FinPos'!D15,3)))","v":-1},{"$f":"IF(ISERROR(ROUND(('A6-FinPos'!F15-'A6-FinPos'!E15)/'A6-FinPos'!E15,3)),0,(ROUND(('A6-FinPos'!F15-'A6-FinPos'!E15)/'A6-FinPos'!E15,3)))","v":0},{"$f":"IF(ISERROR(ROUND(('A6-FinPos'!G15-'A6-FinPos'!F15)/'A6-FinPos'!F15,3)),0,(ROUND(('A6-FinPos'!G15-'A6-FinPos'!F15)/'A6-FinPos'!F15,3)))","v":0},{"$f":"IF(ISERROR(ROUND(('A6-FinPos'!H15-'A6-FinPos'!G15)/'A6-FinPos'!G15,3)),0,(ROUND(('A6-FinPos'!H15-'A6-FinPos'!G15)/'A6-FinPos'!G15,3)))","v":0},{"$f":"IF(ISERROR(ROUND(('A6-FinPos'!I15-'A6-FinPos'!H15)/'A6-FinPos'!H15,3)),0,(ROUND(('A6-FinPos'!I15-'A6-FinPos'!H15)/'A6-FinPos'!H15,3)))","v":0},{"$f":"IF(ISERROR(ROUND(('A6-FinPos'!J15-'A6-FinPos'!G15)/'A6-FinPos'!G15,3)),0,(ROUND(('A6-FinPos'!J15-'A6-FinPos'!G15)/'A6-FinPos'!G15,3)))","v":0},{"$f":"IF(ISERROR(ROUND(('A6-FinPos'!K15-'A6-FinPos'!J15)/'A6-FinPos'!J15,3)),0,(ROUND(('A6-FinPos'!K15-'A6-FinPos'!J15)/'A6-FinPos'!J15,3)))","v":0},{"$f":"IF(ISERROR(ROUND(('A6-FinPos'!L15-'A6-FinPos'!K15)/'A6-FinPos'!K15,3)),0,(ROUND(('A6-FinPos'!L15-'A6-FinPos'!K15)/'A6-FinPos'!K15,3)))","v":0}]
["R&M % of Property Plant & Equipment","20(1)(vi)",13,{"$f":"IF(ISERROR('A9-Asset'!C169/'A6-FinPos'!C19),0,('A9-Asset'!C169/'A6-FinPos'!C19))","v":1.6133272885555838E-2},{"$f":"IF(ISERROR('A9-Asset'!D169/'A6-FinPos'!D19),0,('A9-Asset'!D169/'A6-FinPos'!D19))","v":2.6280331706914434E-2},{"$f":"IF(ISERROR('A9-Asset'!E169/'A6-FinPos'!E19),0,('A9-Asset'!E169/'A6-FinPos'!E19))","v":2.228226740902918E-2},{"$f":"IF(ISERROR('A9-Asset'!F169/'A6-FinPos'!F19),0,('A9-Asset'!F169/'A6-FinPos'!F19))","v":8.5233578702660889E-3},{"$f":"IF(ISERROR('A9-Asset'!G169/'A6-FinPos'!G19),0,('A9-Asset'!G169/'A6-FinPos'!G19))","v":8.9874136272469242E-3},{"$f":"IF(ISERROR('A9-Asset'!H169/'A6-FinPos'!H19),0,('A9-Asset'!H169/'A6-FinPos'!H19))","v":8.9874136272469242E-3},{"$f":"IF(ISERROR('A9-Asset'!I169/'A6-FinPos'!I19),0,('A9-Asset'!I169/'A6-FinPos'!I19))","v":1.3969111373497796E-2},{"$f":"IF(ISERROR('A9-Asset'!I169/'A6-FinPos'!J19),0,('A9-Asset'!I169/'A6-FinPos'!J19))","v":1.0666521647650489E-2},{"$f":"IF(ISERROR('A9-Asset'!J169/'A6-FinPos'!K19),0,('A9-Asset'!J169/'A6-FinPos'!K19))","v":9.5416067016129719E-3},{"$f":"IF(ISERROR('A9-Asset'!K169/'A6-FinPos'!L19),0,('A9-Asset'!K169/'A6-FinPos'!L19))","v":8.9143756700697553E-3}]
["Asset renewal % of capital budget",{"$f":"B17","v":"20(1)(vi)"},14,{"$f":"IF(ISERROR(D58/D57),0,(D58/D57))","v":0},0,0,2.5089547884961302E-2,9.5694058905978867E-3,9.5694058905978867E-3,0,1.9503939929854205E-2,1.0821821488633449E-2,{"$f":"IF(ISERROR(M58/M57),0,((M58/M57)))","v":7.1643860348636302E-3}]
[]
[{"$f":"head27a","v":"References"}]
["1. Positive cash balances indicative of minimum compliance - subject to 2"]
["2. Deduct cash and investment applications (defined) from cash balances"]
["3. Indicative of sufficient liquidity to meet average monthly operating payments"]
["4. Indicative of funded operational requirements"]
["5. Indicative of adherence to macro-economic targets (prior to 2003/04 revenue not available for high capacity municipalities and later for other capacity classifications)"]
["6. Realistic average cash collection forecasts as % of annual billed revenue"]
["7. Realistic average increase in debt impairment (doubtful debt) provision"]
["8. Indicative of planned capital expenditure level & cash payment timing"]
["9. Indicative of compliance with borrowing 'only' for the capital budget - should not exceed 100% unless refinancing"]
["10. Substantiation of National/Province allocations included in budget"]
["11. Indicative of realistic current arrear debtor collection targets (prior to 2003/04 revenue not available for high capacity municipalities and later for other capacity classifications)"]
["12. Indicative of realistic long term arrear debtor collection targets (prior to 2003/04 revenue not available for high capacity municipalities and later for other capacity classifications)"]
["13. Indicative of a credible allowance for repairs & maintenance of assets - functioning assets revenue protection"]
["14. Indicative of a credible allowance for asset renewal (requires analysis of asset renewal projects as % of total capital projects - detailed capital plan) - functioning assets revenue protection"]
["Supporting indicators"]
["% incr total service charges (incl prop rates)","18(1)a",null,null,{"$f":"IF(ISERROR((E44/D44)-1),0,((E44/D44)-1))","v":0.11336800213729314},{"$f":"IF(ISERROR((F44/E44)-1),0,((F44/E44)-1))","v":7.1143634621759988E-2},{"$f":"IF(ISERROR((G44/F44)-1),0,((G44/F44)-1))","v":0.24659256513174199},{"$f":"IF(ISERROR((H44/G44)-1),0,((H44/G44)-1))","v":0.10895229173632837},{"$f":"IF(ISERROR((I44/H44)-1),0,((I44/H44)-1))","v":0},{"$f":"IF(ISERROR((J44/I44)-1),0,((J44/I44)-1))","v":-0.33897433237935648},{"$f":"IF(ISERROR((K44/H44)-1),0,((K44/H44)-1))","v":7.7215388381428385E-2},{"$f":"IF(ISERROR((L44/K44)-1),0,((L44/K44)-1))","v":2.9462039827830022E-3},{"$f":"IF(ISERROR((M44/L44)-1),0,((M44/L44)-1))","v":6.0005428891170443E-2}]
["% incr Property Tax","18(1)a",null,null,0,{"$f":"IF(ISERROR((F45/E45)-1),0,((F45/E45)-1))","v":0},0,0,0,0,{"$f":"IF(ISERROR((K45/H45)-1),0,((K45/H45)-1))","v":0},0,0]
[{"$f":"\"% incr \"&'A4-FinPerf RE'!A6","v":"% incr Service charges - electricity revenue"},"18(1)a",null,null,0,0,0,0,0,0,0,0,{"$f":"IF(ISERROR((M46/L46)-1),0,((M46/L46)-1))","v":0}]
[{"$f":"\"% incr \"&'A4-FinPerf RE'!A7","v":"% incr Service charges - water revenue"},"18(1)a",null,null,0.10975460654058633,6.3858401578754664E-2,0.10630173911635854,9.5684799446480673E-2,0,-0.23981215425211033,8.5005844594689961E-2,-2.2277248481047174E-2,6.0008031055384548E-2]
[{"$f":"\"% incr \"&'A4-FinPerf RE'!A8","v":"% incr Service charges - sanitation revenue"},"18(1)a",null,null,0.12721923397235768,9.8637443026146521E-2,0.75927702884693948,0.1394417067270175,0,-0.55810331888711062,6.000000640126979E-2,5.9999995737223255E-2,5.9999999832438089E-2]
[{"$f":"\"% incr \"&'A4-FinPerf RE'!A9","v":"% incr Service charges - refuse revenue"},"18(1)a",null,null,0,0,0,0,0,0,0,0,0]
[{"$f":"\"% incr in \"&'A4-FinPerf RE'!A10","v":"% incr in "},"18(1)a",null,null,0,0,0,0,{"$f":"IF(ISERROR((I50/H50)-1),0,((I50/H50)-1))","v":0},0,0,{"$f":"IF(ISERROR((L50/K50)-1),0,((L50/K50)-1))","v":0},0]
["Total billable revenue","18(1)a",null,{"$f":"SUM(D45:D50)","v":206822345},{"$f":"SUM(E45:E50)","v":230269381.04999998},246651581.75999999,307474028,340974028,340974028,225392584.5,367302470,368384618,390489695]
["Service charges",null,null,{"$f":"SUM(D45:D50)","v":206822345},{"$f":"SUM(E45:E50)","v":230269381.04999998},246651581.75999999,307474028,340974028,340974028,{"$f":"SUM(J45:J50)","v":225392584.5},367302470,368384618,390489695]
["Property rates",null,null,{"$f":"'A4-FinPerf RE'!C5","v":0},{"$f":"'A4-FinPerf RE'!D5","v":0},{"$f":"'A4-FinPerf RE'!E5","v":0},{"$f":"'A4-FinPerf RE'!F5","v":0},{"$f":"'A4-FinPerf RE'!G5","v":0},{"$f":"'A4-FinPerf RE'!H5","v":0},{"$f":"'A4-FinPerf RE'!I5","v":0},{"$f":"'A4-FinPerf RE'!J5","v":0},{"$f":"'A4-FinPerf RE'!K5","v":0},{"$f":"'A4-FinPerf RE'!L5","v":0}]
["Service charges - electricity revenue",null,null,{"$f":"'A4-FinPerf RE'!C6","v":0},{"$f":"'A4-FinPerf RE'!D6","v":0},{"$f":"'A4-FinPerf RE'!E6","v":0},{"$f":"'A4-FinPerf RE'!F6","v":0},{"$f":"'A4-FinPerf RE'!G6","v":0},{"$f":"'A4-FinPerf RE'!H6","v":0},{"$f":"'A4-FinPerf RE'!I6","v":0},{"$f":"'A4-FinPerf RE'!J6","v":0},{"$f":"'A4-FinPerf RE'!K6","v":0},{"$f":"'A4-FinPerf RE'!L6","v":0}]
["Service charges - water revenue",null,null,{"$f":"'A4-FinPerf RE'!C7","v":164031226},{"$f":"'A4-FinPerf RE'!D7","v":182034408.66999999},{"$f":"'A4-FinPerf RE'!E7","v":193658835.03999999},{"$f":"'A4-FinPerf RE'!F7","v":214245106},{"$f":"'A4-FinPerf RE'!G7","v":234745106},{"$f":"'A4-FinPerf RE'!H7","v":234745106},{"$f":"'A4-FinPerf RE'!I7","v":178450376.43000001},{"$f":"'A4-FinPerf RE'!J7","v":254699812},{"$f":"'A4-FinPerf RE'!K7","v":249025801},{"$f":"'A4-FinPerf RE'!L7","v":263969349}]
["Service charges - sanitation revenue",null,null,{"$f":"'A4-FinPerf RE'!C8","v":42791119},{"$f":"'A4-FinPerf RE'!D8","v":48234972.380000003},{"$f":"'A4-FinPerf RE'!E8","v":52992746.719999999},{"$f":"'A4-FinPerf RE'!F8","v":93228922},{"$f":"'A4-FinPerf RE'!G8","v":106228922},{"$f":"'A4-FinPerf RE'!H8","v":106228922},{"$f":"'A4-FinPerf RE'!I8","v":46942208.07},{"$f":"'A4-FinPerf RE'!J8","v":112602658},{"$f":"'A4-FinPerf RE'!K8","v":119358817},{"$f":"'A4-FinPerf RE'!L8","v":126520346}]
["Service charges - refuse removal",null,null,{"$f":"'A4-FinPerf RE'!C9","v":0},{"$f":"'A4-FinPerf RE'!D9","v":0},{"$f":"'A4-FinPerf RE'!E9","v":0},{"$f":"'A4-FinPerf RE'!F9","v":0},{"$f":"'A4-FinPerf RE'!G9","v":0},{"$f":"'A4-FinPerf RE'!H9","v":0},{"$f":"'A4-FinPerf RE'!I9","v":0},{"$f":"'A4-FinPerf RE'!J9","v":0},{"$f":"'A4-FinPerf RE'!K9","v":0},{"$f":"'A4-FinPerf RE'!L9","v":0}]
["Service charges - other",null,null,{"$f":"'A4-FinPerf RE'!C10","v":0},{"$f":"'A4-FinPerf RE'!D10","v":0},{"$f":"'A4-FinPerf RE'!E10","v":0},{"$f":"'A4-FinPerf RE'!F10","v":0},{"$f":"'A4-FinPerf RE'!G10","v":0},{"$f":"'A4-FinPerf RE'!H10","v":0},{"$f":"'A4-FinPerf RE'!I10","v":0},{"$f":"'A4-FinPerf RE'!J10","v":0},{"$f":"'A4-FinPerf RE'!K10","v":0},{"$f":"'A4-FinPerf RE'!L10","v":0}]
[{"$f":"'A4-FinPerf RE'!A11","v":"Rental of facilities and equipment"},null,null,{"$f":"'A4-FinPerf RE'!C11","v":822311},{"$f":"'A4-FinPerf RE'!D11","v":89795},{"$f":"'A4-FinPerf RE'!E11","v":97810},{"$f":"'A4-FinPerf RE'!F11","v":60984},{"$f":"'A4-FinPerf RE'!G11","v":170984},{"$f":"'A4-FinPerf RE'!H11","v":170984},{"$f":"'A4-FinPerf RE'!I11","v":0},{"$f":"'A4-FinPerf RE'!J11","v":867337},{"$f":"'A4-FinPerf RE'!K11","v":1194114},{"$f":"'A4-FinPerf RE'!L11","v":1345867}]
["Capital expenditure excluding capital grant funding",null,null,{"$f":"'A5-Capex'!C40-'A5-Capex'!C70","v":1123184},{"$f":"'A5-Capex'!D40-'A5-Capex'!D70","v":47515915},{"$f":"'A5-Capex'!E40-'A5-Capex'!E70","v":12641367},{"$f":"'A5-Capex'!F40-'A5-Capex'!F70","v":140322533},{"$f":"'A5-Capex'!G40-'A5-Capex'!G70","v":132243639},{"$f":"'A5-Capex'!H40-'A5-Capex'!H70","v":132243639},{"$f":"'A5-Capex'!I40-'A5-Capex'!I70","v":51902247.859999955},{"$f":"'A5-Capex'!J40-'A5-Capex'!J70","v":124392053},{"$f":"'A5-Capex'!K40-'A5-Capex'!K70","v":89361832},{"$f":"'A5-Capex'!L40-'A5-Capex'!L70","v":65359635}]
["Cash receipts from ratepayers","18(1)a",null,{"$f":"'A7-CFlow'!C6+'A7-CFlow'!C7+'A7-CFlow'!C8","v":252351673},{"$f":"'A7-CFlow'!D6+'A7-CFlow'!D7+'A7-CFlow'!D8","v":248700999},{"$f":"'A7-CFlow'!E6+'A7-CFlow'!E7+'A7-CFlow'!E8","v":141188210},{"$f":"'A7-CFlow'!F6+'A7-CFlow'!F7+'A7-CFlow'!F8","v":565890193.35481226},{"$f":"'A7-CFlow'!G6+'A7-CFlow'!G7+'A7-CFlow'!G8","v":412934463.93273199},{"$f":"'A7-CFlow'!H6+'A7-CFlow'!H7+'A7-CFlow'!H8","v":412934463.93273199},{"$f":"'A7-CFlow'!I6+'A7-CFlow'!I7+'A7-CFlow'!I8","v":373918493.97273195},{"$f":"'A7-CFlow'!J6+'A7-CFlow'!J7+'A7-CFlow'!J8","v":466784723.96000004},{"$f":"'A7-CFlow'!K6+'A7-CFlow'!K7+'A7-CFlow'!K8","v":393071679.00000012},{"$f":"'A7-CFlow'!L6+'A7-CFlow'!L7+'A7-CFlow'!L8","v":348874415.99999982}]
["Ratepayer & Other revenue","18(1)a",null,{"$f":"SUM('A4-FinPerf RE'!C5:C11)+'A4-FinPerf RE'!C13+SUM('A4-FinPerf RE'!C15:C17)+'A4-FinPerf RE'!C19","v":389143014},{"$f":"SUM('A4-FinPerf RE'!D5:D11)+'A4-FinPerf RE'!D13+SUM('A4-FinPerf RE'!D15:D17)+'A4-FinPerf RE'!D19","v":298812199.04999995},{"$f":"SUM('A4-FinPerf RE'!E5:E11)+'A4-FinPerf RE'!E13+SUM('A4-FinPerf RE'!E15:E17)+'A4-FinPerf RE'!E19","v":303425421.75999999},{"$f":"SUM('A4-FinPerf RE'!F5:F11)+'A4-FinPerf RE'!F13+SUM('A4-FinPerf RE'!F15:F17)+'A4-FinPerf RE'!F19","v":599077234},{"$f":"SUM('A4-FinPerf RE'!G5:G11)+'A4-FinPerf RE'!G13+SUM('A4-FinPerf RE'!G15:G17)+'A4-FinPerf RE'!G19","v":697962442},{"$f":"SUM('A4-FinPerf RE'!H5:H11)+'A4-FinPerf RE'!H13+SUM('A4-FinPerf RE'!H15:H17)+'A4-FinPerf RE'!H19","v":697962442},{"$f":"SUM('A4-FinPerf RE'!I5:I11)+'A4-FinPerf RE'!I13+SUM('A4-FinPerf RE'!I15:I17)+'A4-FinPerf RE'!I19","v":247864400.10999998},{"$f":"SUM('A4-FinPerf RE'!J5:J11)+'A4-FinPerf RE'!J13+SUM('A4-FinPerf RE'!J15:J17)+'A4-FinPerf RE'!J19","v":741115750},{"$f":"SUM('A4-FinPerf RE'!K5:K11)+'A4-FinPerf RE'!K13+SUM('A4-FinPerf RE'!K15:K17)+'A4-FinPerf RE'!K19","v":713927908},{"$f":"SUM('A4-FinPerf RE'!L5:L11)+'A4-FinPerf RE'!L13+SUM('A4-FinPerf RE'!L15:L17)+'A4-FinPerf RE'!L19","v":720619006}]
["Change in consumer debtors (current and non-current)",null,null,{"$f":"D78","v":81978927.620000064},{"$f":"(SUM('A6-FinPos'!D8:D10)+'A6-FinPos'!D15)-(SUM('A6-FinPos'!C8:C10)+'A6-FinPos'!C15)","v":96774269.379999995},{"$f":"(SUM('A6-FinPos'!E8:E10)+'A6-FinPos'!E15)-(SUM('A6-FinPos'!D8:D10)+'A6-FinPos'!D15)","v":15123731.150000095},{"$f":"(SUM('A6-FinPos'!F8:F10)+'A6-FinPos'!F15)-(SUM('A6-FinPos'!E8:E10)+'A6-FinPos'!E15)","v":-84896408.760674},{"$f":"(SUM('A6-FinPos'!G8:G10)+'A6-FinPos'!G15)-(SUM('A6-FinPos'!E8:E10)+'A6-FinPos'!E15)","v":-98743905.530000091},{"$f":"(SUM('A6-FinPos'!H8:H10)+'A6-FinPos'!H15)-(SUM('A6-FinPos'!E8:E10)+'A6-FinPos'!E15)","v":-98743905.530000091},{"$f":"(SUM('A6-FinPos'!I8:I10)+'A6-FinPos'!I15)-(SUM('A6-FinPos'!E8:E10)+'A6-FinPos'!E15)","v":22245243.4799999},{"$f":"(SUM('A6-FinPos'!J8:J10)+'A6-FinPos'!J15)-(SUM('A6-FinPos'!F8:F10)+'A6-FinPos'!F15)","v":-86025249.636950135},{"$f":"(SUM('A6-FinPos'!K8:K10)+'A6-FinPos'!K15)-(SUM('A6-FinPos'!J8:J10)+'A6-FinPos'!J15)","v":158765866},{"$f":"(SUM('A6-FinPos'!L8:L10)+'A6-FinPos'!L15)-(SUM('A6-FinPos'!K8:K10)+'A6-FinPos'!K15)","v":-52054692}]
["Operating and Capital Grant Revenue","18(1)a",null,{"$f":"'A4-FinPerf RE'!C18+'A4-FinPerf RE'!C38","v":1429049049},{"$f":"'A4-FinPerf RE'!D18+'A4-FinPerf RE'!D38","v":1749998681},{"$f":"'A4-FinPerf RE'!E18+'A4-FinPerf RE'!E38","v":1883676156},{"$f":"'A4-FinPerf RE'!F18+'A4-FinPerf RE'!F38","v":1846857000},{"$f":"'A4-FinPerf RE'!G18+'A4-FinPerf RE'!G38","v":2050700290},{"$f":"'A4-FinPerf RE'!H18+'A4-FinPerf RE'!H38","v":2050700290},{"$f":"'A4-FinPerf RE'!I18+'A4-FinPerf RE'!I38","v":857796826.18000007},{"$f":"'A4-FinPerf RE'!J18+'A4-FinPerf RE'!J38","v":1867555181},{"$f":"'A4-FinPerf RE'!K18+'A4-FinPerf RE'!K38","v":1919007466},{"$f":"'A4-FinPerf RE'!L18+'A4-FinPerf RE'!L38","v":2093281272}]
["Capital expenditure - total",{"$f":"B17","v":"20(1)(vi)"},null,{"$f":"'A5-Capex'!C40","v":810395059},{"$f":"'A5-Capex'!D40","v":779295709},{"$f":"'A5-Capex'!E40","v":875178512},{"$f":"'A5-Capex'!F40","v":1123227534},{"$f":"'A5-Capex'!G40","v":1351709411},{"$f":"'A5-Capex'!H40","v":1351709411},{"$f":"'A5-Capex'!I40","v":523157567.78999996},{"$f":"'A5-Capex'!J40","v":1044807053},{"$f":"'A5-Capex'!K40","v":978659832},{"$f":"'A5-Capex'!L40","v":1060649435}]
["Capital expenditure - renewal",{"$f":"B18","v":"20(1)(vi)"},null,{"$f":"'A9-Asset'!C37","v":0},{"$f":"'A9-Asset'!D37","v":0},{"$f":"'A9-Asset'!E37","v":0},{"$f":"'A9-Asset'!F37","v":28181271},{"$f":"'A9-Asset'!G37","v":12935056},{"$f":"'A9-Asset'!H37","v":12935056},null,{"$f":"'A9-Asset'!I37","v":20377854},{"$f":"'A9-Asset'!J37","v":10590882},{"$f":"'A9-Asset'!K37","v":7598902}]
[]
["Supporting benchmarks"]
["Growth guideline maximum",null,null,0.06,0.06,0.06,0.06,0.06,0.06,0.06,0.06,0.06,0.06]
["CPI guideline",null,null,4.2999999999999997E-2,3.9E-2,4.5999999999999999E-2,0.05,0.05,0.05,0.05,5.3999999999999999E-2,5.6000000000000001E-2,5.3999999999999999E-2]
["DoRA operating grants total MFY"]
["DoRA capital grants total MFY"]
["Provincial operating grants"]
["Provincial capital grants"]
["District Municipality grants"]
["Total gazetted/advised national, provincial and district grants",null,null,null,null,null,null,null,null,null,{"$f":"SUM(K63:K67)","v":0},{"$f":"SUM(L63:L67)","v":0},{"$f":"SUM(M63:M67)","v":0}]
["Average annual collection rate (arrears inclusive)"]
[]
["DoRA operating"]
[]
[null,null,null,null,null,null,null,null,null,null,{"$f":"SUM(K72:K72)","v":0},{"$f":"SUM(L72:L72)","v":0},{"$f":"SUM(M72:M72)","v":0}]
[]
[]
[null,null,null,null,null,null,null,null,null,null,{"$f":"SUM(K74:K75)","v":0},{"$f":"SUM(L74:L75)","v":0},{"$f":"SUM(M74:M75)","v":0}]
["Trend"]
[{"$f":"A55","v":"Change in consumer debtors (current and non-current)"},null,null,{"$f":"TREND(E78:G78)","v":81978927.620000064},{"$f":"E55","v":96774269.379999995},{"$f":"F55","v":15123731.150000095},{"$f":"J55","v":22245243.4799999},-86025249.636950135,158765866,-52054692,0,0,0]
[]
["Total Operating Revenue",null,null,{"$f":"'A1-Sum'!B10","v":1079594795},{"$f":"'A1-Sum'!C10","v":1084540106.05},{"$f":"'A1-Sum'!D10","v":1142947148.76},{"$f":"'A1-Sum'!E10","v":1499911434},{"$f":"'A1-Sum'!F10","v":1622639202},{"$f":"'A1-Sum'!G10","v":1622639202},{"$f":"'A1-Sum'!H10","v":1113578522.98},{"$f":"'A1-Sum'!I10","v":1748807507},{"$f":"'A1-Sum'!J10","v":1791560013},{"$f":"'A1-Sum'!K10","v":1868342301}]
["Total Operating Expenditure",null,null,{"$f":"'A1-Sum'!B18","v":1388244247},{"$f":"'A1-Sum'!C18","v":1570323840.04},{"$f":"'A1-Sum'!D18","v":1682332765.9000001},{"$f":"'A1-Sum'!E18","v":1433243728},{"$f":"'A1-Sum'!F18","v":1659566422},{"$f":"'A1-Sum'!G18","v":1659566422},{"$f":"'A1-Sum'!H18","v":912414209.5999999},{"$f":"'A1-Sum'!I18","v":1706401243},{"$f":"'A1-Sum'!J18","v":1792504819},{"$f":"'A1-Sum'!K18","v":1864007261}]
["Operating Performance Surplus/(Deficit)",null,null,{"$f":"D80-D81","v":-308649452},{"$f":"E80-E81","v":-485783733.99000001},-539385617.1400001,66667706,-36927220,-36927220,201164313.38000011,{"$f":"K80-K81","v":42406264},-944806,4335040]
["Cash and Cash Equivalents (30 June 2012)",null,null,null,null,null,null,null,null,null,{"$f":"'A7-CFlow'!J40","v":246774361.99999976}]
["Revenue"]
["% Increase in Total Operating Revenue",null,null,null,{"$f":"IF(ISERROR(('A1-Sum'!C10-'A1-Sum'!B10)/'A1-Sum'!B10),0,(('A1-Sum'!C10-'A1-Sum'!B10)/'A1-Sum'!B10))","v":4.5807103488304168E-3},{"$f":"IF(ISERROR(('A1-Sum'!D10-'A1-Sum'!C10)/'A1-Sum'!C10),0,(('A1-Sum'!D10-'A1-Sum'!C10)/'A1-Sum'!C10))","v":5.3854202702308666E-2},{"$f":"IF(ISERROR(('A1-Sum'!E10-'A1-Sum'!D10)/'A1-Sum'!D10),0,(('A1-Sum'!E10-'A1-Sum'!D10)/'A1-Sum'!D10))","v":0.31231915283858552},{"$f":"IF(ISERROR(('A1-Sum'!F10-'A1-Sum'!E10)/'A1-Sum'!E10),0,(('A1-Sum'!F10-'A1-Sum'!E10)/'A1-Sum'!E10))","v":8.182334317747457E-2},{"$f":"IF(ISERROR(('A1-Sum'!G10-'A1-Sum'!F10)/'A1-Sum'!F10),0,(('A1-Sum'!G10-'A1-Sum'!F10)/'A1-Sum'!F10))","v":0},{"$f":"IF(ISERROR(('A1-Sum'!H10-'A1-Sum'!G10)/'A1-Sum'!G10),0,(('A1-Sum'!H10-'A1-Sum'!G10)/'A1-Sum'!G10))","v":-0.31372388784429234},{"$f":"IF(ISERROR(('A1-Sum'!I10-'A1-Sum'!F10)/'A1-Sum'!F10),0,(('A1-Sum'!I10-'A1-Sum'!F10)/'A1-Sum'!F10))","v":7.7754996208947755E-2},{"$f":"IF(ISERROR(('A1-Sum'!J10-'A1-Sum'!I10)/'A1-Sum'!I10),0,(('A1-Sum'!J10-'A1-Sum'!I10)/'A1-Sum'!I10))","v":2.4446661984737238E-2},{"$f":"IF(ISERROR(('A1-Sum'!K10-'A1-Sum'!J10)/'A1-Sum'!J10),0,(('A1-Sum'!K10-'A1-Sum'!J10)/'A1-Sum'!J10))","v":4.2857781733711867E-2}]
["% Increase in Property Rates Revenue",null,null,null,{"$f":"IF(ISERROR(('A4-FinPerf RE'!D5-'A4-FinPerf RE'!C5)/'A4-FinPerf RE'!C5),0,(('A4-FinPerf RE'!D5-'A4-FinPerf RE'!C5)/'A4-FinPerf RE'!C5))","v":0},{"$f":"IF(ISERROR(('A4-FinPerf RE'!E5-'A4-FinPerf RE'!D5)/'A4-FinPerf RE'!D5),0,(('A4-FinPerf RE'!E5-'A4-FinPerf RE'!D5)/'A4-FinPerf RE'!D5))","v":0},{"$f":"IF(ISERROR(('A4-FinPerf RE'!F5-'A4-FinPerf RE'!E5)/'A4-FinPerf RE'!E5),0,(('A4-FinPerf RE'!F5-'A4-FinPerf RE'!E5)/'A4-FinPerf RE'!E5))","v":0},{"$f":"IF(ISERROR(('A4-FinPerf RE'!G5-'A4-FinPerf RE'!F5)/'A4-FinPerf RE'!F5),0,(('A4-FinPerf RE'!G5-'A4-FinPerf RE'!F5)/'A4-FinPerf RE'!F5))","v":0},{"$f":"IF(ISERROR(('A4-FinPerf RE'!H5-'A4-FinPerf RE'!G5)/'A4-FinPerf RE'!G5),0,(('A4-FinPerf RE'!H5-'A4-FinPerf RE'!G5)/'A4-FinPerf RE'!G5))","v":0},{"$f":"IF(ISERROR(('A4-FinPerf RE'!I5-'A4-FinPerf RE'!H5)/'A4-FinPerf RE'!H5),0,(('A4-FinPerf RE'!I5-'A4-FinPerf RE'!H5)/'A4-FinPerf RE'!H5))","v":0},{"$f":"IF(ISERROR(('A4-FinPerf RE'!J5-'A4-FinPerf RE'!G5)/'A4-FinPerf RE'!G5),0,(('A4-FinPerf RE'!J5-'A4-FinPerf RE'!G5)/'A4-FinPerf RE'!G5))","v":0},{"$f":"IF(ISERROR(('A4-FinPerf RE'!K5-'A4-FinPerf RE'!J5)/'A4-FinPerf RE'!J5),0,(('A4-FinPerf RE'!K5-'A4-FinPerf RE'!J5)/'A4-FinPerf RE'!J5))","v":0},{"$f":"IF(ISERROR(('A4-FinPerf RE'!L5-'A4-FinPerf RE'!K5)/'A4-FinPerf RE'!K5),0,(('A4-FinPerf RE'!L5-'A4-FinPerf RE'!K5)/'A4-FinPerf RE'!K5))","v":0}]
["% Increase in Electricity Revenue",null,null,null,{"$f":"IF(ISERROR(('A4-FinPerf RE'!D6-'A4-FinPerf RE'!C6)/'A4-FinPerf RE'!C6),0,(('A4-FinPerf RE'!D6-'A4-FinPerf RE'!C6)/'A4-FinPerf RE'!C6))","v":0},{"$f":"IF(ISERROR(('A4-FinPerf RE'!E6-'A4-FinPerf RE'!D6)/'A4-FinPerf RE'!D6),0,(('A4-FinPerf RE'!E6-'A4-FinPerf RE'!D6)/'A4-FinPerf RE'!D6))","v":0},{"$f":"IF(ISERROR(('A4-FinPerf RE'!F6-'A4-FinPerf RE'!E6)/'A4-FinPerf RE'!E6),0,(('A4-FinPerf RE'!F6-'A4-FinPerf RE'!E6)/'A4-FinPerf RE'!E6))","v":0},{"$f":"IF(ISERROR(('A4-FinPerf RE'!G6-'A4-FinPerf RE'!F6)/'A4-FinPerf RE'!F6),0,(('A4-FinPerf RE'!G6-'A4-FinPerf RE'!F6)/'A4-FinPerf RE'!F6))","v":0},{"$f":"IF(ISERROR(('A4-FinPerf RE'!H6-'A4-FinPerf RE'!G6)/'A4-FinPerf RE'!G6),0,(('A4-FinPerf RE'!H6-'A4-FinPerf RE'!G6)/'A4-FinPerf RE'!G6))","v":0},{"$f":"IF(ISERROR(('A4-FinPerf RE'!I6-'A4-FinPerf RE'!H6)/'A4-FinPerf RE'!H6),0,(('A4-FinPerf RE'!I6-'A4-FinPerf RE'!H6)/'A4-FinPerf RE'!H6))","v":0},{"$f":"IF(ISERROR(('A4-FinPerf RE'!J6-'A4-FinPerf RE'!G6)/'A4-FinPerf RE'!G6),0,(('A4-FinPerf RE'!J6-'A4-FinPerf RE'!G6)/'A4-FinPerf RE'!G6))","v":0},{"$f":"IF(ISERROR(('A4-FinPerf RE'!K6-'A4-FinPerf RE'!J6)/'A4-FinPerf RE'!J6),0,(('A4-FinPerf RE'!K6-'A4-FinPerf RE'!J6)/'A4-FinPerf RE'!J6))","v":0},{"$f":"IF(ISERROR(('A4-FinPerf RE'!L6-'A4-FinPerf RE'!K6)/'A4-FinPerf RE'!K6),0,(('A4-FinPerf RE'!L6-'A4-FinPerf RE'!K6)/'A4-FinPerf RE'!K6))","v":0}]
["% Increase in Property Rates & Services Charges",null,null,null,{"$f":"IF(ISERROR((('A1-Sum'!C5+'A1-Sum'!C6)-('A1-Sum'!B5+'A1-Sum'!B6))/('A1-Sum'!B5+'A1-Sum'!B6)),0,((('A1-Sum'!C5+'A1-Sum'!C6)-('A1-Sum'!B5+'A1-Sum'!B6))/('A1-Sum'!B5+'A1-Sum'!B6)))","v":0.11336800213729316},{"$f":"IF(ISERROR((('A1-Sum'!D5+'A1-Sum'!D6)-('A1-Sum'!C5+'A1-Sum'!C6))/('A1-Sum'!C5+'A1-Sum'!C6)),0,((('A1-Sum'!D5+'A1-Sum'!D6)-('A1-Sum'!C5+'A1-Sum'!C6))/('A1-Sum'!C5+'A1-Sum'!C6)))","v":7.1143634621759932E-2},{"$f":"IF(ISERROR((('A1-Sum'!E5+'A1-Sum'!E6)-('A1-Sum'!D5+'A1-Sum'!D6))/('A1-Sum'!D5+'A1-Sum'!D6)),0,((('A1-Sum'!E5+'A1-Sum'!E6)-('A1-Sum'!D5+'A1-Sum'!D6))/('A1-Sum'!D5+'A1-Sum'!D6)))","v":0.2465925651317421},{"$f":"IF(ISERROR((('A1-Sum'!F5+'A1-Sum'!F6)-('A1-Sum'!E5+'A1-Sum'!E6))/('A1-Sum'!E5+'A1-Sum'!E6)),0,((('A1-Sum'!F5+'A1-Sum'!F6)-('A1-Sum'!E5+'A1-Sum'!E6))/('A1-Sum'!E5+'A1-Sum'!E6)))","v":0.10895229173632838},{"$f":"IF(ISERROR((('A1-Sum'!G5+'A1-Sum'!G6)-('A1-Sum'!F5+'A1-Sum'!F6))/('A1-Sum'!F5+'A1-Sum'!F6)),0,((('A1-Sum'!G5+'A1-Sum'!G6)-('A1-Sum'!F5+'A1-Sum'!F6))/('A1-Sum'!F5+'A1-Sum'!F6)))","v":0},{"$f":"IF(ISERROR((('A1-Sum'!H5+'A1-Sum'!H6)-('A1-Sum'!G5+'A1-Sum'!G6))/('A1-Sum'!G5+'A1-Sum'!G6)),0,((('A1-Sum'!H5+'A1-Sum'!H6)-('A1-Sum'!G5+'A1-Sum'!G6))/('A1-Sum'!G5+'A1-Sum'!G6)))","v":-0.33897433237935648},{"$f":"IF(ISERROR((('A1-Sum'!I5+'A1-Sum'!I6)-('A1-Sum'!F5+'A1-Sum'!F6))/('A1-Sum'!F5+'A1-Sum'!F6)),0,((('A1-Sum'!I5+'A1-Sum'!I6)-('A1-Sum'!F5+'A1-Sum'!F6))/('A1-Sum'!F5+'A1-Sum'!F6)))","v":7.7215388381428274E-2},{"$f":"IF(ISERROR((('A1-Sum'!J5+'A1-Sum'!J6)-('A1-Sum'!I5+'A1-Sum'!I6))/('A1-Sum'!I5+'A1-Sum'!I6)),0,((('A1-Sum'!J5+'A1-Sum'!J6)-('A1-Sum'!I5+'A1-Sum'!I6))/('A1-Sum'!I5+'A1-Sum'!I6)))","v":2.946203982782909E-3},{"$f":"IF(ISERROR((('A1-Sum'!K5+'A1-Sum'!K6)-('A1-Sum'!J5+'A1-Sum'!J6))/('A1-Sum'!J5+'A1-Sum'!J6)),0,((('A1-Sum'!K5+'A1-Sum'!K6)-('A1-Sum'!J5+'A1-Sum'!J6))/('A1-Sum'!J5+'A1-Sum'!J6)))","v":6.0005428891170477E-2}]
["Expenditure"]
["% Increase in Total Operating Expenditure",null,null,null,{"$f":"IF(ISERROR(('A1-Sum'!C18-'A1-Sum'!B18)/'A1-Sum'!B18),0,(('A1-Sum'!C18-'A1-Sum'!B18)/'A1-Sum'!B18))","v":0.13115818303117374},{"$f":"IF(ISERROR(('A1-Sum'!D18-'A1-Sum'!C18)/'A1-Sum'!C18),0,(('A1-Sum'!D18-'A1-Sum'!C18)/'A1-Sum'!C18))","v":7.1328552113904736E-2},{"$f":"IF(ISERROR(('A1-Sum'!E18-'A1-Sum'!D18)/'A1-Sum'!D18),0,(('A1-Sum'!E18-'A1-Sum'!D18)/'A1-Sum'!D18))","v":-0.14806169323269677},{"$f":"IF(ISERROR(('A1-Sum'!F18-'A1-Sum'!E18)/'A1-Sum'!E18),0,(('A1-Sum'!F18-'A1-Sum'!E18)/'A1-Sum'!E18))","v":0.15790942571632172},{"$f":"IF(ISERROR(('A1-Sum'!G18-'A1-Sum'!F18)/'A1-Sum'!F18),0,(('A1-Sum'!G18-'A1-Sum'!F18)/'A1-Sum'!F18))","v":0},{"$f":"IF(ISERROR(('A1-Sum'!H18-'A1-Sum'!G18)/'A1-Sum'!G18),0,(('A1-Sum'!H18-'A1-Sum'!G18)/'A1-Sum'!G18))","v":-0.45020928508518598},{"$f":"IF(ISERROR(('A1-Sum'!I18-'A1-Sum'!F18)/'A1-Sum'!F18),0,(('A1-Sum'!I18-'A1-Sum'!F18)/'A1-Sum'!F18))","v":2.8221118708558687E-2},{"$f":"IF(ISERROR(('A1-Sum'!J18-'A1-Sum'!I18)/'A1-Sum'!I18),0,(('A1-Sum'!J18-'A1-Sum'!I18)/'A1-Sum'!I18))","v":5.0459161556060825E-2},{"$f":"IF(ISERROR(('A1-Sum'!K18-'A1-Sum'!J18)/'A1-Sum'!J18),0,(('A1-Sum'!K18-'A1-Sum'!J18)/'A1-Sum'!J18))","v":3.9889679091568458E-2}]
["% Increase in Employee Costs",null,null,null,{"$f":"IF(ISERROR(('A1-Sum'!C11-'A1-Sum'!B11)/'A1-Sum'!B11),0,(('A1-Sum'!C11-'A1-Sum'!B11)/'A1-Sum'!B11))","v":0.25056518354981389},{"$f":"IF(ISERROR(('A1-Sum'!D11-'A1-Sum'!C11)/'A1-Sum'!C11),0,(('A1-Sum'!D11-'A1-Sum'!C11)/'A1-Sum'!C11))","v":6.3988421054012659E-2},{"$f":"IF(ISERROR(('A1-Sum'!E11-'A1-Sum'!D11)/'A1-Sum'!D11),0,(('A1-Sum'!E11-'A1-Sum'!D11)/'A1-Sum'!D11))","v":-1.4919142676007708E-3},{"$f":"IF(ISERROR(('A1-Sum'!F11-'A1-Sum'!E11)/'A1-Sum'!E11),0,(('A1-Sum'!F11-'A1-Sum'!E11)/'A1-Sum'!E11))","v":7.7896403708324083E-2},{"$f":"IF(ISERROR(('A1-Sum'!G11-'A1-Sum'!F11)/'A1-Sum'!F11),0,(('A1-Sum'!G11-'A1-Sum'!F11)/'A1-Sum'!F11))","v":0},{"$f":"IF(ISERROR(('A1-Sum'!H11-'A1-Sum'!G11)/'A1-Sum'!G11),0,(('A1-Sum'!H11-'A1-Sum'!G11)/'A1-Sum'!G11))","v":-0.16698759227719531},{"$f":"IF(ISERROR(('A1-Sum'!I11-'A1-Sum'!F11)/'A1-Sum'!F11),0,(('A1-Sum'!I11-'A1-Sum'!F11)/'A1-Sum'!F11))","v":8.8487214436960115E-2},{"$f":"IF(ISERROR(('A1-Sum'!J11-'A1-Sum'!I11)/'A1-Sum'!I11),0,(('A1-Sum'!J11-'A1-Sum'!I11)/'A1-Sum'!I11))","v":5.9532633969994517E-2},{"$f":"IF(ISERROR(('A1-Sum'!K11-'A1-Sum'!J11)/'A1-Sum'!J11),0,(('A1-Sum'!K11-'A1-Sum'!J11)/'A1-Sum'!J11))","v":6.2324844319676151E-2}]
["% Increase in Electricity Bulk Purchases",null,null,null,{"$f":"IF(ISERROR(('SA1'!D86-'SA1'!C86)/'SA1'!C86),0,(('SA1'!D86-'SA1'!C86)/'SA1'!C86))","v":0},{"$f":"IF(ISERROR(('SA1'!E86-'SA1'!D86)/'SA1'!D86),0,(('SA1'!E86-'SA1'!D86)/'SA1'!D86))","v":0},{"$f":"IF(ISERROR(('SA1'!F86-'SA1'!E86)/'SA1'!E86),0,(('SA1'!F86-'SA1'!E86)/'SA1'!E86))","v":0},{"$f":"IF(ISERROR(('SA1'!G86-'SA1'!F86)/'SA1'!F86),0,(('SA1'!G86-'SA1'!F86)/'SA1'!F86))","v":0},{"$f":"IF(ISERROR(('SA1'!H86-'SA1'!G86)/'SA1'!G86),0,(('SA1'!H86-'SA1'!G86)/'SA1'!G86))","v":0},{"$f":"IF(ISERROR(('SA1'!I86-'SA1'!H86)/'SA1'!H86),0,(('SA1'!I86-'SA1'!H86)/'SA1'!H86))","v":0},{"$f":"IF(ISERROR(('SA1'!J86-'SA1'!G86)/'SA1'!G86),0,(('SA1'!J86-'SA1'!G86)/'SA1'!G86))","v":0},{"$f":"IF(ISERROR(('SA1'!K86-'SA1'!J86)/'SA1'!J86),0,(('SA1'!K86-'SA1'!J86)/'SA1'!J86))","v":0},{"$f":"IF(ISERROR(('SA1'!L86-'SA1'!K86)/'SA1'!K86),0,(('SA1'!L86-'SA1'!K86)/'SA1'!K86))","v":0}]
["Average Cost Per Budgeted Employee Position (Remuneration)",null,null,null,null,{"$f":"IF(ISERROR('A1-Sum'!D11/('SA24'!D36+'SA24'!E36-'SA24'!C5)),0,('A1-Sum'!D11/('SA24'!D36+'SA24'!E36-'SA24'!C5)))","v":369088.44806738722},{"$f":"IF(ISERROR('A1-Sum'!E11/('SA24'!F36-'SA24'!F5)),0,('A1-Sum'!E11/('SA24'!F36-'SA24'!F5)))","v":352836.2501521607},null,null,null,{"$f":"IF(ISERROR('A1-Sum'!I11/('SA24'!I36-'SA24'!I5)),0,('A1-Sum'!I11/('SA24'!I36-'SA24'!I5)))","v":388662.88285714283}]
["Average Cost Per Councillor (Remuneration)",null,null,null,null,{"$f":"IF(ISERROR('A1-Sum'!D12/'SA24'!C5),0,('A1-Sum'!D12/'SA24'!C5))","v":334005.84507042251},{"$f":"IF(ISERROR('A1-Sum'!E12/'SA24'!F5),0,('A1-Sum'!E12/'SA24'!F5))","v":319142.22535211267},null,null,null,{"$f":"IF(ISERROR('A1-Sum'!I12/'SA24'!I5),0,('A1-Sum'!I12/'SA24'!I5))","v":339088.64788732392}]
["R&M % of PPE",null,null,{"$f":"'A9-Asset'!C205","v":1.6E-2},{"$f":"'A9-Asset'!D205","v":2.5999999999999999E-2},{"$f":"'A9-Asset'!E205","v":2.1999999999999999E-2},{"$f":"'A9-Asset'!F205","v":8.9999999999999993E-3},{"$f":"'A9-Asset'!G205","v":8.9999999999999993E-3},{"$f":"'A9-Asset'!H205","v":8.9999999999999993E-3},null,{"$f":"'A9-Asset'!I205","v":1.0999999999999999E-2},{"$f":"'A9-Asset'!J205","v":0.01},{"$f":"'A9-Asset'!K205","v":8.9999999999999993E-3}]
["Asset Renewal and R&M as a % of PPE",null,null,{"$f":"'A9-Asset'!C206","v":0.11},{"$f":"'A9-Asset'!D206","v":0.05},{"$f":"'A9-Asset'!E206","v":0.03},{"$f":"'A9-Asset'!F206","v":0.1},{"$f":"'A9-Asset'!G206","v":0.01},{"$f":"'A9-Asset'!H206","v":0.01},null,{"$f":"'A9-Asset'!I206","v":0.01},{"$f":"'A9-Asset'!J206","v":0.01},{"$f":"'A9-Asset'!K206","v":0.01}]
["Debt Impairment % of Total Billable Revenue",null,null,{"$f":"'SA10'!D11","v":0.71095806886823565},{"$f":"'SA10'!E11","v":0.40668958058156035},{"$f":"'SA10'!F11","v":0.35110626650781224},{"$f":"'SA10'!G11","v":0.30053093134747627},{"$f":"'SA10'!H11","v":0.27100438277369326},{"$f":"'SA10'!I11","v":0.27100438277369326},{"$f":"'SA10'!J11","v":0},{"$f":"'SA10'!K11","v":0.43678003581081282},{"$f":"'SA10'!L11","v":0.4668875289467162},{"$f":"'SA10'!M11","v":0.46071872908195438}]
["Capital Revenue"]
["Internally Funded & Other (R'000)",null,null,{"$f":"'A1-Sum'!B29+'A1-Sum'!B31","v":1123184},{"$f":"'A1-Sum'!C29+'A1-Sum'!C31","v":47515915},{"$f":"'A1-Sum'!D29+'A1-Sum'!D31","v":12641367},{"$f":"'A1-Sum'!E29+'A1-Sum'!E31","v":140322533},{"$f":"'A1-Sum'!F29+'A1-Sum'!F31","v":132243639},{"$f":"'A1-Sum'!G29+'A1-Sum'!G31","v":132243639},{"$f":"'A1-Sum'!H29+'A1-Sum'!H31","v":51902247.859999999},{"$f":"'A1-Sum'!I29+'A1-Sum'!I31","v":124392053},{"$f":"'A1-Sum'!J29+'A1-Sum'!J31","v":89361832},{"$f":"'A1-Sum'!K29+'A1-Sum'!K31","v":65359635}]
["Borrowing (R'000)",null,null,{"$f":"'A1-Sum'!B30","v":0},{"$f":"'A1-Sum'!C30","v":0},{"$f":"'A1-Sum'!D30","v":0},{"$f":"'A1-Sum'!E30","v":0},{"$f":"'A1-Sum'!F30","v":0},{"$f":"'A1-Sum'!G30","v":0},{"$f":"'A1-Sum'!H30","v":0},{"$f":"'A1-Sum'!I30","v":0},{"$f":"'A1-Sum'!J30","v":0},{"$f":"'A1-Sum'!K30","v":0}]
["Grant Funding and Other (R'000)",null,null,{"$f":"'A1-Sum'!B28","v":809271875},{"$f":"'A1-Sum'!C28","v":731779794},{"$f":"'A1-Sum'!D28","v":862537145},{"$f":"'A1-Sum'!E28","v":982905001},{"$f":"'A1-Sum'!F28","v":1219465772},{"$f":"'A1-Sum'!G28","v":1219465772},{"$f":"'A1-Sum'!H28","v":471255319.93000001},{"$f":"'A1-Sum'!I28","v":920415000},{"$f":"'A1-Sum'!J28","v":889298000},{"$f":"'A1-Sum'!K28","v":995289800}]
["Internally Generated funds % of Non Grant Funding",null,null,{"$f":"IF(ISERROR(('A1-Sum'!B29+'A1-Sum'!B31)/('A1-Sum'!B32-'A1-Sum'!B28)),0,(('A1-Sum'!B29+'A1-Sum'!B31)/('A1-Sum'!B32-'A1-Sum'!B28)))","v":1},{"$f":"IF(ISERROR(('A1-Sum'!C29+'A1-Sum'!C31)/('A1-Sum'!C32-'A1-Sum'!C28)),0,(('A1-Sum'!C29+'A1-Sum'!C31)/('A1-Sum'!C32-'A1-Sum'!C28)))","v":1},{"$f":"IF(ISERROR(('A1-Sum'!D29+'A1-Sum'!D31)/('A1-Sum'!D32-'A1-Sum'!D28)),0,(('A1-Sum'!D29+'A1-Sum'!D31)/('A1-Sum'!D32-'A1-Sum'!D28)))","v":1},{"$f":"IF(ISERROR(('A1-Sum'!E29+'A1-Sum'!E31)/('A1-Sum'!E32-'A1-Sum'!E28)),0,(('A1-Sum'!E29+'A1-Sum'!E31)/('A1-Sum'!E32-'A1-Sum'!E28)))","v":1},{"$f":"IF(ISERROR(('A1-Sum'!F29+'A1-Sum'!F31)/('A1-Sum'!F32-'A1-Sum'!F28)),0,(('A1-Sum'!F29+'A1-Sum'!F31)/('A1-Sum'!F32-'A1-Sum'!F28)))","v":1},{"$f":"IF(ISERROR(('A1-Sum'!G29+'A1-Sum'!G31)/('A1-Sum'!G32-'A1-Sum'!G28)),0,(('A1-Sum'!G29+'A1-Sum'!G31)/('A1-Sum'!G32-'A1-Sum'!G28)))","v":1},{"$f":"IF(ISERROR(('A1-Sum'!H29+'A1-Sum'!H31)/('A1-Sum'!H32-'A1-Sum'!H28)),0,(('A1-Sum'!H29+'A1-Sum'!H31)/('A1-Sum'!H32-'A1-Sum'!H28)))","v":0.99999999999999967},{"$f":"IF(ISERROR(('A1-Sum'!I29+'A1-Sum'!I31)/('A1-Sum'!I32-'A1-Sum'!I28)),0,(('A1-Sum'!I29+'A1-Sum'!I31)/('A1-Sum'!I32-'A1-Sum'!I28)))","v":1},{"$f":"IF(ISERROR(('A1-Sum'!J29+'A1-Sum'!J31)/('A1-Sum'!J32-'A1-Sum'!J28)),0,(('A1-Sum'!J29+'A1-Sum'!J31)/('A1-Sum'!J32-'A1-Sum'!J28)))","v":1},{"$f":"IF(ISERROR(('A1-Sum'!K29+'A1-Sum'!K31)/('A1-Sum'!K32-'A1-Sum'!K28)),0,(('A1-Sum'!K29+'A1-Sum'!K31)/('A1-Sum'!K32-'A1-Sum'!K28)))","v":1}]
["Borrowing % of Non Grant Funding",null,null,{"$f":"IF(ISERROR('A1-Sum'!B30/('A1-Sum'!B32-'A1-Sum'!B28)),0,('A1-Sum'!B30/('A1-Sum'!B32-'A1-Sum'!B28)))","v":0},{"$f":"IF(ISERROR('A1-Sum'!C30/('A1-Sum'!C32-'A1-Sum'!C28)),0,('A1-Sum'!C30/('A1-Sum'!C32-'A1-Sum'!C28)))","v":0},{"$f":"IF(ISERROR('A1-Sum'!D30/('A1-Sum'!D32-'A1-Sum'!D28)),0,('A1-Sum'!D30/('A1-Sum'!D32-'A1-Sum'!D28)))","v":0},{"$f":"IF(ISERROR('A1-Sum'!E30/('A1-Sum'!E32-'A1-Sum'!E28)),0,('A1-Sum'!E30/('A1-Sum'!E32-'A1-Sum'!E28)))","v":0},{"$f":"IF(ISERROR('A1-Sum'!F30/('A1-Sum'!F32-'A1-Sum'!F28)),0,('A1-Sum'!F30/('A1-Sum'!F32-'A1-Sum'!F28)))","v":0},{"$f":"IF(ISERROR('A1-Sum'!G30/('A1-Sum'!G32-'A1-Sum'!G28)),0,('A1-Sum'!G30/('A1-Sum'!G32-'A1-Sum'!G28)))","v":0},{"$f":"IF(ISERROR('A1-Sum'!H30/('A1-Sum'!H32-'A1-Sum'!H28)),0,('A1-Sum'!H30/('A1-Sum'!H32-'A1-Sum'!H28)))","v":0},{"$f":"IF(ISERROR('A1-Sum'!I30/('A1-Sum'!I32-'A1-Sum'!I28)),0,('A1-Sum'!I30/('A1-Sum'!I32-'A1-Sum'!I28)))","v":0},{"$f":"IF(ISERROR('A1-Sum'!J30/('A1-Sum'!J32-'A1-Sum'!J28)),0,('A1-Sum'!J30/('A1-Sum'!J32-'A1-Sum'!J28)))","v":0},{"$f":"IF(ISERROR('A1-Sum'!K30/('A1-Sum'!K32-'A1-Sum'!K28)),0,('A1-Sum'!K30/('A1-Sum'!K32-'A1-Sum'!K28)))","v":0}]
["Grant Funding % of Total Funding",null,null,{"$f":"IF(ISERROR('A1-Sum'!B28/'A1-Sum'!B32),0,('A1-Sum'!B28/'A1-Sum'!B32))","v":0.99861402906208985},{"$f":"IF(ISERROR('A1-Sum'!C28/'A1-Sum'!C32),0,('A1-Sum'!C28/'A1-Sum'!C32))","v":0.93902710556308222},{"$f":"IF(ISERROR('A1-Sum'!D28/'A1-Sum'!D32),0,('A1-Sum'!D28/'A1-Sum'!D32))","v":0.98555567026993007},{"$f":"IF(ISERROR('A1-Sum'!E28/'A1-Sum'!E32),0,('A1-Sum'!E28/'A1-Sum'!E32))","v":0.8750720323777248},{"$f":"IF(ISERROR('A1-Sum'!F28/'A1-Sum'!F32),0,('A1-Sum'!F28/'A1-Sum'!F32))","v":0.90216562973977843},{"$f":"IF(ISERROR('A1-Sum'!G28/'A1-Sum'!G32),0,('A1-Sum'!G28/'A1-Sum'!G32))","v":0.90216562973977843},{"$f":"IF(ISERROR('A1-Sum'!H28/'A1-Sum'!H32),0,('A1-Sum'!H28/'A1-Sum'!H32))","v":0.90079040989648074},{"$f":"IF(ISERROR('A1-Sum'!I28/'A1-Sum'!I32),0,('A1-Sum'!I28/'A1-Sum'!I32))","v":0.88094256002308968},{"$f":"IF(ISERROR('A1-Sum'!J28/'A1-Sum'!J32),0,('A1-Sum'!J28/'A1-Sum'!J32))","v":0.90868958847797077},{"$f":"IF(ISERROR('A1-Sum'!K28/'A1-Sum'!K32),0,('A1-Sum'!K28/'A1-Sum'!K32))","v":0.93837772138161746}]
["Capital Expenditure"]
["Total Capital Programme (R'000)",null,null,{"$f":"'A1-Sum'!B27","v":810395059},{"$f":"'A1-Sum'!C27","v":779295709},{"$f":"'A1-Sum'!D27","v":875178512},{"$f":"'A1-Sum'!E27","v":1123227534},{"$f":"'A1-Sum'!F27","v":1351709411},{"$f":"'A1-Sum'!G27","v":1351709411},{"$f":"'A1-Sum'!H27","v":523157567.78999996},{"$f":"'A1-Sum'!I27","v":1044807053},{"$f":"'A1-Sum'!J27","v":978659832},{"$f":"'A1-Sum'!K27","v":1060649435}]
["Asset Renewal",null,null,{"$f":"'A1-Sum'!B55","v":0},{"$f":"'A1-Sum'!C55","v":0},{"$f":"'A1-Sum'!D55","v":0},{"$f":"'A1-Sum'!E55","v":28181271},{"$f":"'A1-Sum'!F55","v":12935056},{"$f":"'A1-Sum'!G55","v":12935056},{"$f":"'A1-Sum'!H55","v":12935056},{"$f":"'A1-Sum'!I55","v":20377854},{"$f":"'A1-Sum'!J55","v":10590882},{"$f":"'A1-Sum'!K55","v":7598902}]
["Asset Renewal % of Total Capital Expenditure",null,null,{"$f":"IF(ISERROR('A1-Sum'!B55/'A1-Sum'!B32),0,('A1-Sum'!B55/'A1-Sum'!B32))","v":0},{"$f":"IF(ISERROR('A1-Sum'!C55/'A1-Sum'!C32),0,('A1-Sum'!C55/'A1-Sum'!C32))","v":0},{"$f":"IF(ISERROR('A1-Sum'!D55/'A1-Sum'!D32),0,('A1-Sum'!D55/'A1-Sum'!D32))","v":0},{"$f":"IF(ISERROR('A1-Sum'!E55/'A1-Sum'!E32),0,('A1-Sum'!E55/'A1-Sum'!E32))","v":2.5089547884961302E-2},{"$f":"IF(ISERROR('A1-Sum'!F55/'A1-Sum'!F32),0,('A1-Sum'!F55/'A1-Sum'!F32))","v":9.5694058905978867E-3},{"$f":"IF(ISERROR('A1-Sum'!G55/'A1-Sum'!G32),0,('A1-Sum'!G55/'A1-Sum'!G32))","v":9.5694058905978867E-3},{"$f":"IF(ISERROR('A1-Sum'!H55/'A1-Sum'!H32),0,('A1-Sum'!H55/'A1-Sum'!H32))","v":2.4724971588659581E-2},{"$f":"IF(ISERROR('A1-Sum'!I55/'A1-Sum'!I32),0,('A1-Sum'!I55/'A1-Sum'!I32))","v":1.9503939929854205E-2},{"$f":"IF(ISERROR('A1-Sum'!J55/'A1-Sum'!J32),0,('A1-Sum'!J55/'A1-Sum'!J32))","v":1.0821821488633449E-2},{"$f":"IF(ISERROR('A1-Sum'!K55/'A1-Sum'!K32),0,('A1-Sum'!K55/'A1-Sum'!K32))","v":7.1643860348636302E-3}]
["Cash"]
["Cash Receipts % of Rate Payer & Other",null,null,{"$f":"'SA10'!D10","v":0.64848054293992796},{"$f":"'SA10'!E10","v":0.83229868054478295},{"$f":"'SA10'!F10","v":0.46531437340037862},{"$f":"'SA10'!G10","v":0.94460306824948093},{"$f":"'SA10'!H10","v":0.59162848755797659},{"$f":"'SA10'!I10","v":0.59162848755797659},{"$f":"'SA10'!J10","v":1.5085607041866049},{"$f":"'SA10'!K10","v":0.62984051271343244},{"$f":"'SA10'!L10","v":0.55057615005015337},{"$f":"'SA10'!M10","v":0.48413157729009415}]
["Cash Coverage Ratio",null,null,{"$f":"'SA10'!D7","v":3.7066027043038186},{"$f":"'SA10'!E7","v":2.3935062014852528},{"$f":"'SA10'!F7","v":2.8395667299359353},{"$f":"'SA10'!G7","v":2.5976301806759996},{"$f":"'SA10'!H7","v":2.6091682378255698},{"$f":"'SA10'!I7","v":2.6091682378255698},{"$f":"'SA10'!J7","v":3.3751340736743205},{"$f":"'SA10'!K7","v":2.2819025508589728},{"$f":"'SA10'!L7","v":2.2861039416766373},{"$f":"'SA10'!M7","v":2.2979109103282647}]
["Borrowing"]
[]
["Credit Rating (2009/10)",null,null,null,null,null,null,null,null,null,{"$f":"'SA8'!F6","v":0}]
["Capital Charges to Operating",null,null,{"$f":"'SA8'!C7","v":9.2131172361343133E-3},{"$f":"'SA8'!D7","v":3.0533394308513245E-2},{"$f":"'SA8'!E7","v":5.5610621094899998E-3},{"$f":"'SA8'!F7","v":0},{"$f":"'SA8'!G7","v":0},{"$f":"'SA8'!H7","v":0},{"$f":"'SA8'!I7","v":1.3411196221247454E-4},{"$f":"'SA8'!J7","v":0},{"$f":"'SA8'!K7","v":0},{"$f":"'SA8'!L7","v":0}]
["Borrowing Receipts % of Capital Expenditure",null,null,{"$f":"'SA10'!D13","v":0},{"$f":"'SA10'!E13","v":0},{"$f":"'SA10'!F13","v":0},{"$f":"'SA10'!G13","v":0},{"$f":"'SA10'!H13","v":0},{"$f":"'SA10'!I13","v":0},{"$f":"'SA10'!J13","v":0},{"$f":"'SA10'!K13","v":0},{"$f":"'SA10'!L13","v":0},{"$f":"'SA10'!M13","v":0}]
["Reserves"]
["Surplus/(Deficit)",null,null,{"$f":"'A8-ResRecon'!C19","v":-6383926},{"$f":"'A8-ResRecon'!D19","v":-45605234},{"$f":"'A8-ResRecon'!E19","v":-261682096},{"$f":"'A8-ResRecon'!F19","v":479420634.33986557},{"$f":"'A8-ResRecon'!G19","v":382568162.17488003},{"$f":"'A8-ResRecon'!H19","v":382568162.17488003},{"$f":"'A8-ResRecon'!I19","v":-96407016.705119967},{"$f":"'A8-ResRecon'!J19","v":372328437.66349995},{"$f":"'A8-ResRecon'!K19","v":199514323.70215306},{"$f":"'A8-ResRecon'!L19","v":206332703.32537225}]
["Free Services"]
["Free Basic Services as a % of Equitable Share",null,null,{"$f":"IF(ISERROR('A10-SerDel'!C60/'SA18'!C8),0,('A10-SerDel'!C60/'SA18'!C8))","v":0},{"$f":"IF(ISERROR('A10-SerDel'!D60/'SA18'!D8),0,('A10-SerDel'!D60/'SA18'!D8))","v":0},{"$f":"IF(ISERROR('A10-SerDel'!E60/'SA18'!E8),0,('A10-SerDel'!E60/'SA18'!E8))","v":0},{"$f":"IF(ISERROR('A10-SerDel'!F60/'SA18'!F8),0,('A10-SerDel'!F60/'SA18'!F8))","v":0.67499999999999982},{"$f":"IF(ISERROR('A10-SerDel'!G60/'SA18'!G8),0,('A10-SerDel'!G60/'SA18'!G8))","v":0.67499999921102727},{"$f":"IF(ISERROR('A10-SerDel'!H60/'SA18'!H8),0,('A10-SerDel'!H60/'SA18'!H8))","v":0.67499999921102727},null,{"$f":"IF(ISERROR('A10-SerDel'!I60/'SA18'!I8),0,('A10-SerDel'!I60/'SA18'!I8))","v":0.66610120792020533},{"$f":"IF(ISERROR('A10-SerDel'!J60/'SA18'!J8),0,('A10-SerDel'!J60/'SA18'!J8))","v":0.6557356878446281},{"$f":"IF(ISERROR('A10-SerDel'!K60/'SA18'!K8),0,('A10-SerDel'!K60/'SA18'!K8))","v":0.65060216424268913}]
["Free Services as a % of Operating Revenue \n(excl operational transfers)",null,null,{"$f":"IF(ISERROR('A10-SerDel'!C79/('A1-Sum'!B10-'A1-Sum'!B8)),0,('A10-SerDel'!C79/('A1-Sum'!B10-'A1-Sum'!B8)))","v":0},{"$f":"IF(ISERROR('A10-SerDel'!D79/('A1-Sum'!C10-'A1-Sum'!C8)),0,('A10-SerDel'!D79/('A1-Sum'!C10-'A1-Sum'!C8)))","v":0},{"$f":"IF(ISERROR('A10-SerDel'!E79/('A1-Sum'!D10-'A1-Sum'!D8)),0,('A10-SerDel'!E79/('A1-Sum'!D10-'A1-Sum'!D8)))","v":0},{"$f":"IF(ISERROR('A10-SerDel'!F79/('A1-Sum'!E10-'A1-Sum'!E8)),0,('A10-SerDel'!F79/('A1-Sum'!E10-'A1-Sum'!E8)))","v":0},{"$f":"IF(ISERROR('A10-SerDel'!G79/('A1-Sum'!F10-'A1-Sum'!F8)),0,('A10-SerDel'!G79/('A1-Sum'!F10-'A1-Sum'!F8)))","v":0},{"$f":"IF(ISERROR('A10-SerDel'!H79/('A1-Sum'!G10-'A1-Sum'!G8)),0,('A10-SerDel'!H79/('A1-Sum'!G10-'A1-Sum'!G8)))","v":0},null,{"$f":"IF(ISERROR('A10-SerDel'!I79/('A1-Sum'!I10-'A1-Sum'!I8)),0,('A10-SerDel'!I79/('A1-Sum'!I10-'A1-Sum'!I8)))","v":0},{"$f":"IF(ISERROR('A10-SerDel'!J79/('A1-Sum'!J10-'A1-Sum'!J8)),0,('A10-SerDel'!J79/('A1-Sum'!J10-'A1-Sum'!J8)))","v":0},{"$f":"IF(ISERROR('A10-SerDel'!K79/('A1-Sum'!K10-'A1-Sum'!K8)),0,('A10-SerDel'!K79/('A1-Sum'!K10-'A1-Sum'!K8)))","v":0}]
[]
["High Level Outcome of Funding Compliance"]
["Total Operating Revenue",null,null,{"$f":"D80","v":1079594795},{"$f":"E80","v":1084540106.05},1142947148.76,1499911434,1622639202,1622639202,{"$f":"J80","v":1113578522.98},1748807507,1791560013,1868342301]
["Total Operating Expenditure",null,null,{"$f":"D81","v":1388244247},1570323840.04,1682332765.9000001,1433243728,1659566422,1659566422,912414209.5999999,1706401243,1792504819,1864007261]
["Surplus/(Deficit) Budgeted Operating Statement",null,null,-308649452,-485783733.99000001,-539385617.1400001,66667706,-36927220,-36927220,201164313.38000011,42406264,-944806,4335040]
["Surplus/(Deficit) Considering Reserves and Cash Backing",null,null,{"$f":"'A8-ResRecon'!C19","v":-6383926},{"$f":"'A8-ResRecon'!D19","v":-45605234},{"$f":"'A8-ResRecon'!E19","v":-261682096},{"$f":"'A8-ResRecon'!F19","v":479420634.33986557},{"$f":"'A8-ResRecon'!G19","v":382568162.17488003},{"$f":"'A8-ResRecon'!H19","v":382568162.17488003},{"$f":"'A8-ResRecon'!I19","v":-96407016.705119967},{"$f":"'A8-ResRecon'!J19","v":372328437.66349995},{"$f":"'A8-ResRecon'!K19","v":199514323.70215306},{"$f":"'A8-ResRecon'!L19","v":206332703.32537225}]
["MTREF Funded (1) / Unfunded (0)",null,15,{"$f":"IF(D127>=0,1,0)","v":0},{"$f":"IF(E127>=0,1,0)","v":0},0,1,1,1,0,1,1,1]
["MTREF Funded ü / Unfunded û",null,15,{"$f":"IF(D128=1,\"ü\",\"û\")","v":"û"},{"$f":"IF(E128=1,\"ü\",\"û\")","v":"û"},"û","ü","ü","ü","û","ü","ü","ü"]
[]
[{"$f":"head27a","v":"References"}]
["15. Subject to figures provided in Schedule."]

{"sheet":"SA11","index":30,"n_rows":73,"n_cols":11,"rows_kept":73,"cut":false,"hidden":false,"merged":[[1,5,1,7],[1,8,1,10],[1,1,3,1],[1,0,2,0]]}
[{"$f":"muni&\" - \"&TableA11","v":"DC15 O .R. Tambo - Supporting Table SA11 Property rates summary"}]
[{"$f":"desc","v":"Description"},{"$f":"head27","v":"Ref"},{"$f":"head1b","v":"2016/17"},{"$f":"head1A","v":"2017/18"},{"$f":"Head1","v":"2018/19"},{"$f":"Head2","v":"Current Year 2019/20"},null,null,{"$f":"Head3","v":"2020/21 Medium Term Revenue & Expenditure Framework"}]
[null,null,{"$f":"Head5","v":"Audited Outcome"},{"$f":"Head5","v":"Audited Outcome"},{"$f":"Head5","v":"Audited Outcome"},{"$f":"Head6","v":"Original Budget"},{"$f":"Head7","v":"Adjusted Budget"},{"$f":"Head8","v":"Full Year Forecast"},{"$f":"Head9","v":"Budget Year 2020/21"},{"$f":"Head10","v":"Budget Year +1 2021/22"},{"$f":"Head11","v":"Budget Year +2 2022/23"}]
[]
["Valuation:",1]
["Date of valuation:"]
["Financial year valuation used"]
["Municipal by-laws s6 in place? (Y/N)","2"]
["Municipal/assistant valuer appointed? (Y/N)"]
["Municipal partnership s38 used? (Y/N)"]
["No. of assistant valuers (FTE)",3]
["No. of data collectors (FTE)",3]
["No. of internal valuers (FTE)",3]
["No. of external valuers (FTE)",3]
["No. of additional valuers (FTE)",4]
["Valuation appeal board established? (Y/N)"]
["Implementation time of new valuation roll (mths)"]
["No. of properties",5]
["No. of sectional title values",5]
["No. of unreasonably difficult properties s7(2)"]
["No. of supplementary valuations"]
["No. of valuation roll amendments"]
["No. of objections by rate payers"]
["No. of appeals by rate payers"]
["No. of successful objections",8]
["No. of successful objections > 10%",8]
["Supplementary valuation"]
["Public service infrastructure value (Rm)",5]
["Municipality owned property value (Rm)"]
["Valuation reductions:"]
["Valuation reductions-public infrastructure (Rm)"]
["Valuation reductions-nature reserves/park (Rm)"]
["Valuation reductions-mineral rights (Rm)"]
["Valuation reductions-R15,000 threshold (Rm)"]
["Valuation reductions-public worship (Rm)"]
["Valuation reductions-other (Rm)"]
["Total valuation reductions:",null,{"$f":"SUM(C31:C36)","v":0},{"$f":"SUM(D31:D36)","v":0},0,0,0,0,0,0,0]
["Total value used for rating (Rm)",5]
["Total land value (Rm)",5]
["Total value of improvements (Rm)",5]
["Total market value (Rm)",5]
[]
["Rating:"]
["Residential rate used to determine rate for other categories? (Y/N)"]
["Differential rates used? (Y/N)",5]
["Limit on annual rate increase (s20)? (Y/N)"]
["Special rating area used? (Y/N)"]
["Phasing-in properties s21 (number)"]
["Rates policy accompanying budget? (Y/N)"]
["Fixed amount minimum value (R'000)"]
["Non-residential prescribed ratio s19? (%)"]
[]
["Rate revenue:"]
["Rate revenue budget (R '000)",6]
["Rate revenue expected to collect (R'000)",6]
["Expected cash collection rate (%)"]
["Special rating areas (R'000)",7]
["Rebates, exemptions - indigent (R'000)"]
["Rebates, exemptions - pensioners (R'000)"]
["Rebates, exemptions - bona fide farm. (R'000)"]
["Rebates, exemptions - other (R'000)"]
["Phase-in reductions/discounts (R'000)"]
["Total rebates,exemptns,reductns,discs (R'000)",null,{"$f":"SUM(C58:C62)","v":0},{"$f":"SUM(D58:D62)","v":0},0,0,0,0,0,0,0]
[]
[{"$f":"head27a","v":"References"}]
["1. All numbers to be expressed as whole numbers except FTEs and Rates in the Rand"]
["2. To give effect to rates policy"]
["3. Full Time Equivalent (FTE)  should be expressed to one decimal place and takes into account full time and part time staff"]
["4. Required to implement new system (FTE)"]
["5. Provide relevant information for historical comparisons. Must reconcile to the total of Table SA12"]
[{"$f":"\"6. Current and budget year must reconcile to \"&'Template names'!F103","v":"6. Current and budget year must reconcile to Table A4 Budgeted Financial Performance (revenue and expenditure)"}]
["7. Included in rate revenue budget"]
["8. In favour of the rate-payer"]

{"sheet":"SA12a","index":31,"n_rows":56,"n_cols":19,"rows_kept":56,"cut":false,"hidden":false,"merged":[]}
[{"$f":"muni&\" - \"&TableA12a","v":"DC15 O .R. Tambo - Supporting Table SA12a Property rates by category (current year)"}]
[{"$f":"desc","v":"Description"},{"$f":"head27","v":"Ref"},"Resi.","Indust.","Bus. & Comm.","Farm props.","State-owned ","Muni props.","Public service infra.","Private owned towns","Formal & Informal Settle.","Comm. Land","State trust land","Section 8(2)(n) (note 1)","Protect. Areas","National Monum/ts","Public benefit organs.","Mining Props."]
[{"$f":"Head2","v":"Current Year 2019/20"}]
["Valuation:"]
["No. of properties"]
["No. of sectional title property values"]
["No. of unreasonably difficult properties s7(2)"]
["No. of supplementary valuations"]
["Supplementary valuation (Rm)"]
["No. of valuation roll amendments"]
["No. of objections by rate-payers"]
["No. of appeals by rate-payers"]
["No. of appeals by rate-payers finalised"]
["No. of successful objections",5]
["No. of successful objections > 10%",5]
["Estimated no. of properties not valued"]
["Years since last valuation (select)"]
["Frequency of valuation (select)"]
["Method of valuation used (select)"]
["Base of valuation (select)"]
["Phasing-in properties s21 (number)"]
["Combination of rating types used? (Y/N)"]
["Flat rate used? (Y/N)"]
["Is balance rated by uniform rate/variable rate?"]
["Valuation reductions:"]
["Valuation reductions-public infrastructure (Rm)"]
["Valuation reductions-nature reserves/park (Rm)"]
["Valuation reductions-mineral rights (Rm)"]
["Valuation reductions-R15,000 threshold (Rm)"]
["Valuation reductions-public worship (Rm)"]
["Valuation reductions-other (Rm)",2]
["Total valuation reductions:"]
["Total value used for rating (Rm)",6]
["Total land value (Rm)",6]
["Total value of improvements (Rm)",6]
["Total market value (Rm)",6]
["Rating:"]
["Average rate",3]
["Rate revenue budget (R '000)",null,null,null,null,null,null,null,null,null,null,null,null,null,null,null,null,null,{"$f":"SUM(C39:R39)","v":0}]
["Rate revenue expected to collect (R'000)",null,null,null,null,null,null,null,null,null,null,null,null,null,null,null,null,null,{"$f":"SUM(C40:R40)","v":0}]
["Expected cash collection rate (%)",4]
["Special rating areas (R'000)"]
["Rebates, exemptions - indigent (R'000)"]
["Rebates, exemptions - pensioners (R'000)"]
["Rebates, exemptions - bona fide farm. (R'000)"]
["Rebates, exemptions - other (R'000)"]
["Phase-in reductions/discounts (R'000)"]
["Total rebates,exemptns,reductns,discs (R'000)"]
[]
[{"$f":"head27a","v":"References"}]
["1. Land & Assistance Act, Restitution of Land Rights, Communual Property Associations"]
["2. Include value of additional reductions is 'free' value greater than MPRA minimum."]
["3. Average rate - cents in  the Rand. Eg 10.26 cents in the Rand is 0.1026, expressed to 6 decimal places maximum"]
["4. Include arrears collections"]
["5. In favour of the rate-payer"]
["6. Provide relevant information for historical comparisons."]

{"sheet":"SA12b","index":32,"n_rows":56,"n_cols":19,"rows_kept":56,"cut":false,"hidden":false,"merged":[]}
[{"$f":"muni&\" - \"&TableA12b","v":"DC15 O .R. Tambo - Supporting Table SA12b Property rates by category (budget year)"}]
[{"$f":"desc","v":"Description"},{"$f":"head27","v":"Ref"},"Resi.","Indust.","Bus. & Comm.","Farm props.","State-owned ","Muni props.","Public service infra.","Private owned towns","Formal & Informal Settle.","Comm. Land","State trust land","Section 8(2)(n) (note 1)","Protect. Areas","National Monum/ts","Public benefit organs.","Mining Props."]
[{"$f":"Head9","v":"Budget Year 2020/21"}]
["Valuation:"]
["No. of properties"]
["No. of sectional title property values"]
["No. of unreasonably difficult properties s7(2)"]
["No. of supplementary valuations"]
["Supplementary valuation (Rm)"]
["No. of valuation roll amendments"]
["No. of objections by rate-payers"]
["No. of appeals by rate-payers"]
["No. of appeals by rate-payers finalised"]
["No. of successful objections",5]
["No. of successful objections > 10%",5]
["Estimated no. of properties not valued"]
["Years since last valuation (select)"]
["Frequency of valuation (select)"]
["Method of valuation used (select)"]
["Base of valuation (select)"]
["Phasing-in properties s21 (number)"]
["Combination of rating types used? (Y/N)"]
["Flat rate used? (Y/N)"]
["Is balance rated by uniform rate/variable rate?"]
["Valuation reductions:"]
["Valuation reductions-public infrastructure (Rm)"]
["Valuation reductions-nature reserves/park (Rm)"]
["Valuation reductions-mineral rights (Rm)"]
["Valuation reductions-R15,000 threshold (Rm)"]
["Valuation reductions-public worship (Rm)"]
["Valuation reductions-other (Rm)",2]
["Total valuation reductions:"]
["Total value used for rating (Rm)",6]
["Total land value (Rm)",6]
["Total value of improvements (Rm)",6]
["Total market value (Rm)",6]
["Rating:"]
["Average rate",3]
["Rate revenue budget (R '000)",null,null,null,null,null,null,null,null,null,null,null,null,null,null,null,null,null,{"$f":"SUM(C39:R39)","v":0}]
["Rate revenue expected to collect (R'000)",null,null,null,null,null,null,null,null,null,null,null,null,null,null,null,null,null,{"$f":"SUM(C40:R40)","v":0}]
["Expected cash collection rate (%)",4]
["Special rating areas (R'000)"]
["Rebates, exemptions - indigent (R'000)"]
["Rebates, exemptions - pensioners (R'000)"]
["Rebates, exemptions - bona fide farm. (R'000)"]
["Rebates, exemptions - other (R'000)"]
["Phase-in reductions/discounts (R'000)"]
["Total rebates,exemptns,reductns,discs (R'000)"]
[]
[{"$f":"head27a","v":"References"}]
["1. Land & Assistance Act, Restitution of Land Rights, Communual Property Associations"]
["2. Include value of additional reductions is 'free' value greater than MPRA minimum."]
["3. Average rate - cents in  the Rand. Eg 10.26 cents in the Rand is 0.1026, expressed to 6 decimal places maximum"]
["4. Include arrears collections"]
["5. In favour of the rate-payer"]
["6. Provide relevant information for historical comparisons."]

{"sheet":"SA13a","index":33,"n_rows":90,"n_cols":19,"rows_kept":90,"cut":false,"hidden":false,"merged":[[93,6,94,6],[93,0,94,0],[93,1,94,1],[93,2,94,2],[93,3,94,3],[93,4,94,4],[93,5,94,5],[1,6,2,6],[1,0,2,0],[1,1,2,1],[1,2,2,2],[1,3,2,3],[1,4,2,4],[1,5,2,5]]}
[{"$f":"muni&\" - \"&TableA13a","v":"DC15 O .R. Tambo - Supporting Table SA13a Service Tariffs by category"}]
[{"$f":"desc","v":"Description"},{"$f":"head27","v":"Ref"},"Provide description of tariff structure where appropriate",{"$f":"head1b","v":"2016/17"},{"$f":"head1A","v":"2017/18"},{"$f":"Head1","v":"2018/19"},{"$f":"Head2","v":"Current Year 2019/20"},{"$f":"Head3","v":"2020/21 Medium Term Revenue & Expenditure Framework"}]
[null,null,null,null,null,null,null,{"$f":"Head9","v":"Budget Year 2020/21"},{"$f":"Head10","v":"Budget Year +1 2021/22"},{"$f":"Head11","v":"Budget Year +2 2022/23"}]
["Property rates (rate in the Rand)",1]
["Residential properties"]
["Residential properties - vacant land"]
["Formal/informal settlements"]
["Small holdings"]
["Farm properties - used"]
["Farm properties - not used"]
["Industrial properties"]
["Business and commercial properties"]
["Communal land - residential"]
["Communal land - small holdings"]
["Communal land - farm property"]
["Communal land - business and commercial"]
["Communal land - other"]
["State-owned properties"]
["Municipal properties"]
["Public service infrastructure"]
["Privately owned towns serviced by the owner"]
["State trust land"]
["Restitution and redistribution properties"]
["Protected areas"]
["National monuments properties"]
[]
["Exemptions, reductions and rebates (Rands)"]
["Residential properties"]
["R15 000 threshhold rebate",null,null,15000,15000,15000,15000,15000,15000,15000]
["General residential rebate"]
["Indigent rebate or exemption"]
["Pensioners/social grants rebate or exemption "]
["Temporary relief rebate or exemption"]
[" Bona fide farmers rebate or exemption"]
["Other rebates or exemptions",2]
[]
["Water tariffs"]
["Domestic"]
["Basic charge/fixed fee (Rands/month)",null,null,null,null,null,null,null,null,null,null,null,null,null,null,null,null,null,{"$f":"SUM(C39:R39)","v":0}]
["Service point - vacant land (Rands/month)",null,null,null,null,null,null,null,null,null,null,null,null,null,null,null,null,null,{"$f":"SUM(C40:R40)","v":0}]
["Water usage - flat rate tariff (c/kl)"]
["Water usage - life line tariff",null,"(describe structure)"]
["Water usage - Block 1 (c/kl)",null," (fill in thresholds)",6.0427420000000005,6.4053065200000008,6.7896249112000016,7.1970024058720021,{"$f":"G43*1.045","v":7.520867514136242},{"$f":"H43*1.045","v":7.859306552272372},8.2129753471246278]
["Water usage - Block 2 (c/kl)",null," (fill in thresholds)",6.8746299999999998,6.4298010000000003,7.72,8.1831999999999994,{"$f":"G44*1.045","v":8.5514439999999983},8.9362589799999981,9.3383906340999978]
["Water usage - Block 3 (c/kl)",null," (fill in thresholds)",8.919687999999999,7.2871078000000002,10.029999999999999,10.6318,11.110230999999999,11.610191394999998,12.132650007774997]
["Water usage - Block 4 (c/kl)",null," (fill in thresholds)",10.964746000000002,9.4548692799999987,12.32,13.059200000000001,13.646863999999999,14.260972879999999,14.902716659599998]
["Other",2]
[]
["Waste water tariffs"]
["Domestic"]
["Basic charge/fixed fee (Rands/month)"]
["Service point - vacant land (Rands/month)"]
["Waste water - flat rate tariff (c/kl)"]
["Volumetric charge - Block 1 (c/kl)",null,"(fill in structure)"]
["Volumetric charge - Block 2 (c/kl)",null,"(fill in structure)"]
["Volumetric charge - Block 3 (c/kl)",null,"(fill in structure)"]
["Volumetric charge - Block 4 (c/kl)",null,"(fill in structure)"]
["Other",2]
[]
["Electricity tariffs"]
["Domestic"]
["Basic charge/fixed fee (Rands/month)"]
["Service point - vacant land (Rands/month)"]
["FBE",null,"(how is this targeted?)"]
["Life-line tariff - meter",null,"(describe structure)"]
["Life-line tariff - prepaid",null,"(describe structure)"]
["Flat rate tariff - meter (c/kwh)"]
["Flat rate tariff - prepaid(c/kwh)"]
["Meter - IBT Block 1 (c/kwh)",null,"(fill in thresholds)"]
["Meter - IBT Block 2 (c/kwh)",null,"(fill in thresholds)"]
["Meter - IBT Block 3 (c/kwh)",null,"(fill in thresholds)"]
["Meter - IBT Block 4 (c/kwh)",null,"(fill in thresholds)"]
["Meter - IBT Block 5 (c/kwh)",null,"(fill in thresholds)"]
["Prepaid - IBT Block 1 (c/kwh)",null,"(fill in thresholds)"]
["Prepaid - IBT Block 2 (c/kwh)",null,"(fill in thresholds)"]
["Prepaid - IBT Block 3 (c/kwh)",null,"(fill in thresholds)"]
["Prepaid - IBT Block 4 (c/kwh)",null,"(fill in thresholds)"]
["Prepaid - IBT Block 5 (c/kwh)",null,"(fill in thresholds)"]
["Other",2]
[]
["Waste management tariffs"]
["Domestic"]
["Street cleaning charge"]
["Basic charge/fixed fee"]
["80l bin - once a week"]
["250l bin - once a week"]
[]
[{"$f":"head27a","v":"References"}]
["1. If properties are not rated or zero rated this must be indicated as such"]
["2.Please provide detailed descriptions on Sheet SA13b"]

{"sheet":"SA13b","index":34,"n_rows":54,"n_cols":19,"rows_kept":54,"cut":false,"hidden":false,"merged":[[98,0,99,0],[1,0,2,0],[1,1,2,1],[1,2,2,2],[1,3,2,3],[98,1,99,1],[98,2,99,2],[98,3,99,3],[98,5,99,5],[98,6,99,6],[1,6,2,6],[1,5,2,5],[1,4,2,4],[98,4,99,4]]}
[{"$f":"muni&\" - \"&TableA13b","v":"DC15 O .R. Tambo - Supporting Table SA13b Service Tariffs by category - explanatory"}]
[{"$f":"desc","v":"Description"},{"$f":"head27","v":"Ref"},"Provide description of tariff structure where appropriate",{"$f":"head1b","v":"2016/17"},{"$f":"head1A","v":"2017/18"},{"$f":"Head1","v":"2018/19"},{"$f":"Head2","v":"Current Year 2019/20"},{"$f":"Head3","v":"2020/21 Medium Term Revenue & Expenditure Framework"}]
[null,null,null,null,null,null,null,{"$f":"Head9","v":"Budget Year 2020/21"},{"$f":"Head10","v":"Budget Year +1 2021/22"},{"$f":"Head11","v":"Budget Year +2 2022/23"}]
["Exemptions, reductions and rebates (Rands)"]
[" ",null,0,0,0,0,0,0,0,0]
["[Insert lines as applicable]"]
[]
[]
[]
[]
[]
[]
[]
[]
["Water tariffs"]
["Domestic",null,"0 - 6lk",6.0427420000000005,6.4053065200000008,6.7896249112000016,7.1970024058720021,{"$f":"G16*1.045","v":7.520867514136242},{"$f":"H16*1.045","v":7.859306552272372},8.2129753471246278]
[null,null,"7-10kl",6.8746299999999998,6.4298010000000003,7.72,8.1831999999999994,{"$f":"G17*1.045","v":8.5514439999999983},8.9362589799999981,9.3383906340999978]
[null,null,"11-20kl",8.919687999999999,7.2871078000000002,10.029999999999999,10.6318,{"$f":"G18*1.045","v":11.110230999999999},11.610191394999998,12.132650007774997]
[null,null,"21kl +",10.964746000000002,9.4548692799999987,12.32,13.059200000000001,{"$f":"G19*1.045","v":13.646863999999999},14.260972879999999,14.902716659599998]
["Business/Government",null,"0-30kl",10.964746000000002,11.951573140000002,13.027214722600004,14.199664047634005,{"$f":"G20*1.045","v":14.838648929777534},15.506388131617522,16.20417559754031]
[null,null,"31-40kl",14.881552000000001,16.220891680000001,17.680771931200002,19.272041405008004,{"$f":"G21*1.045","v":20.139283268233363},21.045551015303865,21.992600810992538]
[null,null,"41-50kl",17.434985999999999,19.004134740000001,20.714506866600004,22.578812484594007,{"$f":"G22*1.045","v":23.594859046400735},24.656627703488766,25.766175950145758]
[null,null,"51kl +",19.664908,21.434749720000003,23.363877194800004,25.466626142332007,{"$f":"G23*1.045","v":26.612624318736945},27.810192413080106,29.06165107166871]
["Government",null,"0-30kl",11.37851,12.743931200000002,14.273202944000003,15.985987297280005,{"$f":"G24*1.12","v":17.904305772953606},{"$f":"H24*1.12","v":20.05282246570804},22.459161161593006]
[null,null,"31-40kl",15.44312,17.296294400000001,19.371849728000004,21.696471695360007,{"$f":"G25*1.12","v":24.300048298803208},27.216054094659597,30.48198058601875]
[null,null,"41-50kl",18.09291,20.264059200000002,22.695746304000004,25.419235860480008,28.469544163737613,31.885889463386128,35.712196198992466]
[]
["Waste water tariffs"]
[" ",null,0,0,0,0,0,0,0,0]
["[Insert blocks as applicable]",null,"(fill in structure)"]
[null,null,"(fill in structure)"]
[null,null,"(fill in structure)"]
[null,null,"(fill in structure)"]
[null,null,"(fill in structure)"]
[null,null,"(fill in structure)"]
[null,null,"(fill in structure)"]
[null,null,"(fill in structure)"]
[null,null,"(fill in structure)"]
[]
["Electricity tariffs"]
[" ",null,0,0,0,0,0,0,0,0]
["[Insert blocks as applicable]",null,"(fill in thresholds)"]
[null,null,"(fill in thresholds)",null,null,null,null,null,null,null,null,null,null,null,null,null,null,null,{"$f":"SUM(C43:R43)","v":0}]
[null,null,"(fill in thresholds)",null,null,null,null,null,null,null,null,null,null,null,null,null,null,null,{"$f":"SUM(C44:R44)","v":0}]
[null,null,"(fill in thresholds)"]
[null,null,"(fill in thresholds)"]
[null,null,"(fill in thresholds)"]
[null,null,"(fill in thresholds)"]
[null,null,"(fill in thresholds)"]
[null,null,"(fill in thresholds)"]
[null,null,"(fill in thresholds)"]
[null,null,"(fill in thresholds)"]
[null,null,"(fill in thresholds)"]
[null,null,"(fill in thresholds)"]

{"sheet":"SA14","index":35,"n_rows":54,"n_cols":12,"rows_kept":54,"cut":false,"hidden":false,"merged":[[1,1,3,1],[1,5,1,7],[1,0,2,0]]}
[{"$f":"muni&\" - \"&TableA14","v":"DC15 O .R. Tambo - Supporting Table SA14 Household bills"}]
[{"$f":"desc","v":"Description"},{"$f":"head27","v":"Ref"},{"$f":"head1b","v":"2016/17"},{"$f":"head1A","v":"2017/18"},{"$f":"Head1","v":"2018/19"},{"$f":"Head2","v":"Current Year 2019/20"},null,null,{"$f":"Head3","v":"2020/21 Medium Term Revenue & Expenditure Framework"}]
[null,null,{"$f":"Head5","v":"Audited Outcome"},{"$f":"Head5","v":"Audited Outcome"},{"$f":"Head5","v":"Audited Outcome"},{"$f":"Head6","v":"Original Budget"},{"$f":"Head7","v":"Adjusted Budget"},{"$f":"Head8","v":"Full Year Forecast"},{"$f":"Head9","v":"Budget Year 2020/21"},{"$f":"Head9","v":"Budget Year 2020/21"},{"$f":"Head10","v":"Budget Year +1 2021/22"},{"$f":"Head11","v":"Budget Year +2 2022/23"}]
["Rand/cent",null,null,null,null,null,null,null,"% incr."]
["Monthly Account for Household - 'Middle Income Range'",1]
["Rates and services charges:"]
["Property rates"]
["Electricity: Basic levy"]
["Electricity: Consumption"]
["Water: Basic levy",null,43.419931999999996,46.025127919999996,48.79,51.717400000000005,51.717400000000005,51.717400000000005,4.4999999999999998E-2,{"$f":"H10*1.045","v":54.044682999999999},{"$f":"J10*1.045","v":56.476693734999998},{"$f":"K10*1.045","v":59.018144953074994}]
["Water: Consumption",null,6.8746299999999998,7.2871078000000002,10.029999999999999,10.6318,10.6318,10.6318,4.4999999999999998E-2,{"$f":"H11*1.045","v":11.110230999999999},{"$f":"J11*1.045","v":11.610191394999998},12.132650007774997]
["Sanitation",null,73.899384000000012,78.333347040000021,83.03,88.011800000000008,88.011800000000008,88.011800000000008,4.4999999999999998E-2,91.972330999999997,96.111085894999988,100.43608476027498]
["Refuse removal"]
["Other"]
["sub-total",null,{"$f":"SUM(C7:C14)","v":124.19394600000001},{"$f":"SUM(D7:D14)","v":131.64558276000002},{"$f":"SUM(E7:E14)","v":141.85},{"$f":"SUM(F7:F14)","v":150.36100000000002},{"$f":"SUM(G7:G14)","v":150.36100000000002},150.36100000000002,{"$f":"IF(ISERROR(ROUND((J15-F15)/F15,3)),0,(ROUND((J15-F15)/F15,3)))","v":4.4999999999999998E-2},157.12724499999999,164.19797102499999,171.58687972112497]
["VAT on Services"]
["Total large household bill:",null,{"$f":"SUM(C15:C16)","v":124.19394600000001},{"$f":"SUM(D15:D16)","v":131.64558276000002},{"$f":"SUM(E15:E16)","v":141.85},{"$f":"SUM(F15:F16)","v":150.36100000000002},{"$f":"SUM(G15:G16)","v":150.36100000000002},150.36100000000002,{"$f":"IF(ISERROR(ROUND((J17-F17)/F17,3)),0,(ROUND((J17-F17)/F17,3)))","v":4.4999999999999998E-2},157.12724499999999,164.19797102499999,171.58687972112497]
["% increase/-decrease",null,null,{"$f":"IF(ISERROR((D17/C17)-1),0,((D17/C17)-1))","v":6.0000000000000053E-2},{"$f":"IF(ISERROR((E17/D17)-1),0,((E17/D17)-1))","v":7.7514315528561362E-2},{"$f":"IF(ISERROR((F17/E17)-1),0,((F17/E17)-1))","v":6.0000000000000275E-2},{"$f":"IF(ISERROR((G17/F17)-1),0,((G17/F17)-1))","v":0},{"$f":"IF(ISERROR((H17/G17)-1),0,((H17/G17)-1))","v":0},null,{"$f":"IF(ISERROR((J17/H17)-1),0,((J17/H17)-1))","v":4.4999999999999707E-2},{"$f":"IF(ISERROR((K17/J17)-1),0,((K17/J17)-1))","v":4.4999999999999929E-2},{"$f":"IF(ISERROR((L17/K17)-1),0,((L17/K17)-1))","v":4.4999999999999929E-2}]
[]
["Monthly Account for Household - 'Affordable Range' ",2]
[{"$f":"A6","v":"Rates and services charges:"}]
[{"$f":"A7","v":"Property rates"}]
["Electricity: Basic levy"]
["Electricity: Consumption"]
["Water: Basic levy",null,43.419931999999996,46.025127919999996,48.79,51.717400000000005,51.717400000000005,51.717400000000005,4.4999999999999998E-2,{"$f":"H25*1.045","v":54.044682999999999},{"$f":"J25*1.045","v":56.476693734999998},{"$f":"K25*1.045","v":59.018144953074994}]
["Water: Consumption",null,6.8746299999999998,7.2871078000000002,7.72,8.1831999999999994,8.1831999999999994,8.1831999999999994,4.4999999999999998E-2,8.5514439999999983,{"$f":"J26*1.045","v":8.9362589799999981},9.3383906340999978]
["Sanitation",null,73.899384000000012,78.333347040000021,83.03,88.011800000000008,88.011800000000008,88.011800000000008,4.4999999999999998E-2,91.972330999999997,{"$f":"J27*1.045","v":96.111085894999988},100.43608476027498]
["Refuse removal"]
["Other"]
["sub-total",null,{"$f":"SUM(C22:C29)","v":124.19394600000001},131.64558276000002,139.54,147.91240000000002,147.91240000000002,147.91240000000002,{"$f":"IF(ISERROR(ROUND((J30-F30)/F30,3)),0,(ROUND((J30-F30)/F30,3)))","v":4.4999999999999998E-2},{"$f":"SUM(J22:J29)","v":154.56845799999999},{"$f":"SUM(K22:K29)","v":161.52403860999999},{"$f":"SUM(L22:L29)","v":168.79262034744997}]
["VAT on Services"]
["Total small household bill:",null,{"$f":"SUM(C30:C31)","v":124.19394600000001},131.64558276000002,139.54,147.91240000000002,147.91240000000002,147.91240000000002,{"$f":"IF(ISERROR(ROUND((J32-F32)/F32,3)),0,(ROUND((J32-F32)/F32,3)))","v":4.4999999999999998E-2},{"$f":"SUM(J30:J31)","v":154.56845799999999},{"$f":"SUM(K30:K31)","v":161.52403860999999},{"$f":"SUM(L30:L31)","v":168.79262034744997}]
["% increase/-decrease",null,null,{"$f":"IF(ISERROR((D32/C32)-1),0,((D32/C32)-1))","v":6.0000000000000053E-2},{"$f":"IF(ISERROR((E32/D32)-1),0,((E32/D32)-1))","v":5.9967201895350319E-2},{"$f":"IF(ISERROR((F32/E32)-1),0,((F32/E32)-1))","v":6.0000000000000275E-2},{"$f":"IF(ISERROR((G32/F32)-1),0,((G32/F32)-1))","v":0},{"$f":"IF(ISERROR((H32/G32)-1),0,((H32/G32)-1))","v":0},null,{"$f":"IF(ISERROR((J32/H32)-1),0,((J32/H32)-1))","v":4.4999999999999707E-2},{"$f":"IF(ISERROR((K32/J32)-1),0,((K32/J32)-1))","v":4.4999999999999929E-2},{"$f":"IF(ISERROR((L32/K32)-1),0,((L32/K32)-1))","v":4.4999999999999929E-2}]
[null,null,null,null,{"$f":"IF(ISERROR((E33/D33)-1),0,((E33/D33)-1))","v":-5.4663507749552753E-4},{"$f":"IF(ISERROR((F33/E33)-1),0,((F33/E33)-1))","v":5.4693405083661162E-4},{"$f":"IF(ISERROR((G33/F33)-1),0,((G33/F33)-1))","v":-1},{"$f":"IF(ISERROR((H33/G33)-1),0,((H33/G33)-1))","v":0}]
["Monthly Account for Household - 'Indigent' Household receiving free basic services",3]
[{"$f":"A6","v":"Rates and services charges:"}]
[{"$f":"A7","v":"Property rates"},null,null,null,null,null,null,null,{"$f":"IF(J37>0,ROUND((J37-F37)/F37,3),\"\")","v":""}]
["Electricity: Basic levy",null,null,null,null,null,null,null,{"$f":"IF(J38>0,ROUND((J38-F38)/F38,3),\"\")","v":""}]
["Electricity: Consumption",null,null,null,null,null,null,null,""]
["Water: Basic levy",null,43.419931999999996,46.025127919999996,48.79,51.717400000000005,51.717400000000005,51.717400000000005,4.4999999999999998E-2,{"$f":"H40*1.045","v":54.044682999999999},{"$f":"J40*1.045","v":56.476693734999998},{"$f":"K40*1.045","v":59.018144953074994}]
["Water: Consumption",null,6.0658500000000002,6.4298010000000003,6.7896249112000016,7.1970024058720021,7.1970024058720021,7.1970024058720021,4.4999999999999998E-2,7.520867514136242,{"$f":"J41*1.045","v":7.859306552272372},8.2129753471246278]
["Sanitation",null,73.899384000000012,78.333347040000021,83.03,88.011800000000008,88.011800000000008,88.011800000000008,4.4999999999999998E-2,91.972330999999997,{"$f":"J42*1.045","v":96.111085894999988},100.43608476027498]
["Refuse removal",null,null,null,null,null,null,null,""]
["Other",null,null,null,null,null,null,null,""]
["sub-total",null,{"$f":"SUM(C37:C44)","v":123.385166},{"$f":"SUM(D37:D44)","v":130.78827596000002},{"$f":"SUM(E37:E44)","v":138.6096249112},{"$f":"SUM(F37:F44)","v":146.926202405872},{"$f":"SUM(G37:G44)","v":146.926202405872},146.926202405872,{"$f":"IF(ISERROR(ROUND((J45-F45)/F45,3)),0,(ROUND((J45-F45)/F45,3)))","v":4.4999999999999998E-2},153.53788151413625,160.44708618227236,167.6672050604746]
["VAT on Services",null,null,null,null,null,null,null,{"$f":"IF(J46>0,I13ROUND((J46-F46)/F46,3),\"\")","v":""}]
["Total small household bill:",null,{"$f":"SUM(C45:C46)","v":123.385166},{"$f":"SUM(D45:D46)","v":130.78827596000002},{"$f":"SUM(E45:E46)","v":138.6096249112},{"$f":"SUM(F45:F46)","v":146.926202405872},{"$f":"SUM(G45:G46)","v":146.926202405872},146.926202405872,{"$f":"IF(ISERROR(ROUND((J47-F47)/F47,3)),0,(ROUND((J47-F47)/F47,3)))","v":4.4999999999999998E-2},153.53788151413625,160.44708618227236,167.6672050604746]
[{"$f":"A18","v":"% increase/-decrease"},null,null,{"$f":"IF(ISERROR((D47/C47)-1),0,((D47/C47)-1))","v":6.0000000000000275E-2},{"$f":"IF(ISERROR((E47/D47)-1),0,((E47/D47)-1))","v":5.9801606021567588E-2},{"$f":"IF(ISERROR((F47/E47)-1),0,((F47/E47)-1))","v":6.0000000000000053E-2},{"$f":"IF(ISERROR((G47/F47)-1),0,((G47/F47)-1))","v":0},{"$f":"IF(ISERROR((H47/G47)-1),0,((H47/G47)-1))","v":0},null,{"$f":"IF(ISERROR((J47/H47)-1),0,((J47/H47)-1))","v":4.4999999999999929E-2},{"$f":"IF(ISERROR((K47/J47)-1),0,((K47/J47)-1))","v":4.4999999999999929E-2},{"$f":"IF(ISERROR((L47/K47)-1),0,((L47/K47)-1))","v":4.4999999999999929E-2}]
[]
[{"$f":"head27a","v":"References"}]
["1. Use as basis property value of R700 000, 1 000 kWh electricity and 30kl water"]
["2. Use as basis property value  of R500 000 and R700 000, 500 kWh electricity and 25kl water"]
["3. Use as basis property value of R 300 000, 350kWh electricity and 20kl water (50 kWh electricity and 6 kl water free)"]
["4. Note this is for a SINGLE household."]

{"sheet":"SA15","index":36,"n_rows":36,"n_cols":11,"rows_kept":36,"cut":false,"hidden":false,"merged":[[1,5,1,7],[1,8,1,10],[1,1,3,1],[1,0,2,0]]}
[{"$f":"muni&\" - \"&TableA15","v":"DC15 O .R. Tambo - Supporting Table SA15 Investment particulars by type"}]
["Investment type",{"$f":"head27","v":"Ref"},{"$f":"head1b","v":"2016/17"},{"$f":"head1A","v":"2017/18"},{"$f":"Head1","v":"2018/19"},{"$f":"Head2","v":"Current Year 2019/20"},null,null,{"$f":"Head3","v":"2020/21 Medium Term Revenue & Expenditure Framework"}]
[null,null,{"$f":"Head5","v":"Audited Outcome"},{"$f":"Head5","v":"Audited Outcome"},{"$f":"Head5","v":"Audited Outcome"},{"$f":"Head6","v":"Original Budget"},{"$f":"Head7","v":"Adjusted Budget"},{"$f":"Head8","v":"Full Year Forecast"},{"$f":"Head9","v":"Budget Year 2020/21"},{"$f":"Head10","v":"Budget Year +1 2021/22"},{"$f":"Head11","v":"Budget Year +2 2022/23"}]
["R thousand"]
["Parent municipality"]
["Securities - National Government"]
["Listed Corporate Bonds"]
["Deposits - Bank",null,0,19022506.210000001,110903666.36,0,120585754,120585754,127097385,133960643,139988872]
["Deposits - Public Investment Commissioners"]
["Deposits - Corporation for Public Deposits",null,0,109263247.67,7457880.04,0,0,0,0,0,0]
["Bankers Acceptance Certificates"]
["Negotiable Certificates of Deposit - Banks"]
["Guaranteed Endowment Policies (sinking)"]
["Repurchase Agreements - Banks"]
["Municipal Bonds"]
[]
["Municipality sub-total",1,{"$f":"SUM(C6:C15)","v":0},128285753.88,118361546.40000001,0,120585754,120585754,127097385,133960643,139988872]
[]
["Entities"]
[{"$f":"A6","v":"Securities - National Government"},null,0,0,0,0,0,0,0,0,0]
[{"$f":"A7","v":"Listed Corporate Bonds"}]
["Deposits - Bank"]
["Deposits - Public Investment Commissioners"]
["Deposits - Corporation for Public Deposits",null,0,0,0,0,0,0,0,0,0]
["Bankers Acceptance Certificates"]
["Negotiable Certificates of Deposit - Banks",null,0,0,0,0,0,0,0,0,0]
["Guaranteed Endowment Policies (sinking)"]
["Repurchase Agreements - Banks"]
[]
["Entities sub-total",null,{"$f":"SUM(C20:C29)","v":0},0,0,0,0,0,0,0,0]
[]
["Consolidated total:",null,{"$f":"C17+C30","v":0},128285753.88,118361546.40000001,0,120585754,120585754,127097385,133960643,139988872]
[]
[{"$f":"head27a","v":"References"}]
["1. Total investments must reconcile to Budgeted Financial Position ('current' call investment deposits plus 'non-current' investments)"]
["check investment balance",null,{"$f":"C17-'A6-FinPos'!C7-'A6-FinPos'!C16","v":0},{"$f":"D17-'A6-FinPos'!D7-'A6-FinPos'!D16","v":128285753.88},{"$f":"E17-'A6-FinPos'!E7-'A6-FinPos'!E16","v":0.40000000596046448},{"$f":"F17-'A6-FinPos'!F7-'A6-FinPos'!F16","v":-230094999.65798432},{"$f":"G17-'A6-FinPos'!G7-'A6-FinPos'!G16","v":0},{"$f":"H17-'A6-FinPos'!H7-'A6-FinPos'!H16","v":0},{"$f":"I17-'A6-FinPos'!J7-'A6-FinPos'!J16","v":0},{"$f":"J17-'A6-FinPos'!K7-'A6-FinPos'!K16","v":0},{"$f":"K17-'A6-FinPos'!L7-'A6-FinPos'!L16","v":0}]

{"sheet":"SA16","index":37,"n_rows":25,"n_cols":15,"rows_kept":25,"cut":false,"hidden":false,"merged":[[1,3,2,3],[1,9,2,9],[2,10,2,14]]}
[{"$f":"muni&\" - \"&TableA16","v":"DC15 O .R. Tambo - Supporting Table SA16 Investment particulars by maturity"}]
["Investments by Maturity",{"$f":"head27","v":"Ref"},"Period of Investment","Type of Investment","Capital Guarantee\n(Yes/ No)","Variable or Fixed interest rate","Interest Rate ᶟ","Commission Paid (Rands)","Commission Recipient","Expiry date of investment","Opening balance","Interest to be realised","Partial / Premature Withdrawal (4)","Investment Top Up","Closing Balance"]
["Name of institution & investment ID",1,"Yrs/Months"]
["Parent municipality"]
["Municipality sub-total",null,null,null,null,null,null,null,null,null,{"$f":"SUM(#REF!)","v":{"$error":"#REF!"}},null,{"$f":"SUM(#REF!)","v":{"$error":"#REF!"}},{"$f":"SUM(#REF!)","v":{"$error":"#REF!"}},{"$f":"SUM(#REF!)","v":{"$error":"#REF!"}}]
[]
["Entities"]
["N/A"]
[]
[]
[]
[]
[]
[]
["Entities sub-total",null,null,null,null,null,null,null,null,null,{"$f":"SUM(#REF!)","v":{"$error":"#REF!"}},null,{"$f":"SUM(#REF!)","v":{"$error":"#REF!"}},{"$f":"SUM(#REF!)","v":{"$error":"#REF!"}},{"$f":"SUM(#REF!)","v":{"$error":"#REF!"}}]
[]
["TOTAL INVESTMENTS AND INTEREST",1,null,null,null,null,null,null,null,null,{"$f":"K5+K15","v":{"$error":"#REF!"}},null,{"$f":"M5+M15","v":{"$error":"#REF!"}},{"$f":"N5+N15","v":{"$error":"#REF!"}},{"$f":"O5+O15","v":{"$error":"#REF!"}}]
[]
[{"$f":"head27a","v":"References"}]
["1. Total investments must reconcile to all items in Table SA15 for the Current Year (30 June)"]
["2. List investments in expiry date order"]
["3. If 'variable' is selected in column F, input interest rate range"]
["4. Withdrawals to be entered as negative"]
["check"]
[null,null,null,null,null,null,null,null,null,null,null,null,"`"]

{"sheet":"SA17","index":38,"n_rows":71,"n_cols":45,"rows_kept":71,"cut":false,"hidden":false,"merged":[[1,5,1,7],[1,8,1,10]]}
[{"$f":"muni&\" - \"&TableA17","v":"DC15 O .R. Tambo - Supporting Table SA17 Borrowing"}]
["Borrowing - Categorised by type",{"$f":"head27","v":"Ref"},{"$f":"head1b","v":"2016/17"},{"$f":"head1A","v":"2017/18"},{"$f":"Head1","v":"2018/19"},{"$f":"Head2","v":"Current Year 2019/20"},null,null,{"$f":"Head3","v":"2020/21 Medium Term Revenue & Expenditure Framework"}]
["R thousand",null,{"$f":"Head5","v":"Audited Outcome"},{"$f":"Head5","v":"Audited Outcome"},{"$f":"Head5","v":"Audited Outcome"},{"$f":"Head6","v":"Original Budget"},{"$f":"Head7","v":"Adjusted Budget"},{"$f":"Head8","v":"Full Year Forecast"},{"$f":"Head9","v":"Budget Year 2020/21"},{"$f":"Head10","v":"Budget Year +1 2021/22"},{"$f":"Head11","v":"Budget Year +2 2022/23"}]
["Parent municipality"]
["Annuity and Bullet Loans"]
["Long-Term Loans (non-annuity)"]
["Local registered stock"]
["Instalment Credit"]
["Financial Leases"]
["PPP liabilities"]
["Finance Granted By Cap Equipment Supplier"]
["Marketable Bonds"]
["Non-Marketable Bonds"]
["Bankers Acceptances"]
["Financial derivatives"]
["Other Securities"]
["Municipality sub-total",1,{"$f":"SUM(C5:C16)","v":0},{"$f":"SUM(D5:D16)","v":0},0,0,0,0,0,0,0]
[]
["Entities"]
[{"$f":"A5","v":"Annuity and Bullet Loans"}]
["Long-Term Loans (non-annuity)"]
["Local registered stock"]
["Instalment Credit"]
["Financial Leases"]
["PPP liabilities"]
["Finance Granted By Cap Equipment Supplier"]
["Marketable Bonds"]
["Non-Marketable Bonds"]
["Bankers Acceptances"]
["Financial derivatives"]
["Other Securities",null,0,0,0,0,0,0,0,0,0]
["Entities sub-total",1,{"$f":"SUM(C20:C31)","v":0},{"$f":"SUM(D20:D31)","v":0},0,0,0,0,0,0,0]
[]
["Total Borrowing",1,{"$f":"C17+C32","v":0},{"$f":"D17+D32","v":0},0,0,0,0,0,0,0]
[]
["Unspent Borrowing - Categorised by type"]
["Parent municipality"]
["Long-Term Loans (annuity/reducing balance)"]
["Long-Term Loans (non-annuity)"]
["Local registered stock"]
["Instalment Credit",null,null,null,null,null,null,null,null,null,null,null,null,null,null,null,null,null,null,null,null,null,null,null,null,null,null,null,null,null,null,null,null,null,null,null,null,null,null,null,null,null,439005000,null,539442200]
["Financial Leases"]
["PPP liabilities",null,null,null,null,null,null,null,null,null,null,null,null,null,null,null,null,null,null,null,null,null,0,null,0,null,null,0,null,0,null,null,0,null,0,null,null,0,null,0,null,null,1834701353,null,1241876995]
["Finance Granted By Cap Equipment Supplier",null,null,null,null,null,null,null,null,null,null,null,null,null,null,null,null,null,null,null,null,null,null,null,null,null,null,null,null,null,null,null,null,null,null,null,null,null,null,null,null,null,839041298,null,440387617]
["Marketable Bonds",null,null,null,null,null,null,null,null,null,null,null,null,null,null,null,null,null,null,null,null,null,null,null,null,null,null,null,null,null,null,null,null,null,null,null,null,null,null,null,null,null,976543638,null,782372961]
["Non-Marketable Bonds",null,null,null,null,null,null,null,null,null,null,null,null,null,null,null,null,null,null,null,null,null,null,null,null,null,null,null,null,null,null,null,null,null,null,null,null,null,null,null,null,null,19116417,null,19116417]
["Bankers Acceptances",null,null,null,null,null,null,null,null,null,null,null,null,null,null,null,null,null,null,null,null,null,null,null,null,null,null,null,null,null,null,null,null,null,null,null,null,null,null,null,null,null,2273706353,null,1781319195]
["Financial derivatives",null,null,null,null,null,null,null,null,null,null,null,null,null,null,null,null,null,null,null,null,null,null,null,null,null,null,null,null,null,null,null,null,null,null,null,null,null,null,null,null,null,180259232,null,140396729]
["Other Securities",null,null,null,null,null,null,null,null,null,null,null,null,null,null,null,null,null,null,null,null,null,null,null,null,null,null,null,null,null,null,null,null,null,null,null,null,null,null,null,null,null,125005000,null,100442200]
["Municipality sub-total",1,{"$f":"SUM(C38:C49)","v":0},{"$f":"SUM(D38:D49)","v":0},0,0,0,0,0,0,0,null,null,null,null,null,null,null,null,null,null,null,null,null,null,null,null,null,null,null,null,null,null,null,null,null,null,null,null,null,null,null,40341797,null,38954529]
[null,null,null,null,null,null,null,null,null,null,null,null,null,null,null,null,null,null,null,null,null,null,null,null,null,null,null,null,null,null,null,null,null,null,null,null,null,null,null,null,null,null,14912435,null,1000000]
["Entities"]
[{"$f":"A38","v":"Long-Term Loans (annuity/reducing balance)"}]
["Long-Term Loans (non-annuity)"]
["Local registered stock"]
["Instalment Credit"]
["Financial Leases"]
["PPP liabilities"]
["Finance Granted By Cap Equipment Supplier"]
["Marketable Bonds"]
["Non-Marketable Bonds"]
["Bankers Acceptances"]
["Financial derivatives"]
["Other Securities"]
["Entities sub-total",1,{"$f":"SUM(C53:C64)","v":0},{"$f":"SUM(D53:D64)","v":0},0,0,0,0,0,0,0]
[]
["Total Unspent Borrowing",1,{"$f":"C50+C65","v":0},{"$f":"D50+D65","v":0},0,0,0,0,0,0,0]
[]
[{"$f":"head27a","v":"References"}]
["1. Total borrowing must reconcile to Budgeted Financial Position (Borrowing - non-current)"]
["check borrowing balance",null,{"$f":"C34-'A6-FinPos'!C37","v":-38795339},{"$f":"D34-'A6-FinPos'!D37","v":0},{"$f":"E34-'A6-FinPos'!E37","v":0},{"$f":"F34-'A6-FinPos'!F37","v":-104000},{"$f":"G34-'A6-FinPos'!G37","v":0},{"$f":"H34-'A6-FinPos'!H37","v":0},{"$f":"I34-'A6-FinPos'!J37","v":0},{"$f":"J34-'A6-FinPos'!K37","v":0},{"$f":"K34-'A6-FinPos'!L37","v":0}]

{"sheet":"SA18","index":39,"n_rows":46,"n_cols":11,"rows_kept":46,"cut":false,"hidden":false,"merged":[[1,5,1,7],[1,8,1,10]]}
[{"$f":"muni&\" - \"& TableA18","v":"DC15 O .R. Tambo - Supporting Table SA18 Transfers and grant receipts"}]
[{"$f":"desc","v":"Description"},{"$f":"head27","v":"Ref"},{"$f":"head1b","v":"2016/17"},{"$f":"head1A","v":"2017/18"},{"$f":"Head1","v":"2018/19"},{"$f":"Head2","v":"Current Year 2019/20"},null,null,{"$f":"Head3","v":"2020/21 Medium Term Revenue & Expenditure Framework"}]
["R thousand",null,{"$f":"Head5","v":"Audited Outcome"},{"$f":"Head5","v":"Audited Outcome"},{"$f":"Head5","v":"Audited Outcome"},{"$f":"Head6","v":"Original Budget"},{"$f":"Head7","v":"Adjusted Budget"},{"$f":"Head8","v":"Full Year Forecast"},{"$f":"Head9","v":"Budget Year 2020/21"},{"$f":"Head10","v":"Budget Year +1 2021/22"},{"$f":"Head11","v":"Budget Year +2 2022/23"}]
["RECEIPTS:","1, 2"]
[]
["Operating Transfers and Grants"]
["National Government:",null,{"$f":"SUM(C8:C12)","v":674226000},734583641.75,798523000,863952000,868153001,868153001,931709002,991628997,1059277003]
["Local Government Equitable Share",{"$f":"IF(A8=\"  Levy replacement\",3,\"\")","v":""},669303000,727727641.75,791526000,855543000,855543001,855543001,918991002,989528997,1057177003]
["Expanded Public Works Programme Integrated Grant","",3213000,4811000,4882000,6294000,6294000,6294000,6517000,0,0]
["Local Government Financial Management Grant","",1710000,2045000,2115000,2115000,2115000,2115000,2000000,2100000,2100000]
["Municipal Disaster Relief Grant","",0,0,0,0,4201000,4201000,4201000,0,0]
["Revenue Enhancement Grant: Debtors Book","",0,0,0,0,0,0,0,0,0]
[" "]
["Provincial Government:",null,{"$f":"SUM(C15:C15)","v":0},0,0,0,0,0,0,0,0]
[{"$f":"A13","v":" "}]
["District Municipality:",null,{"$f":"SUM(C17:C17)","v":0},0,0,0,0,0,0,0,0]
["Specify (Add grant description)",null,0,0,0,0,0,0,0,0,0]
["Other grant providers:",null,{"$f":"SUM(C19:C19)","v":0},0,0,0,0,0,0,0,0]
[" "]
["Total Operating Transfers and Grants",5,{"$f":"C7+C14+C16+C18","v":674226000},734583641.75,798523000,863952000,868153001,868153001,931709002,991628997,1059277003]
[]
["Capital Transfers and Grants"]
[{"$f":"A7","v":"National Government:"},null,{"$f":"SUM(C24:C30)","v":1070117000},1055818682.23,1077583173.45,982905000,1149755730,1149755730,891519000,882465000,988437000]
["Municipal Disaster Relief Grant",null,0,0,0,0,0,0,0,0,0]
["Municipal Emergency Housing Grant",null,0,0,0,0,47250730,47250730,40000000,0,0]
["Municipal Infrastructure Grant ",null,617195000,617195000,640847397.24000001,633395000,633395000,633395000,628864000,687340000,730131000]
["Municipal Water Infrastructure Grant  ",null,0,108536202.2,0,0,0,0,0,0,0]
["Regional Bulk Infrastructure Grant ",null,343183000,327500000,288287577.86000001,246398000,246398000,246398000,129693000,100000000,160000000]
["Rural Road Asset Management Systems Grant  ",null,0,2587480.0299999998,2971841.41,3112000,3112000,3112000,2962000,3125000,3306000]
["Water Services Infrastructure Grant  ",null,109739000,0,145476356.94,100000000,219600000,219600000,90000000,92000000,95000000]
[" "]
[{"$f":"A14","v":"Provincial Government:"},null,{"$f":"SUM(C33)","v":0},{"$f":"SUM(D33)","v":0},0,0,0,0,0,0,0]
["Municipal Emergency Housing Grant",null,null,null,null,null,0,0,0]
[{"$f":"A16","v":"District Municipality:"},null,{"$f":"SUM(C35:C35)","v":0},0,0,0,0,0,0,0,0]
[" "]
[{"$f":"A18","v":"Other grant providers:"},null,{"$f":"SUM(C37:C37)","v":0},0,0,0,0,0,0,0,0]
[" "]
["Total Capital Transfers and Grants",5,{"$f":"C23+C32+C34+C36","v":1070117000},1055818682.23,1077583173.45,982905000,1149755730,1149755730,891519000,882465000,988437000]
["TOTAL RECEIPTS OF TRANSFERS & GRANTS",null,{"$f":"C20+C38","v":1744343000},1790402323.98,1876106173.45,1846857000,2017908731,2017908731,1823228002,1874093997,2047714003]
[{"$f":"head27a","v":"References"}]
["1. Each transfer/grant is listed by name as gazetted together with the name of the transferring department or municipality, donor or other organisation"]
["2. Amounts actually RECEIVED; not revenue recognised (objective is to confirm grants transferred)"]
["3. Replacement of RSC levies"]
["4. Housing subsidies for housing where ownership transferred to organisations or persons outside the control of the municipality"]
["5. Total transfers and grants must reconcile to Budgeted Cash Flows"]
["6. Motor vehicle licensing refunds to be included under 'agency' services (Not Grant Receipts)"]

{"sheet":"SA19","index":40,"n_rows":39,"n_cols":11,"rows_kept":39,"cut":false,"hidden":false,"merged":[[1,5,1,7],[1,8,1,10]]}
[{"$f":"muni&\" - \"& TableA19","v":"DC15 O .R. Tambo - Supporting Table SA19 Expenditure on transfers and grant programme"}]
[{"$f":"desc","v":"Description"},{"$f":"head27","v":"Ref"},{"$f":"head1b","v":"2016/17"},{"$f":"head1A","v":"2017/18"},{"$f":"Head1","v":"2018/19"},{"$f":"Head2","v":"Current Year 2019/20"},null,null,{"$f":"Head3","v":"2020/21 Medium Term Revenue & Expenditure Framework"}]
["R thousand",null,{"$f":"Head5","v":"Audited Outcome"},{"$f":"Head5","v":"Audited Outcome"},{"$f":"Head5","v":"Audited Outcome"},{"$f":"Head6","v":"Original Budget"},{"$f":"Head7","v":"Adjusted Budget"},{"$f":"Head8","v":"Full Year Forecast"},{"$f":"Head9","v":"Budget Year 2020/21"},{"$f":"Head10","v":"Budget Year +1 2021/22"},{"$f":"Head11","v":"Budget Year +2 2022/23"}]
["EXPENDITURE:",1]
[]
["Operating expenditure of Transfers and Grants"]
[{"$f":"'SA18'!A7","v":"National Government:"},null,{"$f":"SUM(C8:C11)","v":674226000},734583641.75,799434067.66999996,947222189,995294660,995294660,931709002,991628997,1059277003]
["Local Government Equitable Share",null,669303000,{"$f":"[5]SA18!D8","v":727727641.75},{"$f":"[5]SA18!E8","v":791526000},938813189,984005660,984005660,{"$f":"'SA18'!I8","v":918991002},{"$f":"'SA18'!J8","v":989528997},{"$f":"'SA18'!K8","v":1057177003}]
["Expanded Public Works Programme Integrated Grant",null,3213000,{"$f":"[5]SA18!D9","v":4811000},5793067.6699999999,6294000,6294000,6294000,{"$f":"'SA18'!I9","v":6517000},{"$f":"'SA18'!J9","v":0},{"$f":"'SA18'!K9","v":0}]
["Local Government Financial Management Grant",null,1710000,{"$f":"[5]SA18!D10","v":2045000},{"$f":"[5]SA18!E10","v":2115000},2115000,2115000,2115000,{"$f":"'SA18'!I10","v":2000000},{"$f":"'SA18'!J10","v":2100000},{"$f":"'SA18'!K10","v":2100000}]
["Municipal Disaster Relief Grant",null,0,0,0,0,2880000,2880000,4201000,0,0]
[" "]
[{"$f":"'SA18'!A14","v":"Provincial Government:"},null,{"$f":"SUM(C14:C14)","v":0},0,0,0,0,0,0,0,0]
[" "]
[{"$f":"'SA18'!A16","v":"District Municipality:"},null,{"$f":"SUM(C16:C16)","v":0},0,0,0,0,0,0,0,0]
["Specify (Add grant description)",null,0,0,0,0,0,0,0,0,0]
[{"$f":"'SA18'!A18","v":"Other grant providers:"},null,{"$f":"SUM(C18:C18)","v":0},0,0,0,0,0,0,0,0]
[" "]
["Total operating expenditure of Transfers and Grants:",null,{"$f":"C7+C13+C15+C17","v":674226000},734583641.75,799434067.66999996,947222189,995294660,995294660,931709002,991628997,1059277003]
[]
["Capital expenditure of Transfers and Grants"]
[{"$f":"'SA18'!A23","v":"National Government:"},null,{"$f":"SUM(C23:C28)","v":726934000},647805480.02999997,433763934.80000001,982905001,1212220772,1212220772,891519000,882465000,988437000]
["Municipal Disaster Relief Grant",null,0,0,0,0,1321000,1321000,0,0,0]
["Municipal Emergency Housing Grant",null,0,0,{"$f":"[5]SA18!E25","v":0},0,47250730,47250730,40000000,0,0]
["Municipal Infrastructure Grant ",null,617195000,645218000,{"$f":"[5]SA18!E26","v":288287577.86000001},633395001,644539043,644539043,628864000,687340000,730131000]
["Regional Bulk Infrastructure Grant ",null,{"$f":"[5]SA18!C28","v":109739000},{"$f":"[5]SA18!D28","v":0},{"$f":"[5]SA18!E28","v":145476356.94},246398000,246398000,246398000,129693000,100000000,160000000]
["Rural Road Asset Management Systems Grant  ",null,{"$f":"[5]SA18!C29","v":0},{"$f":"[5]SA18!D29","v":0},{"$f":"[5]SA18!E29","v":0},3112000,3112000,3112000,2962000,3125000,3306000]
["Water Services Infrastructure Grant  ",null,{"$f":"[5]SA18!C30","v":0},{"$f":"[5]SA18!D27","v":2587480.0299999998},{"$f":"[5]SA18!E30","v":0},100000000,269599999,269599999,90000000,92000000,95000000]
[{"$f":"'SA18'!A32","v":"Provincial Government:"},null,{"$f":"SUM(C30:C30)","v":0},0,0,0,0,0,0,0,0]
["Housing",null,0,0,0,0,0,0,0,0,0]
[{"$f":"'SA18'!A34","v":"District Municipality:"},null,{"$f":"SUM(C32:C32)","v":0},0,0,0,0,0,0,0,0]
["Specify (Add grant description)",null,0,0,0,0,0,0,0,0,0]
[{"$f":"'SA18'!A36","v":"Other grant providers:"},null,{"$f":"SUM(C34:C34)","v":0},0,0,0,0,0,0,0,0]
[" "]
["Total capital expenditure of Transfers and Grants",null,{"$f":"C22+C29+C31+C33","v":726934000},647805480.02999997,433763934.80000001,982905001,1212220772,1212220772,891519000,882465000,988437000]
[]
["TOTAL EXPENDITURE OF TRANSFERS AND GRANTS",null,{"$f":"C19+C35","v":1401160000},1382389121.78,1233198002.47,1930127190,2207515432,2207515432,1823228002,1874093997,2047714003]
[{"$f":"head27a","v":"References"}]
["1. Expenditure must be separately listed for each transfer or grant received or recognised"]

{"sheet":"SA20","index":41,"n_rows":60,"n_cols":11,"rows_kept":60,"cut":false,"hidden":false,"merged":[[56,0,56,10],[1,5,1,7],[1,8,1,10],[54,0,54,10],[55,0,55,10]]}
[{"$f":"muni&\" - \"& TableA20","v":"DC15 O .R. Tambo - Supporting Table SA20 Reconciliation of transfers, grant receipts and unspent funds"}]
[{"$f":"desc","v":"Description"},{"$f":"head27","v":"Ref"},{"$f":"head1b","v":"2016/17"},{"$f":"head1A","v":"2017/18"},{"$f":"Head1","v":"2018/19"},{"$f":"Head2","v":"Current Year 2019/20"},null,null,{"$f":"Head3","v":"2020/21 Medium Term Revenue & Expenditure Framework"}]
["R thousand",null,{"$f":"Head5","v":"Audited Outcome"},{"$f":"Head5","v":"Audited Outcome"},{"$f":"Head5","v":"Audited Outcome"},{"$f":"Head6","v":"Original Budget"},{"$f":"Head7","v":"Adjusted Budget"},{"$f":"Head8","v":"Full Year Forecast"},{"$f":"Head9","v":"Budget Year 2020/21"},{"$f":"Head10","v":"Budget Year +1 2021/22"},{"$f":"Head11","v":"Budget Year +2 2022/23"}]
["Operating transfers and grants:","1,3"]
[{"$f":"'SA18'!A7","v":"National Government:"},null,0,0,0,0,0,0,0,0,0]
["Balance unspent at beginning of the year",null,0,0,0,0,0,0,0,0,0]
["Current year receipts",null,{"$f":"'SA19'!C7","v":674226000},{"$f":"'SA19'!D7","v":734583641.75},{"$f":"'SA19'!E7","v":799434067.66999996},{"$f":"'SA19'!F7","v":947222189},{"$f":"'SA19'!G7","v":995294660},{"$f":"'SA19'!H7","v":995294660},{"$f":"'SA19'!I7","v":931709002},{"$f":"'SA19'!J7","v":991628997},{"$f":"'SA19'!K7","v":1059277003}]
["Conditions met - transferred to revenue",null,{"$f":"C6+C7-C9","v":674226000},734583641.75,799434067.66999996,947222189,995294660,995294660,931709002,991628997,1059277003]
["Conditions still to be met - transferred to liabilities",null,0,0,0,0,0,0,0,0,0]
["Provincial Government:"]
["Balance unspent at beginning of the year"]
[{"$f":"A7","v":"Current year receipts"}]
[{"$f":"A8","v":"Conditions met - transferred to revenue"},null,{"$f":"C11+C12-C14","v":0},0,0,0,0,0,0,0,0]
[{"$f":"A9","v":"Conditions still to be met - transferred to liabilities"}]
["District Municipality:"]
[{"$f":"A11","v":"Balance unspent at beginning of the year"}]
[{"$f":"A12","v":"Current year receipts"}]
[{"$f":"A13","v":"Conditions met - transferred to revenue"},null,{"$f":"C16+C17-C19","v":0},0,0,0,0,0,0,0,0]
[{"$f":"A14","v":"Conditions still to be met - transferred to liabilities"}]
["Other grant providers:"]
[{"$f":"A11","v":"Balance unspent at beginning of the year"}]
[{"$f":"A12","v":"Current year receipts"}]
[{"$f":"A13","v":"Conditions met - transferred to revenue"},null,{"$f":"C21+C22-C24","v":0},0,0,0,0,0,0,0,0]
[{"$f":"A14","v":"Conditions still to be met - transferred to liabilities"}]
["Total operating transfers and grants revenue",null,{"$f":"C8+C13+C18+C23","v":674226000},734583641.75,799434067.66999996,947222189,995294660,995294660,931709002,991628997,1059277003]
["Total operating transfers and grants - CTBM",2,0,0,0,0,0,0,0,0,0]
[]
["Capital transfers and grants:","1,3"]
[{"$f":"A5","v":"National Government:"}]
["Balance unspent at beginning of the year",null,0,0,0,0,0,0,0,0,0]
["Current year receipts",null,{"$f":"'SA19'!C22","v":726934000},{"$f":"'SA19'!D22","v":647805480.02999997},{"$f":"'SA19'!E22","v":433763934.80000001},{"$f":"'SA19'!F22","v":982905001},{"$f":"'SA19'!G22","v":1212220772},{"$f":"'SA19'!H22","v":1212220772},{"$f":"'SA19'!I22","v":891519000},{"$f":"'SA19'!J22","v":882465000},{"$f":"'SA19'!K22","v":988437000}]
["Conditions met - transferred to revenue",null,{"$f":"C30+C31-C33","v":726934000},647805480.02999997,433763934.80000001,982905001,1212220772,1212220772,891519000,882465000,988437000]
["Conditions still to be met - transferred to liabilities",null,0,0,0,0,0,0,0,0,0]
["Provincial Government:"]
["Balance unspent at beginning of the year"]
[{"$f":"A31","v":"Current year receipts"}]
[{"$f":"A32","v":"Conditions met - transferred to revenue"},null,{"$f":"C35+C36-C38","v":0},0,0,0,0,0,0,0,0]
[{"$f":"A33","v":"Conditions still to be met - transferred to liabilities"}]
["District Municipality:"]
[{"$f":"A35","v":"Balance unspent at beginning of the year"}]
[{"$f":"A36","v":"Current year receipts"}]
[{"$f":"A37","v":"Conditions met - transferred to revenue"},null,{"$f":"C40+C41-C43","v":0},0,0,0,0,0,0,0,0]
[{"$f":"A38","v":"Conditions still to be met - transferred to liabilities"}]
["Other grant providers:"]
[{"$f":"A35","v":"Balance unspent at beginning of the year"}]
[{"$f":"A36","v":"Current year receipts"}]
[{"$f":"A37","v":"Conditions met - transferred to revenue"},null,{"$f":"C45+C46-C48","v":0},0,0,0,0,0,0,0,0]
[{"$f":"A38","v":"Conditions still to be met - transferred to liabilities"}]
["Total capital transfers and grants revenue",null,{"$f":"C32+C37+C42+C47","v":726934000},647805480.02999997,433763934.80000001,982905001,1212220772,1212220772,891519000,882465000,988437000]
["Total capital transfers and grants - CTBM",2,0,0,0,0,0,0,0,0,0]
[]
["TOTAL TRANSFERS AND GRANTS REVENUE",null,{"$f":"C25+C49","v":1401160000},1382389121.78,1233198002.47,1930127190,2207515432,2207515432,1823228002,1874093997,2047714003]
["TOTAL TRANSFERS AND GRANTS - CTBM",null,{"$f":"C26+C50","v":0},{"$f":"D26+D50","v":0},0,0,0,0,0,0,0]
[{"$f":"head27a","v":"References"}]
["1. Total capital transfers and grants revenue must reconcile to Budgeted Financial Performance and Financial Position; total recurrent grants revenue must reconcile to Budgeted Financial Performance"]
["2. CTBM = conditions to be met"]
["3. National Treasury database will require this reconciliation for each transfer/grant"]
[]
["Check opex",null,{"$f":"C25-'A4-FinPerf RE'!C18","v":25825780},{"$f":"D25-'A4-FinPerf RE'!D18","v":5907064.75},{"$f":"E25-'A4-FinPerf RE'!E18","v":5622246.6699999571},{"$f":"F25-'A4-FinPerf RE'!F18","v":83270189},{"$f":"G25-'A4-FinPerf RE'!G18","v":94350100},{"$f":"H25-'A4-FinPerf RE'!H18","v":94350100},{"$f":"I25-'A4-FinPerf RE'!J18","v":-44327179},{"$f":"J25-'A4-FinPerf RE'!K18","v":-44913469},{"$f":"K25-'A4-FinPerf RE'!L18","v":-45567269}]
["Check capex",null,{"$f":"C49-'A5-Capex'!C70","v":-82337875},{"$f":"D49-'A5-Capex'!D70","v":-83974313.970000029},{"$f":"E49-'A5-Capex'!E70","v":-428773210.19999999},{"$f":"F49-'A5-Capex'!F70","v":0},{"$f":"G49-'A5-Capex'!G70","v":-7245000},{"$f":"H49-'A5-Capex'!H70","v":-7245000},{"$f":"I49-'A5-Capex'!J70","v":-28896000},{"$f":"J49-'A5-Capex'!K70","v":-6833000},{"$f":"K49-'A5-Capex'!L70","v":-6852800}]

{"sheet":"SA21","index":42,"n_rows":77,"n_cols":12,"rows_kept":77,"cut":false,"hidden":false,"merged":[[1,9,1,11],[1,5,1,8]]}
[{"$f":"muni&\" - \"& TableA21","v":"DC15 O .R. Tambo - Supporting Table SA21 Transfers and grants made by the municipality"}]
[{"$f":"desc","v":"Description"},{"$f":"head27","v":"Ref"},{"$f":"head1b","v":"2016/17"},{"$f":"head1A","v":"2017/18"},{"$f":"Head1","v":"2018/19"},{"$f":"Head2","v":"Current Year 2019/20"},null,null,null,{"$f":"Head3","v":"2020/21 Medium Term Revenue & Expenditure Framework"}]
["R thousand",null,{"$f":"Head5","v":"Audited Outcome"},{"$f":"Head5","v":"Audited Outcome"},{"$f":"Head5","v":"Audited Outcome"},{"$f":"Head6","v":"Original Budget"},{"$f":"Head7","v":"Adjusted Budget"},{"$f":"Head8","v":"Full Year Forecast"},{"$f":"Head5b","v":"Pre-audit outcome"},{"$f":"Head9","v":"Budget Year 2020/21"},{"$f":"Head10","v":"Budget Year +1 2021/22"},{"$f":"Head11","v":"Budget Year +2 2022/23"}]
[]
["Cash Transfers to other municipalities"]
["Pg Ec - Other - Local & Region Econ Dev",1,0,{"$f":"30325379.95-15368000","v":14957379.949999999},31747157.800000001,0,0,0,0,0,0,0]
["Pg Ec - Other - Munic Supp & Governance",null,0,2218165.7400000002,0,0,0,0,0,0,0,0]
[]
["Total Cash Transfers To Municipalities:",null,{"$f":"SUM(C6:C8)","v":0},{"$f":"SUM(D6:D8)","v":17175545.689999998},31747157.800000001,0,0,0,0,0,0,0]
[]
["Cash Transfers to Entities/Other External Mechanisms"]
["Pg Ec - Other - Local & Region Econ Dev",2,0,0,0,32791559,43191559,43191559,30132356.52,44267179,44843469,45492269]
[]
[]
["Total Cash Transfers To Entities/Ems'",null,{"$f":"SUM(C12:C14)","v":0},{"$f":"SUM(D12:D14)","v":0},0,32791559,43191559,43191559,30132356.52,44267179,44843469,45492269]
[]
["Cash Transfers to other Organs of State"]
[null,3]
[]
[]
["Total Cash Transfers To Other Organs Of State:",null,{"$f":"SUM(C18:C20)","v":0},{"$f":"SUM(D18:D20)","v":0},0,0,0,0,0,0,{"$f":"SUM(K18:K20)","v":0},0]
[]
["Cash Transfers to Organisations"]
["Pg Ec - Other - Munic Supp & Governance",null,0,0,0,550610,685072,685072,0,715900,748831,783277]
[]
["Total Cash Transfers To Organisations",null,{"$f":"SUM(C24:C25)","v":0},0,0,550610,685072,685072,0,715900,748831,783277]
[]
["Cash Transfers to Groups of Individuals"]
["Hh Oth Trans: Farmer Support Households",null,0,{"$f":"59067269.91-30736500-15368000","v":12962769.909999996},3283000,0,0,0,0,0,0,0]
["Hh Ssp Soc Ass: Poverty Relief",null,0,49583.87,0,58212,0,0,0,61356,64669,0]
[]
["Total Cash Transfers To Groups Of Individuals:",null,{"$f":"SUM(C29:C31)","v":0},13012353.779999996,3283000,58212,0,0,0,61356,64669,0]
["TOTAL CASH TRANSFERS AND GRANTS",6,{"$f":"C9+C15+C21+C26+C32","v":0},30187899.469999991,35030157.799999997,33400381,43876631,43876631,30132356.52,45044435,45656969,46275546]
[]
["Non-Cash Transfers to other municipalities"]
[null,1]
[]
[]
["Total Non-Cash Transfers To Municipalities:",null,{"$f":"SUM(C36:C38)","v":0},{"$f":"SUM(D36:D38)","v":0},0,0,0,0,0,0,0,0]
[]
["Non-Cash Transfers to Entities/Other External Mechanisms"]
[null,2]
[]
[]
["Total Non-Cash Transfers To Entities/Ems'",null,{"$f":"SUM(C42:C44)","v":0},{"$f":"SUM(D42:D44)","v":0},0,0,0,0,0,0,0,0]
[]
["Non-Cash Transfers to other Organs of State"]
[null,3]
[]
[]
["Total Non-Cash Transfers To Other Organs Of State:",null,{"$f":"SUM(C48:C50)","v":0},{"$f":"SUM(D48:D50)","v":0},0,0,0,0,0,0,{"$f":"SUM(K48:K50)","v":0},{"$f":"SUM(L48:L50)","v":0}]
[]
["Non-Cash Grants to Organisations"]
["Priv Ent: Subs N-Fin Entpr - Production",4,0,10064580.539999999,15128661.869999999,16051407,18051407,18051407,11108238.869999999,26363720,22869450,23921446]
[]
[]
["Total Non-Cash Grants To Organisations",null,{"$f":"SUM(C54:C56)","v":0},{"$f":"SUM(D54:D56)","v":10064580.539999999},15128661.869999999,16051407,18051407,18051407,11108238.869999999,26363720,{"$f":"SUM(K54:K56)","v":22869450},{"$f":"SUM(L54:L56)","v":23921446}]
[]
["Groups of Individuals"]
["Hh Oth Trans: Rural Dev - Building &Cons",5,112119877,0,0,0,0,0,0,0,0,0]
["Hh Ssp Soc Ass: Care Dependency",null,0,200000,185318,158100,88460,88460,88460,92441,96693,101141]
["Hh Ssp Soc Ass: Clothing Provided",null,0,123254,81716.399999999994,158100,158100,158100,143050,165215,172814,180764]
["Hh Ssp Soc Ass: Poverty Relief",null,0,4621516.4000000004,3169847.71,4868974,6653208,6653208,4266707.43,4352603,4552822,4762252]
["Hh Ssp Soc Ass: Social Relief",null,0,{"$f":"14951790.41","v":14951790.41},{"$f":"9389370.23+24210000","v":33599370.230000004},14031214,15013890,15013890,9427243.1199999992,18461153,14756368,15251448]
["Hh Ssp Soc Ass: War Veterans",null,0,0,19990,110881,135915,135915,59650,620067,648590,855398]
["Hh: Bursaries Non-Employee Cash",null,0,5958305.7000000002,5243632.32,2745600,3545600,3545600,1050104.3600000001,2205152,2306589,2412692]
[]
["Total Non-Cash Grants To Groups Of Individuals:",null,{"$f":"SUM(C60:C67)","v":112119877},25854866.510000002,42299874.660000004,22072869,25595173,25595173,15035214.909999998,25896631,22533876,23563695]
["TOTAL NON-CASH TRANSFERS AND GRANTS",null,{"$f":"C39+C45+C51+C57+C68","v":112119877},35919447.049999997,57428536.530000001,38124276,43646580,43646580,26143453.779999997,52260351,45403326,47485141]
["TOTAL TRANSFERS AND GRANTS",6,{"$f":"C33+C69","v":112119877},{"$f":"D33+D69","v":66107346.519999988},92458694.329999998,71524657,87523211,87523211,56275810.299999997,97304786,91060295,93760687]
[{"$f":"head27a","v":"References"}]
["1. Insert description listed by municipal name and demarcation code of recipient"]
["2. Insert description of each entity or external mechanism (an external mechanism may be provided with resources to ensure a minimum level of service)"]
["3. Insert description of each Organ of State (e.g. transfer to electricity provider to compensate for FBS provided)"]
["4. Insert description of each other organisation (e.g. charity)"]
["5 Insert description of each other organisation (e.g. the aged, child-headed households)"]
["6. All descriptions should separate transfers for 'capital purposes' and 'operating purposes'"]

{"sheet":"SA22","index":43,"n_rows":120,"n_cols":11,"rows_kept":120,"cut":false,"hidden":false,"merged":[[1,5,1,7],[1,8,1,10]]}
[{"$f":"muni&\" - \"&TableA22","v":"DC15 O .R. Tambo - Supporting Table SA22 Summary councillor and staff benefits"}]
["Summary of Employee and Councillor remuneration",{"$f":"head27","v":"Ref"},{"$f":"head1b","v":"2016/17"},{"$f":"head1A","v":"2017/18"},{"$f":"Head1","v":"2018/19"},{"$f":"Head2","v":"Current Year 2019/20"},null,null,{"$f":"Head3","v":"2020/21 Medium Term Revenue & Expenditure Framework"}]
["R thousand",null,{"$f":"Head5","v":"Audited Outcome"},{"$f":"Head5","v":"Audited Outcome"},{"$f":"Head5","v":"Audited Outcome"},{"$f":"Head6","v":"Original Budget"},{"$f":"Head7","v":"Adjusted Budget"},{"$f":"Head8","v":"Full Year Forecast"},{"$f":"Head9","v":"Budget Year 2020/21"},{"$f":"Head10","v":"Budget Year +1 2021/22"},{"$f":"Head11","v":"Budget Year +2 2022/23"}]
[null,1,"A","B","C","D","E","F","G","H","I"]
["Councillors (Political Office Bearers plus Other)"]
["Basic Salaries and Wages",null,17749620,13066142.84,14103356.130000001,15128472,15128472,15128472,16074002,17078627,18146040]
["Pension and UIF Contributions",null,0,0,0,0,0,0,0,0,0]
["Medical Aid Contributions",null,0,0,0,0,0,0,0,0,0]
["Motor Vehicle Allowance"]
["Cellphone Allowance",null,0,632459.79,793109.63,2560468,2560468,2560468,2720498,2890529,3071187]
["Housing Allowances",null,0,45779.08,0,0,0,0,0,0,0]
["Other benefits and allowances",null,0,4235988.07,6731657.7300000004,4970158,4970158,4970158,5280794,5610843,5961520]
["Sub Total - Councillors",null,{"$f":"SUM(C6:C12)","v":17749620},17980369.780000001,21628123.490000002,22659098,22659098,22659098,24075294,25579999,27178747]
["% increase",4,null,{"$f":"IF(ISERROR((D13/C13)-1),0,((D13/C13)-1))","v":1.3000265921186083E-2},{"$f":"IF(ISERROR((E13/D13)-1),0,((E13/D13)-1))","v":0.20287423198923782},4.7668236704708988E-2,0,0,6.2500104814410484E-2,6.2499963655687774E-2,6.2499924257229278E-2]
[]
["Senior Managers of the Municipality",2]
["Basic Salaries and Wages",null,12457143,11340092.699999999,10300395.310000001,15243587,15243587,15243587,14188084.721496876,15074840.016590431,16017017.517627332]
["Pension and UIF Contributions",null,571466,112102.8,196061.76,663884,763884,763884,null,0,0]
["Medical Aid Contributions",null,0,0,0,919881,919881,919881,null,0,0]
["Overtime",null,0,null,null,null,null,null,null,0,0]
["Performance Bonus",null,0,495088.24,374454.66,4727365,2027365,2027365,null,0,0]
["Motor Vehicle Allowance",3,2454814,1421208.54,1694976.71,3131128,3131128,3131128,2782030.8330525002,2955907.7601182815,3140651.9951256742]
["Cellphone Allowance",3,282021,1028757.54,204194.97,2259995,2259995,2259995,388875,413179.6875,439003.41796875]
["Housing Allowances",3,0,220000,240000,456891,456891,456891,399764.5201275,424749.80263546878,451296.66530018556]
["Other benefits and allowances",3,306147]
["Payments in lieu of leave",null,0]
["Long service awards",null,0]
["Post-retirement benefit obligations",6,0,0,0,0,0,0,0,0,0]
["Sub Total - Senior Managers of Municipality",null,{"$f":"SUM(C17:C28)","v":16071591},{"$f":"SUM(D17:D28)","v":14617249.82},13010083.410000002,27402731,24802731,24802731,17758755.074676879,18868677.266844183,20047969.596021943]
[{"$f":"$A$14","v":"% increase"},{"$f":"$B$14","v":4},null,{"$f":"IF(ISERROR((D29/C29)-1),0,((D29/C29)-1))","v":-9.0491425522214897E-2},{"$f":"IF(ISERROR((E29/D29)-1),0,((E29/D29)-1))","v":-0.10994998579014492},1.1062686638071288,-9.488105400881397E-2,0,-0.28400001295515087,6.25E-2,6.25E-2]
[]
["Other Municipal Staff"]
["Basic Salaries and Wages",null,272377026,293788722.37,292792844.56999999,350971292,344579292,344579292,{"$f":"379811224.278503+3699549","v":383510773.278503},{"$f":"403549429.98341+1593845","v":405143274.98341},{"$f":"428771266.482373+1693846","v":430465112.482373}]
["Pension and UIF Contributions",null,9002322,37812101.920000002,45378525.710000001,54841034,54741034,54741034,58973977,62659853,66576094]
["Medical Aid Contributions",null,11401858,27271396.23,42393556,28109535,30109535,30109535,32968753,35029301,37218636]
["Overtime",null,16833855]
["Performance Bonus",null,null,26137269.489999998,19525000.890000001,18901758,20201758,20201758,23618444,25094594,26663006]
["Motor Vehicle Allowance",3,33818216,35029937.520000003,36472386.960000001,33878206,33878206,33878206,36540382.166947499,38824153.239881717,41250669.004874326]
["Cellphone Allowance",3,1197895,3285499.76,2616428.84,1403262,2203262,2203262,4353336,4625417.3125,4914505.58203125]
["Housing Allowances",3,11409294,16824656.48,17944230.16,19235417,19235417,19235417,20523314.479872499,21806016.197364531,23168893.334699813]
["Other benefits and allowances",3,47486110,29080769.690000001,54702193.93,37231881,42231881,42231881,44698700,47322239,50101924]
["Payments in lieu of leave",null,11815967,-760378,1387422.32,0,200000,200000,212500,225781,239893]
["Long service awards",null,null,11764071.880000001,1046089.43,0,200000,200000,212500,225781,239893]
["Post-retirement benefit obligations",6,4889000,15404897.369999999,11947366.59,7734843,7734843,7734843,8218271,8731913,9277657]
["Sub Total - Other Municipal Staff",null,{"$f":"SUM(C33:C44)","v":420231543},495638944.71000004,526206045.39999992,552307228,555315228,555315228,613830950.92532301,649688323.73315632,690116283.40397847]
[{"$f":"$A$14","v":"% increase"},{"$f":"$B$14","v":4},null,{"$f":"IF(ISERROR((D45/C45)-1),0,((D45/C45)-1))","v":0.1794425072703314},{"$f":"IF(ISERROR((E45/D45)-1),0,((E45/D45)-1))","v":6.1672112363738485E-2},4.9602589761505111E-2,5.4462441328035904E-3,0,0.10537388491230604,5.8415713241210643E-2,6.2226698855414542E-2]
[]
["Total Parent Municipality",null,{"$f":"C13+C29+C45","v":454052754},528236564.31000006,560844252.29999995,602369057,602777057,602777057,655664999.99999988,694137000.00000048,737343000.00000036]
[null,null,null,{"$f":"IF(ISERROR((D48/C48)-1),0,((D48/C48)-1))","v":0.16338147859796948},{"$f":"IF(ISERROR((E48/D48)-1),0,((E48/D48)-1))","v":6.1729327716253612E-2},7.4039815028340783E-2,6.7732562829836418E-4,0,8.774047118385897E-2,5.8676305735399392E-2,6.2244196750785186E-2]
[]
["Board Members of Entities"]
["Basic Salaries and Wages"]
["Pension and UIF Contributions"]
["Medical Aid Contributions"]
["Overtime"]
["Performance Bonus"]
["Motor Vehicle Allowance",3]
["Cellphone Allowance",3]
["Housing Allowances",3]
["Other benefits and allowances",3]
["Board Fees"]
["Payments in lieu of leave"]
["Long service awards"]
["Post-retirement benefit obligations",6]
["Sub Total - Board Members of Entities",null,{"$f":"SUM(C52:C64)","v":0},{"$f":"SUM(D52:D64)","v":0},0,0,0,0,0,0,0]
[{"$f":"$A$14","v":"% increase"},{"$f":"$B$14","v":4},null,{"$f":"IF(ISERROR((D65/C65)-1),0,((D65/C65)-1))","v":0},{"$f":"IF(ISERROR((E65/D65)-1),0,((E65/D65)-1))","v":0},0,0,0,0,0,0]
[]
["Senior Managers of Entities"]
["Basic Salaries and Wages",null,0,0,0,0,6726525,6726525,18818755,20032224,21324081]
["Pension and UIF Contributions",null,0,0,0,0,867752,867752,870774,926678,986216]
["Medical Aid Contributions"]
["Overtime"]
["Performance Bonus",null,0,0,0,0,486626,486626,504066,536830,571724]
["Motor Vehicle Allowance",3,0,0,0,0,969295,969295,990435,1054814,1123376]
["Cellphone Allowance",3,0,0,0,0,166621,166621,517095,550706,586502]
["Housing Allowances",3]
["Other benefits and allowances",3]
["Payments in lieu of leave"]
["Long service awards"]
["Post-retirement benefit obligations",6]
["Sub Total - Senior Managers of Entities",null,{"$f":"SUM(C69:C80)","v":0},{"$f":"SUM(D69:D80)","v":0},0,0,9216819,9216819,21701125,23101252,24591899]
[{"$f":"$A$14","v":"% increase"},{"$f":"$B$14","v":4},null,{"$f":"IF(ISERROR((D81/C81)-1),0,((D81/C81)-1))","v":0},{"$f":"IF(ISERROR((E81/D81)-1),0,((E81/D81)-1))","v":0},0,0,0,1.3545135257619791,6.451863670662239E-2,6.4526675870208328E-2]
[]
["Other Staff of Entities"]
["Basic Salaries and Wages",null,0,0,0,0,25142655,25142655,16865711,18144168,19323538]
["Pension and UIF Contributions",null,0,0,0,0,3479761,3479761,3476966,3695546,3928002]
["Medical Aid Contributions"]
["Overtime"]
["Performance Bonus",null,0,0,0,0,1981763,1981763,1986661,2209294,2289898]
["Motor Vehicle Allowance",3,0,0,0,0,3470623,3470623,3851035,4101352,4367939]
["Cellphone Allowance",3,0,0,0,0,997700,997700,448090,477217,508236]
["Housing Allowances",3,0,0,0,0,0,0,0,0,0]
["Other benefits and allowances",3,0,0,0,0,250000,250000,115600,125600,135736]
["Payments in lieu of leave",null,0,0,0,0,210000,210000,124700,240429,257259]
["Long service awards"]
["Post-retirement benefit obligations",6]
["Sub Total - Other Staff of Entities",null,{"$f":"SUM(C85:C96)","v":0},{"$f":"SUM(D85:D96)","v":0},0,0,35532502,35532502,26868763,28993606,30810608]
[{"$f":"$A$14","v":"% increase"},{"$f":"$B$14","v":4},null,{"$f":"IF(ISERROR((D97/C97)-1),0,((D97/C97)-1))","v":0},{"$f":"IF(ISERROR((E97/D97)-1),0,((E97/D97)-1))","v":0},0,0,0,-0.24382575142048823,7.9082278555212993E-2,6.2669058826280599E-2]
[]
["Total Municipal Entities",null,{"$f":"C65+C81+C97","v":0},{"$f":"D65+D81+D97","v":0},0,0,44749321,44749321,48569888,52094858,55402507]
[]
["TOTAL SALARY, ALLOWANCES & BENEFITS",null,{"$f":"C48+C100","v":454052754},{"$f":"D48+D100","v":528236564.31000006},{"$f":"E48+E100","v":560844252.29999995},602369057,647526378,647526378,704234887.99999988,746231858.00000048,792745507.00000036]
[{"$f":"$A$14","v":"% increase"},{"$f":"$B$14","v":4},null,{"$f":"IF(ISERROR((D102/C102)-1),0,((D102/C102)-1))","v":0.16338147859796948},{"$f":"IF(ISERROR((E102/D102)-1),0,((E102/D102)-1))","v":6.1729327716253612E-2},7.4039815028340783E-2,7.4966202986751274E-2,0,8.7577142687459641E-2,5.9634889886342357E-2,6.2331363236973747E-2]
["TOTAL MANAGERS AND STAFF","5,7",{"$f":"C29+C45+C81+C97","v":436303134},510256194.53000003,539216128.80999994,579709959,624867280,624867280,680159593.99999988,720651859.00000048,765566760.00000036]
[{"$f":"head27a","v":"References"}]
["1. Include 'Loans and advances' where applicable if any reportable amounts until phased compliance with s164 of MFMA achieved"]
["2. s57 of the Systems Act"]
["3. In kind benefits (e.g. provision of living quarters) must be shown as the cost (full market value) to the municipality, as part of the relevant allowance"]
["4. B/A, C/B, D/C, E/C, F/C, G/D, H/D, I/D"]
["5. Must agree to the sub-total appearing on Table A1 (Employee costs)"]
["6. Includes pension payments and employer contributions to medical aid"]
["7. Correct as at 30 June"]
[]
["Column Definitions:"]
["A, B and C. Audited actual as per the audited financial statements. If audited amounts are unavailable, unaudited amounts must be provided with a note stating these are unaudited"]
["D. The original budget approved by council for the budget year."]
["E. The budget for the budget year as adjusted by council resolution in terms of section 28 of the MFMA."]
["F. An estimate of final actual amounts (pre audit) for the current year at the point in time of preparing the budget for the budget year. This may differ from E."]
["G. The amount to be appropriated for the budget year."]
["H and I. The indicative projection"]

{"sheet":"SA23","index":44,"n_rows":78,"n_cols":9,"rows_kept":78,"cut":false,"hidden":false,"merged":[[1,2,2,2],[1,5,2,5],[1,3,2,3],[1,6,2,6]]}
[{"$f":"muni&\" - \"&TableA23","v":"DC15 O .R. Tambo - Supporting Table SA23 Salaries, allowances & benefits (political office bearers/councillors/senior managers)"}]
["Disclosure of Salaries, Allowances & Benefits 1.",{"$f":"head27","v":"Ref"},"No.","Salary","\nContributions\n","Allowances","Performance  Bonuses","In-kind benefits","Total Package"]
["Rand per annum",null,null,null,"1.",null,null,null,"2."]
["Councillors",3]
["Speaker",4,null,686072.20715625002,null,296193.56224072038,null,null,{"$f":"SUM(D5:F5)","v":982265.7693969704}]
["Chief Whip",null,null,643192.16179687495,null,281328.47984947037,null,null,924520.64164634538]
["Executive Mayor",null,null,857590.68487500004,null,355653.30118322041,null,null,1213243.9860582205]
["Deputy Executive Mayor",null,null,686072.20715625002,null,296193.56224072038,null,null,982265.7693969704]
["Executive Committee",null,null,5333885.9577656249,null,2374277.2391977315,null,null,7708163.1969633568]
["Total for all other councillors",null,null,7635566.5441875001,null,4629268.0457731392,null,null,12264834.589960638]
[{"$f":"\"Total \"&A4","v":"Total Councillors"},8,{"$f":"SUM(C5:C10)","v":0},15842379.762937501,0,8232914.1904850025,null,null,24075293.953422502]
[]
["Senior Managers of the Municipality",5]
["Municipal Manager (MM)",null,null,1421582.0731406251,272595,174547.5,null,null,{"$f":"SUM(D14:H14)","v":1868724.5731406251}]
["Chief Finance Officer",null,null,845005.53914000001,null,630419.88305249996,null,null,1475425.4221925]
["DIRECTOR  LEGISLATIVE SER",null,null,1291915.8894825,null,236321.25,null,null,{"$f":"SUM(D16:H16)","v":1528237.1394825}]
["DIRECTOR OFFICE OF THE MM",null,null,1223767.09405,null,304470,null,null,1528237.09405]
["DIRECTOR OFFICE OF EXEC MAYO",null,null,1360064.2760225001,null,168172.5,null,null,1528236.7760225001]
["DIRECTOR INTERNAL AUDIT",null,null,901561.3941875,null,236321.25,null,null,1137882.6441875]
["DIRECTOR PLANNING & DEVELOPM",null,null,1291915.8894825,0,236321.25,null,null,1528237.1394825]
["DIRECTOR: HUMAN SETTLEMEN",null,null,901561.3941875,0,236321.25,null,null,1137882.6441875]
["DIRECTOR CORPORATE SERVICES",null,null,1223767.1394825,0,304470,null,null,1528237.1394825]
["DIRECTOR COMM. SERVICES",null,null,1291915.1625625,0,236321.25,null,null,1528236.4125625]
["DIRECTOR WATER SERVICES",null,null,1143112.9802762498,127169.5201275,170898.45,null,null,1441180.9504037497]
["DIRECTOR TECHNICAL SERVICES",null,null,1291915.8894825,0,236321.25,null,null,1528237.1394825]
[null,null,null,null,null,null,null,null,0]
[null,null,null,null,null,null,null,null,0]
[]
["List of each offical with packages >= senior manager"]
[null,null,null,null,null,null,null,null,{"$f":"SUM(D30:H30)","v":0}]
[null,null,null,null,null,null,null,null,{"$f":"SUM(D31:H31)","v":0}]
[null,null,null,null,null,null,null,null,0]
[null,null,null,null,null,null,null,null,0]
[null,null,null,null,null,null,null,null,0]
[null,null,null,null,null,null,null,null,0]
[null,null,null,null,null,null,null,null,0]
[null,null,null,null,null,null,null,null,0]
[null,null,null,null,null,null,null,null,0]
[null,null,null,null,null,null,null,null,0]
[null,null,null,null,null,null,null,null,0]
[null,null,null,null,null,null,null,null,{"$f":"SUM(D41:H41)","v":0}]
[null,null,null,null,null,null,null,null,{"$f":"SUM(D42:H42)","v":0}]
[{"$f":"\"Total \"&A13","v":"Total Senior Managers of the Municipality"},"8,10",{"$f":"SUM(C14:C42)","v":0},{"$f":"SUM(D14:D42)","v":14188084.721496876},{"$f":"SUM(E14:E42)","v":399764.5201275},{"$f":"SUM(F14:F42)","v":3170905.8330525002},{"$f":"SUM(G14:G42)","v":0},null,{"$f":"SUM(I14:I42)","v":17758755.074676879}]
[]
["A Heading for Each Entity","6,7"]
["List each member of board by designation"]
["Ntinga Development Agency",null,null,null,null,null,null,null,{"$f":"SUM(D47:G47)","v":0}]
[null,null,null,null,null,null,null,null,{"$f":"SUM(D48:G48)","v":0}]
[null,null,null,null,null,null,null,null,0]
[null,null,null,null,null,null,null,null,0]
[null,null,null,null,null,null,null,null,0]
[null,null,null,null,null,null,null,null,0]
[null,null,null,null,null,null,null,null,0]
[null,null,null,null,null,null,null,null,0]
[null,null,null,null,null,null,null,null,0]
[null,null,null,null,null,null,null,null,0]
[null,null,null,null,null,null,null,null,0]
[null,null,null,null,null,null,null,null,0]
[null,null,null,null,null,null,null,null,0]
[null,null,null,null,null,null,null,null,0]
[null,null,null,null,null,null,null,null,0]
[null,null,null,null,null,null,null,null,0]
["Total for municipal entities","8,10",{"$f":"SUM(C46:C62)","v":0},{"$f":"SUM(D47:D62)","v":0},0,0,0,null,0]
[]
["TOTAL COST OF COUNCILLOR, DIRECTOR and EXECUTIVE REMUNERATION",10,{"$f":"C11+C43+C63","v":0},{"$f":"D11+D43+D63","v":30030464.484434377},{"$f":"E11+E43+E63","v":399764.5201275},{"$f":"F11+F43+F63","v":11403820.023537502},{"$f":"G11+G43+G63","v":0},null,{"$f":"I11+I43+I63","v":41834049.02809938}]
[]
[{"$f":"head27a","v":"References"}]
["1. Pension and medical aid"]
["2. Total package must equal the total cost to the municipality"]
["3. List each political office bearer by designation. Provide a total for all other councillors"]
["4. Political office bearer is defined in MFMA s 1: speaker, executive mayor, deputy executive mayor, member of executive committee,"]
["    mayor, deputy mayor, member of mayoral committee, the councillor designated to exercise powers and duties of mayor (MSA s 57)"]
["5. Also list each senior manager reporting to MM by designation and each official with package >= senior manager by designation"]
["6. List each entity where municipality has an interest and state percentage ownership and control"]
["7. List each senior manager reporting to the CEO of an Entity by designation"]
["8. Must reconcile to relevant section of Table SA24"]
["9. Must reconcile to totals shown for the budget year of Table SA22"]
["10. Correct as at 30 June"]

{"sheet":"SA24","index":45,"n_rows":53,"n_cols":11,"rows_kept":53,"cut":false,"hidden":false,"merged":[[1,5,1,7],[1,8,1,10],[1,2,1,4]]}
[{"$f":"muni&\" - \"&TableA24","v":"DC15 O .R. Tambo - Supporting Table SA24 Summary of personnel numbers"}]
["Summary of Personnel Numbers",{"$f":"head27","v":"Ref"},{"$f":"Head1","v":"2018/19"},null,null,{"$f":"Head2","v":"Current Year 2019/20"},null,null,{"$f":"Head9","v":"Budget Year 2020/21"}]
["Number","1,2","Positions","Permanent employees","Contract employees","Positions","Permanent employees","Contract employees","Positions","Permanent employees","Contract employees"]
["Municipal Council and Boards of Municipal Entities"]
["Councillors (Political Office Bearers plus Other Councillors)",null,71,0,71,71,0,71,71,0,71]
["Board Members of municipal entities",4,10,0,10,10,0,10,10,0,10]
["Municipal employees",5,0,0,0,0,0,0]
["Municipal Manager and Senior Managers",3,13,0,10,12,0,12,12,0,12]
["Other Managers",7,78,78,0,70,70,0,115,75,0]
["Professionals",null,{"$f":"SUM(C11:C19)","v":103},{"$f":"SUM(D11:D19)","v":93},0,115,115,0,177,116,0]
["Finance",null,51,41,0,53,53,0,115,54]
["Spatial/town planning",null,1,1,0,2,2,0,2,2]
["Information Technology",null,0,0,0,0,0,0,0]
["Roads",null,0,0,0,0,0,0,0]
["Electricity",null,0,0,0,0,0,0,0]
["Water",null,0,0,0,0,0,0,0]
["Sanitation",null,0,0,0,0,0,0,0]
["Refuse",null,0,0,0,0,0,0,0]
["Other",null,51,51,0,60,60,0,60,60,0]
["Technicians",null,{"$f":"SUM(C21:C29)","v":97},{"$f":"SUM(D21:D29)","v":94},0,99,99,0,99,99,0]
["Finance",null,0,0,0,0,0,0]
["Spatial/town planning",null,0,0,0,0,0,0]
["Information Technology",null,8,6,0,8,8,0,8,8,0]
["Roads",null,0,0,0,0,0,0]
["Electricity",null,0,0,0,0,0,0]
["Water",null,85,84,0,87,87,0,87,87,0]
["Sanitation",null,0,0,0,0,0,0]
["Refuse",null,0,0,0,0,0,0]
["Other",null,4,4,0,4,4,0,4,4,0]
["Clerks (Clerical and administrative)",null,261,245,16,257,242,15,257,251,19]
["Service and sales workers",null,73,73,0,73,73,0,73,73]
["Skilled agricultural and fishery workers",null,0,0,0,0,0,0]
["Craft and related trades",null,0,0,0,0,0,0]
["Plant and Machine Operators",null,60,59,0,98,98,0,98,98,0]
["Elementary Occupations",null,909,895,0,909,899,0,909,899,0]
["TOTAL PERSONNEL NUMBERS",9,{"$f":"SUM(C5:C9)+SUM(C11:C19)+SUM(C21:C35)","v":1675},{"$f":"SUM(D5:D9)+SUM(D11:D19)+SUM(D21:D35)","v":1537},107,1714,1596,{"$f":"SUM(H5:H9)+SUM(H11:H19)+SUM(H21:H35)","v":108},1821,1611,112]
["% increase",null,null,null,null,{"$f":"IF(ISERROR((F36/C36)-1),0,((F36/C36)-1))","v":2.3283582089552279E-2},3.8386467143786573E-2,9.3457943925232545E-3,6.2427071178529747E-2,9.3984962406015171E-3,3.7037037037036979E-2]
[]
["Total municipal employees headcount","6, 10"]
["Finance personnel headcount","8, 10",118,118,0]
["Human Resources personnel headcount","8, 10",22,21,1]
[]
[{"$f":"head27a","v":"References"}]
["1. Positions must be funded and aligned to the municipality's current organisational structure"]
["2. Full Time Equivalent (FTE). E.g. One full time person = 1FTE. A person working half time (say 4 hours out of 8) = 0.5FTE."]
["3. s57 of the Systems Act"]
["4. Include only in Consolidated Statements"]
["5. Include municipal entity employees in Consolidated Statements"]
["6.  Include headcount (number fo persons, Not FTE) of managers and staff only (exclude councillors)"]
["7. Managers who provide the direction of a critical technical function"]
["8. Total number of employees working on these functions"]
["9. Correct as at 30 June"]
["10. Must account for all budgeted positions, as per the municipal organogram"]

{"sheet":"SA25","index":46,"n_rows":48,"n_cols":17,"rows_kept":48,"cut":false,"hidden":false,"merged":[[1,2,1,13],[1,14,1,16]]}
[{"$f":"muni&\" - \"& TableA25","v":"DC15 O .R. Tambo - Supporting Table SA25 Consolidated budgeted monthly revenue and expenditure"}]
[{"$f":"desc","v":"Description"},{"$f":"head27","v":"Ref"},{"$f":"Head9","v":"Budget Year 2020/21"},null,null,null,null,null,null,null,null,null,null,null,"Medium Term Revenue and Expenditure Framework"]
["R thousand",null,"July","August","Sept.","October","November","December","January","February","March","April","May","June",{"$f":"Head9","v":"Budget Year 2020/21"},{"$f":"Head10","v":"Budget Year +1 2021/22"},{"$f":"Head11","v":"Budget Year +2 2022/23"}]
[{"$f":"'A4-FinPerf RE'!A4","v":"Revenue By Source"}]
[{"$f":"'A4-FinPerf RE'!A5","v":"Property rates"},null,null,null,null,null,null,null,null,null,null,null,null,{"$f":"O5-SUM(C5:M5)","v":0},{"$f":"'A4-FinPerf RE'!J5","v":0},{"$f":"'A4-FinPerf RE'!K5","v":0},{"$f":"'A4-FinPerf RE'!L5","v":0}]
[{"$f":"'A4-FinPerf RE'!A6","v":"Service charges - electricity revenue"},null,null,null,null,null,null,null,null,null,null,null,null,0,{"$f":"'A4-FinPerf RE'!J6","v":0},{"$f":"'A4-FinPerf RE'!K6","v":0},{"$f":"'A4-FinPerf RE'!L6","v":0}]
[{"$f":"'A4-FinPerf RE'!A7","v":"Service charges - water revenue"},null,24889500.886611875,19277246.18627876,21379428.187925581,24055809.455912676,19033337.33852898,10564308.952420276,10720266.26603584,24344248.761406377,34793025.045204513,18998641.675661266,23743651.293773506,22900347.950240344,{"$f":"'A4-FinPerf RE'!J7","v":254699812},{"$f":"'A4-FinPerf RE'!K7","v":249025801},{"$f":"'A4-FinPerf RE'!L7","v":263969349}]
[{"$f":"'A4-FinPerf RE'!A8","v":"Service charges - sanitation revenue"},null,11003635.747190319,8522460.7841302659,9451834.3832956739,10635061.187549291,8414628.8059647605,4670475.6420303853,4739424.2914610822,10762580.058549732,15381978.766245019,8399289.8709679171,10497056.222028291,10124232.240587264,{"$f":"'A4-FinPerf RE'!J8","v":112602658},{"$f":"'A4-FinPerf RE'!K8","v":119358817},{"$f":"'A4-FinPerf RE'!L8","v":126520346}]
[{"$f":"'A4-FinPerf RE'!A9","v":"Service charges - refuse revenue"},null,null,null,null,null,null,null,null,null,null,null,null,0,{"$f":"'A4-FinPerf RE'!J9","v":0},{"$f":"'A4-FinPerf RE'!K9","v":0},{"$f":"'A4-FinPerf RE'!L9","v":0}]
[]
[{"$f":"'A4-FinPerf RE'!A11","v":"Rental of facilities and equipment"},null,5356.4666466666667,5356.4666466666667,5356.4666466666667,5356.4666466666667,5356.4666466666667,5356.4666466666667,5356.4666466666667,5356.4666466666667,5356.4666466666667,5356.4666466666667,5356.4666466666667,808415.86688666663,{"$f":"'A4-FinPerf RE'!J11","v":867337},{"$f":"'A4-FinPerf RE'!K11","v":1194114},{"$f":"'A4-FinPerf RE'!L11","v":1345867}]
[{"$f":"'A4-FinPerf RE'!A12","v":"Interest earned - external investments"},null,2459631.333333333,2348151.9185066903,3202827.4321776191,1255653.6532055913,3574425.4815997602,1604955.8196624052,2585974.6701368615,2459631.333333333,2645430.3580444045,2459631.333333333,2459631.333333333,2459631.3333333358,{"$f":"'A4-FinPerf RE'!J12","v":29515576},{"$f":"'A4-FinPerf RE'!K12","v":38899639},{"$f":"'A4-FinPerf RE'!L12","v":40689023}]
[{"$f":"'A4-FinPerf RE'!A13","v":"Interest earned - outstanding debtors"},null,2650000,2529892.3865999687,3450717.4226668756,1352837.7752796623,3851076.1340003116,1729174.9639330937,2786121.9618533682,2650000,2850179.3556667189,2650000,2650000,3100000,{"$f":"'A4-FinPerf RE'!J13","v":32250000},{"$f":"'A4-FinPerf RE'!K13","v":34163000},{"$f":"'A4-FinPerf RE'!L13","v":36190480}]
[{"$f":"'A4-FinPerf RE'!A14","v":"Dividends received"},null,null,null,null,null,null,null,null,null,null,null,null,0,{"$f":"'A4-FinPerf RE'!J14","v":0},{"$f":"'A4-FinPerf RE'!K14","v":0},{"$f":"'A4-FinPerf RE'!L14","v":0}]
[{"$f":"'A4-FinPerf RE'!A15","v":"Fines, penalties and forfeits"},null,0,0,0,0,0,0,0,0,0,0,0,0,{"$f":"'A4-FinPerf RE'!J15","v":0},{"$f":"'A4-FinPerf RE'!K15","v":0},{"$f":"'A4-FinPerf RE'!L15","v":0}]
[{"$f":"'A4-FinPerf RE'!A16","v":"Licences and permits"},null,null,null,null,null,null,null,null,null,null,null,null,0,{"$f":"'A4-FinPerf RE'!J16","v":0},{"$f":"'A4-FinPerf RE'!K16","v":0},{"$f":"'A4-FinPerf RE'!L16","v":0}]
[{"$f":"'A4-FinPerf RE'!A17","v":"Agency services"},null,null,null,null,null,null,null,null,null,null,null,null,0,{"$f":"'A4-FinPerf RE'!J17","v":0},{"$f":"'A4-FinPerf RE'!K17","v":0},{"$f":"'A4-FinPerf RE'!L17","v":0}]
[{"$f":"'A4-FinPerf RE'!A18","v":"Transfers and subsidies"},null,373560854.61719853,0,0,0,307959028.81149399,0,0,1629250.0888376795,248559866.83781862,0,0,44327180.644651175,{"$f":"'A4-FinPerf RE'!J18","v":976036181},{"$f":"'A4-FinPerf RE'!K18","v":1036542466},{"$f":"'A4-FinPerf RE'!L18","v":1104844272}]
[{"$f":"'A4-FinPerf RE'!A19","v":"Other revenue"},null,107077582.76670738,28574981.267543968,25749010.771793429,23342357.930490743,23028686.09008332,18254122.728116754,14695121.570915196,22588413.070448097,24601158.247538168,15943241.708421525,18457900.068987463,18383366.778953969,{"$f":"'A4-FinPerf RE'!J19","v":340695943},{"$f":"'A4-FinPerf RE'!K19","v":310186176},{"$f":"'A4-FinPerf RE'!L19","v":292592964}]
[{"$f":"'A4-FinPerf RE'!A20","v":"Gains"},null,null,null,null,null,null,null,null,null,null,null,null,2140000,{"$f":"'A4-FinPerf RE'!J20","v":2140000},{"$f":"'A4-FinPerf RE'!K20","v":2190000},{"$f":"'A4-FinPerf RE'!L20","v":2190000}]
[{"$f":"'A4-FinPerf RE'!A21","v":"Total Revenue (excluding capital transfers and contributions)"},null,{"$f":"SUM(C5:C9)+SUM(C11:C20)","v":521646561.81768805},{"$f":"SUM(D5:D9)+SUM(D11:D20)","v":61258089.009706318},63239174.664505847,60647076.469084628,365866539.12831777,36828394.572809577,35532265.227049015,64439479.779221885,328836995.07716411,48456161.055030704,57813595.384769261,104243174.81465276,1748807507,1791560013,1868342301]
[]
[{"$f":"'A4-FinPerf RE'!A23","v":"Expenditure By Type"}]
[{"$f":"'A4-FinPerf RE'!A24","v":"Employee related costs"},null,56680203,56680203,56680203,56680203,56680203,56680203,56680203,56680203,56680203,56680203,56680203,{"$f":"O24-SUM(C24:M24)","v":56677812},{"$f":"'A4-FinPerf RE'!J24","v":680160045},{"$f":"'A4-FinPerf RE'!K24","v":720651764},{"$f":"'A4-FinPerf RE'!L24","v":765566273}]
[{"$f":"'A4-FinPerf RE'!A25","v":"Remuneration of councillors"},null,2006278,2006278,2006278,2006278,2006278,2006278,2006278,2006278,2006278,2006278,2006278,2006236,{"$f":"'A4-FinPerf RE'!J25","v":24075294},{"$f":"'A4-FinPerf RE'!K25","v":25579999},{"$f":"'A4-FinPerf RE'!L25","v":27178747}]
[{"$f":"'A4-FinPerf RE'!A26","v":"Debt impairment"},null,13369199,13369199,13369199,13369199,13369199,13369199,13369199,13369199,13369199,13369199,13369199,13369197,{"$f":"'A4-FinPerf RE'!J26","v":160430386},{"$f":"'A4-FinPerf RE'!K26","v":171994184},{"$f":"'A4-FinPerf RE'!L26","v":179905916}]
[{"$f":"'A4-FinPerf RE'!A27","v":"Depreciation & asset impairment"},null,14746970,14746970,14746970,14746970,14746970,14746970,14746970,14746970,14746970,14746970,14746970,14746911,{"$f":"'A4-FinPerf RE'!J27","v":176963581},{"$f":"'A4-FinPerf RE'!K27","v":185858322},{"$f":"'A4-FinPerf RE'!L27","v":194022428}]
[{"$f":"'A4-FinPerf RE'!A28","v":"Finance charges"},null,0,0,0,0,0,0,0,0,0,0,0,0,{"$f":"'A4-FinPerf RE'!J28","v":0},{"$f":"'A4-FinPerf RE'!K28","v":0},{"$f":"'A4-FinPerf RE'!L28","v":0}]
[{"$f":"'A4-FinPerf RE'!A29","v":"Bulk purchases"},null,{"$f":"'[6]WATER '!C30","v":3112793.7500000005},{"$f":"'[6]WATER '!D30","v":3112793.7500000005},{"$f":"'[6]WATER '!E30","v":3112793.7500000005},{"$f":"'[6]WATER '!F30","v":3112793.7500000005},{"$f":"'[6]WATER '!G30","v":3112793.7500000005},{"$f":"'[6]WATER '!H30","v":3112793.7500000005},{"$f":"'[6]WATER '!I30","v":3112793.7500000005},{"$f":"'[6]WATER '!J30","v":3112793.7500000005},{"$f":"'[6]WATER '!K30","v":3112793.7500000005},{"$f":"'[6]WATER '!L30","v":3112793.7500000005},{"$f":"'[6]WATER '!M30","v":3112793.7500000005},3112793.7499999925,{"$f":"'A4-FinPerf RE'!J29","v":37353525},{"$f":"'A4-FinPerf RE'!K29","v":39071787},{"$f":"'A4-FinPerf RE'!L29","v":40869089}]
[{"$f":"'A4-FinPerf RE'!A30","v":"Other materials"},null,3087800,3087800,3087800,3087800,3087800,3087800,3087800,3087800,3087800,3087800,3087800,3087743,{"$f":"'A4-FinPerf RE'!J30","v":37053543},{"$f":"'A4-FinPerf RE'!K30","v":41379528},{"$f":"'A4-FinPerf RE'!L30","v":45261315}]
[{"$f":"'A4-FinPerf RE'!A31","v":"Contracted services"},null,19261297,19261297,19261297,19261297,19261297,19261297,19261297,19261297,19261297,19261297,19261297,19259738,{"$f":"'A4-FinPerf RE'!J31","v":231134005},{"$f":"'A4-FinPerf RE'!K31","v":231771819},{"$f":"'A4-FinPerf RE'!L31","v":224272370}]
[{"$f":"'A4-FinPerf RE'!A32","v":"Transfers and subsidies"},null,8108743,8108743,8108743,8108743,8108743,8108743,8108743,8108743,8108743,8108743,8108743,8108613,{"$f":"'A4-FinPerf RE'!J32","v":97304786},{"$f":"'A4-FinPerf RE'!K32","v":91060295},{"$f":"'A4-FinPerf RE'!L32","v":93760687}]
[{"$f":"'A4-FinPerf RE'!A33","v":"Other expenditure"},null,19030632.60823825,25198199.037503809,31043916.022255599,28240939.720021069,15824384.140819013,27985116.929948032,14907002.725588202,11966986.749344453,16428024.587404013,14175096.047368199,1854120.2436857522,55121659.187823594,{"$f":"'A4-FinPerf RE'!J33","v":261776078},{"$f":"'A4-FinPerf RE'!K33","v":285037121},{"$f":"'A4-FinPerf RE'!L33","v":293070436}]
[{"$f":"'A4-FinPerf RE'!A34","v":"Losses"},null,12500,12500,12500,12500,12500,12500,12500,12500,12500,12500,12500,12500,{"$f":"'A4-FinPerf RE'!J34","v":150000},{"$f":"'A4-FinPerf RE'!K34","v":100000},{"$f":"'A4-FinPerf RE'!L34","v":100000}]
[{"$f":"'A4-FinPerf RE'!A35","v":"Total Expenditure"},null,{"$f":"SUM(C24:C34)","v":139416416.35823825},{"$f":"SUM(D24:D34)","v":145583982.78750381},151429699.7722556,148626723.47002107,136210167.89081901,148370900.67994803,135292786.4755882,132352770.49934445,136813808.33740401,134560879.7973682,122239903.99368575,175503202.93782359,1706401243,1792504819,1864007261]
[]
[{"$f":"'A4-FinPerf RE'!A37","v":"Surplus/(Deficit)"},null,{"$f":"C21-C35","v":382230145.45944977},-84325893.77779749,-88190525.10774976,-87979647.000936449,229656371.23749876,-111542506.10713845,-99760521.24853918,-67913290.720122576,192023186.7397601,-86104718.742337495,-64426308.608916491,-71260028.123170838,42406264,-944806,4335040]
[{"$f":"'A4-FinPerf RE'!A38","v":"Transfers and subsidies - capital (monetary allocations) (National / Provincial and District)"},null,{"$f":"'SA29'!C28","v":229050391.8947137},{"$f":"'SA29'!D28","v":0},{"$f":"'SA29'!E28","v":10000000},{"$f":"'SA29'!F28","v":0},{"$f":"'SA29'!G28","v":266082137.84207052},{"$f":"'SA29'!H28","v":10000000},{"$f":"'SA29'!I28","v":0},{"$f":"'SA29'!J28","v":0},{"$f":"'SA29'!K28","v":366386470.26321578},{"$f":"'SA29'!L28","v":0},{"$f":"'SA29'!M28","v":0},{"$f":"O38-SUM(C38:M38)","v":10000000},{"$f":"'A4-FinPerf RE'!J38","v":891519000},{"$f":"'A4-FinPerf RE'!K38","v":882465000},{"$f":"'A4-FinPerf RE'!L38","v":988437000}]
[{"$f":"'A4-FinPerf RE'!A39","v":"Transfers and subsidies - capital (monetary allocations) (National / Provincial Departmental Agencies, Households, Non-profit Institutions, Private Enterprises, Public Corporatons, Higher Educational Institutions)"},null,null,null,null,null,null,null,null,null,null,null,null,{"$f":"O39-SUM(C39:M39)","v":0},{"$f":"'A4-FinPerf RE'!J39","v":0},{"$f":"'A4-FinPerf RE'!K39","v":0},{"$f":"'A4-FinPerf RE'!L39","v":0}]
[{"$f":"'A4-FinPerf RE'!A40","v":"Transfers and subsidies - capital (in-kind - all) "},null,null,null,null,null,null,null,null,null,null,null,null,{"$f":"O40-SUM(C40:M40)","v":0},{"$f":"'A4-FinPerf RE'!J40","v":0},{"$f":"'A4-FinPerf RE'!K40","v":0},{"$f":"'A4-FinPerf RE'!L40","v":0}]
[{"$f":"'A4-FinPerf RE'!A41","v":"Surplus/(Deficit) after capital transfers & contributions"},null,{"$f":"C37+SUM(C38:C40)","v":611280537.35416341},-84325893.77779749,-78190525.10774976,-87979647.000936449,495738509.07956928,-101542506.10713845,-99760521.24853918,-67913290.720122576,558409657.00297594,-86104718.742337495,-64426308.608916491,-61260028.123170838,{"$f":"O37+SUM(O38:O40)","v":933925264},{"$f":"P37+SUM(P38:P40)","v":881520194},{"$f":"Q37+SUM(Q38:Q40)","v":992772040}]
[{"$f":"'A4-FinPerf RE'!A42","v":"Taxation"},null,null,null,null,null,null,null,null,null,null,null,null,{"$f":"O42-SUM(C42:M42)","v":0},{"$f":"'A4-FinPerf RE'!J42","v":0},{"$f":"'A4-FinPerf RE'!K42","v":0},{"$f":"'A4-FinPerf RE'!L42","v":0}]
[{"$f":"'A4-FinPerf RE'!A44","v":"Attributable to minorities"},null,null,null,null,null,null,null,null,null,null,null,null,{"$f":"O43-SUM(C43:M43)","v":0},{"$f":"'A4-FinPerf RE'!J44","v":0},{"$f":"'A4-FinPerf RE'!K44","v":0},{"$f":"'A4-FinPerf RE'!L44","v":0}]
[{"$f":"'A4-FinPerf RE'!A46","v":"Share of surplus/ (deficit) of associate"},null,null,null,null,null,null,null,null,null,null,null,null,{"$f":"O44-SUM(C44:M44)","v":0},{"$f":"'A4-FinPerf RE'!J46","v":0},{"$f":"'A4-FinPerf RE'!K46","v":0},{"$f":"'A4-FinPerf RE'!L46","v":0}]
[{"$f":"'A4-FinPerf RE'!A37","v":"Surplus/(Deficit)"},1,{"$f":"C41-C42+SUM(C43:C44)","v":611280537.35416341},{"$f":"D41-D42+SUM(D43:D44)","v":-84325893.77779749},-78190525.10774976,-87979647.000936449,495738509.07956928,-101542506.10713845,-99760521.24853918,-67913290.720122576,558409657.00297594,-86104718.742337495,-64426308.608916491,{"$f":"N41-N42+SUM(N43:N44)","v":-61260028.123170838},{"$f":"O41-O42+SUM(O43:O44)","v":933925264},{"$f":"P41-P42+SUM(P43:P44)","v":881520194},{"$f":"Q41-Q42+SUM(Q43:Q44)","v":992772040}]
[{"$f":"head27a","v":"References"}]
["1. Surplus (Deficit) must reconcile with Budgeted Financial Performance"]
["check",null,null,null,null,null,null,null,null,null,null,null,null,null,{"$f":"O45-'A4-FinPerf RE'!J47","v":0},{"$f":"P45-'A4-FinPerf RE'!K47","v":0},{"$f":"Q45-'A4-FinPerf RE'!L47","v":0}]

{"sheet":"SA26","index":47,"n_rows":48,"n_cols":17,"rows_kept":48,"cut":false,"hidden":false,"merged":[[1,2,1,13],[1,14,1,16]]}
[{"$f":"muni&\" - \"&TableA26","v":"DC15 O .R. Tambo - Supporting Table SA26 Consolidated budgeted monthly revenue and expenditure (municipal vote)"}]
[{"$f":"desc","v":"Description"},{"$f":"head27","v":"Ref"},{"$f":"Head9","v":"Budget Year 2020/21"},null,null,null,null,null,null,null,null,null,null,null,"Medium Term Revenue and Expenditure Framework"]
["R thousand",null,"July","August","Sept.","October","November","December","January","February","March","April","May","June",{"$f":"Head9","v":"Budget Year 2020/21"},{"$f":"Head10","v":"Budget Year +1 2021/22"},{"$f":"Head11","v":"Budget Year +2 2022/23"}]
[{"$f":"'A3-FinPerf V'!A4","v":"Revenue by Vote"}]
[{"$f":"'A3-FinPerf V'!A5","v":"Vote 01 - Council & Committees"},null,{"$f":"[6]Speaker!C40+[6]Mayor!C48+[6]MM!C45","v":95683741.325281292},{"$f":"[6]Speaker!D40+[6]Mayor!D48+[6]MM!D45","v":609181.98953560658},{"$f":"[6]Speaker!E40+[6]Mayor!E48+[6]MM!E45","v":591294.51204201696},{"$f":"[6]Speaker!F40+[6]Mayor!F48+[6]MM!F45","v":695932.70852182305},{"$f":"[6]Speaker!G40+[6]Mayor!G48+[6]MM!G45","v":79556986.647589222},{"$f":"[6]Speaker!H40+[6]Mayor!H48+[6]MM!H45","v":682413.72660741059},{"$f":"[6]Speaker!I40+[6]Mayor!I48+[6]MM!I45","v":249451.89058785149},{"$f":"[6]Speaker!J40+[6]Mayor!J48+[6]MM!J45","v":2238955.1297849715},{"$f":"[6]Speaker!K40+[6]Mayor!K48+[6]MM!K45","v":63260114.721931919},{"$f":"[6]Speaker!L40+[6]Mayor!L48+[6]MM!L45","v":321452.22100066772},{"$f":"[6]Speaker!M40+[6]Mayor!M48+[6]MM!M45","v":330967.14950474445},{"$f":"O5-SUM(C5:M5)","v":-1006412.0223875344},{"$f":"'A3-FinPerf V'!I5","v":243214080},{"$f":"'A3-FinPerf V'!J5","v":267834842},{"$f":"'A3-FinPerf V'!K5","v":280163051}]
[{"$f":"'A3-FinPerf V'!A6","v":"Vote 02 - Finance & Administration"},null,{"$f":"[6]Corporate!C62+[6]BTO!C63","v":112276731.39972141},{"$f":"[6]Corporate!D62+[6]BTO!D63","v":3147502.3676189194},{"$f":"[6]Corporate!E62+[6]BTO!E63","v":3979346.9953283989},{"$f":"[6]Corporate!F62+[6]BTO!F63","v":2165729.3721585684},{"$f":"[6]Corporate!G62+[6]BTO!G63","v":94501565.652681187},{"$f":"[6]Corporate!H62+[6]BTO!H63","v":2497776.4318227414},{"$f":"[6]Corporate!I62+[6]BTO!I63","v":2926179.5036126608},{"$f":"[6]Corporate!J62+[6]BTO!J63","v":3259649.3850819007},{"$f":"[6]Corporate!K62+[6]BTO!K63","v":76465433.057413399},{"$f":"[6]Corporate!L62+[6]BTO!L63","v":2891734.6099200048},{"$f":"[6]Corporate!M62+[6]BTO!M63","v":2903879.0974636381},20572899.127177119,{"$f":"'A3-FinPerf V'!I6","v":327588427},{"$f":"'A3-FinPerf V'!J6","v":355202730},{"$f":"'A3-FinPerf V'!K6","v":367455835}]
[{"$f":"'A3-FinPerf V'!A7","v":"Vote 03 - Planning & Development"},null,{"$f":"[6]Planning!C40","v":43673970.645898134},{"$f":"[6]Planning!D40","v":0},{"$f":"[6]Planning!E40","v":0},{"$f":"[6]Planning!F40","v":0},{"$f":"[6]Planning!G40","v":36744268.047264129},{"$f":"[6]Planning!H40","v":0},{"$f":"[6]Planning!I40","v":0},{"$f":"[6]Planning!J40","v":0},{"$f":"[6]Planning!K40","v":29814765.025342256},{"$f":"[6]Planning!L40","v":0},{"$f":"[6]Planning!M40","v":0},9017000.2814954817,{"$f":"'A3-FinPerf V'!I7","v":119250004},{"$f":"'A3-FinPerf V'!J7","v":105243882},{"$f":"'A3-FinPerf V'!K7","v":105467672}]
[{"$f":"'A3-FinPerf V'!A8","v":"Vote 04 - Health"},null,{"$f":"[6]HEALTH!C22","v":9056132.2032817118},{"$f":"[6]HEALTH!D22","v":0},{"$f":"[6]HEALTH!E22","v":0},{"$f":"[6]HEALTH!F22","v":0},{"$f":"[6]HEALTH!G22","v":7619205.3121713782},{"$f":"[6]HEALTH!H22","v":0},{"$f":"[6]HEALTH!I22","v":0},{"$f":"[6]HEALTH!J22","v":0},{"$f":"[6]HEALTH!K22","v":6182319.8048203643},{"$f":"[6]HEALTH!L22","v":0},{"$f":"[6]HEALTH!M22","v":0},-0.32027345150709152,{"$f":"'A3-FinPerf V'!I8","v":22857657},{"$f":"'A3-FinPerf V'!J8","v":24253046},{"$f":"'A3-FinPerf V'!K8","v":25734119}]
[{"$f":"'A3-FinPerf V'!A9","v":"Vote 05 - Community & Social Services"},null,{"$f":"'[6]COMMUNITY SAFETY'!C28","v":6189060.013947987},{"$f":"'[6]COMMUNITY SAFETY'!D28","v":0},{"$f":"'[6]COMMUNITY SAFETY'!E28","v":0},{"$f":"'[6]COMMUNITY SAFETY'!F28","v":0},{"$f":"'[6]COMMUNITY SAFETY'!G28","v":5207048.4260965111},{"$f":"'[6]COMMUNITY SAFETY'!H28","v":0},{"$f":"'[6]COMMUNITY SAFETY'!I28","v":0},{"$f":"'[6]COMMUNITY SAFETY'!J28","v":0},{"$f":"'[6]COMMUNITY SAFETY'!K28","v":4225065.120359771},{"$f":"'[6]COMMUNITY SAFETY'!L28","v":0},{"$f":"'[6]COMMUNITY SAFETY'!M28","v":0},0.43959573097527027,{"$f":"'A3-FinPerf V'!I9","v":15621174},{"$f":"'A3-FinPerf V'!J9","v":16509024},{"$f":"'A3-FinPerf V'!K9","v":17448296}]
[{"$f":"'A3-FinPerf V'!A10","v":"Vote 06 - Housing"},null,{"$f":"[6]HOUSING!C30+[6]Revenue!C83","v":6055869.7112984322},{"$f":"[6]HOUSING!D30+[6]Revenue!D83","v":0},{"$f":"[6]HOUSING!E30+[6]Revenue!E83","v":10000000},{"$f":"[6]HOUSING!F30+[6]Revenue!F83","v":0},{"$f":"[6]HOUSING!G30+[6]Revenue!G83","v":5094991.2874971582},{"$f":"[6]HOUSING!H30+[6]Revenue!H83","v":10000000},{"$f":"[6]HOUSING!I30+[6]Revenue!I83","v":0},{"$f":"[6]HOUSING!J30+[6]Revenue!J83","v":0},{"$f":"[6]HOUSING!K30+[6]Revenue!K83","v":14134140.5371716},{"$f":"[6]HOUSING!L30+[6]Revenue!L83","v":0},{"$f":"[6]HOUSING!M30+[6]Revenue!M83","v":0},10044999.464032806,{"$f":"'A3-FinPerf V'!I10","v":55330001},{"$f":"'A3-FinPerf V'!J10","v":16957707},{"$f":"'A3-FinPerf V'!K10","v":17895112}]
[{"$f":"'A3-FinPerf V'!A11","v":"Vote 07 - Public Safety"},null,{"$f":"'[6]PUBLIC SAFETY'!C36","v":28106862.535407878},{"$f":"'[6]PUBLIC SAFETY'!D36","v":0},{"$f":"'[6]PUBLIC SAFETY'!E36","v":0},{"$f":"'[6]PUBLIC SAFETY'!F36","v":0},{"$f":"'[6]PUBLIC SAFETY'!G36","v":20112744.683189832},{"$f":"'[6]PUBLIC SAFETY'!H36","v":0},{"$f":"'[6]PUBLIC SAFETY'!I36","v":0},{"$f":"'[6]PUBLIC SAFETY'!J36","v":0},{"$f":"'[6]PUBLIC SAFETY'!K36","v":16319736.073465075},{"$f":"'[6]PUBLIC SAFETY'!L36","v":0},{"$f":"'[6]PUBLIC SAFETY'!M36","v":0},2300000.7079372108,{"$f":"'A3-FinPerf V'!I11","v":66839344},{"$f":"'A3-FinPerf V'!J11","v":70446270},{"$f":"'A3-FinPerf V'!K11","v":74769309}]
[{"$f":"'A3-FinPerf V'!A12","v":"Vote 08 - Sports & Recreation"},null,{"$f":"[6]SPORT!C22","v":3504576.8978633587},{"$f":"[6]SPORT!D22","v":0},{"$f":"[6]SPORT!E22","v":0},{"$f":"[6]SPORT!F22","v":0},{"$f":"[6]SPORT!G22","v":2948509.3986853943},{"$f":"[6]SPORT!H22","v":0},{"$f":"[6]SPORT!I22","v":0},{"$f":"[6]SPORT!J22","v":0},{"$f":"[6]SPORT!K22","v":2392457.9143539006},{"$f":"[6]SPORT!L22","v":0},{"$f":"[6]SPORT!M22","v":0},-0.21090265363454819,{"$f":"'A3-FinPerf V'!I12","v":8845544},{"$f":"'A3-FinPerf V'!J12","v":9330948},{"$f":"'A3-FinPerf V'!K12","v":9843587}]
[{"$f":"'A3-FinPerf V'!A13","v":"Vote 09 - Environmental"},null,{"$f":"[6]Envron!C24","v":6355458.7224050863},{"$f":"[6]Envron!D24","v":0},{"$f":"[6]Envron!E24","v":0},{"$f":"[6]Envron!F24","v":0},{"$f":"[6]Envron!G24","v":5347044.827977146},{"$f":"[6]Envron!H24","v":0},{"$f":"[6]Envron!I24","v":0},{"$f":"[6]Envron!J24","v":0},{"$f":"[6]Envron!K24","v":4338659.9760552375},{"$f":"[6]Envron!L24","v":0},{"$f":"[6]Envron!M24","v":0},0.47356253117322922,{"$f":"'A3-FinPerf V'!I13","v":16041164},{"$f":"'A3-FinPerf V'!J13","v":16855298},{"$f":"'A3-FinPerf V'!K13","v":17711649}]
[{"$f":"'A3-FinPerf V'!A14","v":"Vote 10 - Roads"},null,{"$f":"'[6]Technical Serv'!C43+[6]Revenue!$C$84","v":11596375.226832401},{"$f":"'[6]Technical Serv'!D43","v":97192.047745695279},{"$f":"'[6]Technical Serv'!E43","v":94338.187000514125},{"$f":"'[6]Technical Serv'!F43","v":111032.7064757888},{"$f":"'[6]Technical Serv'!G43","v":7291093.54267566},{"$f":"'[6]Technical Serv'!H43","v":108875.81812670872},{"$f":"'[6]Technical Serv'!I43","v":39798.845791141553},{"$f":"'[6]Technical Serv'!J43","v":97275.498075237614},{"$f":"'[6]Technical Serv'!K43","v":5920642.5439835256},{"$f":"'[6]Technical Serv'!L43","v":51286.151180000634},{"$f":"'[6]Technical Serv'!M43","v":52804.212122954777},40381462.219990373,{"$f":"'A3-FinPerf V'!I14","v":65842177},{"$f":"'A3-FinPerf V'!J14","v":30749301},{"$f":"'A3-FinPerf V'!K14","v":27025670}]
[{"$f":"'A3-FinPerf V'!A15","v":"Vote 11 - Water"},null,{"$f":"'[6]WATER '!C84+[6]Revenue!C87+[6]Revenue!C88+[6]Revenue!C89","v":417114422.90109247},{"$f":"'[6]WATER '!D84+[6]Revenue!D87+[6]Revenue!D88+[6]Revenue!D89","v":42301123.113723315},{"$f":"'[6]WATER '!E84+[6]Revenue!E87+[6]Revenue!E88+[6]Revenue!E89","v":46974719.623924904},{"$f":"'[6]WATER '!F84+[6]Revenue!F87+[6]Revenue!F88+[6]Revenue!F89","v":50537544.921231158},{"$f":"'[6]WATER '!G84+[6]Revenue!G87+[6]Revenue!G88+[6]Revenue!G89","v":355386049.56275713},{"$f":"'[6]WATER '!H84+[6]Revenue!H87+[6]Revenue!H88+[6]Revenue!H89","v":25939969.006580874},{"$f":"'[6]WATER '!I84+[6]Revenue!I87+[6]Revenue!I88+[6]Revenue!I89","v":24284359.640847348},{"$f":"'[6]WATER '!J84+[6]Revenue!J87+[6]Revenue!J88+[6]Revenue!J89","v":51769124.420069762},{"$f":"'[6]WATER '!K84+[6]Revenue!K87+[6]Revenue!K88+[6]Revenue!K89","v":464454614.11462688},{"$f":"'[6]WATER '!L84+[6]Revenue!L87+[6]Revenue!L88+[6]Revenue!L89","v":39913651.312232748},{"$f":"'[6]WATER '!M84+[6]Revenue!M87+[6]Revenue!M88+[6]Revenue!M89","v":48730052.730775543},12948189.652137756,{"$f":"'A3-FinPerf V'!I15","v":1580353821},{"$f":"'A3-FinPerf V'!J15","v":1648214958},{"$f":"'A3-FinPerf V'!K15","v":1795104699}]
[{"$f":"'A3-FinPerf V'!A16","v":"Vote 12 - Tourism"},null,{"$f":"[6]Tourism!C18","v":2989276.7831614707},{"$f":"[6]Tourism!D18","v":0},{"$f":"[6]Tourism!E18","v":0},{"$f":"[6]Tourism!F18","v":0},{"$f":"[6]Tourism!G18","v":2514971.4066189355},{"$f":"[6]Tourism!H18","v":0},{"$f":"[6]Tourism!I18","v":0},{"$f":"[6]Tourism!J18","v":0},{"$f":"[6]Tourism!K18","v":2040679.6901586694},{"$f":"[6]Tourism!L18","v":0},{"$f":"[6]Tourism!M18","v":0},0.12006092444062233,{"$f":"'A3-FinPerf V'!I16","v":7544928},{"$f":"'A3-FinPerf V'!J16","v":7634195},{"$f":"'A3-FinPerf V'!K16","v":8044869}]
[{"$f":"'A3-FinPerf V'!A17","v":"Vote 13 - Development Agency"},null,{"$f":"'[7]20-21 Detailed Budget'!H61","v":8094475.3462100122},{"$f":"'[7]20-21 Detailed Budget'!I61","v":15103089.491082789},{"$f":"'[7]20-21 Detailed Budget'!J61","v":11599475.346210012},{"$f":"'[7]20-21 Detailed Budget'!K61","v":7136836.7606972903},{"$f":"'[7]20-21 Detailed Budget'!L61","v":9624198.1751845665},{"$f":"'[7]20-21 Detailed Budget'!M61","v":7599359.5896718455},{"$f":"'[7]20-21 Detailed Budget'!N61","v":8032475.3462100122},{"$f":"'[7]20-21 Detailed Budget'!O61","v":7074475.3462100122},{"$f":"'[7]20-21 Detailed Budget'!P61","v":5674836.7606972912},{"$f":"'[7]20-21 Detailed Budget'!Q61","v":5278036.7606972912},{"$f":"'[7]20-21 Detailed Budget'!R61","v":5795892.19490238},19985034.882226497,{"$f":"'A3-FinPerf V'!I17","v":110998186},{"$f":"'A3-FinPerf V'!J17","v":104792812},{"$f":"'A3-FinPerf V'!K17","v":110115433}]
[{"$f":"'A3-FinPerf V'!A18","v":"Vote 14 - "},null,0,0,0,0,0,0,0,0,0,0,0,0,{"$f":"'A3-FinPerf V'!I18","v":0},{"$f":"'A3-FinPerf V'!J18","v":0},{"$f":"'A3-FinPerf V'!K18","v":0}]
[{"$f":"'A3-FinPerf V'!A19","v":"Vote 15 - Other"},null,0,0,0,0,0,0,0,0,0,0,0,0,{"$f":"'A3-FinPerf V'!I19","v":0},{"$f":"'A3-FinPerf V'!J19","v":0},{"$f":"'A3-FinPerf V'!K19","v":0}]
[{"$f":"'A3-FinPerf V'!A20","v":"Total Revenue by Vote"},null,{"$f":"SUM(C5:C19)","v":750696953.71240175},61258089.009706326,73239174.664505854,{"$f":"SUM(F5:F19)","v":60647076.469084628},631948676.97038829,46828394.572809577,35532265.227049015,64439479.779221885,695223465.34037995,48456161.055030711,57813595.384769261,114243174.81465279,2640326507,2674025013,2856779301]
[]
[{"$f":"'A3-FinPerf V'!A22","v":"Expenditure by Vote to be appropriated"}]
[{"$f":"'A3-FinPerf V'!A23","v":"Vote 01 - Council & Committees"},null,{"$f":"[6]Speaker!C36+[6]Mayor!C41+[6]MM!C38","v":23392523.682844419},{"$f":"[6]Speaker!D36+[6]Mayor!D41+[6]MM!D38","v":23119517.801500417},{"$f":"[6]Speaker!E36+[6]Mayor!E41+[6]MM!E38","v":22329524.699804224},{"$f":"[6]Speaker!F36+[6]Mayor!F41+[6]MM!F38","v":21081167.243046556},{"$f":"[6]Speaker!G36+[6]Mayor!G41+[6]MM!G38","v":19361971.357589308},{"$f":"[6]Speaker!H36+[6]Mayor!H41+[6]MM!H38","v":19057689.075394556},{"$f":"[6]Speaker!I36+[6]Mayor!I41+[6]MM!I38","v":19081629.354086559},{"$f":"[6]Speaker!J36+[6]Mayor!J41+[6]MM!J38","v":20347084.382221308},{"$f":"[6]Speaker!K36+[6]Mayor!K41+[6]MM!K38","v":19641674.310546558},{"$f":"[6]Speaker!L36+[6]Mayor!L41+[6]MM!L38","v":18977501.15928131},{"$f":"[6]Speaker!M36+[6]Mayor!M41+[6]MM!M38","v":19313019.882921308},{"$f":"O23-SUM(C23:M23)","v":27616719.050763488},{"$f":"'A3-FinPerf V'!I23","v":253320022},{"$f":"'A3-FinPerf V'!J23","v":273342325},{"$f":"'A3-FinPerf V'!K23","v":286351030}]
[{"$f":"'A3-FinPerf V'!A24","v":"Vote 02 - Finance & Administration"},null,{"$f":"[6]Corporate!C49+[6]BTO!C40","v":33068945.960720126},{"$f":"[6]Corporate!D49+[6]BTO!D40","v":26120902.538355805},{"$f":"[6]Corporate!E49+[6]BTO!E40","v":30565177.561670177},{"$f":"[6]Corporate!F49+[6]BTO!F40","v":24770139.332517475},{"$f":"[6]Corporate!G49+[6]BTO!G40","v":25511611.405322675},{"$f":"[6]Corporate!H49+[6]BTO!H40","v":23855551.306548133},{"$f":"[6]Corporate!I49+[6]BTO!I40","v":25134228.462403327},{"$f":"[6]Corporate!J49+[6]BTO!J40","v":24238017.719302811},{"$f":"[6]Corporate!K49+[6]BTO!K40","v":23653287.540242605},{"$f":"[6]Corporate!L49+[6]BTO!L40","v":28066292.6051061},{"$f":"[6]Corporate!M49+[6]BTO!M40","v":22615772.420290746},23291246.147520006,{"$f":"'A3-FinPerf V'!I24","v":310891173},{"$f":"'A3-FinPerf V'!J24","v":339518088},{"$f":"'A3-FinPerf V'!K24","v":357305834}]
[{"$f":"'A3-FinPerf V'!A25","v":"Vote 03 - Planning & Development"},null,{"$f":"[6]Planning!C25","v":5272821.7942685205},{"$f":"[6]Planning!D25","v":7707821.7942685205},{"$f":"[6]Planning!E25","v":11537266.324268524},{"$f":"[6]Planning!F25","v":9016936.7942685205},{"$f":"[6]Planning!G25","v":10758107.794268522},{"$f":"[6]Planning!H25","v":14175300.07426852},{"$f":"[6]Planning!I25","v":8872821.7942685205},{"$f":"[6]Planning!J25","v":10858679.794268522},{"$f":"[6]Planning!K25","v":10507963.164268523},{"$f":"[6]Planning!L25","v":6055180.2942685205},{"$f":"[6]Planning!M25","v":6660784.2942685205},8809318.0830462724,{"$f":"'A3-FinPerf V'!I25","v":110233002},{"$f":"'A3-FinPerf V'!J25","v":101943878},{"$f":"'A3-FinPerf V'!K25","v":105467674}]
[{"$f":"'A3-FinPerf V'!A26","v":"Vote 04 - Health"},null,{"$f":"[6]HEALTH!C13","v":1827176.1690804977},{"$f":"[6]HEALTH!D13","v":1871883.3357471642},{"$f":"[6]HEALTH!E13","v":1930327.6357471643},{"$f":"[6]HEALTH!F13","v":2114261.155747164},{"$f":"[6]HEALTH!G13","v":1982979.5390804976},{"$f":"[6]HEALTH!H13","v":1827176.1690804977},{"$f":"[6]HEALTH!I13","v":1827176.1690804977},{"$f":"[6]HEALTH!J13","v":2003613.3390804976},{"$f":"[6]HEALTH!K13","v":1909739.5390804976},{"$f":"[6]HEALTH!L13","v":1844762.1690804977},{"$f":"[6]HEALTH!M13","v":1866986.1890804977},1934897.5901145265,{"$f":"'A3-FinPerf V'!I26","v":22940979},{"$f":"'A3-FinPerf V'!J26","v":24340868},{"$f":"'A3-FinPerf V'!K26","v":25734120}]
[{"$f":"'A3-FinPerf V'!A27","v":"Vote 05 - Community & Social Services"},null,{"$f":"'[6]COMMUNITY SAFETY'!C22","v":898036.79624056257},{"$f":"'[6]COMMUNITY SAFETY'!D22","v":898036.79624056257},{"$f":"'[6]COMMUNITY SAFETY'!E22","v":1401360.2462405625},{"$f":"'[6]COMMUNITY SAFETY'!F22","v":1816413.1562405624},{"$f":"'[6]COMMUNITY SAFETY'!G22","v":928036.79624056257},{"$f":"'[6]COMMUNITY SAFETY'!H22","v":1560562.9064405626},{"$f":"'[6]COMMUNITY SAFETY'!I22","v":1085858.7962405626},{"$f":"'[6]COMMUNITY SAFETY'!J22","v":1599798.0108205625},{"$f":"'[6]COMMUNITY SAFETY'!K22","v":1950237.5162405625},{"$f":"'[6]COMMUNITY SAFETY'!L22","v":1085554.9962405625},{"$f":"'[6]COMMUNITY SAFETY'!M22","v":1039471.3462405625},1946590.636573812,{"$f":"'A3-FinPerf V'!I27","v":16209958},{"$f":"'A3-FinPerf V'!J27","v":17129603},{"$f":"'A3-FinPerf V'!K27","v":17448293}]
[{"$f":"'A3-FinPerf V'!A28","v":"Vote 06 - Housing"},null,{"$f":"[6]HOUSING!C18","v":1089960.8906203934},{"$f":"[6]HOUSING!D18","v":1089960.8906203934},{"$f":"[6]HOUSING!E18","v":1354083.5072853935},{"$f":"[6]HOUSING!F18","v":1089960.8906203934},{"$f":"[6]HOUSING!G18","v":1089960.8906203934},{"$f":"[6]HOUSING!H18","v":1813675.5072853935},{"$f":"[6]HOUSING!I18","v":1319756.8906203934},{"$f":"[6]HOUSING!J18","v":1089960.8906203934},{"$f":"[6]HOUSING!K18","v":1124287.5072853935},{"$f":"[6]HOUSING!L18","v":1319756.8906203934},{"$f":"[6]HOUSING!M18","v":1089960.8906203934},2167200.3531806711,{"$f":"'A3-FinPerf V'!I28","v":15638526},{"$f":"'A3-FinPerf V'!J28","v":17285324},{"$f":"'A3-FinPerf V'!K28","v":17895115}]
[{"$f":"'A3-FinPerf V'!A29","v":"Vote 07 - Public Safety"},null,{"$f":"'[6]PUBLIC SAFETY'!C22","v":4357782.7897637915},{"$f":"'[6]PUBLIC SAFETY'!D22","v":4825068.7897637915},{"$f":"'[6]PUBLIC SAFETY'!E22","v":4820382.7897637915},{"$f":"'[6]PUBLIC SAFETY'!F22","v":5171732.7897637915},{"$f":"'[6]PUBLIC SAFETY'!G22","v":5324326.0497637913},{"$f":"'[6]PUBLIC SAFETY'!H22","v":4438282.7897637915},{"$f":"'[6]PUBLIC SAFETY'!I22","v":4431382.7897637915},{"$f":"'[6]PUBLIC SAFETY'!J22","v":5069463.7897637915},{"$f":"'[6]PUBLIC SAFETY'!K22","v":9388038.9897637907},{"$f":"'[6]PUBLIC SAFETY'!L22","v":5479561.7897637915},{"$f":"'[6]PUBLIC SAFETY'!M22","v":6781200.1797637921},5085343.4625982866,{"$f":"'A3-FinPerf V'!I29","v":65172567},{"$f":"'A3-FinPerf V'!J29","v":65613685},{"$f":"'A3-FinPerf V'!K29","v":68769308}]
[{"$f":"'A3-FinPerf V'!A30","v":"Vote 08 - Sports & Recreation"},null,{"$f":"[6]SPORT!C18","v":425438.10900272295},{"$f":"[6]SPORT!D18","v":460198.81980272295},{"$f":"[6]SPORT!E18","v":1167774.3630627231},{"$f":"[6]SPORT!F18","v":520199.23980272294},{"$f":"[6]SPORT!G18","v":693058.61520272295},{"$f":"[6]SPORT!H18","v":1305118.527002723},{"$f":"[6]SPORT!I18","v":527907.15220272297},{"$f":"[6]SPORT!J18","v":728051.09700272302},{"$f":"[6]SPORT!K18","v":1416875.558802723},{"$f":"[6]SPORT!L18","v":581308.54500272288},{"$f":"[6]SPORT!M18","v":493395.60900272301},979084.364110047,{"$f":"'A3-FinPerf V'!I30","v":9298410},{"$f":"'A3-FinPerf V'!J30","v":9808264},{"$f":"'A3-FinPerf V'!K30","v":9843593}]
[{"$f":"'A3-FinPerf V'!A31","v":"Vote 09 - Environmental"},null,{"$f":"[6]Envron!C19","v":778410.59226083127},{"$f":"[6]Envron!D19","v":1846621.9622608311},{"$f":"[6]Envron!E19","v":1006430.5922608312},{"$f":"[6]Envron!F19","v":1737423.7822608312},{"$f":"[6]Envron!G19","v":1181193.2922608312},{"$f":"[6]Envron!H19","v":1081424.5922608313},{"$f":"[6]Envron!I19","v":1493579.4422608311},{"$f":"[6]Envron!J19","v":1085285.2122608311},{"$f":"[6]Envron!K19","v":802853.29226083122},{"$f":"[6]Envron!L19","v":1609827.3522608313},{"$f":"[6]Envron!M19","v":1055492.0822608313},4470624.805130858,{"$f":"'A3-FinPerf V'!I31","v":18149167},{"$f":"'A3-FinPerf V'!J31","v":19077134},{"$f":"'A3-FinPerf V'!K31","v":17711647}]
[{"$f":"'A3-FinPerf V'!A32","v":"Vote 10 - Roads"},null,{"$f":"'[6]Technical Serv'!C26","v":1097718.7458993313},{"$f":"'[6]Technical Serv'!D26","v":1097718.7458993313},{"$f":"'[6]Technical Serv'!E26","v":1097718.7458993313},{"$f":"'[6]Technical Serv'!F26","v":1681711.1091993311},{"$f":"'[6]Technical Serv'!G26","v":2928202.7790993312},{"$f":"'[6]Technical Serv'!H26","v":2047288.8971993313},{"$f":"'[6]Technical Serv'!I26","v":1097718.7458993313},{"$f":"'[6]Technical Serv'!J26","v":2306419.5791993313},{"$f":"'[6]Technical Serv'!K26","v":2306419.5791993313},{"$f":"'[6]Technical Serv'!L26","v":2306419.5791993313},{"$f":"'[6]Technical Serv'!M26","v":2306419.5791993313},2727206.9141073562,{"$f":"'A3-FinPerf V'!I32","v":23000963},{"$f":"'A3-FinPerf V'!J32","v":23067810},{"$f":"'A3-FinPerf V'!K32","v":23719669}]
[{"$f":"'A3-FinPerf V'!A33","v":"Vote 11 - Water"},null,{"$f":"'[6]WATER '!C49","v":63825592.97087878},{"$f":"'[6]WATER '!D49","v":68132676.304212108},{"$f":"'[6]WATER '!E49","v":66930257.266985923},{"$f":"'[6]WATER '!F49","v":74610810.279895455},{"$f":"'[6]WATER '!G49","v":61549388.51471211},{"$f":"'[6]WATER '!H49","v":70967971.848045439},{"$f":"'[6]WATER '!I49","v":64345740.424712107},{"$f":"'[6]WATER '!J49","v":58346788.828145444},{"$f":"'[6]WATER '!K49","v":58577021.222254962},{"$f":"'[6]WATER '!L49","v":63163508.924712114},{"$f":"'[6]WATER '!M49","v":55304470.313378781},64356196.102066755,{"$f":"'A3-FinPerf V'!I33","v":770110423},{"$f":"'A3-FinPerf V'!J33","v":799168249},{"$f":"'A3-FinPerf V'!K33","v":823555382}]
[{"$f":"'A3-FinPerf V'!A34","v":"Vote 12 - Tourism"},null,{"$f":"[6]Tourism!C14","v":312830.70665824995},{"$f":"[6]Tourism!D14","v":337902.20665824995},{"$f":"[6]Tourism!E14","v":710883.10665824998},{"$f":"[6]Tourism!F14","v":608901.54665825004},{"$f":"[6]Tourism!G14","v":422830.70665824995},{"$f":"[6]Tourism!H14","v":1131538.8366582501},{"$f":"[6]Tourism!I14","v":1492139.0866582498},{"$f":"[6]Tourism!J14","v":372830.70665824995},{"$f":"[6]Tourism!K14","v":871622.96745825},{"$f":"[6]Tourism!L14","v":505729.34183202765},{"$f":"[6]Tourism!M14","v":402154.05665824993},375565.73078547232,{"$f":"'A3-FinPerf V'!I34","v":7544929},{"$f":"'A3-FinPerf V'!J34","v":7634193},{"$f":"'A3-FinPerf V'!K34","v":8044869}]
[{"$f":"'A3-FinPerf V'!A35","v":"Vote 13 - Development Agency"},null,{"$f":"'[7]20-21 Detailed Budget'!H440","v":3069177.1500000008},{"$f":"'[7]20-21 Detailed Budget'!I440","v":8075672.8021739097},{"$f":"'[7]20-21 Detailed Budget'!J440","v":6578512.9326086948},{"$f":"'[7]20-21 Detailed Budget'!K440","v":4407066.1500000013},{"$f":"'[7]20-21 Detailed Budget'!L440","v":4478500.1499999994},{"$f":"'[7]20-21 Detailed Budget'!M440","v":5109320.1500000013},{"$f":"'[7]20-21 Detailed Budget'!N440","v":4582847.3673913041},{"$f":"'[7]20-21 Detailed Budget'!O440","v":4306777.1500000004},{"$f":"'[7]20-21 Detailed Budget'!P440","v":4663787.1500000013},{"$f":"'[7]20-21 Detailed Budget'!Q440","v":3565476.1500000013},{"$f":"'[7]20-21 Detailed Budget'!R440","v":3310777.1500000013},31743209.697826095,{"$f":"'A3-FinPerf V'!I35","v":83891124},{"$f":"'A3-FinPerf V'!J35","v":94575398},{"$f":"'A3-FinPerf V'!K35","v":102160727}]
[{"$f":"'A3-FinPerf V'!A36","v":"Vote 14 - "},null,0,0,0,0,0,0,0,0,0,0,0,0,{"$f":"'A3-FinPerf V'!I36","v":0},{"$f":"'A3-FinPerf V'!J36","v":0},{"$f":"'A3-FinPerf V'!K36","v":0}]
[{"$f":"'A3-FinPerf V'!A37","v":"Vote 15 - Other"},null,0,0,0,0,0,0,0,0,0,0,0,0,{"$f":"'A3-FinPerf V'!I37","v":0},{"$f":"'A3-FinPerf V'!J37","v":0},{"$f":"'A3-FinPerf V'!K37","v":0}]
[{"$f":"'A3-FinPerf V'!A38","v":"Total Expenditure by Vote"},null,{"$f":"SUM(C23:C37)","v":139416416.35823825},{"$f":"SUM(D23:D37)","v":145583982.78750381},151429699.7722556,148626723.47002107,136210167.89081901,148370900.67994803,135292786.4755882,132352770.49934445,136813808.33740401,134560879.7973682,122239903.99368575,175503202.93782362,{"$f":"SUM(O23:O37)","v":1706401243},{"$f":"SUM(P23:P37)","v":1792504819},{"$f":"SUM(Q23:Q37)","v":1864007261}]
[]
[{"$f":"'A4-FinPerf RE'!A37&\" before assoc.\"","v":"Surplus/(Deficit) before assoc."},null,{"$f":"C20-C38","v":611280537.35416353},-84325893.77779749,-78190525.107749745,-87979647.000936449,495738509.07956928,-101542506.10713845,-99760521.24853918,-67913290.720122576,558409657.00297594,-86104718.742337495,-64426308.608916491,-61260028.123170838,933925264,881520194,992772040]
[]
[{"$f":"'SA25'!A42","v":"Taxation"},null,null,null,null,null,null,null,null,null,null,null,null,{"$f":"O42-SUM(C42:M42)","v":0},{"$f":"'SA25'!O42","v":0},{"$f":"'SA25'!P42","v":0},{"$f":"'SA25'!Q42","v":0}]
[{"$f":"'SA25'!A43","v":"Attributable to minorities"},null,null,null,null,null,null,null,null,null,null,null,null,{"$f":"O43-SUM(C43:M43)","v":0},{"$f":"'SA25'!O43","v":0},{"$f":"'SA25'!P43","v":0},{"$f":"'SA25'!Q43","v":0}]
[{"$f":"'A4-FinPerf RE'!A46","v":"Share of surplus/ (deficit) of associate"},null,null,null,null,null,null,null,null,null,null,null,null,{"$f":"O44-SUM(C44:M44)","v":0},{"$f":"'A4-FinPerf RE'!J46","v":0},{"$f":"'A4-FinPerf RE'!K46","v":0},{"$f":"'A4-FinPerf RE'!L46","v":0}]
[{"$f":"'A4-FinPerf RE'!A37","v":"Surplus/(Deficit)"},1,{"$f":"C40+C44","v":611280537.35416353},{"$f":"D40+D44","v":-84325893.77779749},-78190525.107749745,-87979647.000936449,495738509.07956928,-101542506.10713845,-99760521.24853918,-67913290.720122576,558409657.00297594,-86104718.742337495,-64426308.608916491,-61260028.123170838,933925264,881520194,992772040]
[{"$f":"head27a","v":"References"}]
["1. Surplus (Deficit) must reconcile with Budgeted Financial Performance"]
["check",null,null,null,null,null,null,null,null,null,null,null,null,null,{"$f":"O45-'A4-FinPerf RE'!J47","v":0},{"$f":"P45-'A4-FinPerf RE'!K47","v":0},{"$f":"Q45-'A4-FinPerf RE'!L47","v":0}]

{"sheet":"SA27","index":48,"n_rows":56,"n_cols":17,"rows_kept":56,"cut":false,"hidden":false,"merged":[[1,2,1,13],[1,14,1,16]]}
[{"$f":"muni&\" - \"&TableA27","v":"DC15 O .R. Tambo - Supporting Table SA27 Consolidated budgeted monthly revenue and expenditure (functional classification)"}]
[{"$f":"desc","v":"Description"},{"$f":"head27","v":"Ref"},{"$f":"Head9","v":"Budget Year 2020/21"},null,null,null,null,null,null,null,null,null,null,null,"Medium Term Revenue and Expenditure Framework"]
["R thousand",null,"July","August","Sept.","October","November","December","January","February","March","April","May","June",{"$f":"Head9","v":"Budget Year 2020/21"},{"$f":"Head10","v":"Budget Year +1 2021/22"},{"$f":"Head11","v":"Budget Year +2 2022/23"}]
[{"$f":"'A2-FinPerf SC'!A4","v":"Revenue - Functional"}]
[{"$f":"'A2-FinPerf SC'!A5","v":"Governance and administration"},null,{"$f":"SUM(C6:C8)","v":207960472.72500271},{"$f":"SUM(D6:D8)","v":3756684.3571545258},{"$f":"SUM(E6:E8)","v":4570641.5073704161},2861662.0806803913,174058552.30027044,3180190.1584301521,3175631.3942005122,5498604.5148668718,139725547.77934533,3213186.8309206725,3234846.2469683825,{"$f":"O5-SUM(C5:M5)","v":17541280.104789615},{"$f":"'A2-FinPerf SC'!I5","v":568777300},{"$f":"'A2-FinPerf SC'!J5","v":620893196},{"$f":"'A2-FinPerf SC'!K5","v":645348234}]
[{"$f":"'A2-FinPerf SC'!A6","v":"Executive and council"},null,{"$f":"'SA26'!C5-'SA27'!C8","v":92352034.685256928},{"$f":"'SA26'!D5-'SA27'!D8","v":609181.98953560658},{"$f":"'SA26'!E5-'SA27'!E8","v":591294.51204201696},{"$f":"'SA26'!F5-'SA27'!F8","v":695932.70852182305},{"$f":"'SA26'!G5-'SA27'!G8","v":76753918.366290122},{"$f":"'SA26'!H5-'SA27'!H8","v":682413.72660741059},{"$f":"'SA26'!I5-'SA27'!I8","v":249451.89058785149},{"$f":"'SA26'!J5-'SA27'!J8","v":2238955.1297849715},{"$f":"'SA26'!K5-'SA27'!K8","v":60985669.574475914},{"$f":"'SA26'!L5-'SA27'!L8","v":321452.22100066772},{"$f":"'SA26'!M5-'SA27'!M8","v":330967.14950474445},-8968088.9536080956,{"$f":"'A2-FinPerf SC'!I6","v":226843183},{"$f":"'A2-FinPerf SC'!J6","v":247403611},{"$f":"'A2-FinPerf SC'!K6","v":258612130}]
[{"$f":"'A2-FinPerf SC'!A7","v":"Finance and administration"},null,{"$f":"'SA26'!C6","v":112276731.39972141},{"$f":"'SA26'!D6","v":3147502.3676189194},{"$f":"'SA26'!E6","v":3979346.9953283989},{"$f":"'SA26'!F6","v":2165729.3721585684},{"$f":"'SA26'!G6","v":94501565.652681187},{"$f":"'SA26'!H6","v":2497776.4318227414},{"$f":"'SA26'!I6","v":2926179.5036126608},{"$f":"'SA26'!J6","v":3259649.3850819007},{"$f":"'SA26'!K6","v":76465433.057413399},{"$f":"'SA26'!L6","v":2891734.6099200048},{"$f":"'SA26'!M6","v":2903879.0974636381},26509369.127177119,{"$f":"'A2-FinPerf SC'!I7","v":333524897},{"$f":"'A2-FinPerf SC'!J7","v":364578566},{"$f":"'A2-FinPerf SC'!K7","v":377293017}]
[{"$f":"'A2-FinPerf SC'!A8","v":"Internal audit"},null,{"$f":"[6]Revenue!C143","v":3331706.640024371},{"$f":"[6]Revenue!D143","v":0},{"$f":"[6]Revenue!E143","v":0},{"$f":"[6]Revenue!F143","v":0},{"$f":"[6]Revenue!G143","v":2803068.2812991044},{"$f":"[6]Revenue!H143","v":0},{"$f":"[6]Revenue!I143","v":0},{"$f":"[6]Revenue!J143","v":0},{"$f":"[6]Revenue!K143","v":2274445.1474560085},{"$f":"[6]Revenue!L143","v":0},{"$f":"[6]Revenue!M143","v":0},-6.8779483437538147E-2,{"$f":"'A2-FinPerf SC'!I8","v":8409220},{"$f":"'A2-FinPerf SC'!J8","v":8911019},{"$f":"'A2-FinPerf SC'!K8","v":9443087}]
[{"$f":"'A2-FinPerf SC'!A9","v":"Community and public safety"},null,{"$f":"SUM(C10:C14)","v":52912501.361799374},{"$f":"SUM(D10:D14)","v":0},10000000,0,40982499.107640274,10000000,0,0,43253719.450170711,0,0,12345000.080389619,{"$f":"'A2-FinPerf SC'!I9","v":169493720},{"$f":"'A2-FinPerf SC'!J9","v":137496995},{"$f":"'A2-FinPerf SC'!K9","v":145690423}]
[{"$f":"'A2-FinPerf SC'!A10","v":"Community and social services"},null,{"$f":"'SA26'!C9","v":6189060.013947987},{"$f":"'SA26'!D9","v":0},{"$f":"'SA26'!E9","v":0},{"$f":"'SA26'!F9","v":0},{"$f":"'SA26'!G9","v":5207048.4260965111},{"$f":"'SA26'!H9","v":0},{"$f":"'SA26'!I9","v":0},{"$f":"'SA26'!J9","v":0},{"$f":"'SA26'!K9","v":4225065.120359771},{"$f":"'SA26'!L9","v":0},{"$f":"'SA26'!M9","v":0},31896733.439595729,{"$f":"'A2-FinPerf SC'!I10","v":47517907},{"$f":"'A2-FinPerf SC'!J10","v":46892299},{"$f":"'A2-FinPerf SC'!K10","v":49619711}]
[{"$f":"'A2-FinPerf SC'!A11","v":"Sport and recreation"},null,{"$f":"'SA26'!C12","v":3504576.8978633587},{"$f":"'SA26'!D12","v":0},{"$f":"'SA26'!E12","v":0},{"$f":"'SA26'!F12","v":0},{"$f":"'SA26'!G12","v":2948509.3986853943},{"$f":"'SA26'!H12","v":0},{"$f":"'SA26'!I12","v":0},{"$f":"'SA26'!J12","v":0},{"$f":"'SA26'!K12","v":2392457.9143539006},{"$f":"'SA26'!L12","v":0},{"$f":"'SA26'!M12","v":0},-0.21090265363454819,{"$f":"'A2-FinPerf SC'!I11","v":8845544},{"$f":"'A2-FinPerf SC'!J11","v":9330948},{"$f":"'A2-FinPerf SC'!K11","v":9843587}]
[{"$f":"'A2-FinPerf SC'!A12","v":"Public safety"},null,{"$f":"'SA26'!C11","v":28106862.535407878},{"$f":"'SA26'!D11","v":0},{"$f":"'SA26'!E11","v":0},{"$f":"'SA26'!F11","v":0},{"$f":"'SA26'!G11","v":20112744.683189832},{"$f":"'SA26'!H11","v":0},{"$f":"'SA26'!I11","v":0},{"$f":"'SA26'!J11","v":0},{"$f":"'SA26'!K11","v":16319736.073465075},{"$f":"'SA26'!L11","v":0},{"$f":"'SA26'!M11","v":0},-29596732.292062789,{"$f":"'A2-FinPerf SC'!I12","v":34942611},{"$f":"'A2-FinPerf SC'!J12","v":40062995},{"$f":"'A2-FinPerf SC'!K12","v":42597894}]
[{"$f":"'A2-FinPerf SC'!A13","v":"Housing"},null,{"$f":"'SA26'!C10","v":6055869.7112984322},{"$f":"'SA26'!D10","v":0},{"$f":"'SA26'!E10","v":10000000},{"$f":"'SA26'!F10","v":0},{"$f":"'SA26'!G10","v":5094991.2874971582},{"$f":"'SA26'!H10","v":10000000},{"$f":"'SA26'!I10","v":0},{"$f":"'SA26'!J10","v":0},{"$f":"'SA26'!K10","v":14134140.5371716},{"$f":"'SA26'!L10","v":0},{"$f":"'SA26'!M10","v":0},10044999.464032806,{"$f":"'A2-FinPerf SC'!I13","v":55330001},{"$f":"'A2-FinPerf SC'!J13","v":16957707},{"$f":"'A2-FinPerf SC'!K13","v":17895112}]
[{"$f":"'A2-FinPerf SC'!A14","v":"Health"},null,{"$f":"'SA26'!C8","v":9056132.2032817118},{"$f":"'SA26'!D8","v":0},{"$f":"'SA26'!E8","v":0},{"$f":"'SA26'!F8","v":0},{"$f":"'SA26'!G8","v":7619205.3121713782},{"$f":"'SA26'!H8","v":0},{"$f":"'SA26'!I8","v":0},{"$f":"'SA26'!J8","v":0},{"$f":"'SA26'!K8","v":6182319.8048203643},{"$f":"'SA26'!L8","v":0},{"$f":"'SA26'!M8","v":0},-0.32027345150709152,{"$f":"'A2-FinPerf SC'!I14","v":22857657},{"$f":"'A2-FinPerf SC'!J14","v":24253046},{"$f":"'A2-FinPerf SC'!K14","v":25734119}]
[{"$f":"'A2-FinPerf SC'!A15","v":"Economic and environmental services"},null,{"$f":"SUM(C16:C18)","v":69720279.941345632},{"$f":"SUM(D16:D18)","v":15200281.538828483},11693813.533210533,7247869.467173079,59006604.593101539,7708235.407798551,8072274.1920011556,7171750.8442852478,45748904.306078263,5329322.9118772913,5848696.4070253372,71408704.85727486,{"$f":"'A2-FinPerf SC'!I15","v":314156738},{"$f":"'A2-FinPerf SC'!J15","v":259785669},{"$f":"'A2-FinPerf SC'!K15","v":262591076}]
[{"$f":"'A2-FinPerf SC'!A16","v":"Planning and development"},null,51768445.992108136,15103089.491082788,11599475.346210018,7136836.7606972903,46368466.222448736,7599359.5896718428,8032475.3462100141,7074475.3462100103,35489601.786039501,5278036.7606972903,5795892.1949023828,31027242.163722008,{"$f":"'A2-FinPerf SC'!I16","v":232273397},{"$f":"'A2-FinPerf SC'!J16","v":212181070},{"$f":"'A2-FinPerf SC'!K16","v":217853757}]
[{"$f":"'A2-FinPerf SC'!A17","v":"Road transport"},null,{"$f":"'SA26'!C14","v":11596375.226832401},{"$f":"'SA26'!D14","v":97192.047745695279},{"$f":"'SA26'!E14","v":94338.187000514125},{"$f":"'SA26'!F14","v":111032.7064757888},{"$f":"'SA26'!G14","v":7291093.54267566},{"$f":"'SA26'!H14","v":108875.81812670872},{"$f":"'SA26'!I14","v":39798.845791141553},{"$f":"'SA26'!J14","v":97275.498075237614},{"$f":"'SA26'!K14","v":5920642.5439835256},{"$f":"'SA26'!L14","v":51286.151180000634},{"$f":"'SA26'!M14","v":52804.212122954777},40381462.219990373,{"$f":"'A2-FinPerf SC'!I17","v":65842177},{"$f":"'A2-FinPerf SC'!J17","v":30749301},{"$f":"'A2-FinPerf SC'!K17","v":27025670}]
[{"$f":"'A2-FinPerf SC'!A18","v":"Environmental protection"},null,{"$f":"'SA26'!C13","v":6355458.7224050863},{"$f":"'SA26'!D13","v":0},{"$f":"'SA26'!E13","v":0},{"$f":"'SA26'!F13","v":0},{"$f":"'SA26'!G13","v":5347044.827977146},{"$f":"'SA26'!H13","v":0},{"$f":"'SA26'!I13","v":0},{"$f":"'SA26'!J13","v":0},{"$f":"'SA26'!K13","v":4338659.9760552375},{"$f":"'SA26'!L13","v":0},{"$f":"'SA26'!M13","v":0},0.47356253117322922,{"$f":"'A2-FinPerf SC'!I18","v":16041164},{"$f":"'A2-FinPerf SC'!J18","v":16855298},{"$f":"'A2-FinPerf SC'!K18","v":17711649}]
[{"$f":"'A2-FinPerf SC'!A19","v":"Trading services"},null,{"$f":"SUM(C20:C23)","v":417114422.90109247},{"$f":"SUM(D20:D23)","v":42301123.113723315},46974719.623924904,50537544.921231158,355386049.56275713,25939969.006580874,24284359.640847348,51769124.420069762,464454614.11462688,39913651.312232748,48730052.730775543,{"$f":"O19-SUM(C19:M19)","v":12948189.652137756},{"$f":"'A2-FinPerf SC'!I19","v":1580353821},{"$f":"'A2-FinPerf SC'!J19","v":1648214958},{"$f":"'A2-FinPerf SC'!K19","v":1795104699}]
[{"$f":"'A2-FinPerf SC'!A20","v":"Energy sources"},null,null,null,null,null,null,null,null,null,null,null,null,0,{"$f":"'A2-FinPerf SC'!I20","v":0},{"$f":"'A2-FinPerf SC'!J20","v":0},{"$f":"'A2-FinPerf SC'!K20","v":0}]
[{"$f":"'A2-FinPerf SC'!A21","v":"Water management"},null,{"$f":"'SA26'!C15","v":417114422.90109247},{"$f":"'SA26'!D15","v":42301123.113723315},{"$f":"'SA26'!E15","v":46974719.623924904},{"$f":"'SA26'!F15","v":50537544.921231158},{"$f":"'SA26'!G15","v":355386049.56275713},{"$f":"'SA26'!H15","v":25939969.006580874},{"$f":"'SA26'!I15","v":24284359.640847348},{"$f":"'SA26'!J15","v":51769124.420069762},{"$f":"'SA26'!K15","v":464454614.11462688},{"$f":"'SA26'!L15","v":39913651.312232748},{"$f":"'SA26'!M15","v":48730052.730775543},12948189.652137756,{"$f":"'A2-FinPerf SC'!I21","v":1580353821},{"$f":"'A2-FinPerf SC'!J21","v":1648214958},{"$f":"'A2-FinPerf SC'!K21","v":1795104699}]
[{"$f":"'A2-FinPerf SC'!A22","v":"Waste water management"},null,null,null,null,null,null,null,null,null,null,null,null,0,{"$f":"'A2-FinPerf SC'!I22","v":0},{"$f":"'A2-FinPerf SC'!J22","v":0},{"$f":"'A2-FinPerf SC'!K22","v":0}]
[{"$f":"'A2-FinPerf SC'!A23","v":"Waste management"},null,null,null,null,null,null,null,null,null,null,null,null,0,{"$f":"'A2-FinPerf SC'!I23","v":0},{"$f":"'A2-FinPerf SC'!J23","v":0},{"$f":"'A2-FinPerf SC'!K23","v":0}]
[{"$f":"'A2-FinPerf SC'!A24","v":"Other"},null,{"$f":"'SA26'!C16","v":2989276.7831614707},{"$f":"'SA26'!D16","v":0},{"$f":"'SA26'!E16","v":0},{"$f":"'SA26'!F16","v":0},{"$f":"'SA26'!G16","v":2514971.4066189355},{"$f":"'SA26'!H16","v":0},{"$f":"'SA26'!I16","v":0},{"$f":"'SA26'!J16","v":0},{"$f":"'SA26'!K16","v":2040679.6901586694},{"$f":"'SA26'!L16","v":0},{"$f":"'SA26'!M16","v":0},0.12006092444062233,{"$f":"'A2-FinPerf SC'!I24","v":7544928},{"$f":"'A2-FinPerf SC'!J24","v":7634195},{"$f":"'A2-FinPerf SC'!K24","v":8044869}]
[{"$f":"'A2-FinPerf SC'!A25","v":"Total Revenue - Functional"},null,{"$f":"C5+C9+C15+C19+C24","v":750696953.71240175},61258089.009706326,73239174.664505854,60647076.469084628,631948676.97038829,46828394.572809577,35532265.227049015,64439479.779221877,695223465.34037983,48456161.055030711,57813595.384769261,114243174.81465277,2640326507,2674025013,2856779301]
[null,null,null,{"$f":"D6+D10+D16+D20+D25","v":76970360.490324721},85429944.522757888,68479845.938303739,760278109.98522365,55110167.889088832,43814192.463846877,73752910.255216867,795923801.82125497,54055650.036728665,{"$f":"M6+M10+M16+M20+M25","v":63940454.729176387}]
[{"$f":"'A2-FinPerf SC'!A27","v":"Expenditure - Functional"}]
[{"$f":"'A2-FinPerf SC'!A28","v":"Governance and administration"},null,{"$f":"SUM(C29:C31)","v":56461469.643564545},{"$f":"SUM(D29:D31)","v":49240420.339856222},{"$f":"SUM(E29:E31)","v":52894702.261474401},45851306.575564027,44873582.762911983,42913240.381942689,44215857.81648989,44585102.101524115,43294961.85078916,47043793.764387414,41928792.303212054,{"$f":"O28-SUM(C28:M28)","v":48882759.198283494},{"$f":"'A2-FinPerf SC'!I28","v":562185989},{"$f":"'A2-FinPerf SC'!J28","v":610716040},{"$f":"'A2-FinPerf SC'!K28","v":641386209}]
[{"$f":"'A2-FinPerf SC'!A29","v":"Executive and council"},null,{"$f":"'SA26'!C23-C31","v":22691743.682844419},{"$f":"'SA26'!D23-D31","v":22418737.801500417},{"$f":"'SA26'!E23-E31","v":21628744.699804224},{"$f":"'SA26'!F23-F31","v":20380387.243046556},{"$f":"'SA26'!G23-G31","v":18661191.357589308},{"$f":"'SA26'!H23-H31","v":18356909.075394556},{"$f":"'SA26'!I23-I31","v":18380849.354086559},{"$f":"'SA26'!J23-J31","v":19646304.382221308},{"$f":"'SA26'!K23-K31","v":18940894.310546558},{"$f":"'SA26'!L23-L31","v":18276721.15928131},{"$f":"'SA26'!M23-M31","v":18612239.882921308},18954401.050763488,{"$f":"'A2-FinPerf SC'!I29","v":236949124},{"$f":"'A2-FinPerf SC'!J29","v":252911091},{"$f":"'A2-FinPerf SC'!K29","v":264800111}]
[{"$f":"'A2-FinPerf SC'!A30","v":"Finance and administration"},null,{"$f":"'SA26'!C24","v":33068945.960720126},{"$f":"'SA26'!D24","v":26120902.538355805},{"$f":"'SA26'!E24","v":30565177.561670177},{"$f":"'SA26'!F24","v":24770139.332517475},{"$f":"'SA26'!G24","v":25511611.405322675},{"$f":"'SA26'!H24","v":23855551.306548133},{"$f":"'SA26'!I24","v":25134228.462403327},{"$f":"'SA26'!J24","v":24238017.719302811},{"$f":"'SA26'!K24","v":23653287.540242605},{"$f":"'SA26'!L24","v":28066292.6051061},{"$f":"'SA26'!M24","v":22615772.420290746},29227716.147520006,{"$f":"'A2-FinPerf SC'!I30","v":316827643},{"$f":"'A2-FinPerf SC'!J30","v":348893928},{"$f":"'A2-FinPerf SC'!K30","v":367143013}]
[{"$f":"'A2-FinPerf SC'!A31","v":"Internal audit"},null,700780,700780,700780,700780,700780,700780,700780,700780,700780,700780,700780,700642,{"$f":"'A2-FinPerf SC'!I31","v":8409222},{"$f":"'A2-FinPerf SC'!J31","v":8911021},{"$f":"'A2-FinPerf SC'!K31","v":9443085}]
[{"$f":"'A2-FinPerf SC'!A32","v":"Community and public safety"},null,{"$f":"SUM(C33:C37)","v":8598394.7547079679},{"$f":"SUM(D33:D37)","v":9145148.6321746353},10673928.542099634,10712567.232174635,10018361.890907967,10944815.899572968,9192081.797907969,10490887.127287967,15789179.111172967,10310944.390707968,11271014.214707969,12113116.406577349,{"$f":"'A2-FinPerf SC'!I32","v":129260440},{"$f":"'A2-FinPerf SC'!J32","v":134177744},{"$f":"'A2-FinPerf SC'!K32","v":139690429}]
[{"$f":"'A2-FinPerf SC'!A33","v":"Community and social services"},null,{"$f":"'SA26'!C27","v":898036.79624056257},{"$f":"'SA26'!D27","v":898036.79624056257},{"$f":"'SA26'!E27","v":1401360.2462405625},{"$f":"'SA26'!F27","v":1816413.1562405624},{"$f":"'SA26'!G27","v":928036.79624056257},{"$f":"'SA26'!H27","v":1560562.9064405626},{"$f":"'SA26'!I27","v":1085858.7962405626},{"$f":"'SA26'!J27","v":1599798.0108205625},{"$f":"'SA26'!K27","v":1950237.5162405625},{"$f":"'SA26'!L27","v":1085554.9962405625},{"$f":"'SA26'!M27","v":1039471.3462405625},34476547.636573814,{"$f":"'A2-FinPerf SC'!I33","v":48739915},{"$f":"'A2-FinPerf SC'!J33","v":48180294},{"$f":"'A2-FinPerf SC'!K33","v":49619708}]
[{"$f":"'A2-FinPerf SC'!A34","v":"Sport and recreation"},null,{"$f":"'SA26'!C30","v":425438.10900272295},{"$f":"'SA26'!D30","v":460198.81980272295},{"$f":"'SA26'!E30","v":1167774.3630627231},{"$f":"'SA26'!F30","v":520199.23980272294},{"$f":"'SA26'!G30","v":693058.61520272295},{"$f":"'SA26'!H30","v":1305118.527002723},{"$f":"'SA26'!I30","v":527907.15220272297},{"$f":"'SA26'!J30","v":728051.09700272302},{"$f":"'SA26'!K30","v":1416875.558802723},{"$f":"'SA26'!L30","v":581308.54500272288},{"$f":"'SA26'!M30","v":493395.60900272301},979084.364110047,{"$f":"'A2-FinPerf SC'!I34","v":9298410},{"$f":"'A2-FinPerf SC'!J34","v":9808264},{"$f":"'A2-FinPerf SC'!K34","v":9843593}]
[{"$f":"'A2-FinPerf SC'!A35","v":"Public safety"},null,{"$f":"'SA26'!C29","v":4357782.7897637915},{"$f":"'SA26'!D29","v":4825068.7897637915},{"$f":"'SA26'!E29","v":4820382.7897637915},{"$f":"'SA26'!F29","v":5171732.7897637915},{"$f":"'SA26'!G29","v":5324326.0497637913},{"$f":"'SA26'!H29","v":4438282.7897637915},{"$f":"'SA26'!I29","v":4431382.7897637915},{"$f":"'SA26'!J29","v":5069463.7897637915},{"$f":"'SA26'!K29","v":9388038.9897637907},{"$f":"'SA26'!L29","v":5479561.7897637915},{"$f":"'SA26'!M29","v":6781200.1797637921},-27444613.537401713,{"$f":"'A2-FinPerf SC'!I35","v":32642610},{"$f":"'A2-FinPerf SC'!J35","v":34562994},{"$f":"'A2-FinPerf SC'!K35","v":36597893}]
[{"$f":"'A2-FinPerf SC'!A36","v":"Housing"},null,{"$f":"'SA26'!C28","v":1089960.8906203934},{"$f":"'SA26'!D28","v":1089960.8906203934},{"$f":"'SA26'!E28","v":1354083.5072853935},{"$f":"'SA26'!F28","v":1089960.8906203934},{"$f":"'SA26'!G28","v":1089960.8906203934},{"$f":"'SA26'!H28","v":1813675.5072853935},{"$f":"'SA26'!I28","v":1319756.8906203934},{"$f":"'SA26'!J28","v":1089960.8906203934},{"$f":"'SA26'!K28","v":1124287.5072853935},{"$f":"'SA26'!L28","v":1319756.8906203934},{"$f":"'SA26'!M28","v":1089960.8906203934},2167200.3531806711,{"$f":"'A2-FinPerf SC'!I36","v":15638526},{"$f":"'A2-FinPerf SC'!J36","v":17285324},{"$f":"'A2-FinPerf SC'!K36","v":17895115}]
[{"$f":"'A2-FinPerf SC'!A37","v":"Health"},null,{"$f":"'SA26'!C26","v":1827176.1690804977},{"$f":"'SA26'!D26","v":1871883.3357471642},{"$f":"'SA26'!E26","v":1930327.6357471643},{"$f":"'SA26'!F26","v":2114261.155747164},{"$f":"'SA26'!G26","v":1982979.5390804976},{"$f":"'SA26'!H26","v":1827176.1690804977},{"$f":"'SA26'!I26","v":1827176.1690804977},{"$f":"'SA26'!J26","v":2003613.3390804976},{"$f":"'SA26'!K26","v":1909739.5390804976},{"$f":"'SA26'!L26","v":1844762.1690804977},{"$f":"'SA26'!M26","v":1866986.1890804977},1934897.5901145265,{"$f":"'A2-FinPerf SC'!I37","v":22940979},{"$f":"'A2-FinPerf SC'!J37","v":24340868},{"$f":"'A2-FinPerf SC'!K37","v":25734120}]
[{"$f":"'A2-FinPerf SC'!A38","v":"Economic and environmental services"},null,{"$f":"SUM(C39:C41)","v":10218128.282428719},{"$f":"SUM(D39:D41)","v":18727835.304602597},20219928.595037378,16843137.83572869,19346004.015628703,22413333.713728689,16046967.349819986,18557161.735728677,18281023.185728677,13536903.375728674,13333473.10572869,{"$f":"O38-SUM(C38:M38)","v":49775565.500110537},{"$f":"'A2-FinPerf SC'!I38","v":237299462},{"$f":"'A2-FinPerf SC'!J38","v":240808593},{"$f":"'A2-FinPerf SC'!K38","v":251330372}]
[{"$f":"'A2-FinPerf SC'!A39","v":"Planning and development"},null,8341998.9442685563,15783494.596442433,18115779.256877217,13424002.944268527,15236607.944268543,19284620.224268526,13455669.161659824,15165456.944268513,15171750.314268515,9620656.4442685116,9971561.4442685265,42577733.780872315,{"$f":"'A2-FinPerf SC'!I39","v":196149332},{"$f":"'A2-FinPerf SC'!J39","v":198663649},{"$f":"'A2-FinPerf SC'!K39","v":209899056}]
[{"$f":"'A2-FinPerf SC'!A40","v":"Road transport"},null,{"$f":"'SA26'!C32","v":1097718.7458993313},{"$f":"'SA26'!D32","v":1097718.7458993313},{"$f":"'SA26'!E32","v":1097718.7458993313},{"$f":"'SA26'!F32","v":1681711.1091993311},{"$f":"'SA26'!G32","v":2928202.7790993312},{"$f":"'SA26'!H32","v":2047288.8971993313},{"$f":"'SA26'!I32","v":1097718.7458993313},{"$f":"'SA26'!J32","v":2306419.5791993313},{"$f":"'SA26'!K32","v":2306419.5791993313},{"$f":"'SA26'!L32","v":2306419.5791993313},{"$f":"'SA26'!M32","v":2306419.5791993313},2727206.9141073562,{"$f":"'A2-FinPerf SC'!I40","v":23000963},{"$f":"'A2-FinPerf SC'!J40","v":23067810},{"$f":"'A2-FinPerf SC'!K40","v":23719669}]
[{"$f":"'A2-FinPerf SC'!A41","v":"Environmental protection"},null,{"$f":"'SA26'!C31","v":778410.59226083127},{"$f":"'SA26'!D31","v":1846621.9622608311},{"$f":"'SA26'!E31","v":1006430.5922608312},{"$f":"'SA26'!F31","v":1737423.7822608312},{"$f":"'SA26'!G31","v":1181193.2922608312},{"$f":"'SA26'!H31","v":1081424.5922608313},{"$f":"'SA26'!I31","v":1493579.4422608311},{"$f":"'SA26'!J31","v":1085285.2122608311},{"$f":"'SA26'!K31","v":802853.29226083122},{"$f":"'SA26'!L31","v":1609827.3522608313},{"$f":"'SA26'!M31","v":1055492.0822608313},4470624.805130858,{"$f":"'A2-FinPerf SC'!I41","v":18149167},{"$f":"'A2-FinPerf SC'!J41","v":19077134},{"$f":"'A2-FinPerf SC'!K41","v":17711647}]
[{"$f":"'A2-FinPerf SC'!A42","v":"Trading services"},null,{"$f":"SUM(C43:C46)","v":63825592.97087878},{"$f":"SUM(D43:D46)","v":68132676.304212108},66930257.266985923,74610810.279895455,61549388.51471211,70967971.848045439,64345740.424712107,58346788.828145444,58577021.222254962,63163508.924712114,55304470.313378781,{"$f":"O42-SUM(C42:M42)","v":64356196.102066755},{"$f":"'A2-FinPerf SC'!I42","v":770110423},{"$f":"'A2-FinPerf SC'!J42","v":799168249},{"$f":"'A2-FinPerf SC'!K42","v":823555382}]
[{"$f":"'A2-FinPerf SC'!A43","v":"Energy sources"},null,null,null,null,null,null,null,null,null,null,null,null,0,{"$f":"'A2-FinPerf SC'!I43","v":0},{"$f":"'A2-FinPerf SC'!J43","v":0},{"$f":"'A2-FinPerf SC'!K43","v":0}]
[{"$f":"'A2-FinPerf SC'!A44","v":"Water management"},null,{"$f":"'SA26'!C33","v":63825592.97087878},{"$f":"'SA26'!D33","v":68132676.304212108},{"$f":"'SA26'!E33","v":66930257.266985923},{"$f":"'SA26'!F33","v":74610810.279895455},{"$f":"'SA26'!G33","v":61549388.51471211},{"$f":"'SA26'!H33","v":70967971.848045439},{"$f":"'SA26'!I33","v":64345740.424712107},{"$f":"'SA26'!J33","v":58346788.828145444},{"$f":"'SA26'!K33","v":58577021.222254962},{"$f":"'SA26'!L33","v":63163508.924712114},{"$f":"'SA26'!M33","v":55304470.313378781},64356196.102066755,{"$f":"'A2-FinPerf SC'!I44","v":770110423},{"$f":"'A2-FinPerf SC'!J44","v":799168249},{"$f":"'A2-FinPerf SC'!K44","v":823555382}]
[{"$f":"'A2-FinPerf SC'!A45","v":"Waste water management"},null,null,null,null,null,null,null,null,null,null,null,null,0,{"$f":"'A2-FinPerf SC'!I45","v":0},{"$f":"'A2-FinPerf SC'!J45","v":0},{"$f":"'A2-FinPerf SC'!K45","v":0}]
[{"$f":"'A2-FinPerf SC'!A46","v":"Waste management"},null,null,null,null,null,null,null,null,null,null,null,null,0,{"$f":"'A2-FinPerf SC'!I46","v":0},{"$f":"'A2-FinPerf SC'!J46","v":0},{"$f":"'A2-FinPerf SC'!K46","v":0}]
[{"$f":"'A2-FinPerf SC'!A47","v":"Other"},null,{"$f":"'SA26'!C34","v":312830.70665824995},{"$f":"'SA26'!D34","v":337902.20665824995},{"$f":"'SA26'!E34","v":710883.10665824998},{"$f":"'SA26'!F34","v":608901.54665825004},{"$f":"'SA26'!G34","v":422830.70665824995},{"$f":"'SA26'!H34","v":1131538.8366582501},{"$f":"'SA26'!I34","v":1492139.0866582498},{"$f":"'SA26'!J34","v":372830.70665824995},{"$f":"'SA26'!K34","v":871622.96745825},{"$f":"'SA26'!L34","v":505729.34183202765},{"$f":"'SA26'!M34","v":402154.05665824993},375565.73078547232,{"$f":"'A2-FinPerf SC'!I47","v":7544929},{"$f":"'A2-FinPerf SC'!J47","v":7634193},{"$f":"'A2-FinPerf SC'!K47","v":8044869}]
[{"$f":"'A2-FinPerf SC'!A48","v":"Total Expenditure - Functional"},null,{"$f":"C28+C32+C38+C42+C47","v":139416416.35823825},{"$f":"D28+D32+D38+D42+D47","v":145583982.78750381},151429699.77225557,148626723.47002104,136210167.89081901,148370900.67994803,135292786.4755882,132352770.49934445,136813808.33740401,134560879.79736823,122239903.99368575,175503202.93782359,1706401243,1792504819,{"$f":"Q28+Q32+Q38+Q42+Q47","v":1864007261}]
[]
[{"$f":"'A4-FinPerf RE'!A37&\" before assoc.\"","v":"Surplus/(Deficit) before assoc."},null,{"$f":"C25-C48","v":611280537.35416353},-84325893.77779749,-78190525.107749715,-87979647.000936419,495738509.07956928,-101542506.10713845,-99760521.24853918,-67913290.720122576,558409657.00297582,-86104718.742337525,-64426308.608916491,-61260028.123170823,933925264,881520194,992772040]
[]
[{"$f":"'A4-FinPerf RE'!A46","v":"Share of surplus/ (deficit) of associate"},null,null,null,null,null,null,null,null,null,null,null,null,{"$f":"O52-SUM(C52:M52)","v":0},{"$f":"'A4-FinPerf RE'!J46","v":0},{"$f":"'A4-FinPerf RE'!K46","v":0},{"$f":"'A4-FinPerf RE'!L46","v":0}]
[{"$f":"'A4-FinPerf RE'!A37","v":"Surplus/(Deficit)"},1,{"$f":"C50+C52","v":611280537.35416353},{"$f":"D50+D52","v":-84325893.77779749},-78190525.107749715,-87979647.000936419,495738509.07956928,-101542506.10713845,-99760521.24853918,-67913290.720122576,558409657.00297582,-86104718.742337525,-64426308.608916491,-61260028.123170823,933925264,881520194,992772040]
[{"$f":"head27a","v":"References"}]
["1. Surplus (Deficit) must reconcile with Budeted Financial Performance"]
["check",null,null,null,null,null,null,null,null,null,null,null,null,null,{"$f":"O53-'A4-FinPerf RE'!J47","v":0},{"$f":"P53-'A4-FinPerf RE'!K47","v":0},{"$f":"Q53-'A4-FinPerf RE'!L47","v":0}]

{"sheet":"SA28","index":49,"n_rows":47,"n_cols":17,"rows_kept":47,"cut":false,"hidden":false,"merged":[[1,2,1,13],[1,14,1,16]]}
[{"$f":"muni&\" - \"& TableA28","v":"DC15 O .R. Tambo - Supporting Table SA28 Consolidated budgeted monthly capital expenditure (municipal vote)"}]
[{"$f":"desc","v":"Description"},{"$f":"head27","v":"Ref"},{"$f":"Head9","v":"Budget Year 2020/21"},null,null,null,null,null,null,null,null,null,null,null,"Medium Term Revenue and Expenditure Framework"]
["R thousand",null,"July","August","Sept.","October","Nov.","Dec.","January","Feb.","March","April","May","June",{"$f":"Head9","v":"Budget Year 2020/21"},{"$f":"Head10","v":"Budget Year +1 2021/22"},{"$f":"Head11","v":"Budget Year +2 2022/23"}]
["Multi-year expenditure to be appropriated",1]
[{"$f":"'A5-Capex'!A6","v":"Vote 01 - Council & Committees"},null,null,null,null,null,null,null,null,null,5000000,null,null,{"$f":"O5-SUM(C5:M5)","v":0},{"$f":"'A5-Capex'!J6","v":5000000},{"$f":"'A5-Capex'!K6","v":3500000},{"$f":"'A5-Capex'!L6","v":0}]
[{"$f":"'A5-Capex'!A7","v":"Vote 02 - Finance & Administration"},null,{"$f":"[6]Corporate!C57+[6]BTO!C51","v":2050000},{"$f":"[6]Corporate!D57+[6]BTO!D51","v":2940500},{"$f":"[6]Corporate!E57+[6]BTO!E51","v":1500000},{"$f":"[6]Corporate!F57+[6]BTO!F51","v":1780000},{"$f":"[6]Corporate!G57+[6]BTO!G51","v":1094535.4080000001},{"$f":"[6]Corporate!H57+[6]BTO!H51","v":1500000},{"$f":"[6]Corporate!I57+[6]BTO!I51","v":0},{"$f":"[6]Corporate!J57+[6]BTO!J51","v":850000},{"$f":"[6]Corporate!K57+[6]BTO!K51","v":2133500},{"$f":"[6]Corporate!L57+[6]BTO!L51","v":292170.908},{"$f":"[6]Corporate!M57+[6]BTO!M51","v":0},2013500.6840000004,{"$f":"'A5-Capex'!J7","v":16154207},{"$f":"'A5-Capex'!K7","v":15112259},{"$f":"'A5-Capex'!L7","v":10150000}]
[{"$f":"'A5-Capex'!A8","v":"Vote 03 - Planning & Development"},null,{"$f":"[6]Planning!C33","v":0},{"$f":"[6]Planning!D33","v":0},{"$f":"[6]Planning!E33","v":800000},{"$f":"[6]Planning!F33","v":500000},{"$f":"[6]Planning!G33","v":200000},{"$f":"[6]Planning!H33","v":500000},{"$f":"[6]Planning!I33","v":0},{"$f":"[6]Planning!J33","v":0},{"$f":"[6]Planning!K33","v":500000},{"$f":"[6]Planning!L33","v":0},{"$f":"[6]Planning!M33","v":0},0,{"$f":"'A5-Capex'!J8","v":2500000},{"$f":"'A5-Capex'!K8","v":3300000},{"$f":"'A5-Capex'!L8","v":0}]
[{"$f":"'A5-Capex'!A9","v":"Vote 04 - Health"},null,null,null,null,null,null,null,null,null,null,null,null,0,{"$f":"'A5-Capex'!J9","v":0},{"$f":"'A5-Capex'!K9","v":0},{"$f":"'A5-Capex'!L9","v":0}]
[{"$f":"'A5-Capex'!A10","v":"Vote 05 - Community & Social Services"},null,null,null,null,null,null,null,null,null,null,null,null,0,{"$f":"'A5-Capex'!J10","v":0},{"$f":"'A5-Capex'!K10","v":0},{"$f":"'A5-Capex'!L10","v":0}]
[{"$f":"'A5-Capex'!A11","v":"Vote 06 - Housing"},null,{"$f":"[6]HOUSING!C26","v":2209870},{"$f":"[6]HOUSING!D26","v":2209870},{"$f":"[6]HOUSING!E26","v":2561100},{"$f":"[6]HOUSING!F26","v":2209870},{"$f":"[6]HOUSING!G26","v":2209870},{"$f":"[6]HOUSING!H26","v":2561100},{"$f":"[6]HOUSING!I26","v":2209870},{"$f":"[6]HOUSING!J26","v":2209870},{"$f":"[6]HOUSING!K26","v":2561100},{"$f":"[6]HOUSING!L26","v":4589730},{"$f":"[6]HOUSING!M26","v":4589730},9923020,{"$f":"'A5-Capex'!J11","v":40045000},{"$f":"'A5-Capex'!K11","v":45000},{"$f":"'A5-Capex'!L11","v":0}]
[{"$f":"'A5-Capex'!A12","v":"Vote 07 - Public Safety"},null,{"$f":"'[6]PUBLIC SAFETY'!C29","v":0},{"$f":"'[6]PUBLIC SAFETY'!D29","v":0},{"$f":"'[6]PUBLIC SAFETY'!E29","v":0},{"$f":"'[6]PUBLIC SAFETY'!F29","v":0},{"$f":"'[6]PUBLIC SAFETY'!G29","v":0},{"$f":"'[6]PUBLIC SAFETY'!H29","v":0},{"$f":"'[6]PUBLIC SAFETY'!I29","v":0},{"$f":"'[6]PUBLIC SAFETY'!J29","v":0},{"$f":"'[6]PUBLIC SAFETY'!K29","v":0},{"$f":"'[6]PUBLIC SAFETY'!L29","v":2300000},{"$f":"'[6]PUBLIC SAFETY'!M29","v":0},0,{"$f":"'A5-Capex'!J12","v":2300000},{"$f":"'A5-Capex'!K12","v":5500000},{"$f":"'A5-Capex'!L12","v":6000000}]
[{"$f":"'A5-Capex'!A13","v":"Vote 08 - Sports & Recreation"},null,null,null,null,null,null,null,null,null,null,null,null,0,{"$f":"'A5-Capex'!J13","v":0},{"$f":"'A5-Capex'!K13","v":0},{"$f":"'A5-Capex'!L13","v":0}]
[{"$f":"'A5-Capex'!A14","v":"Vote 09 - Environmental"},null,null,null,null,null,null,null,null,null,null,null,null,0,{"$f":"'A5-Capex'!J14","v":0},{"$f":"'A5-Capex'!K14","v":0},{"$f":"'A5-Capex'!L14","v":0}]
[{"$f":"'A5-Capex'!A15","v":"Vote 10 - Roads"},null,{"$f":"'[6]Technical Serv'!C36","v":2746833.3332000002},{"$f":"'[6]Technical Serv'!D36","v":2746833.3332000002},{"$f":"'[6]Technical Serv'!E36","v":3046833.3332000002},{"$f":"'[6]Technical Serv'!F36","v":2746833.3332000002},{"$f":"'[6]Technical Serv'!G36","v":2746833.3332000002},{"$f":"'[6]Technical Serv'!H36","v":2746833.3332000002},{"$f":"'[6]Technical Serv'!I36","v":2746833.3332000002},{"$f":"'[6]Technical Serv'!J36","v":2746833.3332000002},{"$f":"'[6]Technical Serv'!K36","v":2746833.3332000002},{"$f":"'[6]Technical Serv'!L36","v":2746833.3332000002},{"$f":"'[6]Technical Serv'!M36","v":12746833.3332},2746833.3347999975,{"$f":"'A5-Capex'!J15","v":43262000},{"$f":"'A5-Capex'!K15","v":8125000},{"$f":"'A5-Capex'!L15","v":3306000}]
[{"$f":"'A5-Capex'!A16","v":"Vote 11 - Water"},null,{"$f":"'[6]WATER '!C73","v":68019324.560000002},{"$f":"'[6]WATER '!D73","v":83519324.560000002},{"$f":"'[6]WATER '!E73","v":98982548.99000001},{"$f":"'[6]WATER '!F73","v":94985028.489999995},{"$f":"'[6]WATER '!G73","v":79661466.137999997},{"$f":"'[6]WATER '!H73","v":74719324.560000002},{"$f":"'[6]WATER '!I73","v":65540175.440000005},{"$f":"'[6]WATER '!J73","v":68526572.340000004},{"$f":"'[6]WATER '!K73","v":70656331.179999992},{"$f":"'[6]WATER '!L73","v":65802299.120000005},{"$f":"'[6]WATER '!M73","v":64340175.440000005},71897275.181999922,{"$f":"'A5-Capex'!J16","v":906649846},{"$f":"'A5-Capex'!K16","v":936244573},{"$f":"'A5-Capex'!L16","v":1034340635}]
[{"$f":"'A5-Capex'!A17","v":"Vote 12 - Tourism"},null,null,null,null,null,null,null,null,null,null,null,null,0,{"$f":"'A5-Capex'!J17","v":0},{"$f":"'A5-Capex'!K17","v":0},{"$f":"'A5-Capex'!L17","v":0}]
[{"$f":"'A5-Capex'!A18","v":"Vote 13 - Development Agency"},null,null,null,{"$f":"O17/3","v":9632000},null,null,null,{"$f":"O17/3","v":9632000},null,null,null,null,9632000,{"$f":"'A5-Capex'!J18","v":28896000},{"$f":"'A5-Capex'!K18","v":6833000},{"$f":"'A5-Capex'!L18","v":6852800}]
[{"$f":"'A5-Capex'!A19","v":"Vote 14 - "},null,null,null,null,null,null,null,null,null,null,null,null,0,{"$f":"'A5-Capex'!J19","v":0},{"$f":"'A5-Capex'!K19","v":0},{"$f":"'A5-Capex'!L19","v":0}]
[{"$f":"'A5-Capex'!A20","v":"Vote 15 - Other"},null,0,0,0,0,0,0,0,0,0,0,0,0,{"$f":"'A5-Capex'!J20","v":0},{"$f":"'A5-Capex'!K20","v":0},{"$f":"'A5-Capex'!L20","v":0}]
["Capital multi-year expenditure sub-total",2,{"$f":"SUM(C5:C19)","v":75026027.89320001},{"$f":"SUM(D5:D19)","v":91416527.89320001},116522482.32320002,102221731.82319999,85912704.879199997,82027257.89320001,80128878.773200005,74333275.673200011,83597764.513199985,75731033.361200005,{"$f":"SUM(M5:M19)","v":81676738.773200005},96212629.200799912,1044807053,978659832,1060649435]
[]
["Single-year expenditure to be appropriated"]
[{"$f":"'A5-Capex'!A24","v":"Vote 01 - Council & Committees"},null,0,0,0,0,0,0,0,0,0,0,0,{"$f":"O23-SUM(C23:M23)","v":0},{"$f":"'A5-Capex'!J24","v":0},{"$f":"'A5-Capex'!K24","v":0},{"$f":"'A5-Capex'!L24","v":0}]
[{"$f":"'A5-Capex'!A25","v":"Vote 02 - Finance & Administration"},null,0,0,0,0,0,0,0,0,0,0,0,0,{"$f":"'A5-Capex'!J25","v":0},{"$f":"'A5-Capex'!K25","v":0},{"$f":"'A5-Capex'!L25","v":0}]
[{"$f":"'A5-Capex'!A26","v":"Vote 03 - Planning & Development"},null,0,0,0,0,0,0,0,0,0,0,0,0,{"$f":"'A5-Capex'!J26","v":0},{"$f":"'A5-Capex'!K26","v":0},{"$f":"'A5-Capex'!L26","v":0}]
[{"$f":"'A5-Capex'!A27","v":"Vote 04 - Health"},null,0,0,0,0,0,0,0,0,0,0,0,0,{"$f":"'A5-Capex'!J27","v":0},{"$f":"'A5-Capex'!K27","v":0},{"$f":"'A5-Capex'!L27","v":0}]
[{"$f":"'A5-Capex'!A28","v":"Vote 05 - Community & Social Services"},null,0,0,0,0,0,0,0,0,0,0,0,0,{"$f":"'A5-Capex'!J28","v":0},{"$f":"'A5-Capex'!K28","v":0},{"$f":"'A5-Capex'!L28","v":0}]
[{"$f":"'A5-Capex'!A29","v":"Vote 06 - Housing"},null,0,0,0,0,0,0,0,0,0,0,0,0,{"$f":"'A5-Capex'!J29","v":0},{"$f":"'A5-Capex'!K29","v":0},{"$f":"'A5-Capex'!L29","v":0}]
[{"$f":"'A5-Capex'!A30","v":"Vote 07 - Public Safety"},null,0,0,0,0,0,0,0,0,0,0,0,0,{"$f":"'A5-Capex'!J30","v":0},{"$f":"'A5-Capex'!K30","v":0},{"$f":"'A5-Capex'!L30","v":0}]
[{"$f":"'A5-Capex'!A31","v":"Vote 08 - Sports & Recreation"},null,0,0,0,0,0,0,0,0,0,0,0,0,{"$f":"'A5-Capex'!J31","v":0},{"$f":"'A5-Capex'!K31","v":0},{"$f":"'A5-Capex'!L31","v":0}]
[{"$f":"'A5-Capex'!A32","v":"Vote 09 - Environmental"},null,0,0,0,0,0,0,0,0,0,0,0,0,{"$f":"'A5-Capex'!J32","v":0},{"$f":"'A5-Capex'!K32","v":0},{"$f":"'A5-Capex'!L32","v":0}]
[{"$f":"'A5-Capex'!A33","v":"Vote 10 - Roads"},null,0,0,0,0,0,0,0,0,0,0,0,0,{"$f":"'A5-Capex'!J33","v":0},{"$f":"'A5-Capex'!K33","v":0},{"$f":"'A5-Capex'!L33","v":0}]
[{"$f":"'A5-Capex'!A34","v":"Vote 11 - Water"},null,0,0,0,0,0,0,0,0,0,0,0,0,{"$f":"'A5-Capex'!J34","v":0},{"$f":"'A5-Capex'!K34","v":0},{"$f":"'A5-Capex'!L34","v":0}]
[{"$f":"'A5-Capex'!A35","v":"Vote 12 - Tourism"},null,0,0,0,0,0,0,0,0,0,0,0,0,{"$f":"'A5-Capex'!J35","v":0},{"$f":"'A5-Capex'!K35","v":0},{"$f":"'A5-Capex'!L35","v":0}]
[{"$f":"'A5-Capex'!A36","v":"Vote 13 - Development Agency"},null,0,0,0,0,0,0,0,0,0,0,0,0,{"$f":"'A5-Capex'!J36","v":0},{"$f":"'A5-Capex'!K36","v":0},{"$f":"'A5-Capex'!L36","v":0}]
[{"$f":"'A5-Capex'!A37","v":"Vote 14 - "},null,0,0,0,0,0,0,0,0,0,0,0,0,{"$f":"'A5-Capex'!J37","v":0},{"$f":"'A5-Capex'!K37","v":0},{"$f":"'A5-Capex'!L37","v":0}]
[{"$f":"'A5-Capex'!A38","v":"Vote 15 - Other"},null,0,0,0,0,0,0,0,0,0,0,0,0,{"$f":"'A5-Capex'!J38","v":0},{"$f":"'A5-Capex'!K38","v":0},{"$f":"'A5-Capex'!L38","v":0}]
["Capital single-year expenditure sub-total",2,{"$f":"SUM(C23:C37)","v":0},0,0,0,0,0,0,0,0,0,0,0,0,0,0]
["Total Capital Expenditure",2,{"$f":"C20+C38","v":75026027.89320001},{"$f":"D20+D38","v":91416527.89320001},116522482.32320002,102221731.82319999,85912704.879199997,82027257.89320001,80128878.773200005,74333275.673200011,83597764.513199985,75731033.361200005,81676738.773200005,96212629.200799912,{"$f":"O20+O38","v":1044807053},{"$f":"P20+P38","v":978659832},{"$f":"Q20+Q38","v":1060649435}]
[]
[]
[{"$f":"head27a","v":"References"}]
["1. Table should be completed as either Multi-Year expenditure appropriation or Budget Year and Forward Year estimates"]
["2. Total Capital Expenditure must reconcile to Budgeted Capital Expenditure"]
["check",null,null,null,null,null,null,null,null,null,null,null,null,null,{"$f":"O20-'A5-Capex'!J21","v":0},{"$f":"P20-'A5-Capex'!K21","v":0},{"$f":"Q20-'A5-Capex'!L21","v":0}]
[]
[null,null,null,null,"Add single year stuff"]

{"sheet":"SA29","index":50,"n_rows":40,"n_cols":17,"rows_kept":40,"cut":false,"hidden":false,"merged":[[1,2,1,13],[1,14,1,16]]}
[{"$f":"muni&\" - \"& TableA29","v":"DC15 O .R. Tambo - Supporting Table SA29 Consolidated budgeted monthly capital expenditure (functional classification)"}]
[{"$f":"desc","v":"Description"},{"$f":"head27","v":"Ref"},{"$f":"Head9","v":"Budget Year 2020/21"},null,null,null,null,null,null,null,null,null,null,null,"Medium Term Revenue and Expenditure Framework"]
["R thousand",null,"July","August","Sept.","October","Nov.","Dec.","January","Feb.","March","April","May","June",{"$f":"Head9","v":"Budget Year 2020/21"},{"$f":"Head10","v":"Budget Year +1 2021/22"},{"$f":"Head11","v":"Budget Year +2 2022/23"}]
[{"$f":"'A5-Capex'!A42","v":"Capital Expenditure - Functional"},1]
[{"$f":"'A5-Capex'!A43","v":"Governance and administration"},null,{"$f":"SUM(C6:C8)","v":2050000},{"$f":"SUM(D6:D8)","v":2940500},{"$f":"SUM(E6:E8)","v":1500000},1780000,1094535.4080000001,1500000,0,850000,7133500,292170.908,0,{"$f":"O5-SUM(C5:M5)","v":2013500.6840000004},{"$f":"'A5-Capex'!J43","v":21154207},{"$f":"'A5-Capex'!K43","v":18612259},{"$f":"'A5-Capex'!L43","v":10150000}]
[{"$f":"'A5-Capex'!A44","v":"Executive and council"},null,{"$f":"'SA28'!C5","v":0},{"$f":"'SA28'!D5","v":0},{"$f":"'SA28'!E5","v":0},{"$f":"'SA28'!F5","v":0},{"$f":"'SA28'!G5","v":0},{"$f":"'SA28'!H5","v":0},{"$f":"'SA28'!I5","v":0},{"$f":"'SA28'!J5","v":0},{"$f":"'SA28'!K5","v":5000000},{"$f":"'SA28'!L5","v":0},{"$f":"'SA28'!M5","v":0},{"$f":"O6-SUM(C6:M6)","v":0},{"$f":"'A5-Capex'!J44","v":5000000},{"$f":"'A5-Capex'!K44","v":3500000},{"$f":"'A5-Capex'!L44","v":0}]
[{"$f":"'A5-Capex'!A45","v":"Finance and administration"},null,{"$f":"'SA28'!C6","v":2050000},{"$f":"'SA28'!D6","v":2940500},{"$f":"'SA28'!E6","v":1500000},{"$f":"'SA28'!F6","v":1780000},{"$f":"'SA28'!G6","v":1094535.4080000001},{"$f":"'SA28'!H6","v":1500000},{"$f":"'SA28'!I6","v":0},{"$f":"'SA28'!J6","v":850000},{"$f":"'SA28'!K6","v":2133500},{"$f":"'SA28'!L6","v":292170.908},{"$f":"'SA28'!M6","v":0},2013500.6840000004,{"$f":"'A5-Capex'!J45","v":16154207},{"$f":"'A5-Capex'!K45","v":15112259},{"$f":"'A5-Capex'!L45","v":10150000}]
[{"$f":"'A5-Capex'!A46","v":"Internal audit"},null,null,null,null,null,null,null,null,null,null,null,null,0,{"$f":"'A5-Capex'!J46","v":0},{"$f":"'A5-Capex'!K46","v":0},{"$f":"'A5-Capex'!L46","v":0}]
[{"$f":"'A5-Capex'!A47","v":"Community and public safety"},null,{"$f":"SUM(C10:C14)","v":2209870},{"$f":"SUM(D10:D14)","v":2209870},2561100,2209870,2209870,2561100,2209870,2209870,2561100,6889730,4589730,9923020,{"$f":"'A5-Capex'!J47","v":42345000},{"$f":"'A5-Capex'!K47","v":5545000},{"$f":"'A5-Capex'!L47","v":6000000}]
[{"$f":"'A5-Capex'!A48","v":"Community and social services"},null,0,0,0,0,0,0,0,0,0,0,0,0,{"$f":"'A5-Capex'!J48","v":0},{"$f":"'A5-Capex'!K48","v":0},{"$f":"'A5-Capex'!L48","v":0}]
[{"$f":"'A5-Capex'!A49","v":"Sport and recreation"},null,0,0,0,0,0,0,0,0,0,0,0,0,{"$f":"'A5-Capex'!J49","v":0},{"$f":"'A5-Capex'!K49","v":0},{"$f":"'A5-Capex'!L49","v":0}]
[{"$f":"'A5-Capex'!A50","v":"Public safety"},null,{"$f":"'SA28'!C11","v":0},{"$f":"'SA28'!D11","v":0},{"$f":"'SA28'!E11","v":0},{"$f":"'SA28'!F11","v":0},{"$f":"'SA28'!G11","v":0},{"$f":"'SA28'!H11","v":0},{"$f":"'SA28'!I11","v":0},{"$f":"'SA28'!J11","v":0},{"$f":"'SA28'!K11","v":0},{"$f":"'SA28'!L11","v":2300000},{"$f":"'SA28'!M11","v":0},0,{"$f":"'A5-Capex'!J50","v":2300000},{"$f":"'A5-Capex'!K50","v":5500000},{"$f":"'A5-Capex'!L50","v":6000000}]
[{"$f":"'A5-Capex'!A51","v":"Housing"},null,{"$f":"'SA28'!C10","v":2209870},{"$f":"'SA28'!D10","v":2209870},{"$f":"'SA28'!E10","v":2561100},{"$f":"'SA28'!F10","v":2209870},{"$f":"'SA28'!G10","v":2209870},{"$f":"'SA28'!H10","v":2561100},{"$f":"'SA28'!I10","v":2209870},{"$f":"'SA28'!J10","v":2209870},{"$f":"'SA28'!K10","v":2561100},{"$f":"'SA28'!L10","v":4589730},{"$f":"'SA28'!M10","v":4589730},9923020,{"$f":"'A5-Capex'!J51","v":40045000},{"$f":"'A5-Capex'!K51","v":45000},{"$f":"'A5-Capex'!L51","v":0}]
[{"$f":"'A5-Capex'!A52","v":"Health"},null,0,0,0,0,0,0,0,0,0,0,0,0,{"$f":"'A5-Capex'!J52","v":0},{"$f":"'A5-Capex'!K52","v":0},{"$f":"'A5-Capex'!L52","v":0}]
[{"$f":"'A5-Capex'!A53","v":"Economic and environmental services"},null,{"$f":"SUM(C16:C18)","v":2746833.3332000002},{"$f":"SUM(D16:D18)","v":2746833.3332000002},13478833.3332,3246833.3332000002,2946833.3332000002,3246833.3332000002,12378833.3332,2746833.3332000002,3246833.3332000002,2746833.3332000002,12746833.3332,12378833.334799998,{"$f":"'A5-Capex'!J53","v":74658000},{"$f":"'A5-Capex'!K53","v":18258000},{"$f":"'A5-Capex'!L53","v":10158800}]
[{"$f":"'A5-Capex'!A54","v":"Planning and development"},null,{"$f":"'SA28'!C7+'SA28'!C17","v":0},{"$f":"'SA28'!D7+'SA28'!D17","v":0},{"$f":"'SA28'!E7+'SA28'!E17","v":10432000},{"$f":"'SA28'!F7+'SA28'!F17","v":500000},{"$f":"'SA28'!G7+'SA28'!G17","v":200000},{"$f":"'SA28'!H7+'SA28'!H17","v":500000},{"$f":"'SA28'!I7+'SA28'!I17","v":9632000},{"$f":"'SA28'!J7+'SA28'!J17","v":0},{"$f":"'SA28'!K7+'SA28'!K17","v":500000},{"$f":"'SA28'!L7+'SA28'!L17","v":0},{"$f":"'SA28'!M7+'SA28'!M17","v":0},9632000,{"$f":"'A5-Capex'!J54","v":31396000},{"$f":"'A5-Capex'!K54","v":10133000},{"$f":"'A5-Capex'!L54","v":6852800}]
[{"$f":"'A5-Capex'!A55","v":"Road transport"},null,{"$f":"'SA28'!C14","v":2746833.3332000002},{"$f":"'SA28'!D14","v":2746833.3332000002},{"$f":"'SA28'!E14","v":3046833.3332000002},{"$f":"'SA28'!F14","v":2746833.3332000002},{"$f":"'SA28'!G14","v":2746833.3332000002},{"$f":"'SA28'!H14","v":2746833.3332000002},{"$f":"'SA28'!I14","v":2746833.3332000002},{"$f":"'SA28'!J14","v":2746833.3332000002},{"$f":"'SA28'!K14","v":2746833.3332000002},{"$f":"'SA28'!L14","v":2746833.3332000002},{"$f":"'SA28'!M14","v":12746833.3332},2746833.3347999975,{"$f":"'A5-Capex'!J55","v":43262000},{"$f":"'A5-Capex'!K55","v":8125000},{"$f":"'A5-Capex'!L55","v":3306000}]
[{"$f":"'A5-Capex'!A56","v":"Environmental protection"},null,0,0,0,0,0,0,0,0,0,0,0,0,{"$f":"'A5-Capex'!J56","v":0},{"$f":"'A5-Capex'!K56","v":0},{"$f":"'A5-Capex'!L56","v":0}]
[{"$f":"'A5-Capex'!A57","v":"Trading services"},null,{"$f":"SUM(C20:C23)","v":68019324.560000002},{"$f":"SUM(D20:D23)","v":83519324.560000002},98982548.99000001,94985028.489999995,79661466.137999997,74719324.560000002,65540175.440000005,68526572.340000004,70656331.179999992,65802299.120000005,64340175.440000005,{"$f":"O19-SUM(C19:M19)","v":71897275.181999922},{"$f":"'A5-Capex'!J57","v":906649846},{"$f":"'A5-Capex'!K57","v":936244573},{"$f":"'A5-Capex'!L57","v":1034340635}]
[{"$f":"'A5-Capex'!A58","v":"Energy sources"},null,null,null,null,null,null,null,null,null,null,null,null,0,{"$f":"'A5-Capex'!J58","v":0},{"$f":"'A5-Capex'!K58","v":0},{"$f":"'A5-Capex'!L58","v":0}]
[{"$f":"'A5-Capex'!A59","v":"Water management"},null,{"$f":"'SA28'!C15","v":68019324.560000002},{"$f":"'SA28'!D15","v":83519324.560000002},{"$f":"'SA28'!E15","v":98982548.99000001},{"$f":"'SA28'!F15","v":94985028.489999995},{"$f":"'SA28'!G15","v":79661466.137999997},{"$f":"'SA28'!H15","v":74719324.560000002},{"$f":"'SA28'!I15","v":65540175.440000005},{"$f":"'SA28'!J15","v":68526572.340000004},{"$f":"'SA28'!K15","v":70656331.179999992},{"$f":"'SA28'!L15","v":65802299.120000005},{"$f":"'SA28'!M15","v":64340175.440000005},71897275.181999922,{"$f":"'A5-Capex'!J59","v":906649846},{"$f":"'A5-Capex'!K59","v":936244573},{"$f":"'A5-Capex'!L59","v":1034340635}]
[{"$f":"'A5-Capex'!A60","v":"Waste water management"},null,null,null,null,null,null,null,null,null,null,null,null,0,{"$f":"'A5-Capex'!J60","v":0},{"$f":"'A5-Capex'!K60","v":0},{"$f":"'A5-Capex'!L60","v":0}]
[{"$f":"'A5-Capex'!A61","v":"Waste management"},null,null,null,null,null,null,null,null,null,null,null,null,0,{"$f":"'A5-Capex'!J61","v":0},{"$f":"'A5-Capex'!K61","v":0},{"$f":"'A5-Capex'!L61","v":0}]
[{"$f":"'A5-Capex'!A62","v":"Other"},null,null,null,null,null,null,null,null,null,null,null,null,{"$f":"O24-SUM(C24:M24)","v":0},{"$f":"'A5-Capex'!J62","v":0},{"$f":"'A5-Capex'!K62","v":0},{"$f":"'A5-Capex'!L62","v":0}]
[{"$f":"'A5-Capex'!A63","v":"Total Capital Expenditure - Functional"},2,{"$f":"C5+C9+C15+C19+C24","v":75026027.89320001},{"$f":"D5+D9+D15+D19+D24","v":91416527.89320001},116522482.32320002,102221731.82319999,85912704.879199997,82027257.89320001,80128878.773200005,74333275.673200011,83597764.513199985,75731033.361200005,81676738.773200005,{"$f":"N5+N9+N15+N19+N24","v":96212629.200799912},1044807053,978659832,1060649435]
[]
["Funded by:"]
["National Government",null,{"$f":"SUM([6]Revenue!C83:C84,[6]Revenue!C87:C89)","v":229050391.8947137},{"$f":"SUM([6]Revenue!D83:D84,[6]Revenue!D87:D89)","v":0},{"$f":"SUM([6]Revenue!E83:E84,[6]Revenue!E87:E89)","v":10000000},{"$f":"SUM([6]Revenue!F83:F84,[6]Revenue!F87:F89)","v":0},{"$f":"SUM([6]Revenue!G83:G84,[6]Revenue!G87:G89)","v":266082137.84207052},{"$f":"SUM([6]Revenue!H83:H84,[6]Revenue!H87:H89)","v":10000000},{"$f":"SUM([6]Revenue!I83:I84,[6]Revenue!I87:I89)","v":0},{"$f":"SUM([6]Revenue!J83:J84,[6]Revenue!J87:J89)","v":0},{"$f":"SUM([6]Revenue!K83:K84,[6]Revenue!K87:K89)","v":366386470.26321578},{"$f":"SUM([6]Revenue!L83:L84,[6]Revenue!L87:L89)","v":0},{"$f":"SUM([6]Revenue!M83:M84,[6]Revenue!M87:M89)","v":0},{"$f":"O28-SUM(C28:M28)","v":10000000},{"$f":"'A5-Capex'!J66","v":891519000},{"$f":"'A5-Capex'!K66","v":882465000},{"$f":"'A5-Capex'!L66","v":988437000}]
["Provincial Government",null,0,0,0,0,0,0,0,0,0,0,0,{"$f":"O29-SUM(C29:M29)","v":0},{"$f":"'A5-Capex'!J67","v":0},{"$f":"'A5-Capex'!K67","v":0},{"$f":"'A5-Capex'!L67","v":0}]
["District Municipality",null,2408005,2408005,2408005,2408005,2408005,2408005,2408005,2408005,2408005,2408005,2408005,2407945,{"$f":"'A5-Capex'!J68","v":28896000},{"$f":"'A5-Capex'!K68","v":6833000},{"$f":"'A5-Capex'!L68","v":6852800}]
[{"$f":"'A5-Capex'!A69","v":"Transfers and subsidies - capital (monetary allocations) (National / Provincial Departmental Agencies, Households, Non-profit Institutions, Private Enterprises, Public Corporatons, Higher Educational Institutions)"},null,null,null,null,null,null,null,null,null,null,null,null,{"$f":"O31-SUM(C31:M31)","v":0},{"$f":"'A5-Capex'!J69","v":0},{"$f":"'A5-Capex'!K69","v":0},{"$f":"'A5-Capex'!L69","v":0}]
["Transfers recognised - capital",null,{"$f":"SUM(C28:C31)","v":231458396.8947137},2408005,12408005,2408005,268490142.84207052,12408005,2408005,2408005,368794475.26321578,2408005,2408005,{"$f":"SUM(N28:N31)","v":12407945},920415000,889298000,995289800]
[]
["Borrowing",null,null,null,null,null,null,null,null,null,null,null,null,0,{"$f":"'A5-Capex'!J72","v":0},{"$f":"'A5-Capex'!K72","v":0},{"$f":"'A5-Capex'!L72","v":0}]
["Internally generated funds",null,{"$f":"[6]Revenue!C86","v":9689409.6904204767},{"$f":"[6]Revenue!D86","v":11161044.202145547},{"$f":"[6]Revenue!E86","v":10833321.238564448},{"$f":"[6]Revenue!F86","v":12750435.592247495},{"$f":"[6]Revenue!G86","v":11221019.970989967},{"$f":"[6]Revenue!H86","v":12502749.42078043},{"$f":"[6]Revenue!I86","v":4570298.5724876756},{"$f":"[6]Revenue!J86","v":11170627.216788294},{"$f":"[6]Revenue!K86","v":9628156.6000647359},{"$f":"[6]Revenue!L86","v":5889442.743048477},{"$f":"[6]Revenue!M86","v":6063769.1995729236},18911778.552889526,{"$f":"'A5-Capex'!J73","v":124392053},{"$f":"'A5-Capex'!K73","v":89361832},{"$f":"'A5-Capex'!L73","v":65359635}]
["Total Capital Funding",null,{"$f":"+C32+C34+C35","v":241147806.58513418},{"$f":"+D32+D34+D35","v":13569049.202145547},23241326.238564447,15158440.592247495,279711162.81306046,24910754.420780428,6978303.5724876756,13578632.216788294,378422631.86328053,8297447.743048477,8471774.1995729245,31319723.552889526,1044807053,978659832,1060649435]
[{"$f":"head27a","v":"References"}]
["1. Table should be completed as either Multi-Year expenditure appropriation or Budget Year and Forward Year estimates"]
[{"$f":"'SA28'!A44","v":"2. Total Capital Expenditure must reconcile to Budgeted Capital Expenditure"}]
["check"]

{"sheet":"SA30","index":51,"n_rows":63,"n_cols":19,"rows_kept":63,"cut":false,"hidden":false,"merged":[[1,13,1,15],[1,1,1,12],[56,0,56,15]]}
[{"$f":"muni&\" - \"& TableA30","v":"DC15 O .R. Tambo - Supporting Table SA30 Consolidated budgeted monthly cash flow"}]
["MONTHLY CASH FLOWS",{"$f":"Head9","v":"Budget Year 2020/21"},null,null,null,null,null,null,null,null,null,null,null,"Medium Term Revenue and Expenditure Framework"]
["R thousand","July","August","Sept.","October","November","December","January","February","March","April","May","June",{"$f":"Head9","v":"Budget Year 2020/21"},{"$f":"Head10","v":"Budget Year +1 2021/22"},{"$f":"Head11","v":"Budget Year +2 2022/23"}]
["Cash Receipts By Source",null,null,null,null,null,null,null,null,null,null,null,null,1]
[{"$f":"'A4-FinPerf RE'!A5","v":"Property rates"},null,null,null,null,null,null,null,null,null,null,null,{"$f":"N5-SUM(B5:L5)","v":0},null,null,null,100001,100001,100001]
[{"$f":"'A4-FinPerf RE'!A6","v":"Service charges - electricity revenue"},null,null,null,null,null,null,null,null,null,null,null,0]
[{"$f":"'A4-FinPerf RE'!A7","v":"Service charges - water revenue"},{"$f":"'SA25'!C7-('SA25'!C26*0.7)","v":15531061.586611876},{"$f":"'SA25'!D7-('SA25'!D26*0.7)","v":9918806.8862787616},{"$f":"'SA25'!E7-('SA25'!E26*0.7)","v":12020988.887925582},{"$f":"'SA25'!F7-('SA25'!F26*0.7)","v":14697370.155912677},{"$f":"'SA25'!G7-('SA25'!G26*0.7)","v":9674898.0385289807},{"$f":"'SA25'!H7-('SA25'!H26*0.7)","v":1205869.6524202768},{"$f":"'SA25'!I7-('SA25'!I26*0.7)","v":1361826.966035841},{"$f":"'SA25'!J7-('SA25'!J26*0.7)","v":14985809.461406378},{"$f":"'SA25'!K7-('SA25'!K26*0.7)","v":25434585.745204516},{"$f":"'SA25'!L7-('SA25'!L26*0.7)","v":9640202.375661267},{"$f":"'SA25'!M7-('SA25'!M26*0.7)","v":14385211.993773507},13541910.050240368,{"$f":"'SA25'!O7-('SA25'!O26*0.7)","v":142398541.80000001},{"$f":"'SA25'!P7-('SA25'!P26*0.7)","v":128629872.2},{"$f":"'SA25'!Q7-('SA25'!Q26*0.7)","v":138035207.80000001}]
[{"$f":"'A4-FinPerf RE'!A8","v":"Service charges - sanitation revenue"},{"$f":"'SA25'!C8-('SA25'!C26*0.3)","v":6992876.0471903197},{"$f":"'SA25'!D8-('SA25'!D26*0.3)","v":4511701.0841302667},{"$f":"'SA25'!E8-('SA25'!E26*0.3)","v":5441074.6832956746},{"$f":"'SA25'!F8-('SA25'!F26*0.3)","v":6624301.4875492919},{"$f":"'SA25'!G8-('SA25'!G26*0.3)","v":4403869.1059647612},{"$f":"'SA25'!H8-('SA25'!H26*0.3)","v":659715.9420303856},{"$f":"'SA25'!I8-('SA25'!I26*0.3)","v":728664.59146108245},{"$f":"'SA25'!J8-('SA25'!J26*0.3)","v":6751820.3585497327},{"$f":"'SA25'!K8-('SA25'!K26*0.3)","v":11371219.066245019},{"$f":"'SA25'!L8-('SA25'!L26*0.3)","v":4388530.1709679179},{"$f":"'SA25'!M8-('SA25'!M26*0.3)","v":6486296.5220282916},6113473.1405872628,{"$f":"'SA25'!O8-('SA25'!O26*0.3)","v":64473542.200000003},{"$f":"'SA25'!P8-('SA25'!P26*0.3)","v":67760561.800000012},{"$f":"'SA25'!Q8-('SA25'!Q26*0.3)","v":72548571.200000003}]
[{"$f":"'A4-FinPerf RE'!A9","v":"Service charges - refuse revenue"},null,null,null,null,null,null,null,null,null,null,null,0]
[]
[{"$f":"'A4-FinPerf RE'!A11","v":"Rental of facilities and equipment"},{"$f":"'SA25'!C11","v":5356.4666466666667},{"$f":"'SA25'!D11","v":5356.4666466666667},{"$f":"'SA25'!E11","v":5356.4666466666667},{"$f":"'SA25'!F11","v":5356.4666466666667},{"$f":"'SA25'!G11","v":5356.4666466666667},{"$f":"'SA25'!H11","v":5356.4666466666667},{"$f":"'SA25'!I11","v":5356.4666466666667},{"$f":"'SA25'!J11","v":5356.4666466666667},{"$f":"'SA25'!K11","v":5356.4666466666667},{"$f":"'SA25'!L11","v":5356.4666466666667},{"$f":"'SA25'!M11","v":5356.4666466666667},808415.86688666663,{"$f":"'SA25'!O11","v":867337},{"$f":"'SA25'!P11","v":1194114},{"$f":"'SA25'!Q11","v":1345867}]
[{"$f":"'A4-FinPerf RE'!A12","v":"Interest earned - external investments"},{"$f":"'SA25'!C12","v":2459631.333333333},{"$f":"'SA25'!D12","v":2348151.9185066903},{"$f":"'SA25'!E12","v":3202827.4321776191},{"$f":"'SA25'!F12","v":1255653.6532055913},{"$f":"'SA25'!G12","v":3574425.4815997602},{"$f":"'SA25'!H12","v":1604955.8196624052},{"$f":"'SA25'!I12","v":2585974.6701368615},{"$f":"'SA25'!J12","v":2459631.333333333},{"$f":"'SA25'!K12","v":2645430.3580444045},{"$f":"'SA25'!L12","v":2459631.333333333},{"$f":"'SA25'!M12","v":2459631.333333333},2459631.3333333358,{"$f":"'SA25'!O12","v":29515576},{"$f":"'SA25'!P12","v":38899639},{"$f":"'SA25'!Q12","v":40689023}]
[{"$f":"'A4-FinPerf RE'!A13","v":"Interest earned - outstanding debtors"},{"$f":"'SA25'!C13","v":2650000},{"$f":"'SA25'!D13","v":2529892.3865999687},{"$f":"'SA25'!E13","v":3450717.4226668756},{"$f":"'SA25'!F13","v":1352837.7752796623},{"$f":"'SA25'!G13","v":3851076.1340003116},{"$f":"'SA25'!H13","v":1729174.9639330937},{"$f":"'SA25'!I13","v":2786121.9618533682},{"$f":"'SA25'!J13","v":2650000},{"$f":"'SA25'!K13","v":2850179.3556667189},{"$f":"'SA25'!L13","v":2650000},{"$f":"'SA25'!M13","v":2650000},3100000,{"$f":"'SA25'!O13","v":32250000},{"$f":"'SA25'!P13","v":34163000},{"$f":"'SA25'!Q13","v":36190480}]
[{"$f":"'A4-FinPerf RE'!A14","v":"Dividends received"},null,null,null,null,null,null,null,null,null,null,null,0]
[{"$f":"'A4-FinPerf RE'!A15","v":"Fines, penalties and forfeits"},null,null,null,null,null,null,null,null,null,null,null,0]
[{"$f":"'A4-FinPerf RE'!A16","v":"Licences and permits"},null,null,null,null,null,null,null,null,null,null,null,0]
[{"$f":"'A4-FinPerf RE'!A17","v":"Agency services"},null,null,null,null,null,null,null,null,null,null,null,0]
["Transfers and Subsidies - Operational",{"$f":"'SA25'!C18","v":373560854.61719853},{"$f":"'SA25'!D18","v":0},{"$f":"'SA25'!E18","v":0},{"$f":"'SA25'!F18","v":0},{"$f":"'SA25'!G18","v":307959028.81149399},{"$f":"'SA25'!H18","v":0},{"$f":"'SA25'!I18","v":0},{"$f":"'SA25'!J18","v":1629250.0888376795},{"$f":"'SA25'!K18","v":248559866.83781862},{"$f":"'SA25'!L18","v":0},{"$f":"'SA25'!M18","v":0},44327180.644651175,{"$f":"'SA25'!O18","v":976036181},{"$f":"'SA25'!P18","v":1036542466},{"$f":"'SA25'!Q18","v":1104844272}]
[{"$f":"'A4-FinPerf RE'!A19","v":"Other revenue"},81415542.033695981,21726747.358207468,19578044.392209072,17748166.088096719,17509668.334901106,13879369.125255555,11173312.443499681,17174910.436840311,18705284.352037113,12122310.122497004,14034309.517375916,13977638.755384147,259045302.96000001,195487131.00000009,136944769.99999982]
["Cash Receipts by Source",{"$f":"SUM(B5:B9)+SUM(B11:B19)","v":482615322.08467668},{"$f":"SUM(C5:C9)+SUM(C11:C19)","v":41040656.100369826},43699009.28492149,41683685.626690611,346978322.37313557,19084441.969948385,18641257.0996335,45656778.145614102,309571922.18166304,31266030.46910619,40020805.833157718,84328249.791082948,1504586480.96,1502676784,1530598190.9999998]
[]
["Other Cash Flows by Source"]
[{"$f":"'A4-FinPerf RE'!A38","v":"Transfers and subsidies - capital (monetary allocations) (National / Provincial and District)"},{"$f":"'SA25'!C38","v":229050391.8947137},{"$f":"'SA25'!D38","v":0},{"$f":"'SA25'!E38","v":10000000},{"$f":"'SA25'!F38","v":0},{"$f":"'SA25'!G38","v":266082137.84207052},{"$f":"'SA25'!H38","v":10000000},{"$f":"'SA25'!I38","v":0},{"$f":"'SA25'!J38","v":0},{"$f":"'SA25'!K38","v":366386470.26321578},{"$f":"'SA25'!L38","v":0},{"$f":"'SA25'!M38","v":0},{"$f":"N23-SUM(B23:L23)","v":10000000},{"$f":"'SA25'!O38","v":891519000},{"$f":"'SA25'!P38","v":882465000},{"$f":"'SA25'!Q38","v":988437000}]
[{"$f":"'A4-FinPerf RE'!A39","v":"Transfers and subsidies - capital (monetary allocations) (National / Provincial Departmental Agencies, Households, Non-profit Institutions, Private Enterprises, Public Corporatons, Higher Educational Institutions)"},null,null,null,null,null,null,null,null,null,null,null,0]
["Proceeds on Disposal of Fixed and Intangible Assets",null,null,null,null,null,null,null,null,null,null,null,0]
[{"$f":"'A7-CFlow'!A31","v":"Short term loans"},null,null,null,null,null,null,null,null,null,null,null,0]
[{"$f":"'A7-CFlow'!A32","v":"Borrowing long term/refinancing"},null,null,null,null,null,null,null,null,null,null,null,0]
[{"$f":"'A7-CFlow'!A33","v":"Increase (decrease) in consumer deposits"},-312083,-312083,-312083,-312083,-312083,-312083,-312083,-312083,-312083,-312083,-312083,-312087,-3745000,-4007150,-4187472]
[]
[{"$f":"'A7-CFlow'!A23","v":"Decrease (increase) in non-current receivables"},null,null,null,null,null,null,null,null,null,null,null,0]
[{"$f":"'A7-CFlow'!A24","v":"Decrease (increase) in non-current investments"},0,0,0,0,0,0,0,0,0,0,0,0,0,0,0]
["Total Cash Receipts by Source",{"$f":"SUM(B20:B28)+SUM(B30:B31)","v":711353630.97939038},{"$f":"SUM(C20:C28)+SUM(C30:C31)","v":40728573.100369826},53386926.28492149,41371602.626690611,612748377.21520615,28772358.969948385,18329174.0996335,45344695.145614102,675646309.44487882,30953947.46910619,39708722.833157718,{"$f":"SUM(M20:M28)+SUM(M30:M31)","v":94016162.791082948},{"$f":"SUM(N20:N28)+SUM(N30:N31)","v":2392360480.96},2381134634,2514847719]
[]
["Cash Payments by Type"]
["Employee related costs",56680203,56680203,56680203,56680203,56680203,56680203,56680203,56680203,56680203,56680203,56680203,{"$f":"N35-SUM(B35:L35)","v":56677812},680160045,720651764,765566273]
["Remuneration of councillors",2006278,2006278,2006278,2006278,2006278,2006278,2006278,2006278,2006278,2006278,2006278,2006236,24075294,25579999,27178747]
["Finance charges",0,0,0,0,0,0,0,0,0,0,0,0,0,0,0]
["Bulk purchases - Electricity",null,null,null,null,null,null,null,null,null,null,null,0]
["Bulk purchases - Water & Sewer",3112794,3112794,3112794,3112794,3112794,3112794,3112794,3112794,3112794,3112794,3112794,3112791,37353525,39071787,40869089]
["Other materials",3087800,3087800,3087800,3087800,3087800,3087800,3087800,3087800,3087800,3087800,3087800,3087743,37053543,41379528,45261315]
["Contracted services",19261297,19261297,19261297,19261297,19261297,19261297,19261297,19261297,19261297,19261297,19261297,19259738,231134005,231771819,224272370]
["Transfers and grants - other municipalities",0,0,0,0,0,0,0,0,0,0,0,0,0,0,0]
["Transfers and grants - other",3753704,3753704,3753704,3753704,3753704,3753704,3753704,3753704,3753704,3753704,3753704,3753691,45044435,45656969,46275546]
["Other expenditure",{"$f":"'SA25'!C33","v":19030632.60823825},{"$f":"'SA25'!D33","v":25198199.037503809},{"$f":"'SA25'!E33","v":31043916.022255599},{"$f":"'SA25'!F33","v":28240939.720021069},{"$f":"'SA25'!G33","v":15824384.140819013},{"$f":"'SA25'!H33","v":27985116.929948032},{"$f":"'SA25'!I33","v":14907002.725588202},{"$f":"'SA25'!J33","v":11966986.749344453},{"$f":"'SA25'!K33","v":16428024.587404013},{"$f":"'SA25'!L33","v":14175096.047368199},{"$f":"'SA25'!M33","v":1854120.2436857522},55121659.187823594,261776078,285037121,293070436]
["Cash Payments by Type",{"$f":"SUM(B35:B44)","v":106932708.60823825},113100275.03750381,118945992.0222556,116143015.72002107,103726460.14081901,115887192.92994803,102809078.7255882,99869062.749344453,104330100.58740401,102077172.0473682,89756196.243685752,143019670.18782359,{"$f":"SUM(N35:N44)","v":1316596925},1389148987,{"$f":"SUM(P35:P44)","v":1442493776}]
[]
["Other Cash Flows/Payments by Type"]
[{"$f":"'A7-CFlow'!A26","v":"Capital assets"},{"$f":"'SA29'!C25","v":75026027.89320001},{"$f":"'SA29'!D25","v":91416527.89320001},{"$f":"'SA29'!E25","v":116522482.32320002},{"$f":"'SA29'!F25","v":102221731.82319999},{"$f":"'SA29'!G25","v":85912704.879199997},{"$f":"'SA29'!H25","v":82027257.89320001},{"$f":"'SA29'!I25","v":80128878.773200005},{"$f":"'SA29'!J25","v":74333275.673200011},{"$f":"'SA29'!K25","v":83597764.513199985},{"$f":"'SA29'!L25","v":75731033.361200005},{"$f":"'SA29'!M25","v":81676738.773200005},{"$f":"N48-SUM(B48:L48)","v":96212629.200799823},{"$f":"'A5-Capex'!J63","v":1044807053},{"$f":"'A5-Capex'!K63","v":978659832},{"$f":"'A5-Capex'!L63","v":1060649435}]
[{"$f":"'A7-CFlow'!A35","v":"Repayment of borrowing"},0,0,0,0,0,0,0,0,0,0,0,{"$f":"N49-SUM(B49:L49)","v":0},0,0,0]
[{"$f":"LEFT(A47,25)","v":"Other Cash Flows/Payments"},null,null,null,null,null,null,null,null,null,null,null,{"$f":"N50-SUM(B50:L50)","v":0}]
["Total Cash Payments by Type",{"$f":"SUM(B45:B50)","v":181958736.50143826},{"$f":"SUM(C45:C50)","v":204516802.93070382},235468474.34545562,218364747.54322106,189639165.02001899,197914450.82314804,182937957.49878821,174202338.42254448,187927865.100604,177808205.4085682,171432935.01688576,239232299.38862342,2361403978,2367808819,2503143211,null,"Check"]
[]
["NET INCREASE/(DECREASE) IN CASH HELD",{"$f":"B32-B51","v":529394894.47795212},-163788229.83033401,-182081548.06053412,-176993144.91653043,423109212.19518715,-169142091.85319966,-164608783.39915472,-128857643.27693038,487718444.34427482,-146854257.93946201,-131724212.18372804,-145216136.59754047,30956502.960000038,13325815,11704508]
["Cash/cash equivalents at the month/year begin:",{"$f":"'A7-CFlow'!I40","v":215817859.03999972},{"$f":"B55","v":745212753.51795185},{"$f":"C55","v":581424523.68761778},399342975.62708366,222349830.71055323,645459042.90574038,476316951.05254072,311708167.653386,182850524.37645561,670568968.72073042,523714710.78126842,391990498.59754038,{"$f":"B54","v":215817859.03999972},{"$f":"N55","v":246774361.99999976},{"$f":"O55","v":260100176.99999976}]
["Cash/cash equivalents at the month/year end:",{"$f":"B54+B53","v":745212753.51795185},{"$f":"C54+C53","v":581424523.68761778},{"$f":"D54+D53","v":399342975.62708366},222349830.71055323,645459042.90574038,476316951.05254072,311708167.653386,182850524.37645561,670568968.72073042,523714710.78126842,391990498.59754038,246774361.99999991,246774361.99999976,260100176.99999976,271804684.99999976]
[{"$f":"head27a","v":"References"}]
["1. Note that this section of Table SA 30 is deliberately not linked to Table A4 because timing differences between the invoicing of clients and receiving the cash means that the cashflow will differ from budgeted revenue, and similarly for budgeted expenditure. However for the MTREF it is now directly linked to A7."]
[]
[]
[]
[]
[null,null,null,null,{"$f":"E45+E61","v":116143015.72002107},103726460.14081901,115887192.92994803,102809078.7255882,99869062.749344453,104330100.58740401,102077172.0473682,89756196.243685752,143019670.18782359,1316596925,1389148987,1442493776]
[null,null,null,null,{"$f":"E53-E61","v":-176993144.91653043},423109212.19518715,-169142091.85319966,-164608783.39915472,-128857643.27693038,487718444.34427482,-146854257.93946201,-131724212.18372804,-145216136.59754047,30956502.960000038,13325815,11704508]

{"sheet":"SA31","index":52,"n_rows":41,"n_cols":11,"rows_kept":41,"cut":false,"hidden":false,"merged":[[1,5,1,7],[1,8,1,10],[1,1,2,1]]}
[{"$f":"muni&\" - \"& TableA31","v":"DC15 O .R. Tambo - Supporting Table SA31 Aggregated entity budget"}]
[{"$f":"desc","v":"Description"},{"$f":"head27","v":"Ref"},{"$f":"head1b","v":"2016/17"},{"$f":"head1A","v":"2017/18"},{"$f":"Head1","v":"2018/19"},{"$f":"Head2","v":"Current Year 2019/20"},null,null,{"$f":"Head3","v":"2020/21 Medium Term Revenue & Expenditure Framework"}]
["R million",null,{"$f":"Head5","v":"Audited Outcome"},{"$f":"Head5","v":"Audited Outcome"},{"$f":"Head5","v":"Audited Outcome"},{"$f":"Head6","v":"Original Budget"},{"$f":"Head7","v":"Adjusted Budget"},{"$f":"Head8","v":"Full Year Forecast"},{"$f":"Head9","v":"Budget Year 2020/21"},{"$f":"Head10","v":"Budget Year +1 2021/22"},{"$f":"Head11","v":"Budget Year +2 2022/23"}]
["Financial Performance"]
[{"$f":"'A1-Sum'!A5","v":"Property rates"}]
[{"$f":"'A1-Sum'!A6","v":"Service charges"},null,0,0,0,0,20500000,20500000,27600000,8300000,8800000]
[{"$f":"'A1-Sum'!A7","v":"Investment revenue"}]
[{"$f":"'A1-Sum'!A8","v":"Transfers recognised - operational"},null,0,0,0,0,32791559,32791559,44327179,44913469,45567269]
[{"$f":"'A1-Sum'!A9","v":"Other own revenue"},null,0,0,0,0,66125115,66125115,39071007,51579343,55748164]
[{"$f":"'A1-Sum'!A21","v":"Transfers and subsidies - capital (monetary allocations) (National / Provincial Departmental Agencies, Households, Non-profit Institutions, Private Enterprises, Public Corporatons, Higher Educational Institutions) & Transfers and subsidies - capital (in-kind - all) "}]
[{"$f":"'A4-FinPerf RE'!A21","v":"Total Revenue (excluding capital transfers and contributions)"},null,{"$f":"SUM(C5:C10)","v":0},{"$f":"SUM(D5:D10)","v":0},{"$f":"SUM(E5:E10)","v":0},0,119416674,119416674,110998186,104792812,110115433]
[{"$f":"'A1-Sum'!A11","v":"Employee costs"},null,0,0,0,0,44749321,44749321,48569888,52094858,55402507]
["Remuneration of Board Members"]
[{"$f":"'A1-Sum'!A13","v":"Depreciation & asset impairment"},null,0,0,0,0,75373946,75373946,3756921,4684156,4514250]
[{"$f":"'A1-Sum'!A14","v":"Finance charges"},null,0,0,0,0,0,0,0,0,0]
[{"$f":"'A1-Sum'!A15","v":"Materials and bulk purchases"},null,0,0,0,0,30458430,30458430,11703116,14862983,17525007]
[{"$f":"'A1-Sum'!A16","v":"Transfers and grants"}]
[{"$f":"'A1-Sum'!A17","v":"Other expenditure"},null,0,0,0,0,34256940,34256940,19861199,22933401,24718963]
[{"$f":"'A4-FinPerf RE'!A35","v":"Total Expenditure"},null,{"$f":"SUM(C12:C18)","v":0},{"$f":"SUM(D12:D18)","v":0},0,0,184838637,184838637,83891124,94575398,102160727]
[{"$f":"'A4-FinPerf RE'!A37","v":"Surplus/(Deficit)"},null,{"$f":"C11-C19","v":0},{"$f":"D11-D19","v":0},0,0,-65421963,-65421963,27107062,10217414,7954706]
[]
["Capital expenditure & funds sources"]
["Capital expenditure"]
[{"$f":"A8","v":"Transfers recognised - operational"},null,0,0,0,0,7245000,7245000,28896000,6833000,6852800]
[]
[{"$f":"'A5-Capex'!A72","v":"Borrowing"}]
[{"$f":"'A5-Capex'!A73","v":"Internally generated funds"}]
["Total sources",null,{"$f":"+C24+C26+C27","v":0},{"$f":"+D24+D26+D27","v":0},0,0,7245000,7245000,28896000,6833000,6852800]
[]
["Financial position"]
[{"$f":"'A6-FinPos'!A12","v":"Total current assets"},null,0,0,0,0,26279716,26279716,0,0,0]
[{"$f":"'A6-FinPos'!A24","v":"Total non current assets"},null,0,0,0,0,7245000,7245000,28896000,6833000,6852800]
[{"$f":"'A6-FinPos'!A34","v":"Total current liabilities"},null,0,0,0,0,-6350000,-6350000,0,0,0]
[{"$f":"'A6-FinPos'!A39","v":"Total non current liabilities"},null,0,0,0,0,0,0,0,0,0]
["Equity",null,0,0,0,0,-92596679,-92596679,-28896003,-6833000,-6852801]
[]
["Cash flows"]
[{"$f":"'A1-Sum'!A42","v":"Net cash from (used) operating"},null,0,0,0,0,-109464691,-109464691,-79984203,-89791242,-97546477]
[{"$f":"'A1-Sum'!A43","v":"Net cash from (used) investing"},null,0,0,0,0,0,0,0,0,0]
[{"$f":"'A1-Sum'!A44","v":"Net cash from (used) financing"}]
[{"$f":"'A1-Sum'!A45","v":"Cash/cash equivalents at the year end"}]

{"sheet":"SA32","index":53,"n_rows":8,"n_cols":6,"rows_kept":8,"cut":false,"hidden":false,"merged":[[1,3,2,3],[1,4,2,4],[1,1,2,1]]}
[{"$f":"muni&\" - \"&TableA32","v":"DC15 O .R. Tambo - Supporting Table SA32 List of external mechanisms"}]
["External mechanism","Yrs/ Mths","Period of agreement 1.","Service provided","Expiry date of service delivery agreement or contract","Monetary value of agreement 2."]
["Name of organisation",null,"Number",null,null,"R thousand"]
[]
[]
[{"$f":"head27a","v":"References"}]
["1. Total agreement period from commencement until end"]
["2. Annual value"]

{"sheet":"SA33","index":54,"n_rows":48,"n_cols":15,"rows_kept":48,"cut":false,"hidden":false,"merged":[[1,4,1,6],[47,0,47,13]]}
[{"$f":"muni&\" - \"& TableA33","v":"DC15 O .R. Tambo - Supporting Table SA33 Contracts having future budgetary implications"}]
[{"$f":"desc","v":"Description"},{"$f":"head27","v":"Ref"},"Preceding Years",{"$f":"Head2","v":"Current Year 2019/20"},{"$f":"Head3","v":"2020/21 Medium Term Revenue & Expenditure Framework"},null,null,{"$f":"Head12","v":"Forecast 2023/24"},{"$f":"Head13","v":"Forecast 2024/25"},{"$f":"Head14","v":"Forecast 2025/26"},{"$f":"Head15","v":"Forecast 2026/27"},{"$f":"Head16","v":"Forecast 2027/28"},{"$f":"Head17","v":"Forecast 2028/29"},{"$f":"Head18","v":"Forecast 2029/30"},"Total Contract Value"]
["R thousand","1,3","Total",{"$f":"Head6","v":"Original Budget"},{"$f":"Head9","v":"Budget Year 2020/21"},{"$f":"Head10","v":"Budget Year +1 2021/22"},{"$f":"Head11","v":"Budget Year +2 2022/23"},"Estimate","Estimate","Estimate","Estimate","Estimate","Estimate","Estimate","Estimate"]
["Parent Municipality:"]
["Revenue Obligation By Contract",2]
[" ",null,null,null,null,null,null,null,null,null,null,null,null,null,{"$f":"SUM(C6:N6)","v":0}]
[" ",null,null,null,null,null,null,null,null,null,null,null,null,null,{"$f":"SUM(C7:N7)","v":0}]
[" ",null,null,null,null,null,null,null,null,null,null,null,null,null,{"$f":"SUM(C8:N8)","v":0}]
["Total Operating Revenue Implication",null,{"$f":"SUM(C6:C8)","v":0},{"$f":"SUM(D6:D8)","v":0},0,0,0,0,0,0,0,0,0,0,{"$f":"SUM(C9:N9)","v":0}]
[]
["Expenditure Obligation By Contract",2]
[" ",null,null,null,null,null,null,null,null,null,null,null,null,null,{"$f":"SUM(C12:N12)","v":0}]
[" ",null,null,null,null,null,null,null,null,null,null,null,null,null,{"$f":"SUM(C13:N13)","v":0}]
[" ",null,null,null,null,null,null,null,null,null,null,null,null,null,{"$f":"SUM(C14:N14)","v":0}]
["Total Operating Expenditure Implication",null,{"$f":"SUM(C12:C14)","v":0},0,0,0,0,0,0,0,0,0,0,0,{"$f":"SUM(C15:N15)","v":0}]
[]
["Capital Expenditure Obligation By Contract",2]
[" ",null,null,null,null,null,null,null,null,null,null,null,null,null,{"$f":"SUM(C18:N18)","v":0}]
[" ",null,null,null,null,null,null,null,null,null,null,null,null,null,{"$f":"SUM(C19:N19)","v":0}]
[" ",null,null,null,null,null,null,null,null,null,null,null,null,null,{"$f":"SUM(C20:N20)","v":0}]
["Total Capital Expenditure Implication",null,{"$f":"SUM(C18:C20)","v":0},0,0,0,0,0,0,0,0,0,0,0,{"$f":"SUM(C21:N21)","v":0}]
[]
["Total Parent Expenditure Implication",null,{"$f":"C15+C21","v":0},{"$f":"D15+D21","v":0},0,0,0,0,0,0,0,0,0,0,0]
[]
["Entities:"]
["Revenue Obligation By Contract",2]
[" ",null,null,null,null,null,null,null,null,null,null,null,null,null,{"$f":"SUM(C27:N27)","v":0}]
[" ",null,null,null,null,null,null,null,null,null,null,null,null,null,{"$f":"SUM(C28:N28)","v":0}]
[" ",null,null,null,null,null,null,null,null,null,null,null,null,null,{"$f":"SUM(C29:N29)","v":0}]
["Total Operating Revenue Implication",null,{"$f":"SUM(C27:C29)","v":0},0,0,0,0,0,0,0,0,0,0,0,{"$f":"SUM(C30:N30)","v":0}]
[]
["Expenditure Obligation By Contract",2]
[" ",null,null,null,null,null,null,null,null,null,null,null,null,null,{"$f":"SUM(C33:N33)","v":0}]
[" ",null,null,null,null,null,null,null,null,null,null,null,null,null,{"$f":"SUM(C34:N34)","v":0}]
[" ",null,null,null,null,null,null,null,null,null,null,null,null,null,{"$f":"SUM(C35:N35)","v":0}]
["Total Operating Expenditure Implication",null,{"$f":"SUM(C33:C35)","v":0},0,0,0,0,0,0,0,0,0,0,0,{"$f":"SUM(C36:N36)","v":0}]
[]
["Capital Expenditure Obligation By Contract",2]
[" ",null,null,null,null,null,null,null,null,null,null,null,null,null,{"$f":"SUM(C39:N39)","v":0}]
[" ",null,null,null,null,null,null,null,null,null,null,null,null,null,{"$f":"SUM(C40:N40)","v":0}]
[" ",null,null,null,null,null,null,null,null,null,null,null,null,null,{"$f":"SUM(C41:N41)","v":0}]
["Total Capital Expenditure Implication",null,{"$f":"SUM(C39:C41)","v":0},0,0,0,0,0,0,0,0,0,0,0,{"$f":"SUM(C42:N42)","v":0}]
[]
["Total Entity Expenditure Implication",null,{"$f":"C36+C42","v":0},{"$f":"D36+D42","v":0},0,0,0,0,0,0,0,0,0,0,0]
[{"$f":"head27a","v":"References"}]
["1. Total implication for all preceding years to be summed and total stated in 'Preceding Years' column"]
["2. List all contracts with future financial obligations beyond the three years covered by the MTREF (MFMA s33)"]
["3. For municipalities with approved total revenue not exceeding R250 m - all contracts with an annual cost greater than R500 000. For municipalities with approved total revenue greater than R250 m - all contracts with an annual cost greater than R1million. For municipalities with approved total revenue greater than R500 m - all contracts with an annual cost greater than R5 million"]

{"sheet":"SA34a","index":55,"n_rows":173,"n_cols":11,"rows_kept":173,"cut":false,"hidden":false,"merged":[[1,5,1,7],[1,8,1,10]]}
[{"$f":"muni&\" - \"&TableA34a","v":"DC15 O .R. Tambo - Supporting Table SA34a Consolidated capital expenditure on new assets by asset class"}]
[{"$f":"desc","v":"Description"},{"$f":"head27","v":"Ref"},{"$f":"head1b","v":"2016/17"},{"$f":"head1A","v":"2017/18"},{"$f":"Head1","v":"2018/19"},{"$f":"Head2","v":"Current Year 2019/20"},null,null,{"$f":"Head3","v":"2020/21 Medium Term Revenue & Expenditure Framework"}]
["R thousand",1,{"$f":"Head5","v":"Audited Outcome"},{"$f":"Head5","v":"Audited Outcome"},{"$f":"Head5","v":"Audited Outcome"},{"$f":"Head6","v":"Original Budget"},{"$f":"Head7","v":"Adjusted Budget"},{"$f":"Head8","v":"Full Year Forecast"},{"$f":"Head9","v":"Budget Year 2020/21"},{"$f":"Head10","v":"Budget Year +1 2021/22"},{"$f":"Head11","v":"Budget Year +2 2022/23"}]
["Capital expenditure on new assets by Asset Class/Sub-class"]
[]
["Infrastructure",null,{"$f":"C7+C12+C16+C26+C37+C44+C52+C62+C68","v":809271875},{"$f":"D7+D12+D16+D26+D37+D44+D52+D62+D68","v":731779794},862537145,992556671,1170162716,1170162716,872081294,920326358,1028470981]
["Roads Infrastructure",null,{"$f":"SUM(C8:C11)","v":0},0,0,3112000,6112000,6112000,2962000,3125000,3306000]
["Roads",null,0,0,0,3112000,6112000,6112000,2962000,3125000,3306000]
["Road Structures"]
["Road Furniture"]
["Capital Spares"]
["Storm water Infrastructure",null,{"$f":"SUM(C13:C15)","v":0},{"$f":"SUM(D13:D15)","v":0},0,0,0,0,0,0,0]
["Drainage Collection"]
["Storm water Conveyance"]
["Attenuation"]
["Electrical Infrastructure",null,{"$f":"SUM(C17:C25)","v":0},0,0,0,0,0,0,0,0]
["Power Plants",null,0,0,0,0,0,0,0,0,0]
["HV Substations"]
["HV Switching Station"]
["HV Transmission Conductors"]
["MV Substations"]
["MV Switching Stations"]
["MV Networks"]
["LV Networks"]
["Capital Spares"]
["Water Supply Infrastructure",null,{"$f":"SUM(C27:C36)","v":809271875},{"$f":"SUM(D27:D36)","v":731779794},862537145,783411233,1023707245,1023707245,732747412,906588730,1013633172]
["Dams and Weirs",null,0,0,0,5000000,9626659,9626659,0,0,0]
["Boreholes",null,0,0,0,0,13950000,13950000,6000000,0,0]
["Reservoirs"]
["Pump Stations",null,0,0,0,5264941,4197509,4197509,4386397,4588171,4799227]
["Water Treatment Works",null,0,0,0,183522800,178448364,178448364,201472776,100000000,160000000]
["Bulk Mains"]
["Distribution",null,809271875,731779794,862537145,557123492,777528718,777528718,499224224,779340000,825131000]
["Distribution Points",null,0,0,0,22500000,37955995,37955995,21664015,22660559,23702945]
["PRV Stations"]
["Capital Spares",null,0,0,0,10000000,2000000,2000000,0,0,0]
["Sanitation Infrastructure",null,{"$f":"SUM(C38:C43)","v":0},{"$f":"SUM(D38:D43)","v":0},0,206033438,140343471,140343471,136371882,10612628,11531809]
["Pump Station"]
["Reticulation",null,0,0,0,193699994,122343471,122343471,121031882,9112628,9531809]
["Waste Water Treatment Works",null,0,0,0,5500000,12000000,12000000,10200000,0,0]
["Outfall Sewers",null,0,0,0,1989460,5000000,5000000,3640000,0,0]
["Toilet Facilities",null,0,0,0,4843984,1000000,1000000,1500000,1500000,2000000]
["Capital Spares"]
["Solid Waste Infrastructure",null,{"$f":"SUM(C45:C51)","v":0},{"$f":"SUM(D45:D51)","v":0},0,0,0,0,0,0,0]
["Landfill Sites"]
["Waste Transfer Stations"]
["Waste Processing Facilities"]
["Waste Drop-off Points"]
["Waste Separation Facilities"]
["Electricity Generation Facilities"]
["Capital Spares"]
["Rail Infrastructure",null,{"$f":"SUM(C53:C61)","v":0},0,0,0,0,0,0,0,0]
["Rail Lines"]
["Rail Structures"]
["Rail Furniture"]
["Drainage Collection"]
["Storm water Conveyance"]
["Attenuation"]
["MV Substations"]
["LV Networks"]
["Capital Spares"]
["Coastal Infrastructure",null,{"$f":"SUM(C63:C67)","v":0},{"$f":"SUM(D63:D67)","v":0},0,0,0,0,0,0,0]
["Sand Pumps"]
["Piers"]
["Revetments"]
["Promenades"]
["Capital Spares"]
["Information and Communication Infrastructure",null,{"$f":"SUM(C69:C72)","v":0},{"$f":"SUM(D69:D72)","v":0},0,0,0,0,0,0,0]
["Data Centres"]
["Core Layers"]
["Distribution Layers"]
["Capital Spares"]
[]
["Community Assets",null,{"$f":"C75+C98","v":0},{"$f":"D75+D98","v":0},0,67850824,73377383,73377383,48200000,7000000,0]
["Community Facilities",null,{"$f":"SUM(C76:C97)","v":0},{"$f":"SUM(D76:D97)","v":0},0,67850824,73377383,73377383,48200000,7000000,0]
["Halls"]
["Centres",null,0,0,0,30000000,29000000,29000000,30000000,5000000,0]
["Crèches"]
["Clinics/Care Centres"]
["Fire/Ambulance Stations"]
["Testing Stations"]
["Museums"]
["Galleries"]
["Theatres"]
["Libraries"]
["Cemeteries/Crematoria"]
["Police"]
["Parks"]
["Public Open Space",null,0,0,0,37850824,44377383,44377383,18200000,2000000,0]
["Nature Reserves"]
["Public Ablution Facilities"]
["Markets"]
["Stalls"]
["Abattoirs"]
["Airports"]
["Taxi Ranks/Bus Terminals"]
["Capital Spares"]
["Sport and Recreation Facilities",null,{"$f":"SUM(C99:C101)","v":0},{"$f":"SUM(D99:D101)","v":0},0,0,0,0,0,0,0]
["Indoor Facilities"]
["Outdoor Facilities"]
["Capital Spares"]
[]
["Heritage assets",null,{"$f":"SUM(C104:C108)","v":0},{"$f":"SUM(D104:D108)","v":0},0,0,0,0,0,0,0]
["Monuments"]
["Historic Buildings"]
["Works of Art"]
["Conservation Areas"]
["Other Heritage"]
[]
["Investment properties",null,{"$f":"+C111+C114","v":0},{"$f":"+D111+D114","v":0},0,0,0,0,0,0,0]
["Revenue Generating",null,{"$f":"SUM(C112:C113)","v":0},0,0,0,0,0,0,0,0]
["Improved Property"]
["Unimproved Property"]
["Non-revenue Generating",null,{"$f":"SUM(C115:C116)","v":0},{"$f":"SUM(D115:D116)","v":0},0,0,0,0,0,0,0]
["Improved Property"]
["Unimproved Property"]
[]
["Other assets",null,{"$f":"+C119+C131","v":0},{"$f":"+D119+D131","v":0},2230623,500000,49395730,49395730,48030000,6833000,6833000]
["Operational Buildings",null,{"$f":"SUM(C120:C130)","v":0},{"$f":"SUM(D120:D130)","v":0},2230623,0,1600000,1600000,8030000,6833000,6833000]
["Municipal Offices",null,null,null,2230623]
["Pay/Enquiry Points"]
["Building Plan Offices",null,0,0,0,0,1600000,1600000,8030000,6833000,6833000]
["Workshops"]
["Yards"]
["Stores"]
["Laboratories"]
["Training Centres"]
["Manufacturing Plant"]
["Depots"]
["Capital Spares"]
["Housing",null,{"$f":"SUM(C132:C134)","v":0},{"$f":"SUM(D132:D134)","v":0},0,500000,47795730,47795730,40000000,0,0]
["Staff Housing"]
["Social Housing",null,0,0,0,500000,47795730,47795730,40000000,0,0]
["Capital Spares"]
[]
["Biological or Cultivated Assets",null,{"$f":"SUM(C137:C137)","v":0},1112401,0,0,0,0,0,0,0]
["Biological or Cultivated Assets",null,0,1112401,0,0,0,0,0,0,0]
[]
["Intangible Assets",null,{"$f":"+C140+C141","v":805184},{"$f":"+D140+D141","v":4989617},315580,2686154,9086154,9086154,6881207,3262259,3150000]
["Servitudes"]
["Licences and Rights",null,{"$f":"SUM(C142:C147)","v":805184},{"$f":"SUM(D142:D147)","v":4989617},315580,2686154,9086154,9086154,6881207,3262259,3150000]
["Water Rights"]
["Effluent Licenses"]
["Solid Waste Licenses"]
["Computer Software and Applications",null,805184,4989617,315580,2554404,8554404,8554404,6742342,3115896,3000000]
["Load Settlement Software Applications"]
["Unspecified",null,0,0,0,131750,531750,531750,138865,146363,150000]
[]
["Computer Equipment",null,{"$f":"SUM(C150:C150)","v":0},0,0,1970000,2410000,2410000,2658000,3500000,4519800]
["Computer Equipment",null,0,0,0,1970000,2410000,2410000,2658000,3500000,4519800]
[]
["Furniture and Office Equipment",null,{"$f":"SUM(C153:C153)","v":318000},2604077,1419204,1300000,7280000,7280000,4850000,3850000,0]
["Furniture and Office Equipment",null,318000,2604077,1419204,1300000,7280000,7280000,4850000,3850000,0]
[]
["Machinery and Equipment",null,{"$f":"SUM(C156:C156)","v":0},7721540,3924816,11682614,7962372,7962372,28528698,8497333,2076752]
["Machinery and Equipment",null,0,7721540,3924816,11682614,7962372,7962372,28528698,8497333,2076752]
[]
["Transport Assets",null,{"$f":"SUM(C159:C159)","v":0},4179831,4751144,16500000,19100000,19100000,13200000,14800000,8000000]
["Transport Assets",null,0,4179831,4751144,16500000,19100000,19100000,13200000,14800000,8000000]
[]
["Land",null,{"$f":"SUM(C162:C162)","v":0},26908449,0,0,0,0,0,0,0]
["Land",null,null,26908449]
[]
["Zoo's, Marine and Non-biological Animals",null,{"$f":"SUM(C165:C165)","v":0},0,0,0,0,0,0,0,0]
["Zoo's, Marine and Non-biological Animals"]
[]
["Total Capital Expenditure on new assets ",1,{"$f":"C6+C74+C103+C110+C118+C136+C139+C149+C152+C155+C158+C161+C164","v":810395059},{"$f":"D6+D74+D103+D110+D118+D136+D139+D149+D152+D155+D158+D161+D164","v":779295709},875178512,1095046263,1338774355,1338774355,1024429199,968068950,1053050533]
[]
[{"$f":"head27a","v":"References"}]
["1. Total Capital Expenditure on new assets (SA34a) plus Total Capital Expenditure on renewal of existing assets (SA34b) plus Total Capital Expenditure  on upgrading of existing assets (SA34e) must reconcile to total capital expenditure in Budgeted Capital Expenditure"]
[]
[]
["check balance",null,{"$f":"SUM(C167+SA34b!C167++SA34e!C167)-'A5-Capex'!C40","v":0},{"$f":"SUM(D167+SA34b!D167++SA34e!D167)-'A5-Capex'!D40","v":0},{"$f":"SUM(E167+SA34b!E167++SA34e!E167)-'A5-Capex'!E40","v":0},{"$f":"SUM(F167+SA34b!F167++SA34e!F167)-'A5-Capex'!F40","v":0},{"$f":"SUM(G167+SA34b!G167++SA34e!G167)-'A5-Capex'!G40","v":0},{"$f":"SUM(H167+SA34b!H167++SA34e!H167)-'A5-Capex'!H40","v":0},{"$f":"SUM(I167+SA34b!I167++SA34e!I167)-'A5-Capex'!J40","v":0},{"$f":"SUM(J167+SA34b!J167++SA34e!J167)-'A5-Capex'!K40","v":0},{"$f":"SUM(K167+SA34b!K167++SA34e!K167)-'A5-Capex'!L40","v":0}]

{"sheet":"SA34b","index":56,"n_rows":175,"n_cols":11,"rows_kept":175,"cut":false,"hidden":false,"merged":[[1,5,1,7],[1,8,1,10]]}
[{"$f":"muni&\" - \"&TableA34b","v":"DC15 O .R. Tambo - Supporting Table SA34b Consolidated capital expenditure on the renewal of existing assets by asset class"}]
[{"$f":"desc","v":"Description"},{"$f":"head27","v":"Ref"},{"$f":"head1b","v":"2016/17"},{"$f":"head1A","v":"2017/18"},{"$f":"Head1","v":"2018/19"},{"$f":"Head2","v":"Current Year 2019/20"},null,null,{"$f":"Head3","v":"2020/21 Medium Term Revenue & Expenditure Framework"}]
["R thousand",1,{"$f":"Head5","v":"Audited Outcome"},{"$f":"Head5","v":"Audited Outcome"},{"$f":"Head5","v":"Audited Outcome"},{"$f":"Head6","v":"Original Budget"},{"$f":"Head7","v":"Adjusted Budget"},{"$f":"Head8","v":"Full Year Forecast"},{"$f":"Head9","v":"Budget Year 2020/21"},{"$f":"Head10","v":"Budget Year +1 2021/22"},{"$f":"Head11","v":"Budget Year +2 2022/23"}]
["Capital expenditure on renewal of existing assets by Asset Class/Sub-class"]
[]
["Infrastructure",null,{"$f":"C7+C12+C16+C26+C37+C44+C52+C62+C68","v":0},{"$f":"D7+D12+D16+D26+D37+D44+D52+D62+D68","v":0},0,8681271,5435056,5435056,8796854,8590882,5098902]
["Roads Infrastructure",null,{"$f":"SUM(C8:C11)","v":0},0,0,0,0,0,0,0,0]
["Roads"]
["Road Structures"]
["Road Furniture"]
["Capital Spares"]
["Storm water Infrastructure",null,{"$f":"SUM(C13:C15)","v":0},{"$f":"SUM(D13:D15)","v":0},0,0,0,0,0,0,0]
["Drainage Collection"]
["Storm water Conveyance"]
["Attenuation"]
["Electrical Infrastructure",null,{"$f":"SUM(C17:C25)","v":0},0,0,0,0,0,0,0,0]
["Power Plants"]
["HV Substations"]
["HV Switching Station"]
["HV Transmission Conductors"]
["MV Substations"]
["MV Switching Stations"]
["MV Networks"]
["LV Networks"]
["Capital Spares"]
["Water Supply Infrastructure",null,{"$f":"SUM(C27:C36)","v":0},{"$f":"SUM(D27:D36)","v":0},0,7572463,4326248,4326248,7638150,7378877,3831145]
["Dams and Weirs"]
["Boreholes"]
["Reservoirs",null,0,0,0,0,0,0,0,0,0]
["Pump Stations",null,0,0,0,4326248,4326248,4326248,4216640,3772605,3831145]
["Water Treatment Works",null,0,0,0,0,0,0,0,0,0]
["Bulk Mains"]
["Distribution"]
["Distribution Points"]
["PRV Stations"]
["Capital Spares",null,0,0,0,3246215,0,0,3421510,3606272,0]
["Sanitation Infrastructure",null,{"$f":"SUM(C38:C43)","v":0},{"$f":"SUM(D38:D43)","v":0},0,1108808,1108808,1108808,1158704,1212005,1267757]
["Pump Station",null,0,0,0,1108808,1108808,1108808,1158704,1212005,1267757]
["Reticulation",null,0,0,0,0,0,0,0,0,0]
["Waste Water Treatment Works"]
["Outfall Sewers"]
["Toilet Facilities"]
["Capital Spares"]
["Solid Waste Infrastructure",null,{"$f":"SUM(C45:C51)","v":0},{"$f":"SUM(D45:D51)","v":0},0,0,0,0,0,0,0]
["Landfill Sites"]
["Waste Transfer Stations"]
["Waste Processing Facilities"]
["Waste Drop-off Points"]
["Waste Separation Facilities",null,0,0,0,0,0,0,0,0,0]
["Electricity Generation Facilities"]
["Capital Spares"]
["Rail Infrastructure",null,{"$f":"SUM(C53:C61)","v":0},0,0,0,0,0,0,0,0]
["Rail Lines"]
["Rail Structures"]
["Rail Furniture"]
["Drainage Collection"]
["Storm water Conveyance"]
["Attenuation"]
["MV Substations"]
["LV Networks"]
["Capital Spares"]
["Coastal Infrastructure",null,{"$f":"SUM(C63:C67)","v":0},{"$f":"SUM(D63:D67)","v":0},0,0,0,0,0,0,0]
["Sand Pumps"]
["Piers"]
["Revetments"]
["Promenades"]
["Capital Spares"]
["Information and Communication Infrastructure",null,{"$f":"SUM(C69:C72)","v":0},{"$f":"SUM(D69:D72)","v":0},0,0,0,0,0,0,0]
["Data Centres"]
["Core Layers"]
["Distribution Layers"]
["Capital Spares"]
[]
["Community Assets",null,{"$f":"C75+C98","v":0},{"$f":"D75+D98","v":0},0,0,0,0,0,0,0]
["Community Facilities",null,{"$f":"SUM(C76:C97)","v":0},{"$f":"SUM(D76:D97)","v":0},0,0,0,0,0,0,0]
["Halls"]
["Centres"]
["Crèches"]
["Clinics/Care Centres"]
["Fire/Ambulance Stations"]
["Testing Stations"]
["Museums"]
["Galleries"]
["Theatres"]
["Libraries"]
["Cemeteries/Crematoria"]
["Police"]
["Parks"]
["Public Open Space",null,0,0,0,0,0,0,0,0,0]
["Nature Reserves"]
["Public Ablution Facilities"]
["Markets"]
["Stalls"]
["Abattoirs"]
["Airports"]
["Taxi Ranks/Bus Terminals"]
["Capital Spares"]
["Sport and Recreation Facilities",null,{"$f":"SUM(C99:C101)","v":0},{"$f":"SUM(D99:D101)","v":0},0,0,0,0,0,0,0]
["Indoor Facilities"]
["Outdoor Facilities"]
["Capital Spares"]
[]
["Heritage assets",null,{"$f":"SUM(C104:C108)","v":0},{"$f":"SUM(D104:D108)","v":0},0,0,0,0,0,0,0]
["Monuments",null,0,0,0,0,0,0,0,0,0]
["Historic Buildings"]
["Works of Art"]
["Conservation Areas"]
["Other Heritage"]
[]
["Investment properties",null,{"$f":"+C111+C114","v":0},{"$f":"+D111+D114","v":0},0,0,0,0,0,0,0]
["Revenue Generating",null,{"$f":"SUM(C112:C113)","v":0},0,0,0,0,0,0,0,0]
["Improved Property"]
["Unimproved Property"]
["Non-revenue Generating",null,{"$f":"SUM(C115:C116)","v":0},{"$f":"SUM(D115:D116)","v":0},0,0,0,0,0,0,0]
["Improved Property"]
["Unimproved Property"]
[]
["Other assets",null,{"$f":"+C119+C131","v":0},{"$f":"+D119+D131","v":0},0,19500000,7500000,7500000,11581000,2000000,2500000]
["Operational Buildings",null,{"$f":"SUM(C120:C130)","v":0},{"$f":"SUM(D120:D130)","v":0},0,16500000,4500000,4500000,11581000,2000000,2500000]
["Municipal Offices",null,0,0,0,1500000,1500000,1500000,1581000,2000000,2500000]
["Pay/Enquiry Points"]
["Building Plan Offices",null,0,0,0,15000000,3000000,3000000,10000000,0,0]
["Workshops"]
["Yards"]
["Stores"]
["Laboratories"]
["Training Centres"]
["Manufacturing Plant"]
["Depots"]
["Capital Spares"]
["Housing",null,{"$f":"SUM(C132:C134)","v":0},{"$f":"SUM(D132:D134)","v":0},0,3000000,3000000,3000000,0,0,0]
["Staff Housing",null,0,0,0,3000000,3000000,3000000,0,0,0]
["Social Housing"]
["Capital Spares"]
[]
["Biological or Cultivated Assets",null,{"$f":"SUM(C137:C137)","v":0},0,0,0,0,0,0,0,0]
["Biological or Cultivated Assets"]
[]
["Intangible Assets",null,{"$f":"+C140+C141","v":0},{"$f":"+D140+D141","v":0},0,0,0,0,0,0,0]
["Servitudes"]
["Licences and Rights",null,{"$f":"SUM(C142:C147)","v":0},{"$f":"SUM(D142:D147)","v":0},0,0,0,0,0,0,0]
["Water Rights"]
["Effluent Licenses"]
["Solid Waste Licenses"]
["Computer Software and Applications"]
["Load Settlement Software Applications"]
["Unspecified"]
[]
["Computer Equipment",null,{"$f":"SUM(C150:C150)","v":0},0,0,0,0,0,0,0,0]
["Computer Equipment"]
[]
["Furniture and Office Equipment",null,{"$f":"SUM(C153:C153)","v":0},0,0,0,0,0,0,0,0]
["Furniture and Office Equipment"]
[]
["Machinery and Equipment",null,{"$f":"SUM(C156:C156)","v":0},0,0,0,0,0,0,0,0]
["Machinery and Equipment",null,0,0,0,0,0,0,0,0,0]
[]
["Transport Assets",null,{"$f":"SUM(C159:C159)","v":0},0,0,0,0,0,0,0,0]
["Transport Assets"]
[]
["Land",null,{"$f":"SUM(C162:C162)","v":0},0,0,0,0,0,0,0,0]
["Land"]
[]
["Zoo's, Marine and Non-biological Animals",null,{"$f":"SUM(C165:C165)","v":0},0,0,0,0,0,0,0,0]
["Zoo's, Marine and Non-biological Animals"]
[]
["Total Capital Expenditure on renewal of existing assets ",1,{"$f":"C6+C74+C103+C110+C118+C136+C139+C149+C152+C155+C158+C161+C164","v":0},{"$f":"D6+D74+D103+D110+D118+D136+D139+D149+D152+D155+D158+D161+D164","v":0},0,28181271,12935056,12935056,20377854,10590882,7598902]
[]
["Renewal of Existing Assets as % of total capex",null,{"$f":"IF(ISERROR(C167/'A9-Asset'!C69),0,(C167/'A9-Asset'!C69))","v":0},{"$f":"IF(ISERROR(D167/'A9-Asset'!D132),0,(D167/'A9-Asset'!D132))","v":0},{"$f":"IF(ISERROR(E167/'A9-Asset'!E132),0,(E167/'A9-Asset'!E132))","v":0},{"$f":"IF(ISERROR(F167/'A9-Asset'!F132),0,(F167/'A9-Asset'!F132))","v":2.5089547884961302E-2},{"$f":"IF(ISERROR(G167/'A9-Asset'!G132),0,(G167/'A9-Asset'!G132))","v":9.5694058905978867E-3},{"$f":"IF(ISERROR(H167/'A9-Asset'!H132),0,(H167/'A9-Asset'!H132))","v":9.5694058905978867E-3},{"$f":"IF(ISERROR(I167/'A9-Asset'!I132),0,(I167/'A9-Asset'!I132))","v":1.9503939929854205E-2},{"$f":"IF(ISERROR(J167/'A9-Asset'!J132),0,(J167/'A9-Asset'!J132))","v":1.0821821488633449E-2},{"$f":"IF(ISERROR(K167/'A9-Asset'!K132),0,(K167/'A9-Asset'!K132))","v":7.1643860348636302E-3}]
["Renewal of Existing Assets as % of deprecn\"",null,{"$f":"IF(ISERROR(C167/'A9-Asset'!C168),0,(C167/'A9-Asset'!C168))","v":0},{"$f":"IF(ISERROR(D167/'A9-Asset'!D168),0,(D167/'A9-Asset'!D168))","v":0},{"$f":"IF(ISERROR(E167/'A9-Asset'!E168),0,(E167/'A9-Asset'!E168))","v":0},{"$f":"IF(ISERROR(F167/'A9-Asset'!F168),0,(F167/'A9-Asset'!F168))","v":0.17002480271255158},{"$f":"IF(ISERROR(G167/'A9-Asset'!G168),0,(G167/'A9-Asset'!G168))","v":5.3645287020037569E-2},{"$f":"IF(ISERROR(H167/'A9-Asset'!H168),0,(H167/'A9-Asset'!H168))","v":5.3645287020037569E-2},{"$f":"IF(ISERROR(I167/'A9-Asset'!I168),0,(I167/'A9-Asset'!I168))","v":0.1151528121483934},{"$f":"IF(ISERROR(J167/'A9-Asset'!J168),0,(J167/'A9-Asset'!J168))","v":5.6983630789478448E-2},{"$f":"IF(ISERROR(K167/'A9-Asset'!K168),0,(K167/'A9-Asset'!K168))","v":3.9165070133026066E-2}]
[{"$f":"head27a","v":"References"}]
["1. Total Capital Expenditure  on renewal of existing assets (SA34b) plus Total Capital Expenditure on new assets (SA34a) plus Total Capital Expenditure  on upgrading of existing assets (SA34e) must reconcile to total capital expenditure in Budgeted Capital Expenditure"]
[]
[]
["check balance",null,{"$f":"SUM(C167+SA34a!C167++SA34e!C167)-'A5-Capex'!C40","v":0},{"$f":"SUM(D167+SA34a!D167++SA34e!D167)-'A5-Capex'!D40","v":0},{"$f":"SUM(E167+SA34a!E167++SA34e!E167)-'A5-Capex'!E40","v":0},{"$f":"SUM(F167+SA34a!F167++SA34e!F167)-'A5-Capex'!F40","v":0},{"$f":"SUM(G167+SA34a!G167++SA34e!G167)-'A5-Capex'!G40","v":0},{"$f":"SUM(H167+SA34a!H167++SA34e!H167)-'A5-Capex'!H40","v":0},{"$f":"SUM(I167+SA34a!I167++SA34e!I167)-'A5-Capex'!J40","v":0},{"$f":"SUM(J167+SA34a!J167++SA34e!J167)-'A5-Capex'!K40","v":0},{"$f":"SUM(K167+SA34a!K167++SA34e!K167)-'A5-Capex'!L40","v":0}]

{"sheet":"SA34c","index":57,"n_rows":175,"n_cols":11,"rows_kept":175,"cut":false,"hidden":false,"merged":[[1,5,1,7],[1,8,1,10]]}
[{"$f":"muni&\" - \"&TableA34c","v":"DC15 O .R. Tambo - Supporting Table SA34c Consolidated repairs and maintenance by asset class"}]
[{"$f":"desc","v":"Description"},{"$f":"head27","v":"Ref"},{"$f":"head1b","v":"2016/17"},{"$f":"head1A","v":"2017/18"},{"$f":"Head1","v":"2018/19"},{"$f":"Head2","v":"Current Year 2019/20"},null,null,{"$f":"Head3","v":"2020/21 Medium Term Revenue & Expenditure Framework"}]
["R thousand",1,{"$f":"Head5","v":"Audited Outcome"},{"$f":"Head5","v":"Audited Outcome"},{"$f":"Head5","v":"Audited Outcome"},{"$f":"Head6","v":"Original Budget"},{"$f":"Head7","v":"Adjusted Budget"},{"$f":"Head8","v":"Full Year Forecast"},{"$f":"Head9","v":"Budget Year 2020/21"},{"$f":"Head10","v":"Budget Year +1 2021/22"},{"$f":"Head11","v":"Budget Year +2 2022/23"}]
["Repairs and maintenance expenditure by Asset Class/Sub-class"]
[]
["Infrastructure",null,{"$f":"C7+C12+C16+C26+C37+C44+C52+C62+C68","v":86311406},{"$f":"D7+D12+D16+D26+D37+D44+D52+D62+D68","v":150445637.00999999},127608839.22,61927440,53391945,53391945,73186258,71481366,68809239]
["Roads Infrastructure",null,{"$f":"SUM(C8:C11)","v":0},5984940.1100000003,1094290.8500000001,5112000,5912000,5912000,7252206,9677807,10122986]
["Roads",null,0,5984940.1100000003,1094290.8500000001,5112000,5912000,5912000,7252206,9677807,10122986]
["Road Structures"]
["Road Furniture"]
["Capital Spares"]
["Storm water Infrastructure",null,{"$f":"SUM(C13:C15)","v":0},{"$f":"SUM(D13:D15)","v":0},0,0,0,0,0,0,0]
["Drainage Collection"]
["Storm water Conveyance"]
["Attenuation"]
["Electrical Infrastructure",null,{"$f":"SUM(C17:C25)","v":0},0,0,0,0,0,0,0,0]
["Power Plants"]
["HV Substations"]
["HV Switching Station"]
["HV Transmission Conductors"]
["MV Substations"]
["MV Switching Stations"]
["MV Networks"]
["LV Networks"]
["Capital Spares"]
["Water Supply Infrastructure",null,{"$f":"SUM(C27:C36)","v":86311406},{"$f":"SUM(D27:D36)","v":117508756.21000001},68635342.920000002,26641127,25433159,25433159,42804769,33393605,33479033]
["Dams and Weirs"]
["Boreholes",null,0,1218698.3999999999,3318124.53,970207,4296631,4296631,4489979,4696518,4912558]
["Reservoirs",null,0,0,7592865.2199999997,1136528,1136528,1136528,1187672,1242305,1299451]
["Pump Stations",null,86311406,19513438.960000001,2709092.68,3370144,0,0,4000000,4300000,4400000]
["Water Treatment Works",null,0,0,0,1164248,0,0,1227118,1293382,0]
["Bulk Mains"]
["Distribution",null,0,63888413.420000002,55014071.490000002,20000000,20000000,20000000,31900000,21861400,22867024]
["Distribution Points"]
["PRV Stations"]
["Capital Spares",null,0,32888205.43,1189,0,0,0,0,0,0]
["Sanitation Infrastructure",null,{"$f":"SUM(C38:C43)","v":0},{"$f":"SUM(D38:D43)","v":26951940.689999998},57879205.450000003,30174313,22046786,22046786,23129283,28409954,25207220]
["Pump Station",null,0,18329315.469999999,26018378.609999999,12078566,10415354,10415354,12637070,13232400,11908408]
["Reticulation",null,0,0,0,4790051,1131432,1131432,1182346,1236734,1293624]
["Waste Water Treatment Works",null,0,134195.87,275966.74,2217616,0,0,2337367,2463585,0]
["Outfall Sewers"]
["Toilet Facilities",null,0,8488429.3499999996,31584860.100000001,11088080,10500000,10500000,6972500,11477235,12005188]
["Capital Spares"]
["Solid Waste Infrastructure",null,{"$f":"SUM(C45:C51)","v":0},{"$f":"SUM(D45:D51)","v":0},0,0,0,0,0,0,0]
["Landfill Sites"]
["Waste Transfer Stations"]
["Waste Processing Facilities"]
["Waste Drop-off Points"]
["Waste Separation Facilities"]
["Electricity Generation Facilities"]
["Capital Spares"]
["Rail Infrastructure",null,{"$f":"SUM(C53:C61)","v":0},0,0,0,0,0,0,0,0]
["Rail Lines"]
["Rail Structures"]
["Rail Furniture"]
["Drainage Collection"]
["Storm water Conveyance"]
["Attenuation"]
["MV Substations"]
["LV Networks"]
["Capital Spares"]
["Coastal Infrastructure",null,{"$f":"SUM(C63:C67)","v":0},{"$f":"SUM(D63:D67)","v":0},0,0,0,0,0,0,0]
["Sand Pumps"]
["Piers"]
["Revetments"]
["Promenades"]
["Capital Spares"]
["Information and Communication Infrastructure",null,{"$f":"SUM(C69:C72)","v":0},{"$f":"SUM(D69:D72)","v":0},0,0,0,0,0,0,0]
["Data Centres"]
["Core Layers"]
["Distribution Layers"]
["Capital Spares"]
[]
["Community Assets",null,{"$f":"C75+C98","v":0},{"$f":"D75+D98","v":0},0,0,0,0,0,0,0]
["Community Facilities",null,{"$f":"SUM(C76:C97)","v":0},{"$f":"SUM(D76:D97)","v":0},0,0,0,0,0,0,0]
["Halls"]
["Centres"]
["Crèches"]
["Clinics/Care Centres"]
["Fire/Ambulance Stations"]
["Testing Stations"]
["Museums"]
["Galleries"]
["Theatres"]
["Libraries"]
["Cemeteries/Crematoria"]
["Police"]
["Parks"]
["Public Open Space"]
["Nature Reserves"]
["Public Ablution Facilities"]
["Markets"]
["Stalls"]
["Abattoirs"]
["Airports"]
["Taxi Ranks/Bus Terminals"]
["Capital Spares"]
["Sport and Recreation Facilities",null,{"$f":"SUM(C99:C101)","v":0},{"$f":"SUM(D99:D101)","v":0},0,0,0,0,0,0,0]
["Indoor Facilities"]
["Outdoor Facilities"]
["Capital Spares"]
[null,null,1000,1000,1000,1000,1000,1000,1000,1000,1000]
["Heritage assets",null,{"$f":"SUM(C104:C108)","v":0},{"$f":"SUM(D104:D108)","v":0},0,0,0,0,0,0,0]
["Monuments"]
["Historic Buildings"]
["Works of Art"]
["Conservation Areas"]
["Other Heritage"]
[]
["Investment properties",null,{"$f":"+C111+C114","v":0},{"$f":"+D111+D114","v":0},0,0,0,0,0,0,0]
["Revenue Generating",null,{"$f":"SUM(C112:C113)","v":0},0,0,0,0,0,0,0,0]
["Improved Property"]
["Unimproved Property"]
["Non-revenue Generating",null,{"$f":"SUM(C115:C116)","v":0},{"$f":"SUM(D115:D116)","v":0},0,0,0,0,0,0,0]
["Improved Property"]
["Unimproved Property"]
[]
["Other assets",null,{"$f":"+C119+C131","v":0},{"$f":"+D119+D131","v":1116123.0900000001},4674607.49,11208040,13363773,13363773,13683176,10959066,11274436]
["Operational Buildings",null,{"$f":"SUM(C120:C130)","v":0},{"$f":"SUM(D120:D130)","v":1116123.0900000001},4674607.49,11208040,13363773,13363773,13683176,10959066,11274436]
["Municipal Offices",null,0,1116123.0900000001,4674607.49,11208040,10433927,10433927,13464186,10724117,11040036]
["Pay/Enquiry Points"]
["Building Plan Offices",null,0,0,0,0,2874846,2874846,159590,175549,175000]
["Workshops"]
["Yards"]
["Stores"]
["Laboratories"]
["Training Centres"]
["Manufacturing Plant"]
["Depots",null,0,0,0,0,55000,55000,59400,59400,59400]
["Capital Spares"]
["Housing",null,{"$f":"SUM(C132:C134)","v":0},{"$f":"SUM(D132:D134)","v":0},0,0,0,0,0,0,0]
["Staff Housing"]
["Social Housing"]
["Capital Spares"]
[]
["Biological or Cultivated Assets",null,{"$f":"SUM(C137:C137)","v":0},0,0,0,0,0,0,0,0]
["Biological or Cultivated Assets"]
[]
["Intangible Assets",null,{"$f":"+C140+C141","v":0},{"$f":"+D140+D141","v":501795.72},5603139.7300000004,3786579,3786579,3786579,3956975,4138996,4329390]
["Servitudes"]
["Licences and Rights",null,{"$f":"SUM(C142:C147)","v":0},{"$f":"SUM(D142:D147)","v":501795.72},5603139.7300000004,3786579,3786579,3786579,3956975,4138996,4329390]
["Water Rights"]
["Effluent Licenses"]
["Solid Waste Licenses"]
["Computer Software and Applications",null,0,501795.72,5603139.7300000004,3786579,3786579,3786579,3956975,4138996,4329390]
["Load Settlement Software Applications"]
["Unspecified"]
[]
["Computer Equipment",null,{"$f":"SUM(C150:C150)","v":0},470638.32,544183.1,582124,282124,282124,608320,636302,665572]
["Computer Equipment",null,0,470638.32,544183.1,582124,282124,282124,608320,636302,665572]
[]
["Furniture and Office Equipment",null,{"$f":"SUM(C153:C153)","v":0},1393125,529068.68000000005,562294,562294,562294,587597,614627,642900]
["Furniture and Office Equipment",null,0,1393125,529068.68000000005,562294,562294,562294,587597,614627,642900]
[]
["Machinery and Equipment",null,{"$f":"SUM(C156:C156)","v":0},512729.19,848727.43,1054000,1220000,1220000,1343282,1447569,1500565]
["Machinery and Equipment",null,0,512729.19,848727.43,1054000,1220000,1220000,1343282,1447569,1500565]
[]
["Transport Assets",null,{"$f":"SUM(C159:C159)","v":0},2430187.37,5335576.76,3689000,3689000,3689000,3855005,4032335,4217823]
["Transport Assets",null,0,2430187.37,5335576.76,3689000,3689000,3689000,3855005,4032335,4217823]
[]
["Land",null,{"$f":"SUM(C162:C162)","v":0},0,0,0,0,0,0,0,0]
["Land"]
[]
["Zoo's, Marine and Non-biological Animals",null,{"$f":"SUM(C165:C165)","v":0},0,0,0,0,0,0,0,0]
["Zoo's, Marine and Non-biological Animals"]
[]
["Total Repairs and Maintenance Expenditure",1,{"$f":"C6+C74+C103+C110+C118+C136+C139+C149+C152+C155+C158+C161+C164","v":86311406},{"$f":"D6+D74+D103+D110+D118+D136+D139+D149+D152+D155+D158+D161+D164","v":156870235.69999999},145144142.41,82809477,76295715,76295715,97220613,93310261,91439925]
[]
["R&M as a % of PPE",null,{"$f":"IF(ISERROR(ROUND(C167/'A6-FinPos'!C19,3)),0,(ROUND(C167/'A6-FinPos'!C19,3)))","v":1.6E-2},{"$f":"IF(ISERROR(ROUND(D167/'A6-FinPos'!D19,3)),0,(ROUND(D167/'A6-FinPos'!D19,3)))","v":2.5999999999999999E-2},{"$f":"IF(ISERROR(ROUND(E167/'A6-FinPos'!E19,3)),0,(ROUND(E167/'A6-FinPos'!E19,3)))","v":2.1999999999999999E-2},{"$f":"IF(ISERROR(ROUND(F167/'A6-FinPos'!F19,3)),0,(ROUND(F167/'A6-FinPos'!F19,3)))","v":8.9999999999999993E-3},{"$f":"IF(ISERROR(ROUND(G167/'A6-FinPos'!G19,3)),0,(ROUND(G167/'A6-FinPos'!G19,3)))","v":8.9999999999999993E-3},{"$f":"IF(ISERROR(ROUND(H167/'A6-FinPos'!H19,3)),0,(ROUND(H167/'A6-FinPos'!H19,3)))","v":8.9999999999999993E-3},{"$f":"IF(ISERROR(ROUND(I167/'A6-FinPos'!I19,3)),0,(ROUND(I167/'A6-FinPos'!I19,3)))","v":1.4E-2},{"$f":"IF(ISERROR(ROUND(J167/'A6-FinPos'!J19,3)),0,(ROUND(J167/'A6-FinPos'!J19,3)))","v":0.01},{"$f":"IF(ISERROR(ROUND(K167/'A6-FinPos'!K19,3)),0,(ROUND(K167/'A6-FinPos'!K19,3)))","v":8.9999999999999993E-3}]
["R&M as % Operating Expenditure",null,{"$f":"IF(ISERROR(ROUND(C167/'A1-Sum'!B18,3)),0,(ROUND(C167/'A1-Sum'!B18,3)))","v":6.2E-2},{"$f":"IF(ISERROR(ROUND(D167/'A1-Sum'!C18,3)),0,(ROUND(D167/'A1-Sum'!C18,3)))","v":0.1},{"$f":"IF(ISERROR(ROUND(E167/'A1-Sum'!D18,3)),0,(ROUND(E167/'A1-Sum'!D18,3)))","v":8.5999999999999993E-2},{"$f":"IF(ISERROR(ROUND(F167/'A1-Sum'!E18,3)),0,(ROUND(F167/'A1-Sum'!E18,3)))","v":5.8000000000000003E-2},{"$f":"IF(ISERROR(ROUND(G167/'A1-Sum'!F18,3)),0,(ROUND(G167/'A1-Sum'!F18,3)))","v":4.5999999999999999E-2},{"$f":"IF(ISERROR(ROUND(H167/'A1-Sum'!G18,3)),0,(ROUND(H167/'A1-Sum'!G18,3)))","v":4.5999999999999999E-2},{"$f":"IF(ISERROR(ROUND(I167/'A1-Sum'!H18,3)),0,(ROUND(I167/'A1-Sum'!H18,3)))","v":0.107},{"$f":"IF(ISERROR(ROUND(J167/'A1-Sum'!I18,3)),0,(ROUND(J167/'A1-Sum'!I18,3)))","v":5.5E-2},{"$f":"IF(ISERROR(ROUND(K167/'A1-Sum'!J18,3)),0,(ROUND(K167/'A1-Sum'!J18,3)))","v":5.0999999999999997E-2}]
[{"$f":"head27a","v":"References"}]
["1. Total Repairs and Maintenance Expenditure by Asset Category must reconcile to total repairs and maintenance expenditure on Table SA1"]
[]
[]
["check balance",null,{"$f":"C167-'SA1'!C164","v":418},{"$f":"D167-'SA1'!D164","v":0},{"$f":"E167-'SA1'!E164","v":0},{"$f":"F167-'SA1'!F164","v":0},{"$f":"G167-'SA1'!G164","v":0},{"$f":"H167-'SA1'!H164","v":0},{"$f":"I167-'SA1'!J164","v":0},{"$f":"J167-'SA1'!K164","v":0},{"$f":"K167-'SA1'!L164","v":0}]

{"sheet":"SA34d","index":58,"n_rows":173,"n_cols":11,"rows_kept":173,"cut":false,"hidden":false,"merged":[[1,5,1,7],[1,8,1,10]]}
[{"$f":"muni&\" - \"&TableA34d","v":"DC15 O .R. Tambo - Supporting Table SA34d Consolidated Depreciation by asset class"}]
[{"$f":"desc","v":"Description"},{"$f":"head27","v":"Ref"},{"$f":"head1b","v":"2016/17"},{"$f":"head1A","v":"2017/18"},{"$f":"Head1","v":"2018/19"},{"$f":"Head2","v":"Current Year 2019/20"},null,null,{"$f":"Head3","v":"2020/21 Medium Term Revenue & Expenditure Framework"}]
["R thousand",1,{"$f":"Head5","v":"Audited Outcome"},{"$f":"Head5","v":"Audited Outcome"},{"$f":"Head5","v":"Audited Outcome"},{"$f":"Head6","v":"Original Budget"},{"$f":"Head7","v":"Adjusted Budget"},{"$f":"Head8","v":"Full Year Forecast"},{"$f":"Head9","v":"Budget Year 2020/21"},{"$f":"Head10","v":"Budget Year +1 2021/22"},{"$f":"Head11","v":"Budget Year +2 2022/23"}]
["Depreciation by Asset Class/Sub-class"]
[]
["Infrastructure",null,{"$f":"C7+C12+C16+C26+C37+C44+C52+C62+C68","v":134141498},{"$f":"D7+D12+D16+D26+D37+D44+D52+D62+D68","v":81619580.139999986},54228845,0,0,0,0,0,0]
["Roads Infrastructure",null,{"$f":"SUM(C8:C11)","v":0},0,0,0,0,0,0,0,0]
["Roads",null,0,0,0,0,0,0,0,0,0]
["Road Structures",null,0,0,0,0,0,0,0,0,0]
["Road Furniture",null,0,0,0,0,0,0,0,0,0]
["Capital Spares",null,0,0,0,0,0,0,0,0,0]
["Storm water Infrastructure",null,{"$f":"SUM(C13:C15)","v":0},{"$f":"SUM(D13:D15)","v":0},0,0,0,0,0,0,0]
["Drainage Collection"]
["Storm water Conveyance"]
["Attenuation"]
["Electrical Infrastructure",null,{"$f":"SUM(C17:C25)","v":0},0,0,0,0,0,0,0,0]
["Power Plants",null,0,0,0,0,0,0,0,0,0]
["HV Substations"]
["HV Switching Station"]
["HV Transmission Conductors"]
["MV Substations"]
["MV Switching Stations"]
["MV Networks"]
["LV Networks"]
["Capital Spares"]
["Water Supply Infrastructure",null,{"$f":"SUM(C27:C36)","v":134141498},{"$f":"SUM(D27:D36)","v":81619580.139999986},54228845,0,0,0,0,0,0]
["Dams and Weirs",null,0,139330663.66,3064093.52,0,0,0,0,0,0]
["Boreholes",null,0,0,0,0,0,0,0,0,0]
["Reservoirs",null,0,0,0,0,0,0,0,0,0]
["Pump Stations",null,0,0,0,0,0,0,0,0,0]
["Water Treatment Works",null,134141498,-57711083.520000003,-119728870.86,0,0,0,0,0,0]
["Bulk Mains",null,0,0,0,0,0,0,0,0,0]
["Distribution",null,0,0,170893622.34,0,0,0,0,0,0]
["Distribution Points",null,0,0,0,0,0,0,0,0,0]
["PRV Stations",null,0,0,0,0,0,0,0,0,0]
["Capital Spares",null,0,0,0,0,0,0,0,0,0]
["Sanitation Infrastructure",null,{"$f":"SUM(C38:C43)","v":0},{"$f":"SUM(D38:D43)","v":0},0,0,0,0,0,0,0]
["Pump Station",null,0,0,0,0,0,0,0,0,0]
["Reticulation",null,0,0,0,0,0,0,0,0,0]
["Waste Water Treatment Works",null,0,0,0,0,0,0,0,0,0]
["Outfall Sewers",null,0,0,0,0,0,0,0,0,0]
["Toilet Facilities",null,0,0,0,0,0,0,0,0,0]
["Capital Spares",null,0,0,0,0,0,0,0,0,0]
["Solid Waste Infrastructure",null,{"$f":"SUM(C45:C51)","v":0},{"$f":"SUM(D45:D51)","v":0},0,0,0,0,0,0,0]
["Landfill Sites"]
["Waste Transfer Stations"]
["Waste Processing Facilities"]
["Waste Drop-off Points"]
["Waste Separation Facilities"]
["Electricity Generation Facilities"]
["Capital Spares"]
["Rail Infrastructure",null,{"$f":"SUM(C53:C61)","v":0},0,0,0,0,0,0,0,0]
["Rail Lines"]
["Rail Structures"]
["Rail Furniture"]
["Drainage Collection"]
["Storm water Conveyance"]
["Attenuation"]
["MV Substations"]
["LV Networks"]
["Capital Spares"]
["Coastal Infrastructure",null,{"$f":"SUM(C63:C67)","v":0},{"$f":"SUM(D63:D67)","v":0},0,0,0,0,0,0,0]
["Sand Pumps"]
["Piers"]
["Revetments"]
["Promenades"]
["Capital Spares"]
["Information and Communication Infrastructure",null,{"$f":"SUM(C69:C72)","v":0},{"$f":"SUM(D69:D72)","v":0},0,0,0,0,0,0,0]
["Data Centres",null,0,0,0,0,0,0,0,0,0]
["Core Layers"]
["Distribution Layers"]
["Capital Spares"]
[]
["Community Assets",null,{"$f":"C75+C98","v":0},{"$f":"D75+D98","v":0},0,0,0,0,0,0,0]
["Community Facilities",null,{"$f":"SUM(C76:C97)","v":0},{"$f":"SUM(D76:D97)","v":0},0,0,0,0,0,0,0]
["Halls",null,0,0,0,0,0,0,0,0,0]
["Centres",null,0,0,0,0,0,0,0,0,0]
["Crèches",null,0,0,0,0,0,0,0,0,0]
["Clinics/Care Centres",null,0,0,0,0,0,0,0,0,0]
["Fire/Ambulance Stations",null,0,0,0,0,0,0,0,0,0]
["Testing Stations",null,0,0,0,0,0,0,0,0,0]
["Museums",null,0,0,0,0,0,0,0,0,0]
["Galleries",null,0,0,0,0,0,0,0,0,0]
["Theatres",null,0,0,0,0,0,0,0,0,0]
["Libraries",null,0,0,0,0,0,0,0,0,0]
["Cemeteries/Crematoria",null,0,0,0,0,0,0,0,0,0]
["Police",null,0,0,0,0,0,0,0,0,0]
["Parks",null,0,0,0,0,0,0,0,0,0]
["Public Open Space",null,0,0,0,0,0,0,0,0,0]
["Nature Reserves",null,0,0,0,0,0,0,0,0,0]
["Public Ablution Facilities",null,0,0,0,0,0,0,0,0,0]
["Markets",null,0,0,0,0,0,0,0,0,0]
["Stalls",null,0,0,0,0,0,0,0,0,0]
["Abattoirs",null,0,0,0,0,0,0,0,0,0]
["Airports",null,0,0,0,0,0,0,0,0,0]
["Taxi Ranks/Bus Terminals",null,0,0,0,0,0,0,0,0,0]
["Capital Spares",null,0,0,0,0,0,0,0,0,0]
["Sport and Recreation Facilities",null,{"$f":"SUM(C99:C101)","v":0},{"$f":"SUM(D99:D101)","v":0},0,0,0,0,0,0,0]
["Indoor Facilities"]
["Outdoor Facilities"]
["Capital Spares"]
[]
["Heritage assets",null,{"$f":"SUM(C104:C108)","v":0},{"$f":"SUM(D104:D108)","v":0},0,0,0,0,0,0,0]
["Monuments"]
["Historic Buildings"]
["Works of Art"]
["Conservation Areas"]
["Other Heritage",null,0,0,0,0,0,0,0,0,0]
[]
["Investment properties",null,{"$f":"+C111+C114","v":0},{"$f":"+D111+D114","v":0},0,0,0,0,0,0,0]
["Revenue Generating",null,{"$f":"SUM(C112:C113)","v":0},0,0,0,0,0,0,0,0]
["Improved Property",null,0,0,0,0,0,0,0,0,0]
["Unimproved Property",null,0,0,0,0,0,0,0,0,0]
["Non-revenue Generating",null,{"$f":"SUM(C115:C116)","v":0},{"$f":"SUM(D115:D116)","v":0},0,0,0,0,0,0,0]
["Improved Property"]
["Unimproved Property"]
[]
["Other assets",null,{"$f":"+C119+C131","v":9881470},{"$f":"+D119+D131","v":6904677.9000000004},7412486.54,165748000,170963340,170963340,173573877,181541383,189875395]
["Operational Buildings",null,{"$f":"SUM(C120:C130)","v":9881470},{"$f":"SUM(D120:D130)","v":6904677.9000000004},7412486.54,165748000,170963340,170963340,173573877,181541383,189875395]
["Municipal Offices",null,9881470,6904677.9000000004,7412486.54,165748000,168563340,168563340,173573877,181541383,189875395]
["Pay/Enquiry Points",null,0,0,0,0,0,0,0,0,0]
["Building Plan Offices",null,0,0,0,0,2400000,2400000,0,0,0]
["Workshops",null,0,0,0,0,0,0,0,0,0]
["Yards",null,0,0,0,0,0,0,0,0,0]
["Stores",null,0,0,0,0,0,0,0,0,0]
["Laboratories",null,0,0,0,0,0,0,0,0,0]
["Training Centres",null,0,0,0,0,0,0,0,0,0]
["Manufacturing Plant",null,0,0,0,0,0,0,0,0,0]
["Depots",null,0,0,0,0,0,0,0,0,0]
["Capital Spares",null,0,0,0,0,0,0,0,0,0]
["Housing",null,{"$f":"SUM(C132:C134)","v":0},{"$f":"SUM(D132:D134)","v":0},0,0,0,0,0,0,0]
["Staff Housing",null,0,0,0,0,0,0,0,0,0]
["Social Housing",null,0,0,0,0,0,0,0,0,0]
["Capital Spares",null,0,0,0,0,0,0,0,0,0]
[]
["Biological or Cultivated Assets",null,{"$f":"SUM(C137:C137)","v":0},0,0,0,11282450,11282450,0,0,0]
["Biological or Cultivated Assets",null,0,0,0,0,11282450,11282450,0,0,0]
[]
["Intangible Assets",null,{"$f":"+C140+C141","v":1039831},{"$f":"+D140+D141","v":89597771.400000006},122445998.27999999,0,254144,254144,242671,169906,0]
["Servitudes"]
["Licences and Rights",null,{"$f":"SUM(C142:C147)","v":1039831},{"$f":"SUM(D142:D147)","v":89597771.400000006},122445998.27999999,0,254144,254144,242671,169906,0]
["Water Rights"]
["Effluent Licenses"]
["Solid Waste Licenses"]
["Computer Software and Applications",null,1039831,1732198.86,1544068.82,0,0,0,242671,169906,0]
["Load Settlement Software Applications"]
["Unspecified",null,0,87865572.540000007,120901929.45999999,0,254144,254144,0,0,0]
[]
["Computer Equipment",null,{"$f":"SUM(C150:C150)","v":1393346},344452.31,955664.33,0,325643,325643,248996,248996,248996]
["Computer Equipment",null,1393346,344452.31,955664.33,0,325643,325643,248996,248996,248996]
[]
["Furniture and Office Equipment",null,{"$f":"SUM(C153:C153)","v":3617005},3779834.87,2938085.83,0,47331,47331,183345,183345,183345]
["Furniture and Office Equipment",null,3617005,3779834.87,2938085.83,0,47331,47331,183345,183345,183345]
[]
["Machinery and Equipment",null,{"$f":"SUM(C156:C156)","v":2909662},1530034.2,1097499.02,0,57780814,57780814,2011401,3011401,3011401]
["Machinery and Equipment",null,2909662,1530034.2,1097499.02,0,57780814,57780814,2011401,3011401,3011401]
[]
["Transport Assets",null,{"$f":"SUM(C159:C159)","v":11473095},5604382.1799999997,7446827,0,468224,468224,703291,703291,703291]
["Transport Assets",null,11473095,5604382.1799999997,7446827,0,468224,468224,703291,703291,703291]
[]
["Land",null,{"$f":"SUM(C162:C162)","v":0},0,0,0,0,0,0,0,0]
["Land",null,0,0,0,0,0,0,0,0,0]
[]
["Zoo's, Marine and Non-biological Animals",null,{"$f":"SUM(C165:C165)","v":0},0,0,0,0,0,0,0,0]
["Zoo's, Marine and Non-biological Animals"]
[]
["Total Depreciation",1,{"$f":"C6+C74+C103+C110+C118+C136+C139+C149+C152+C155+C158+C161+C164","v":164455907},{"$f":"D6+D74+D103+D110+D118+D136+D139+D149+D152+D155+D158+D161+D164","v":189380733},196525406.00000003,165748000,241121946,241121946,176963581,185858322,194022428]
[]
[{"$f":"head27a","v":"References"}]
["1. Depreciation based on write down values. Not including Depreciation resulting from revaluation."]
[]
[]
["Check",null,{"$f":"C$167-'A4-FinPerf RE'!C$27","v":0},{"$f":"D$167-'A4-FinPerf RE'!D$27","v":0},{"$f":"E$167-'A4-FinPerf RE'!E$27","v":0},{"$f":"F$167-'A4-FinPerf RE'!F$27","v":0},{"$f":"G$167-'A4-FinPerf RE'!G$27","v":0},{"$f":"H$167-'A4-FinPerf RE'!H$27","v":0},{"$f":"I$167-'A4-FinPerf RE'!J$27","v":0},{"$f":"J$167-'A4-FinPerf RE'!K$27","v":0},{"$f":"K$167-'A4-FinPerf RE'!L$27","v":0}]

{"sheet":"SA34e","index":59,"n_rows":175,"n_cols":11,"rows_kept":175,"cut":false,"hidden":false,"merged":[[1,5,1,7],[1,8,1,10]]}
[{"$f":"muni&\" - \"&TableA34e","v":"DC15 O .R. Tambo - Supporting Table SA34e Consolidated capital expenditure on the upgrading of existing assets by asset class"}]
[{"$f":"desc","v":"Description"},{"$f":"head27","v":"Ref"},{"$f":"head1b","v":"2016/17"},{"$f":"head1A","v":"2017/18"},{"$f":"Head1","v":"2018/19"},{"$f":"Head2","v":"Current Year 2019/20"},null,null,{"$f":"Head3","v":"2020/21 Medium Term Revenue & Expenditure Framework"}]
["R thousand",1,{"$f":"Head5","v":"Audited Outcome"},{"$f":"Head5","v":"Audited Outcome"},{"$f":"Head5","v":"Audited Outcome"},{"$f":"Head6","v":"Original Budget"},{"$f":"Head7","v":"Adjusted Budget"},{"$f":"Head8","v":"Full Year Forecast"},{"$f":"Head9","v":"Budget Year 2020/21"},{"$f":"Head10","v":"Budget Year +1 2021/22"},{"$f":"Head11","v":"Budget Year +2 2022/23"}]
["Capital expenditure on upgrading of existing assets by Asset Class/Sub-class"]
[]
["Infrastructure",null,{"$f":"C7+C12+C16+C26+C37+C44+C52+C62+C68","v":0},{"$f":"D7+D12+D16+D26+D37+D44+D52+D62+D68","v":0},0,0,0,0,0,0,0]
["Roads Infrastructure",null,{"$f":"SUM(C8:C11)","v":0},0,0,0,0,0,0,0,0]
["Roads"]
["Road Structures"]
["Road Furniture"]
["Capital Spares"]
["Storm water Infrastructure",null,{"$f":"SUM(C13:C15)","v":0},{"$f":"SUM(D13:D15)","v":0},0,0,0,0,0,0,0]
["Drainage Collection"]
["Storm water Conveyance"]
["Attenuation"]
["Electrical Infrastructure",null,{"$f":"SUM(C17:C25)","v":0},0,0,0,0,0,0,0,0]
["Power Plants"]
["HV Substations"]
["HV Switching Station"]
["HV Transmission Conductors"]
["MV Substations"]
["MV Switching Stations"]
["MV Networks"]
["LV Networks"]
["Capital Spares"]
["Water Supply Infrastructure",null,{"$f":"SUM(C27:C36)","v":0},{"$f":"SUM(D27:D36)","v":0},0,0,0,0,0,0,0]
["Dams and Weirs"]
["Boreholes"]
["Reservoirs"]
["Pump Stations"]
["Water Treatment Works"]
["Bulk Mains"]
["Distribution"]
["Distribution Points"]
["PRV Stations"]
["Capital Spares"]
["Sanitation Infrastructure",null,{"$f":"SUM(C38:C43)","v":0},{"$f":"SUM(D38:D43)","v":0},0,0,0,0,0,0,0]
["Pump Station"]
["Reticulation"]
["Waste Water Treatment Works"]
["Outfall Sewers"]
["Toilet Facilities"]
["Capital Spares"]
["Solid Waste Infrastructure",null,{"$f":"SUM(C45:C51)","v":0},{"$f":"SUM(D45:D51)","v":0},0,0,0,0,0,0,0]
["Landfill Sites"]
["Waste Transfer Stations"]
["Waste Processing Facilities"]
["Waste Drop-off Points"]
["Waste Separation Facilities"]
["Electricity Generation Facilities"]
["Capital Spares"]
["Rail Infrastructure",null,{"$f":"SUM(C53:C61)","v":0},0,0,0,0,0,0,0,0]
["Rail Lines"]
["Rail Structures"]
["Rail Furniture"]
["Drainage Collection"]
["Storm water Conveyance"]
["Attenuation"]
["MV Substations"]
["LV Networks"]
["Capital Spares"]
["Coastal Infrastructure",null,{"$f":"SUM(C63:C67)","v":0},{"$f":"SUM(D63:D67)","v":0},0,0,0,0,0,0,0]
["Sand Pumps"]
["Piers"]
["Revetments"]
["Promenades"]
["Capital Spares"]
["Information and Communication Infrastructure",null,{"$f":"SUM(C69:C72)","v":0},{"$f":"SUM(D69:D72)","v":0},0,0,0,0,0,0,0]
["Data Centres"]
["Core Layers"]
["Distribution Layers",null,0,0,0,0,0,0,0,0,0]
["Capital Spares"]
[]
["Community Assets",null,{"$f":"C75+C98","v":0},{"$f":"D75+D98","v":0},0,0,0,0,0,0,0]
["Community Facilities",null,{"$f":"SUM(C76:C97)","v":0},{"$f":"SUM(D76:D97)","v":0},0,0,0,0,0,0,0]
["Halls"]
["Centres"]
["Crèches"]
["Clinics/Care Centres"]
["Fire/Ambulance Stations"]
["Testing Stations"]
["Museums"]
["Galleries"]
["Theatres"]
["Libraries"]
["Cemeteries/Crematoria"]
["Police"]
["Parks"]
["Public Open Space"]
["Nature Reserves"]
["Public Ablution Facilities"]
["Markets"]
["Stalls"]
["Abattoirs"]
["Airports"]
["Taxi Ranks/Bus Terminals"]
["Capital Spares"]
["Sport and Recreation Facilities",null,{"$f":"SUM(C99:C101)","v":0},{"$f":"SUM(D99:D101)","v":0},0,0,0,0,0,0,0]
["Indoor Facilities"]
["Outdoor Facilities"]
["Capital Spares"]
[]
["Heritage assets",null,{"$f":"SUM(C104:C108)","v":0},{"$f":"SUM(D104:D108)","v":0},0,0,0,0,0,0,0]
["Monuments"]
["Historic Buildings"]
["Works of Art"]
["Conservation Areas"]
["Other Heritage",null,0,0,0,0,0,0,0,0,0]
[]
["Investment properties",null,{"$f":"+C111+C114","v":0},{"$f":"+D111+D114","v":0},0,0,0,0,0,0,0]
["Revenue Generating",null,{"$f":"SUM(C112:C113)","v":0},0,0,0,0,0,0,0,0]
["Improved Property"]
["Unimproved Property"]
["Non-revenue Generating",null,{"$f":"SUM(C115:C116)","v":0},{"$f":"SUM(D115:D116)","v":0},0,0,0,0,0,0,0]
["Improved Property"]
["Unimproved Property"]
[]
["Other assets",null,{"$f":"+C119+C131","v":0},{"$f":"+D119+D131","v":0},0,0,0,0,0,0,0]
["Operational Buildings",null,{"$f":"SUM(C120:C130)","v":0},{"$f":"SUM(D120:D130)","v":0},0,0,0,0,0,0,0]
["Municipal Offices",null,0,0,0,0,0,0,0,0,0]
["Pay/Enquiry Points"]
["Building Plan Offices"]
["Workshops"]
["Yards"]
["Stores"]
["Laboratories"]
["Training Centres"]
["Manufacturing Plant"]
["Depots"]
["Capital Spares"]
["Housing",null,{"$f":"SUM(C132:C134)","v":0},{"$f":"SUM(D132:D134)","v":0},0,0,0,0,0,0,0]
["Staff Housing"]
["Social Housing"]
["Capital Spares"]
[]
["Biological or Cultivated Assets",null,{"$f":"SUM(C137:C137)","v":0},0,0,0,0,0,0,0,0]
["Biological or Cultivated Assets"]
[]
["Intangible Assets",null,{"$f":"+C140+C141","v":0},{"$f":"+D140+D141","v":0},0,0,0,0,0,0,0]
["Servitudes"]
["Licences and Rights",null,{"$f":"SUM(C142:C147)","v":0},{"$f":"SUM(D142:D147)","v":0},0,0,0,0,0,0,0]
["Water Rights"]
["Effluent Licenses"]
["Solid Waste Licenses"]
["Computer Software and Applications"]
["Load Settlement Software Applications"]
["Unspecified"]
[]
["Computer Equipment",null,{"$f":"SUM(C150:C150)","v":0},0,0,0,0,0,0,0,0]
["Computer Equipment"]
[]
["Furniture and Office Equipment",null,{"$f":"SUM(C153:C153)","v":0},0,0,0,0,0,0,0,0]
["Furniture and Office Equipment"]
[]
["Machinery and Equipment",null,{"$f":"SUM(C156:C156)","v":0},0,0,0,0,0,0,0,0]
["Machinery and Equipment"]
[]
["Transport Assets",null,{"$f":"SUM(C159:C159)","v":0},0,0,0,0,0,0,0,0]
["Transport Assets"]
[]
["Land",null,{"$f":"SUM(C162:C162)","v":0},0,0,0,0,0,0,0,0]
["Land"]
[]
["Zoo's, Marine and Non-biological Animals",null,{"$f":"SUM(C165:C165)","v":0},0,0,0,0,0,0,0,0]
["Zoo's, Marine and Non-biological Animals"]
[]
["Total Capital Expenditure on upgrading of existing assets ",1,{"$f":"C6+C74+C103+C110+C118+C136+C139+C149+C152+C155+C158+C161+C164","v":0},{"$f":"D6+D74+D103+D110+D118+D136+D139+D149+D152+D155+D158+D161+D164","v":0},0,0,0,0,0,0,0]
[]
["Upgrading of Existing Assets as % of total capex",null,{"$f":"IF(ISERROR(C167/'A9-Asset'!C67),0,(C167/'A9-Asset'!C67))","v":0},{"$f":"IF(ISERROR(D167/'A9-Asset'!D132),0,(D167/'A9-Asset'!D132))","v":0},{"$f":"IF(ISERROR(E167/'A9-Asset'!E132),0,(E167/'A9-Asset'!E132))","v":0},{"$f":"IF(ISERROR(F167/'A9-Asset'!F132),0,(F167/'A9-Asset'!F132))","v":0},{"$f":"IF(ISERROR(G167/'A9-Asset'!G132),0,(G167/'A9-Asset'!G132))","v":0},{"$f":"IF(ISERROR(H167/'A9-Asset'!H132),0,(H167/'A9-Asset'!H132))","v":0},{"$f":"IF(ISERROR(I167/'A9-Asset'!I132),0,(I167/'A9-Asset'!I132))","v":0},{"$f":"IF(ISERROR(J167/'A9-Asset'!J132),0,(J167/'A9-Asset'!J132))","v":0},{"$f":"IF(ISERROR(K167/'A9-Asset'!K132),0,(K167/'A9-Asset'!K132))","v":0}]
["Upgrading of Existing Assets as % of deprecn\"",null,{"$f":"IF(ISERROR(C167/'A9-Asset'!C168),0,(C167/'A9-Asset'!C168))","v":0},{"$f":"IF(ISERROR(D167/'A9-Asset'!D168),0,(D167/'A9-Asset'!D168))","v":0},{"$f":"IF(ISERROR(E167/'A9-Asset'!E168),0,(E167/'A9-Asset'!E168))","v":0},{"$f":"IF(ISERROR(F167/'A9-Asset'!F168),0,(F167/'A9-Asset'!F168))","v":0},{"$f":"IF(ISERROR(G167/'A9-Asset'!G168),0,(G167/'A9-Asset'!G168))","v":0},{"$f":"IF(ISERROR(H167/'A9-Asset'!H168),0,(H167/'A9-Asset'!H168))","v":0},{"$f":"IF(ISERROR(I167/'A9-Asset'!I168),0,(I167/'A9-Asset'!I168))","v":0},{"$f":"IF(ISERROR(J167/'A9-Asset'!J168),0,(J167/'A9-Asset'!J168))","v":0},{"$f":"IF(ISERROR(K167/'A9-Asset'!K168),0,(K167/'A9-Asset'!K168))","v":0}]
[{"$f":"head27a","v":"References"}]
["1.  Total Capital Expenditure  on upgrading of existing assets (SA34e) plus Total Capital Expenditure on new assets (SA34a)  plus Total Capital Expenditure  on renewal of existing assets (SA34b) must reconcile to total capital expenditure in Budgeted Capital Expenditure"]
[]
[]
["check balance",null,{"$f":"SUM(C167+SA34a!C167++SA34b!C167)-'A5-Capex'!C40","v":0},{"$f":"SUM(D167+SA34a!D167++SA34b!D167)-'A5-Capex'!D40","v":0},{"$f":"SUM(E167+SA34a!E167++SA34b!E167)-'A5-Capex'!E40","v":0},{"$f":"SUM(F167+SA34a!F167++SA34b!F167)-'A5-Capex'!F40","v":0},{"$f":"SUM(G167+SA34a!G167++SA34b!G167)-'A5-Capex'!G40","v":0},{"$f":"SUM(H167+SA34a!H167++SA34b!H167)-'A5-Capex'!H40","v":0},{"$f":"SUM(I167+SA34a!I167++SA34b!I167)-'A5-Capex'!J40","v":0},{"$f":"SUM(J167+SA34a!J167++SA34b!J167)-'A5-Capex'!K40","v":0},{"$f":"SUM(K167+SA34a!K167++SA34b!K167)-'A5-Capex'!L40","v":0}]

{"sheet":"SA35","index":60,"n_rows":59,"n_cols":9,"rows_kept":59,"cut":false,"hidden":false,"merged":[[1,5,1,8],[1,2,1,4]]}
[{"$f":"muni&\" - \"&TableA35","v":"DC15 O .R. Tambo - Supporting Table SA35 Consolidated future financial implications of the capital budget"}]
[{"$f":"Vdesc","v":"Vote Description"},{"$f":"head27","v":"Ref"},{"$f":"Head3","v":"2020/21 Medium Term Revenue & Expenditure Framework"},null,null,"Forecasts"]
["R thousand",null,{"$f":"Head9","v":"Budget Year 2020/21"},{"$f":"Head10","v":"Budget Year +1 2021/22"},{"$f":"Head11","v":"Budget Year +2 2022/23"},{"$f":"Head12","v":"Forecast 2023/24"},{"$f":"Head13","v":"Forecast 2024/25"},{"$f":"Head14","v":"Forecast 2025/26"},{"$f":"Head48","v":"Present value"}]
["Capital expenditure",1]
[{"$f":"'A5-Capex'!A6","v":"Vote 01 - Council & Committees"},null,{"$f":"'A5-Capex'!J6+'A5-Capex'!J24","v":5000000},{"$f":"'A5-Capex'!K6+'A5-Capex'!K24","v":3500000},{"$f":"'A5-Capex'!L6+'A5-Capex'!L24","v":0},0,0,0,0]
[{"$f":"'A5-Capex'!A7","v":"Vote 02 - Finance & Administration"},null,{"$f":"'A5-Capex'!J7+'A5-Capex'!J25","v":16154207},{"$f":"'A5-Capex'!K7+'A5-Capex'!K25","v":15112259},{"$f":"'A5-Capex'!L7+'A5-Capex'!L25","v":10150000},0,0,0,0]
[{"$f":"'A5-Capex'!A8","v":"Vote 03 - Planning & Development"},null,{"$f":"'A5-Capex'!J8+'A5-Capex'!J26","v":2500000},{"$f":"'A5-Capex'!K8+'A5-Capex'!K26","v":3300000},{"$f":"'A5-Capex'!L8+'A5-Capex'!L26","v":0},0,0,0,0]
[{"$f":"'A5-Capex'!A9","v":"Vote 04 - Health"},null,{"$f":"'A5-Capex'!J9+'A5-Capex'!J27","v":0},{"$f":"'A5-Capex'!K9+'A5-Capex'!K27","v":0},{"$f":"'A5-Capex'!L9+'A5-Capex'!L27","v":0},0,0,0,0]
[{"$f":"'A5-Capex'!A10","v":"Vote 05 - Community & Social Services"},null,{"$f":"'A5-Capex'!J10+'A5-Capex'!J28","v":0},{"$f":"'A5-Capex'!K10+'A5-Capex'!K28","v":0},{"$f":"'A5-Capex'!L10+'A5-Capex'!L28","v":0},0,0,0,0]
[{"$f":"'A5-Capex'!A11","v":"Vote 06 - Housing"},null,{"$f":"'A5-Capex'!J11+'A5-Capex'!J29","v":40045000},{"$f":"'A5-Capex'!K11+'A5-Capex'!K29","v":45000},{"$f":"'A5-Capex'!L11+'A5-Capex'!L29","v":0},0,0,0,0]
[{"$f":"'A5-Capex'!A12","v":"Vote 07 - Public Safety"},null,{"$f":"'A5-Capex'!J12+'A5-Capex'!J30","v":2300000},{"$f":"'A5-Capex'!K12+'A5-Capex'!K30","v":5500000},{"$f":"'A5-Capex'!L12+'A5-Capex'!L30","v":6000000},0,0,0,0]
[{"$f":"'A5-Capex'!A13","v":"Vote 08 - Sports & Recreation"},null,{"$f":"'A5-Capex'!J13+'A5-Capex'!J31","v":0},{"$f":"'A5-Capex'!K13+'A5-Capex'!K31","v":0},{"$f":"'A5-Capex'!L13+'A5-Capex'!L31","v":0},0,0,0,0]
[{"$f":"'A5-Capex'!A14","v":"Vote 09 - Environmental"},null,{"$f":"'A5-Capex'!J14+'A5-Capex'!J32","v":0},{"$f":"'A5-Capex'!K14+'A5-Capex'!K32","v":0},{"$f":"'A5-Capex'!L14+'A5-Capex'!L32","v":0},0,0,0,0]
[{"$f":"'A5-Capex'!A15","v":"Vote 10 - Roads"},null,{"$f":"'A5-Capex'!J15+'A5-Capex'!J33","v":43262000},{"$f":"'A5-Capex'!K15+'A5-Capex'!K33","v":8125000},{"$f":"'A5-Capex'!L15+'A5-Capex'!L33","v":3306000},0,0,0,0]
[{"$f":"'A5-Capex'!A16","v":"Vote 11 - Water"},null,{"$f":"'A5-Capex'!J16+'A5-Capex'!J34","v":906649846},{"$f":"'A5-Capex'!K16+'A5-Capex'!K34","v":936244573},{"$f":"'A5-Capex'!L16+'A5-Capex'!L34","v":1034340635},0,0,0,0]
[{"$f":"'A5-Capex'!A17","v":"Vote 12 - Tourism"},null,{"$f":"'A5-Capex'!J17+'A5-Capex'!J35","v":0},{"$f":"'A5-Capex'!K17+'A5-Capex'!K35","v":0},{"$f":"'A5-Capex'!L17+'A5-Capex'!L35","v":0},0,0,0,0]
[{"$f":"'A5-Capex'!A18","v":"Vote 13 - Development Agency"},null,{"$f":"'A5-Capex'!J18+'A5-Capex'!J36","v":28896000},{"$f":"'A5-Capex'!K18+'A5-Capex'!K36","v":6833000},{"$f":"'A5-Capex'!L18+'A5-Capex'!L36","v":6852800},0,0,0,0]
[{"$f":"'A5-Capex'!A19","v":"Vote 14 - "},null,{"$f":"'A5-Capex'!J19+'A5-Capex'!J37","v":0},{"$f":"'A5-Capex'!K19+'A5-Capex'!K37","v":0},{"$f":"'A5-Capex'!L19+'A5-Capex'!L37","v":0},0,0,0,0]
[{"$f":"'A5-Capex'!A20","v":"Vote 15 - Other"},null,{"$f":"'A5-Capex'!J20+'A5-Capex'!J38","v":0},{"$f":"'A5-Capex'!K20+'A5-Capex'!K38","v":0},{"$f":"'A5-Capex'!L20+'A5-Capex'!L38","v":0},0,0,0,0]
["List entity summary if applicable"]
["Total Capital Expenditure ",null,{"$f":"SUM(C5:C20)","v":1044807053},{"$f":"SUM(D5:D20)","v":978659832},1060649435,0,0,0,0]
[]
["Future operational costs by vote",2]
[{"$f":"'A5-Capex'!A6","v":"Vote 01 - Council & Committees"}]
[{"$f":"'A5-Capex'!A7","v":"Vote 02 - Finance & Administration"}]
[{"$f":"'A5-Capex'!A8","v":"Vote 03 - Planning & Development"}]
[{"$f":"'A5-Capex'!A9","v":"Vote 04 - Health"}]
[{"$f":"'A5-Capex'!A10","v":"Vote 05 - Community & Social Services"}]
[{"$f":"'A5-Capex'!A11","v":"Vote 06 - Housing"}]
[{"$f":"'A5-Capex'!A12","v":"Vote 07 - Public Safety"}]
[{"$f":"'A5-Capex'!A13","v":"Vote 08 - Sports & Recreation"}]
[{"$f":"'A5-Capex'!A14","v":"Vote 09 - Environmental"}]
[{"$f":"'A5-Capex'!A15","v":"Vote 10 - Roads"}]
[{"$f":"'A5-Capex'!A16","v":"Vote 11 - Water"}]
[{"$f":"'A5-Capex'!A17","v":"Vote 12 - Tourism"}]
[{"$f":"'A5-Capex'!A18","v":"Vote 13 - Development Agency"}]
[{"$f":"'A5-Capex'!A19","v":"Vote 14 - "}]
[{"$f":"'A5-Capex'!A20","v":"Vote 15 - Other"}]
["List entity summary if applicable"]
["Total future operational costs",null,{"$f":"SUM(C24:C39)","v":0},{"$f":"SUM(D24:D39)","v":0},0,0,0,0,0]
[]
["Future revenue by source",3]
[{"$f":"'A4-FinPerf RE'!A5","v":"Property rates"}]
[{"$f":"'A4-FinPerf RE'!A6","v":"Service charges - electricity revenue"}]
[{"$f":"'A4-FinPerf RE'!A7","v":"Service charges - water revenue"},null,254699812,249025801,263969349]
[{"$f":"'A4-FinPerf RE'!A8","v":"Service charges - sanitation revenue"},null,112602658,119358817,126520346]
[{"$f":"'A4-FinPerf RE'!A9","v":"Service charges - refuse revenue"}]
[]
[{"$f":"'A4-FinPerf RE'!A11","v":"Rental of facilities and equipment"},null,867337,1194114,1345867]
["List other revenues sources if applicable",null,29515576,38899639,40689023]
["List entity summary if applicable"]
["Total future revenue",null,{"$f":"SUM(C43:C47)+SUM(C49:C51)","v":397685383},{"$f":"SUM(D43:D47)+SUM(D49:D51)","v":408478371},432524585,0,0,0,0]
["Net Financial Implications",null,{"$f":"C21+C40-C52","v":647121670},570181461,628124850,0,0,0,0]
[{"$f":"head27a","v":"References"}]
["1. Summarise the total capital cost until capital project is operational (MFMA s19(2)(a))"]
["2. Summary of future operational costs from when projects operational (present value until the end of each asset's useful life) (MFMA s19(2)(b))"]
["3. Summarise the future revenue from when projects are operational, including municipal tax and tariff implications, (present value until the end of asset's useful life)"]
[]
["check",null,{"$f":"C21-('A5-Capex'!J21+'A5-Capex'!J39)","v":0},{"$f":"D21-('A5-Capex'!K21+'A5-Capex'!K39)","v":0},{"$f":"E21-('A5-Capex'!L21+'A5-Capex'!L39)","v":0}]

{"sheet":"SA36","index":61,"n_rows":132,"n_cols":17,"rows_kept":132,"cut":false,"hidden":false,"merged":[[1,12,1,13],[1,14,1,16]]}
[{"$f":"muni&\" - \"&TableA36","v":"DC15 O .R. Tambo - Supporting Table SA36 Consolidated detailed capital budget"}]
["R thousand",null,null,null,null,null,null,null,null,null,null,null,null,null,{"$f":"Head3","v":"2020/21 Medium Term Revenue & Expenditure Framework"}]
["Function","Project Description","Project Number","Type","MTSF Service Outcome","IUDF","Own Strategic Objectives","Asset Class","Asset Sub-Class","Ward Location","GPS Longitude","GPS Lattitude",{"$f":"Head5&\"    \"&Head1","v":"Audited Outcome    2018/19"},{"$f":"Head2 & \"        \"&Head8","v":"Current Year 2019/20        Full Year Forecast"},{"$f":"Head9","v":"Budget Year 2020/21"},{"$f":"Head10","v":"Budget Year +1 2021/22"},{"$f":"Head11","v":"Budget Year +2 2022/23"}]
["Parent municipality:"]
["List all capital projects grouped by Function"]
[]
["Executive And Council","Capital:Non-Infrastructure:New:Transport Assets",0,"NEW",null,"Growth",null,"Transport Assets","Transport Assets","R-ADMIN OR HEAD OFFICE",0,0,0,2000000,3000000,3500000,0]
["Executive And Council","Capital:Non-Infrastructure:New:Furniture And Office Equipment",0,"NEW","An efficient; effective and development-oriented public service","Growth",null,"Furniture And Office Equipment","Furniture And Office Equipment","R-ADMIN OR HEAD OFFICE",0,0,0,0,2000000,0,0]
[]
[]
[]
["Finance And Administration","Capital:Non-Infrastructure:New:Transport Assets",0,"NEW",null,"Growth",null,"Transport Assets","Transport Assets","R-ADMIN OR HEAD OFFICE",0,0,2321403.44,4500000,2500000,2500000,0]
["Finance And Administration","Capital:Infrastructure:New:Water Supply Infrastructure:Capital Spares",0,"NEW","An efficient; competitive and responsive economic infrastructure network","Growth",null,"Water Supply Infrastructure","Capital Spares","R-WHOLE OF THE DISTRICT",0,0,0,2000000,0,0,0]
["Finance And Administration","Capital:Non-Infrastructure:New:Intangible Assets:Unspecified",0,"NEW","An efficient; effective and development-oriented public service","Growth",null,"Licences And Rights","Unspecified","R-ADMIN OR HEAD OFFICE",0,0,0,531750,138865,146363,150000]
["Finance And Administration","Capital:Non-Infrastructure:Existing:Renewal:Other Assets:Operational Buildings:Municipal Offices",0,"RENEWAL","An efficient; effective and development-oriented public service","Governance",null,"Operational Buildings","Municipal Offices","R-WHOLE OF THE DISTRICT",0,0,0,1500000,1581000,2000000,2500000]
["Finance And Administration","Capital:Non-Infrastructure:New:Intangible Assets:Computer Software And Applications",0,"NEW","An efficient; effective and development-oriented public service","Growth",null,"Licences And Rights","Computer Software And Applications","R-ADMIN OR HEAD OFFICE",0,0,1141881.1100000001,8554404,6584342,3115896,3000000]
[]
["Finance And Administration","Capital:Non-Infrastructure:New:Computer Equipment",0,"NEW","An efficient; effective and development-oriented public service","Growth",null,"Computer Equipment","Computer Equipment","R-ADMIN OR HEAD OFFICE",0,0,889585.21,1850000,2500000,3500000,4500000]
[]
["Finance And Administration","Capital:Non-Infrastructure:New:Furniture And Office Equipment",0,"NEW","An efficient; effective and development-oriented public service","Growth",null,"Furniture And Office Equipment","Furniture And Office Equipment","R-ADMIN OR HEAD OFFICE",0,0,1266310.76,6800000,2850000,3850000,0]
[]
["Community And Social Services","Capital:Non-Infrastructure:New:Machinery And Equipment",0,"NEW",null,"Growth",null,"Machinery And Equipment","Machinery And Equipment","R-WHOLE OF THE DISTRICT",0,0,0,2600000,0,0,0]
[]
["Community And Social Services","Capital:Non-Infrastructure:New:Furniture And Office Equipment",0,"NEW","An efficient; effective and development-oriented public service","Growth",null,"Furniture And Office Equipment","Furniture And Office Equipment","R-ADMIN OR HEAD OFFICE",0,0,0,480000,0,0,0]
["Community And Social Services","Capital:Non-Infrastructure:New:Machinery And Equipment",0,"NEW",null,"Growth",null,"Machinery And Equipment","Machinery And Equipment","R-ADMIN OR HEAD OFFICE",0,0,0,841000,0,0,0]
[]
["Public Safety","Capital:Non-Infrastructure:New:Transport Assets",0,"NEW",null,"Growth",null,"Transport Assets","Transport Assets","R-ADMIN OR HEAD OFFICE",0,0,0,5000000,2300000,5500000,6000000]
[]
["Housing","Capital:Infrastructure:New:Sanitation Infrastructure:Reticulation",0,"NEW","An efficient; competitive and responsive economic infrastructure network","Growth",null,"Sanitation Infrastructure","Reticulation","R-ADMIN OR HEAD OFFICE",0,0,1173019.3400000001,0,0,0,0]
["Housing","Capital:Non-Infrastructure:New:Other Assets:Housing:Social Housing",0,"NEW","Sustainable human settlements and improved quality of household life","Growth",null,"Housing","Social Housing","R-ADMIN OR HEAD OFFICE",0,0,1080227.55,545000,0,0,0]
["Housing","Capital:Non-Infrastructure:New:Machinery And Equipment",0,"NEW",null,"Growth",null,"Machinery And Equipment","Machinery And Equipment","R-ADMIN OR HEAD OFFICE",0,0,0,0,45000,45000,0]
["Housing","Capital:Non-Infrastructure:Existing:Renewal:Other Assets:Housing:Staff Housing",0,"RENEWAL","Sustainable human settlements and improved quality of household life","Inclusion and Access",null,"Housing","Staff Housing","R-ADMIN OR HEAD OFFICE",0,0,0,3000000,0,0,0]
["Housing","Capital:Non-Infrastructure:New:Other Assets:Housing:Social Housing",0,"NEW","Sustainable human settlements and improved quality of household life","Growth",null,"Housing","Social Housing","R-WHOLE OF THE DISTRICT",0,0,0,47250730,40000000,0,0]
[]
["Health","Capital:Non-Infrastructure:New:Computer Equipment",0,"NEW","An efficient; effective and development-oriented public service","Growth",null,"Computer Equipment","Computer Equipment","R-ADMIN OR HEAD OFFICE",0,0,0,520000,0,0,0]
[]
[]
[]
["Planning And Development","Capital:Non-Infrastructure:New:Transport Assets",0,"NEW",null,"Growth",null,"Transport Assets","Transport Assets","R-ADMIN OR HEAD OFFICE",0,0,0,0,1500000,1300000,0]
["Planning And Development","Capital:Non-Infrastructure:New:Community Assets:Community Facilities:Public Open Space",0,"NEW","An efficient; effective and development-oriented public service","Growth",null,"Community Facilities","Public Open Space","R-ADMIN OR HEAD OFFICE",0,0,0,0,1000000,2000000,0]
[]
[]
["Road Transport","Capital:Non-Infrastructure:New:Community Assets:Community Facilities:Centres",0,"NEW","An efficient; effective and development-oriented public service","Growth",null,"Community Facilities","Centres","R-MHLONTLO",0,0,0,0,10000000,0,0]
["Road Transport","Capital:Non-Infrastructure:Existing:Renewal:Other Assets:Operational Buildings:Building Plan Offices",0,"RENEWAL","An efficient; effective and development-oriented public service","Governance",null,"Operational Buildings","Building Plan Offices","R-ADMIN OR HEAD OFFICE",0,0,0,3000000,10000000,0,0]
["Road Transport","Capital:Infrastructure:New:Roads Infrastructure:Roads",0,"NEW","An efficient; competitive and responsive economic infrastructure network","Growth",null,"Roads Infrastructure","Roads","R-ADMIN OR HEAD OFFICE",0,0,0,6112000,2962000,3125000,3306000]
["Road Transport","Capital:Non-Infrastructure:New:Community Assets:Community Facilities:Centres",0,"NEW","An efficient; effective and development-oriented public service","Growth",null,"Community Facilities","Centres","R-ADMIN OR HEAD OFFICE",0,0,9304959.2799999993,29000000,20000000,5000000,0]
["Road Transport","Capital:Non-Infrastructure:New:Machinery And Equipment",0,"NEW",null,"Growth",null,"Machinery And Equipment","Machinery And Equipment","R-ADMIN OR HEAD OFFICE",0,0,0,500000,300000,0,0]
["Environmental Protection","Capital:Infrastructure:Existing:Renewal:Solid Waste Infrastructure:Waste Separation Facilities",0,"RENEWAL","An efficient; competitive and responsive economic infrastructure network","Inclusion and Access",null,"Solid Waste Infrastructure","Waste Separation Facilities","R-ADMIN OR HEAD OFFICE",0,0,3294698.1,0,0,0,0]
["Water Management","Capital:Non-Infrastructure:New:Community Assets:Community Facilities:Public Open Space",0,"NEW","An efficient; effective and development-oriented public service","Growth",null,"Community Facilities","Public Open Space","R-NYANDENI",0,0,0,19703645,12700000,0,0]
[]
[]
["Water Management","Capital:Infrastructure:New:Water Supply Infrastructure:Boreholes","NKPA2_SDO3_ODO4_Water","NEW","An efficient; competitive and responsive economic infrastructure network","Growth",null,"Water Supply Infrastructure","Boreholes","R-KING SABATA D.",0,0,0,0,1200000,0,0]
[]
["Water Management","Capital:Infrastructure:New:Water Supply Infrastructure:Distribution",0,"NEW","An efficient; competitive and responsive economic infrastructure network","Growth",null,"Water Supply Infrastructure","Distribution","R-PORT ST JOHNS",0,0,-7825.48,137487185,146442000,687340000,730131000]
["Water Management","Capital:Non-Infrastructure:New:Machinery And Equipment",0,"NEW",null,"Growth",null,"Machinery And Equipment","Machinery And Equipment","R-ADMIN OR HEAD OFFICE",0,0,198900,1016372,8033698,8452333,2076752]
["Water Management","Capital:Infrastructure:New:Sanitation Infrastructure:Outfall Sewers",0,"NEW","An efficient; competitive and responsive economic infrastructure network","Growth",null,"Sanitation Infrastructure","Outfall Sewers","R-NYANDENI",0,0,0,5000000,3640000,0,0]
["Water Management","Capital:Infrastructure:New:Water Supply Infrastructure:Water Treatment Works",0,"NEW","An efficient; competitive and responsive economic infrastructure network","Growth",null,"Water Supply Infrastructure","Water Treatment Works","R-MHLONTLO",0,0,0,0,500000,0,0]
["Water Management","Capital:Infrastructure:Existing:Renewal:Water Supply Infrastructure:Reservoirs",0,"RENEWAL","An efficient; competitive and responsive economic infrastructure network","Inclusion and Access",null,"Water Supply Infrastructure","Reservoirs","R-ADMIN OR HEAD OFFICE",0,0,279650,0,0,0,0]
["Water Management","Capital:Infrastructure:New:Water Supply Infrastructure:Boreholes","NKPA2_SDO3_ODO4_Water","NEW","An efficient; competitive and responsive economic infrastructure network","Growth",null,"Water Supply Infrastructure","Boreholes","R-NYANDENI",0,0,0,0,1200000,0,0]
["Water Management","Capital:Non-Infrastructure:New:Community Assets:Community Facilities:Public Open Space",0,"NEW","An efficient; effective and development-oriented public service","Growth",null,"Community Facilities","Public Open Space","R-ADMIN OR HEAD OFFICE",0,0,63255.13,1400824,1500000,0,0]
["Water Management","Capital:Infrastructure:Existing:Renewal:Water Supply Infrastructure:Capital Spares",0,"RENEWAL","An efficient; competitive and responsive economic infrastructure network","Inclusion and Access",null,"Water Supply Infrastructure","Capital Spares","R-WHOLE OF THE DISTRICT",0,0,0,0,3421510,3606272,0]
["Water Management","Capital:Infrastructure:New:Water Supply Infrastructure:Distribution",0,"NEW","An efficient; competitive and responsive economic infrastructure network","Growth",null,"Water Supply Infrastructure","Distribution","R-KING SABATA D.",0,0,-136604.04999999999,362215105,197682224,92000000,95000000]
["Water Management","Capital:Infrastructure:New:Sanitation Infrastructure:Reticulation",0,"NEW","An efficient; competitive and responsive economic infrastructure network","Growth",null,"Sanitation Infrastructure","Reticulation","R-PORT ST JOHNS",0,0,0,28721255,26320000,0,0]
["Water Management","Capital:Infrastructure:New:Sanitation Infrastructure:Toilet Facilities",0,"NEW","An efficient; competitive and responsive economic infrastructure network","Growth",null,"Sanitation Infrastructure","Toilet Facilities","R-ADMIN OR HEAD OFFICE",0,0,2548854.2599999998,1000000,1500000,1500000,2000000]
["Water Management","Capital:Infrastructure:New:Water Supply Infrastructure:Dams And Weirs",0,"NEW","An efficient; competitive and responsive economic infrastructure network","Growth",null,"Water Supply Infrastructure","Dams And Weirs","R-NGQUZU HILL",0,0,0,9626659,0,0,0]
[]
["Water Management","Capital:Infrastructure:New:Water Supply Infrastructure:Water Treatment Works",0,"NEW","An efficient; competitive and responsive economic infrastructure network","Growth",null,"Water Supply Infrastructure","Water Treatment Works","R-KING SABATA D.",0,0,0.82,140500000,106672776,100000000,160000000]
["Water Management","Capital:Infrastructure:New:Water Supply Infrastructure:Boreholes","NKPA2_SDO3_ODO4_Water","NEW","An efficient; competitive and responsive economic infrastructure network","Growth",null,"Water Supply Infrastructure","Boreholes","R-PORT ST JOHNS",0,0,0,0,1200000,0,0]
["Water Management","Capital:Infrastructure:New:Water Supply Infrastructure:Water Treatment Works",0,"NEW","An efficient; competitive and responsive economic infrastructure network","Growth",null,"Water Supply Infrastructure","Water Treatment Works","R-PORT ST JOHNS",0,0,-25434.38,34004320,87500000,0,0]
["Water Management","Capital:Infrastructure:New:Sanitation Infrastructure:Waste Water Treatment Works",0,"NEW","An efficient; competitive and responsive economic infrastructure network","Growth",null,"Sanitation Infrastructure","Waste Water Treatment Works","R-MHLONTLO",0,0,0.05,12000000,10200000,0,0]
[]
[]
[]
["Water Management","Capital:Infrastructure:Existing:Renewal:Water Supply Infrastructure:Pump Stations",0,"RENEWAL","An efficient; competitive and responsive economic infrastructure network","Inclusion and Access",null,"Water Supply Infrastructure","Pump Stations","R-ADMIN OR HEAD OFFICE",0,0,0,1164248,1216640,1272605,1331145]
["Water Management","Capital:Infrastructure:New:Sanitation Infrastructure:Reticulation",0,"NEW","An efficient; competitive and responsive economic infrastructure network","Growth",null,"Sanitation Infrastructure","Reticulation","R-NGQUZU HILL",0,0,0,29375000,22990000,0,0]
[]
[]
[]
[]
["Water Management","Capital:Infrastructure:Existing:Renewal:Sanitation Infrastructure:Pump Station",0,"RENEWAL","An efficient; competitive and responsive economic infrastructure network","Inclusion and Access",null,"Sanitation Infrastructure","Pump Station","R-ADMIN OR HEAD OFFICE",0,0,846296482.00999999,1108808,1158704,1212005,1267757]
["Water Management","Capital:Infrastructure:New:Water Supply Infrastructure:Boreholes","NKPA2_SDO3_ODO4_Water","NEW","An efficient; competitive and responsive economic infrastructure network","Growth",null,"Water Supply Infrastructure","Boreholes","R-MHLONTLO",0,0,0,0,1200000,0,0]
["Water Management","Capital:Infrastructure:New:Sanitation Infrastructure:Reticulation",0,"NEW","An efficient; competitive and responsive economic infrastructure network","Growth",null,"Sanitation Infrastructure","Reticulation","R-NYANDENI",0,0,-145366.63,10982254,19500000,0,0]
[]
["Water Management","Capital:Infrastructure:New:Sanitation Infrastructure:Reticulation",0,"NEW","An efficient; competitive and responsive economic infrastructure network","Growth",null,"Sanitation Infrastructure","Reticulation","R-MHLONTLO",0,0,0,12343964,8660000,0,0]
["Water Management","Capital:Infrastructure:New:Water Supply Infrastructure:Pump Station",0,"NEW","An efficient; competitive and responsive economic infrastructure network","Growth",null,"Water Supply Infrastructure","Pump Stations","R-WHOLE OF THE DISTRICT",0,0,0,4197509,4386397,4588171,4799227]
["Water Management","Capital:Infrastructure:New:Water Supply Infrastructure:Water Treatment Works",0,"NEW","An efficient; competitive and responsive economic infrastructure network","Growth",null,"Water Supply Infrastructure","Water Treatment Works","R-NGQUZU HILL",0,0,0,3944044,6300000,0,0]
[]
[]
["Water Management","Capital:Infrastructure:New:Water Supply Infrastructure:Distribution",0,"NEW","An efficient; competitive and responsive economic infrastructure network","Growth",null,"Water Supply Infrastructure","Distribution","R-MHLONTLO",0,0,0,27501837,19000000,0,0]
[]
["Water Management","Capital:Infrastructure:New:Water Supply Infrastructure:Distribution",0,"NEW","An efficient; competitive and responsive economic infrastructure network","Growth",null,"Water Supply Infrastructure","Distribution","R-NGQUZU HILL",0,0,-14188.38,63636356,15100000,0,0]
["Water Management","Capital:Infrastructure:New:Sanitation Infrastructure:Reticulation",0,"NEW","An efficient; competitive and responsive economic infrastructure network","Growth",null,"Sanitation Infrastructure","Reticulation","R-ADMIN OR HEAD OFFICE",0,0,0,27988176,37511882,9112628,9531809]
["Water Management","Capital:Infrastructure:New:Sanitation Infrastructure:Reticulation",0,"NEW","An efficient; competitive and responsive economic infrastructure network","Growth",null,"Sanitation Infrastructure","Reticulation","R-KING SABATA D.",0,0,0,12932822,6050000,0,0]
["Water Management","Capital:Non-Infrastructure:New:Community Assets:Community Facilities:Public Open Space",0,"NEW","An efficient; effective and development-oriented public service","Growth",null,"Community Facilities","Public Open Space","R-KING SABATA D.",0,0,0,23272914,3000000,0,0]
["Water Management","Capital:Non-Infrastructure:New:Transport Assets",0,"NEW",null,"Growth",null,"Transport Assets","Transport Assets","R-ADMIN OR HEAD OFFICE",0,0,0,5000000,3500000,2000000,2000000]
[]
["Water Management","Capital:Infrastructure:New:Water Supply Infrastructure:Distribution",0,"NEW","An efficient; competitive and responsive economic infrastructure network","Growth",null,"Water Supply Infrastructure","Distribution","R-NYANDENI",0,0,-7826.19,186688235,121000000,0,0]
[]
[]
[]
["Water Management","Capital:Infrastructure:New:Water Supply Infrastructure:Water Treatment Works",0,"NEW","An efficient; competitive and responsive economic infrastructure network","Growth",null,"Water Supply Infrastructure","Water Treatment Works","R-NYANDENI",0,0,0,0,500000,0,0]
[]
[]
["Water Management","Capital:Infrastructure:Existing:Renewal:Water Supply Infrastructure:Pump Stations",0,"RENEWAL","An efficient; competitive and responsive economic infrastructure network","Inclusion and Access",null,"Water Supply Infrastructure","Pump Stations","R-WHOLE OF THE DISTRICT",0,0,0,3162000,3000000,2500000,2500000]
[]
["Water Management","Capital:Infrastructure:New:Water Supply Infrastructure:Distribution Points",0,"NEW","An efficient; competitive and responsive economic infrastructure network","Growth",null,"Water Supply Infrastructure","Distribution Points","R-WHOLE OF THE DISTRICT",0,0,5656530.0499999998,37955995,21664015,22660559,23702945]
[]
["Water Management","Capital:Infrastructure:New:Water Supply Infrastructure:Boreholes","NKPA2_SDO3_ODO4_Water","NEW","An efficient; competitive and responsive economic infrastructure network","Growth",null,"Water Supply Infrastructure","Boreholes","R-NGQUZU HILL",0,0,0,13950000,1200000,0,0]
["Parent Capital expenditure",null,null,null,null,null,null,null,null,null,null,null,{"$f":"SUM(M7:M108)","v":875178511.99999988},{"$f":"SUM(N7:N108)","v":1344464411},{"$f":"SUM(O7:O108)","v":1015911053},{"$f":"SUM(P7:P108)","v":971826832},{"$f":"SUM(Q7:Q108)","v":1053796635}]
[]
["Entities:"]
["List all capital projects grouped by Entity"]
[]
["Ntinga Development Agency"]
["Planning And Development","Capital:Non-Infrastructure:New:Machinery And Equipment",0,"NEW",null,"Growth",null,"Machinery And Equipment","Machinery And Equipment","R-WHOLE OF THE DISTRICT",0,0,0,3005000,20150000,0,0]
["Planning And Development","Capital:Non-Infrastructure:New:Biological Or Cultivated Assets",0,"NEW","Vibrant; equitable; sustainable rural communities contributing towards food security for all","Growth",null,"Biological Or Cultivated Assets","Biological Or Cultivated Assets","R-WHOLE OF THE DISTRICT",0,0,0,0,0,0,0]
["Planning And Development","Capital:Non-Infrastructure:New:Other Assets:Operational Buildings:Building Plan Offices",0,"NEW","An efficient; effective and development-oriented public service","Growth",null,"Operational Buildings","Building Plan Offices","R-WHOLE OF THE DISTRICT",0,0,0,1600000,8030000,6833000,6833000]
["Planning And Development","Capital:Non-Infrastructure:New:Intangible Assets:Computer Software And Applications",0,"NEW","An efficient; effective and development-oriented public service","Growth",null,"Licences And Rights","Computer Software And Applications","R-WHOLE OF THE DISTRICT",0,0,0,0,158000,0,0]
["Planning And Development","L:Infrastructure:Existing:Upgrading:Information And Communication Infrastructure:Distribution Layers",0,"UPGRADING","An efficient; competitive and responsive economic infrastructure network","Governance",null,"Information And Communication Infrastructure","Distribution Layers","R-WHOLE OF THE DISTRICT",0,0,0,0,0,0,0]
["Planning And Development","Capital:Infrastructure:New:Electrical Infrastructure:Power Plants",0,"NEW","An efficient; competitive and responsive economic infrastructure network","Growth",null,"Electrical Infrastructure","Power Plants","R-ADMIN OR HEAD OFFICE",0,0,0,0,0,0,0]
["Planning And Development","Capital:Non-Infrastructure:New:Computer Equipment",0,"NEW","An efficient; effective and development-oriented public service","Growth",null,"Computer Equipment","Computer Equipment","R-WHOLE OF THE DISTRICT",0,0,0,40000,158000,0,19800]
["Planning And Development","Capital:Non-Infrastructure:New:Transport Assets",0,"NEW",null,"Growth",null,"Transport Assets","Transport Assets","R-WHOLE OF THE DISTRICT",0,0,0,2600000,400000,0,0]
["Planning And Development","Capital:Non-Infrastructure:New:Furniture And Office Equipment",0,"NEW","An efficient; effective and development-oriented public service","Growth",null,"Furniture And Office Equipment","Furniture And Office Equipment","R-WHOLE OF THE DISTRICT",0,0,0,0,0,0,0]
["Entity Capital expenditure",null,null,null,null,null,null,null,null,null,{"$f":"SUM(K114:K123)","v":0},{"$f":"SUM(L114:L123)","v":0},{"$f":"SUM(M114:M123)","v":0},{"$f":"SUM(N114:N123)","v":7245000},{"$f":"SUM(O114:O123)","v":28896000},{"$f":"SUM(P113:P123)","v":6833000},{"$f":"SUM(Q113:Q123)","v":6852800}]
["Total Capital expenditure",null,null,null,null,null,null,null,null,null,null,null,{"$f":"SUM(M7:M108)+SUM(M113:M123)","v":875178511.99999988},{"$f":"SUM(N7:N108)+SUM(N113:N123)","v":1351709411},{"$f":"SUM(O7:O108)+SUM(O113:O123)","v":1044807053},{"$f":"SUM(P7:P108)+SUM(P113:P123)","v":978659832},{"$f":"SUM(Q7:Q108)+SUM(Q113:Q123)","v":1060649435}]
[{"$f":"head27a","v":"References"}]
["Must reconcile with Budgeted Capital Expenditure"]
["Projects that fall above the threshold values applicable to the municipality as identified in regulation 13 of the Municipal Budget and Reporting Regulations must be listed individually. Other projects by Function"]
["Asset class as per table A9 and asset sub-class as per table SA34"]
["GPS coordinates correct to seconds. Provide a logical starting point on networked infrastructure."]
["Distinguish projects approved in terms of MFMA section 19(1)(b) and MRRR Regulation 13",null,null,null,null,null,null,null,null,null,null,"check",{"$f":"SUM(SA34a!E167+SA34b!E167+SA34e!E167)-'SA36'!M125","v":0},{"$f":"SUM(SA34a!H167+SA34b!H167+SA34e!H167)-'SA36'!N125","v":0},{"$f":"SUM(SA34a!I167+SA34b!I167+SA34e!I167)-'SA36'!O125","v":0},{"$f":"SUM(SA34a!J167+SA34b!J167+SA34e!J167)-'SA36'!P125","v":0},{"$f":"SUM(SA34a!K167+SA34b!K167+SA34e!K167)-'SA36'!Q125","v":0}]
["Project Number consists of MSCOA Project Longcode and seq No (sample PC001002006002_00002)"]

{"sheet":"SA37","index":62,"n_rows":16,"n_cols":18,"rows_kept":16,"cut":false,"hidden":false,"merged":[[1,12,2,12],[1,13,1,14],[1,15,1,17]]}
[{"$f":"muni&\" - \"&TableA37","v":"DC15 O .R. Tambo - Supporting Table SA37 Consolidated projects delayed from previous financial year/s"}]
["R thousand",null,null,null,null,null,null,null,null,null,null,null,{"$f":"Head47","v":"Previous target year to complete"},{"$f":"Head2","v":"Current Year 2019/20"},null,{"$f":"Head3","v":"2020/21 Medium Term Revenue & Expenditure Framework"}]
["Function","Project name","Project number","Type","MTSF Service Outcome","IUDF","Own Strategic Objectives","Asset Class","Asset Sub-Class","Ward Location","GPS Longitude","GPS Lattitude",null,{"$f":"Head6","v":"Original Budget"},{"$f":"Head8","v":"Full Year Forecast"},{"$f":"Head9","v":"Budget Year 2020/21"},{"$f":"Head10","v":"Budget Year +1 2021/22"},{"$f":"Head11","v":"Budget Year +2 2022/23"}]
["Parent municipality:"]
["List all capital projects grouped by Function"]
[]
[]
[" "]
["List all capital projects grouped by Entity"]
[]
["Ntinga Development Agency"]
[" "]
["List all projects with planned completion dates in current year that have been re-budgeted in the MTREF"]
["Asset class as per table A9 and asset sub-class as per table SA34"]
["GPS coordinates correct to seconds. Provide a logical starting point on networked infrastructure."]
["Project Number consists of MSCOA Project Longcode and seq No (sample PC001002006002_00002)"]

{"sheet":"SA38","index":63,"n_rows":166,"n_cols":17,"rows_kept":166,"cut":false,"hidden":false,"merged":[[1,12,1,13],[1,14,1,16]]}
[{"$f":"muni&\" - \"&TableA38","v":"DC15 O .R. Tambo - Supporting Table SA38 Consolidated detailed operational projects"}]
["R thousand",null,null,null,null,null,null,null,null,null,null,null,"Prior year outcomes",null,{"$f":"Head3","v":"2020/21 Medium Term Revenue & Expenditure Framework"}]
["Function","Project Description","Project Number","Type","MTSF Service Outcome","IUDF","Own Strategic Objectives","Asset Class","Asset Sub-Class","Ward Location","GPS Longitude","GPS Lattitude",{"$f":"Head5&\"    \"&Head1","v":"Audited Outcome    2018/19"},{"$f":"Head2 & \"        \"&Head8","v":"Current Year 2019/20        Full Year Forecast"},{"$f":"Head9","v":"Budget Year 2020/21"},{"$f":"Head10","v":"Budget Year +1 2021/22"},{"$f":"Head11","v":"Budget Year +2 2022/23"}]
["Parent municipality:"]
["List all operational projects grouped by Function"]
[]
["Executive And Council","Operational:Municipal Running Cost","M123","Municipal Running Cost","Sustainable human settlements and improved quality of household life","Governance",null,null,null,"R-ADMIN OR HEAD OFFICE",0,0,154720680.81999999,150098250,145452958,155990660,165350048]
["Executive And Council","Operational:Municipal Running Cost","M123","Municipal Running Cost","Sustainable human settlements and improved quality of household life","Governance",null,null,null,"R-WHOLE OF THE DISTRICT",0,0,532936.57999999996,1000000,1045000,1093071,1143352]
["Executive And Council","Operational:Typical Work Streams:Aids/Hiv; Tuberculosis And Cancer:Awareness And Information",0,"Work Streams","Sustainable human settlements and improved quality of household life","Inclusion and Access",null,null,null,"R-WHOLE OF THE DISTRICT",0,0,2324102.36,2670317,1890484,1977444,2068407]
["Executive And Council","Operational:Typical Work Streams:Aids/Hiv; Tuberculosis And Cancer:Support And Distribution Programm",0,"Work Streams","A long and healthy life for all South Africans","Inclusion and Access",null,null,null,"R-WHOLE OF THE DISTRICT",0,0,405685.82,905600,701900,734630,707185]
["Executive And Council","Operational:Typical Work Streams:Capacity Building Training And Development:Capacity Building Counci",0,"Work Streams","A skilled and capable workforce to support an inclusive growth path","Governance",null,null,null,"R-ADMIN OR HEAD OFFICE",0,0,0,4500000,4500000,4707000,4923522]
["Executive And Council","Operational:Typical Work Streams:Communication And Public Participation:Awareness Campaign",0,"Work Streams","Sustainable human settlements and improved quality of household life","Inclusion and Access",null,null,null,"R-WHOLE OF THE DISTRICT",0,0,0,0,1000000,1100000,1150000]
["Executive And Council","Operational:Typical Work Streams:Communication And Public Participation:Budget Road Show Public Part",0,"Work Streams","Sustainable human settlements and improved quality of household life","Inclusion and Access",null,null,null,"R-WHOLE OF THE DISTRICT",0,0,9013162.3200000003,5912723,7146892,7665851,7019148]
["Executive And Council","Operational:Typical Work Streams:Communication And Public Participation:Mayoral/Executive Mayor Camp",0,"Work Streams","Sustainable human settlements and improved quality of household life","Inclusion and Access",null,null,null,"R-ADMIN OR HEAD OFFICE",0,0,2908290.37,4128118,5741779,6533666,7344045]
["Executive And Council","Operational:Typical Work Streams:Communication And Public Participation:Mayoral/Executive Mayor Camp",0,"Work Streams","Sustainable human settlements and improved quality of household life","Inclusion and Access",null,null,null,"R-WHOLE OF THE DISTRICT",0,0,5792901.6900000004,9038114,8654205,9052297,9604119]
["Executive And Council","Operational:Typical Work Streams:Communication And Public Participation:Public Participation Meeting",0,"Work Streams","Sustainable human settlements and improved quality of household life","Inclusion and Access",null,null,null,"R-ADMIN OR HEAD OFFICE",0,0,52724.22,1654093,1362777,1425464,1491036]
["Executive And Council","Operational:Typical Work Streams:Communication And Public Participation:Public Participation Meeting",0,"Work Streams","Sustainable human settlements and improved quality of household life","Inclusion and Access",null,null,null,"R-WHOLE OF THE DISTRICT",0,0,1852081.88,2742057,3440540,3827261,4285134]
["Executive And Council","Operational:Typical Work Streams:Community Development:Child Programmes",0,"Work Streams","A comprehensive; responsive and sustainable social protection system","Inclusion and Access",null,null,null,"R-WHOLE OF THE DISTRICT",0,0,1389379.5,2798844,1924792,2013332,2105946]
["Executive And Council","Operational:Typical Work Streams:Community Development:Community Development Initiatives",0,"Work Streams","A comprehensive; responsive and sustainable social protection system","Inclusion and Access",null,null,null,"R-ADMIN OR HEAD OFFICE",0,0,271965.98,499487,1499999,1575999,1831088]
["Executive And Council","Operational:Typical Work Streams:Community Development:Community Development Initiatives",0,"Work Streams","A comprehensive; responsive and sustainable social protection system","Inclusion and Access",null,null,null,"R-WHOLE OF THE DISTRICT",0,0,3156554.92,4297001,7817599,8095825,8018867]
["Executive And Council","Operational:Typical Work Streams:Community Development:Community Initiatives",0,"Work Streams","A comprehensive; responsive and sustainable social protection system","Inclusion and Access",null,null,null,"R-WHOLE OF THE DISTRICT",0,0,0,0,3000000,3300000,3560000]
["Executive And Council","Operational:Typical Work Streams:Community Development:Disability","Disab200","Work Streams","A comprehensive; responsive and sustainable social protection system","Inclusion and Access",null,null,null,"R-WHOLE OF THE DISTRICT",0,0,238442.87,427000,446216,466741,488211]
["Executive And Council","Operational:Typical Work Streams:Community Development:Education And Training",0,"Work Streams","A comprehensive; responsive and sustainable social protection system","Inclusion and Access",null,null,null,"R-ADMIN OR HEAD OFFICE",0,0,5356622.32,3751000,2697525,2823833,2647536]
["Executive And Council","Operational:Typical Work Streams:Community Development:Education And Training",0,"Work Streams","A comprehensive; responsive and sustainable social protection system","Inclusion and Access",null,null,null,"R-WHOLE OF THE DISTRICT",0,0,517257,1054000,1301430,1452096,1515092]
["Executive And Council","Operational:Typical Work Streams:Community Development:Elderly",0,"Work Streams","A comprehensive; responsive and sustainable social protection system","Inclusion and Access",null,null,null,"R-ADMIN OR HEAD OFFICE",0,0,856365.06,739400,772674,808217,845395]
["Executive And Council","Operational:Typical Work Streams:Community Development:Elderly",0,"Work Streams","A comprehensive; responsive and sustainable social protection system","Inclusion and Access",null,null,null,"R-WHOLE OF THE DISTRICT",0,0,81716.399999999994,158100,165215,172814,180764]
["Executive And Council","Operational:Typical Work Streams:Community Development:Gender Development",0,"Work Streams","A comprehensive; responsive and sustainable social protection system","Inclusion and Access",null,null,null,"R-WHOLE OF THE DISTRICT",0,0,2734660.04,2924200,2255791,2359556,2468095]
["Executive And Council","Operational:Typical Work Streams:Community Development:Youth Projects:Youth Development",0,"Work Streams","A comprehensive; responsive and sustainable social protection system","Inclusion and Access",null,null,null,"R-WHOLE OF THE DISTRICT",0,0,983451.6,2432723,1942194,2031537,2124986]
["Executive And Council","Operational:Typical Work Streams:District Initiatives And Assistance To Municipalities:Assistance To",0,"Work Streams","A skilled and capable workforce to support an inclusive growth path","Inclusion and Access",null,null,null,"R-WHOLE OF THE DISTRICT",0,0,0,685072,715900,748831,783277]
["Executive And Council","Operational:Typical Work Streams:Expanded Public Works Programme:Project",0,"Work Streams","An efficient; effective and development-oriented public service","Inclusion and Access",null,null,null,"R-ADMIN OR HEAD OFFICE",0,0,9800027.6799999997,10021497,10472464,10954198,11458090]
["Executive And Council","Operational:Typical Work Streams:Functions And Events:Special Events And Functions",0,"Work Streams","An efficient; effective and development-oriented public service","Inclusion and Access",null,null,null,"R-ADMIN OR HEAD OFFICE",0,0,670872.94999999995,493420,315623,330142,345329]
["Executive And Council","Operational:Typical Work Streams:Functions And Events:Special Events And Functions",0,"Work Streams","An efficient; effective and development-oriented public service","Inclusion and Access",null,null,null,"R-WHOLE OF THE DISTRICT",0,0,4806721.4400000004,4850913,3533206,3638198,3805558]
["Executive And Council","Operational:Typical Work Streams:Indigent And Cultural Management And Services",0,"Work Streams","Responsive; accountable; effective and efficient local government","Inclusion and Access",null,null,null,"R-WHOLE OF THE DISTRICT",0,0,542597.47,1047576,2153324,2341336,1897747]
["Executive And Council","Operational:Typical Work Streams:Research And Development",0,"Work Streams","An efficient; effective and development-oriented public service","Inclusion and Access",null,null,null,"R-ADMIN OR HEAD OFFICE",0,0,57700,1247824,803976,840958,879643]
["Executive And Council","Operational:Typical Work Streams:Strategic Management And Governance:Administrative Strategy And Pla",0,"Work Streams","Responsive; accountable; effective and efficient local government","Spatial Integration",null,null,null,"R-ADMIN OR HEAD OFFICE",0,0,7845835.1500000004,6319601,8411197,8798110,9202825]
["Executive And Council","Operational:Typical Work Streams:Strategic Management And Governance:Communication And Development",0,"Work Streams","Responsive; accountable; effective and efficient local government","Inclusion and Access",null,null,null,"R-ADMIN OR HEAD OFFICE",0,0,2368414.52,887755,1136704,1188993,1243686]
["Executive And Council","Operational:Typical Work Streams:Strategic Management And Governance:Communication And Development",0,"Work Streams","Responsive; accountable; effective and efficient local government","Inclusion and Access",null,null,null,"R-WHOLE OF THE DISTRICT",0,0,2025499,2989474,2813700,2943130,3078515]
["Executive And Council","Operational:Typical Work Streams:Strategic Management And Governance:Risk Management",0,"Work Streams","Responsive; accountable; effective and efficient local government","Inclusion and Access",null,null,null,"R-ADMIN OR HEAD OFFICE",0,0,7440,249566,950904,1000166,285342]
["Executive And Council","Operational:Typical Work Streams:Ward Committees:Meetings",0,"Work Streams","Responsive; accountable; effective and efficient local government","Inclusion and Access",null,null,null,"R-ADMIN OR HEAD OFFICE",0,0,57600,188083,196547,205588,215045]
["Executive And Council","Operational:Typical Work Streams:Ward Committees:Meetings",0,"Work Streams","Responsive; accountable; effective and efficient local government","Inclusion and Access",null,null,null,"R-WHOLE OF THE DISTRICT",0,0,29999,177617,185609,194147,203078]
["Executive And Council","Tws:Communication & Public Participation:Newsletters",0,"Work Streams","Sustainable human settlements and improved quality of household life","Inclusion and Access",null,null,null,"R-ADMIN OR HEAD OFFICE",0,0,0,0,500000,520000,530000]
["Finance And Administration","Operational:Municipal Running Cost","M123","Municipal Running Cost","Sustainable human settlements and improved quality of household life","Governance",null,null,null,"R-ADMIN OR HEAD OFFICE",0,0,282289776.79000002,289505624,294912857,325963003,343261854]
["Finance And Administration","Operational:Municipal Running Cost","M123","Municipal Running Cost","Sustainable human settlements and improved quality of household life","Governance",null,null,null,"R-WHOLE OF THE DISTRICT",0,0,13427360.109999999,0,0,0,0]
["Finance And Administration","Operational:Typical Work Streams:Capacity Building Training And Development:Workshops; Seminars And ",0,"Work Streams","A skilled and capable workforce to support an inclusive growth path","Governance",null,null,null,"R-ADMIN OR HEAD OFFICE",0,0,9484015.5700000003,6535619,5836967,6105526,6378391]
["Finance And Administration","Operational:Typical Work Streams:Financial Management Grant:Financial Systems",0,"Work Streams","Responsive; accountable; effective and efficient local government","Governance",null,null,null,"R-ADMIN OR HEAD OFFICE",0,0,0,554404,554404,554404,554404]
["Finance And Administration","Operational:Typical Work Streams:Financial Management Grant:Interns Compensation",0,"Work Streams","Responsive; accountable; effective and efficient local government","Governance",null,null,null,"R-ADMIN OR HEAD OFFICE",0,0,0,776166,721166,771166,771166]
["Finance And Administration","Operational:Typical Work Streams:Financial Management Grant:Training Minimum Competency",0,"Work Streams","Responsive; accountable; effective and efficient local government","Governance",null,null,null,"R-ADMIN OR HEAD OFFICE",0,0,0,784430,724430,774430,774430]
["Finance And Administration","Operational:Typical Work Streams:Functions And Events:Events And Organisations",0,"Work Streams","An efficient; effective and development-oriented public service","Inclusion and Access",null,null,null,"R-ADMIN OR HEAD OFFICE",0,0,749507.62,993713,1038431,1086198,1136164]
["Finance And Administration","Operational:Typical Work Streams:Human Resources:Employee Assistance Programme",0,"Work Streams","Responsive; accountable; effective and efficient local government","Governance",null,null,null,"R-ADMIN OR HEAD OFFICE",0,0,984332.12,1060010,1107711,1158666,1211964]
["Finance And Administration","Operational:Typical Work Streams:Human Resources:Human Resource Management",0,"Work Streams","Responsive; accountable; effective and efficient local government","Governance",null,null,null,"R-ADMIN OR HEAD OFFICE",0,0,179015.08,769046,803654,840622,879290]
["Finance And Administration","Operational:Typical Work Streams:Occupational Health And Safety",0,"Work Streams","Responsive; accountable; effective and efficient local government","Inclusion and Access",null,null,null,"R-ADMIN OR HEAD OFFICE",0,0,444447.47,483109,504848,528072,552364]
["Finance And Administration","Operational:Typical Work Streams:Research And Development",0,"Work Streams","An efficient; effective and development-oriented public service","Inclusion and Access",null,null,null,"R-ADMIN OR HEAD OFFICE",0,0,0,4616,4824,5046,5278]
["Finance And Administration","Operational:Typical Work Streams:Website Development And Maintenance",0,"Work Streams","Responsive; accountable; effective and efficient local government","Governance",null,null,null,"R-ADMIN OR HEAD OFFICE",0,0,220600.57,532850,243328,254521,266229]
["Finance And Administration","Operational:Maintenance:Non-Infrastructure:Corrective Maintenance:Emergency:Computer Equipment",0,"Corrective Maintenance","An efficient; effective and development-oriented public service","Governance",null,"Computer Equipment","Computer Equipment","R-ADMIN OR HEAD OFFICE",0,0,544183.1,282124,608320,636302,665572]
["Finance And Administration","Operational:Maintenance:Non-Infrastructure:Corrective Maintenance:Emergency:Furniture And Office Equ",0,"Corrective Maintenance","An efficient; effective and development-oriented public service","Governance",null,"Furniture And Office Equipment","Furniture And Office Equipment","R-ADMIN OR HEAD OFFICE",0,0,529068.68000000005,562294,587597,614627,642900]
["Finance And Administration","Operational:Maintenance:Non-Infrastructure:Preventative Maintenance:Interval Based:Intangible Assets",0,"Preventative Maintenance","An efficient; effective and development-oriented public service","Governance",null,"Licences And Rights","Computer Software And Applications","R-ADMIN OR HEAD OFFICE",0,0,5603139.7300000004,3786579,3956975,4138996,4329390]
["Finance And Administration","Operational:Maintenance:Non-Infrastructure:Corrective Maintenance:Emergency:Machinery And Equipment",0,"Corrective Maintenance",null,"Governance",null,"Machinery And Equipment","Machinery And Equipment","R-ADMIN OR HEAD OFFICE",0,0,848727.43,1054000,1101430,1152096,1205092]
["Finance And Administration","Operational:Maintenance:Non-Infrastructure:Corrective Maintenance:Emergency:Other Assets:Operational",0,"Corrective Maintenance","An efficient; effective and development-oriented public service","Governance",null,"Operational Buildings","Municipal Offices","R-ADMIN OR HEAD OFFICE",0,0,46779.98,254254,265696,277918,290702]
["Finance And Administration","Operational:Maintenance:Non-Infrastructure:Corrective Maintenance:Emergency:Transport Assets",0,"Corrective Maintenance",null,"Governance",null,"Transport Assets","Transport Assets","R-ADMIN OR HEAD OFFICE",0,0,4895875.0599999996,3162000,3304290,3456287,3615277]
["Finance And Administration","Operational:Maintenance:Non-Infrastructure:Preventative Maintenance:Interval Based:Transport Assets",0,"Preventative Maintenance",null,"Governance",null,"Transport Assets","Transport Assets","R-ADMIN OR HEAD OFFICE",0,0,439701.7,527000,550715,576048,602546]
["Finance And Administration","Operational:Maintenance:Infrastructure:Corrective Maintenance:Emergency:Water Supply Infrastructure:",0,"Corrective Maintenance","An efficient; competitive and responsive economic infrastructure network","Inclusion and Access",null,"Water Supply Infrastructure","Capital Spares","R-ADMIN OR HEAD OFFICE",0,0,1189,0,0,0,0]
["Internal Audit","Operational:Municipal Running Cost","M123","Municipal Running Cost","Sustainable human settlements and improved quality of household life","Governance",null,null,null,"R-ADMIN OR HEAD OFFICE",0,0,7974257.3099999996,8539282,8388322,8889160,9420218]
["Internal Audit","Operational:Typical Work Streams:Strategic Management And Governance:Risk Management",0,"Work Streams","Responsive; accountable; effective and efficient local government","Inclusion and Access",null,null,null,"R-ADMIN OR HEAD OFFICE",0,0,3000,20000,20900,21861,22867]
["Community And Social Services","Operational:Municipal Running Cost","M123","Municipal Running Cost","Sustainable human settlements and improved quality of household life","Governance",null,null,null,"R-ADMIN OR HEAD OFFICE",0,0,29229251.989999998,31549055,33104620,35164248,37352166]
["Community And Social Services","Operational:Typical Work Streams:Community Development:Child Programmes",0,"Work Streams","A comprehensive; responsive and sustainable social protection system","Inclusion and Access",null,null,null,"R-ADMIN OR HEAD OFFICE",0,0,2214475.17,529570,786693,824747,605485]
["Community And Social Services","Operational:Typical Work Streams:Community Development:Child Programmes",0,"Work Streams","A comprehensive; responsive and sustainable social protection system","Inclusion and Access",null,null,null,"R-WHOLE OF THE DISTRICT",0,0,91382.61,1573537,1044346,1092386,1142636]
["Community And Social Services","Operational:Typical Work Streams:Community Development:Community Initiatives",0,"Work Streams","A comprehensive; responsive and sustainable social protection system","Inclusion and Access",null,null,null,"R-ADMIN OR HEAD OFFICE",0,0,311660,437300,812472,852689,499987]
["Community And Social Services","Operational:Typical Work Streams:Community Development:Social Development Programme  (Welfare)",0,"Work Streams","A comprehensive; responsive and sustainable social protection system","Inclusion and Access",null,null,null,"R-ADMIN OR HEAD OFFICE",0,0,37000,88705,92696,96960,101421]
["Community And Social Services","Operational:Typical Work Streams:Community Development:Social Development Programme  (Welfare)",0,"Work Streams","A comprehensive; responsive and sustainable social protection system","Inclusion and Access",null,null,null,"R-WHOLE OF THE DISTRICT",0,0,312638.78000000003,482787,504512,527720,551996]
["Community And Social Services","Operational:Typical Work Streams:Emergency And Disaster Management:Disaster Management",0,"Work Streams","A comprehensive; responsive and sustainable social protection system","Governance",null,null,null,"R-ADMIN OR HEAD OFFICE",0,0,2725881.31,4555980,3627584,4844186,4552616]
["Community And Social Services","Operational:Typical Work Streams:Emergency And Disaster Management:Disaster Management",0,"Work Streams","A comprehensive; responsive and sustainable social protection system","Governance",null,null,null,"R-WHOLE OF THE DISTRICT",0,0,835013.26,2411220,2086364,2183668,2100402]
["Community And Social Services","Operational:Typical Work Streams:Public Protection And Safety",0,"Work Streams","All people in South Africa are and feel safe","Inclusion and Access",null,null,null,"R-WHOLE OF THE DISTRICT",0,0,2084568.59,2372849,2479628,2593690,2712999]
["Community And Social Services","Tws:Emergency & Disaster Management:Disaster Relief",0,"Work Streams","A comprehensive; responsive and sustainable social protection system","Governance",null,null,null,"R-ADMIN OR HEAD OFFICE",0,0,0,2880000,4201000,0,0]
["Sport And Recreation","Operational:Municipal Running Cost","M123","Municipal Running Cost","Sustainable human settlements and improved quality of household life","Governance",null,null,null,"R-ADMIN OR HEAD OFFICE",0,0,2746137.09,4586354,4871110,5173687,5495097]
["Sport And Recreation","Operational:Typical Work Streams:Community Development:Community Initiatives",0,"Work Streams","A comprehensive; responsive and sustainable social protection system","Inclusion and Access",null,null,null,"R-ADMIN OR HEAD OFFICE",0,0,1265094.6200000001,2358955,1143995,1197248,1165352]
["Sport And Recreation","Operational:Typical Work Streams:Community Development:Library Programmes",0,"Work Streams","A comprehensive; responsive and sustainable social protection system","Inclusion and Access",null,null,null,"R-ADMIN OR HEAD OFFICE",0,0,372400,459016,179671,187936,196582]
["Sport And Recreation","Operational:Typical Work Streams:Music; Arts And Culture:Festivals",0,"Work Streams","An efficient; effective and development-oriented public service","Inclusion and Access",null,null,null,"R-ADMIN OR HEAD OFFICE",0,0,57478.83,110881,115870,121200,126776]
["Sport And Recreation","Operational:Typical Work Streams:Music; Arts And Culture:Productions And Shows",0,"Work Streams","An efficient; effective and development-oriented public service","Inclusion and Access",null,null,null,"R-ADMIN OR HEAD OFFICE",0,0,888869.11,685407,774684,810788,783662]
["Sport And Recreation","Operational:Typical Work Streams:Sport Development:Marathons; Sport And Recreation",0,"Work Streams","An efficient; effective and development-oriented public service","Inclusion and Access",null,null,null,"R-ADMIN OR HEAD OFFICE",0,0,342452.61,534741,592542,621668,392574]
["Sport And Recreation","Operational:Typical Work Streams:Sport Development:Marathons; Sport And Recreation",0,"Work Streams","An efficient; effective and development-oriented public service","Inclusion and Access",null,null,null,"R-WHOLE OF THE DISTRICT",0,0,1372261.99,1938249,1057281,1106570,1067281]
["Sport And Recreation","Operational:Typical Work Streams:Sport Development:Spaces For Sport",0,"Work Streams","An efficient; effective and development-oriented public service","Inclusion and Access",null,null,null,"R-ADMIN OR HEAD OFFICE",0,0,142006.87,494650,516909,540687,565559]
["Sport And Recreation","Operational:Typical Work Streams:Strategic Management And Governance:Administrative Strategy And Pla",0,"Work Streams","Responsive; accountable; effective and efficient local government","Spatial Integration",null,null,null,"R-ADMIN OR HEAD OFFICE",0,0,0,44352,46348,48480,50710]
["Public Safety","Operational:Municipal Running Cost","M123","Municipal Running Cost","Sustainable human settlements and improved quality of household life","Governance",null,null,null,"R-ADMIN OR HEAD OFFICE",0,0,21337184.079999998,31076107,32642610,34562994,36597893]
["Housing","Operational:Municipal Running Cost","M123","Municipal Running Cost","Sustainable human settlements and improved quality of household life","Governance",null,null,null,"R-ADMIN OR HEAD OFFICE",0,0,9823169.1199999992,12351709,12399586,13162365,13972257]
["Housing","Operational:Municipal Running Cost","M123","Municipal Running Cost","Sustainable human settlements and improved quality of household life","Governance",null,null,null,"R-WHOLE OF THE DISTRICT",0,0,7428239.0999999996,0,0,0,0]
["Housing","Operational:Typical Work Streams:Community Development:Education And Training",0,"Work Streams","A comprehensive; responsive and sustainable social protection system","Inclusion and Access",null,null,null,"R-WHOLE OF THE DISTRICT",0,0,230431.31,335293,250381,261898,273946]
["Housing","Operational:Typical Work Streams:Community Development:Housing Projects",0,"Work Streams","A comprehensive; responsive and sustainable social protection system","Inclusion and Access",null,null,null,"R-ADMIN OR HEAD OFFICE",0,0,2412092.11,2888196,2360336,3203449,3028694]
["Housing","Operational:Typical Work Streams:Community Development:Housing Projects",0,"Work Streams","A comprehensive; responsive and sustainable social protection system","Inclusion and Access",null,null,null,"R-WHOLE OF THE DISTRICT",0,0,314976.95,542456,628223,657612,620218]
["Health","Operational:Municipal Running Cost","M123","Municipal Running Cost","Sustainable human settlements and improved quality of household life","Governance",null,null,null,"R-ADMIN OR HEAD OFFICE",0,0,18406585.960000001,20227899,21181479,22499764,23900184]
["Health","Operational:Typical Work Streams:Aids/Hiv; Tuberculosis And Cancer:Awareness And Information",0,"Work Streams","Sustainable human settlements and improved quality of household life","Inclusion and Access",null,null,null,"R-ADMIN OR HEAD OFFICE",0,0,351385,470950,492143,514782,538461]
["Health","Operational:Typical Work Streams:Health And Welfare:Municipal Health Service",0,"Work Streams","A long and healthy life for all South Africans","Inclusion and Access",null,null,null,"R-ADMIN OR HEAD OFFICE",0,0,382254.78,1133050,1267357,1326322,1295475]
["Planning And Development","Operational:Municipal Running Cost","M123","Municipal Running Cost","Sustainable human settlements and improved quality of household life","Governance",null,null,null,"R-ADMIN OR HEAD OFFICE",0,0,15519457.32,15364742,17415461,17325741,18398740]
["Planning And Development","Operational:Typical Work Streams:Agricultural:Assistance And Support",0,"Work Streams","Vibrant; equitable; sustainable rural communities contributing towards food security for all","Spatial Integration",null,null,null,"R-ADMIN OR HEAD OFFICE",0,0,8580882.2200000007,8654800,12044267,12598301,13177824]
["Planning And Development","Operational:Typical Work Streams:Community Development:Community Initiatives",0,"Work Streams","A comprehensive; responsive and sustainable social protection system","Inclusion and Access",null,null,null,"R-ADMIN OR HEAD OFFICE",0,0,4600313.8099999996,11787800,16318251,11838891,12383479]
["Planning And Development","Operational:Typical Work Streams:Community Development:Community Initiatives",0,"Work Streams","A comprehensive; responsive and sustainable social protection system","Inclusion and Access",null,null,null,"R-WHOLE OF THE DISTRICT",0,0,683963.17,52700,55072,57605,60255]
["Planning And Development","Operational:Typical Work Streams:Community Development:Education And Training",0,"Work Streams","A comprehensive; responsive and sustainable social protection system","Inclusion and Access",null,null,null,"R-ADMIN OR HEAD OFFICE",0,0,4513075.47,4575000,2780875,1862795,1948484]
["Planning And Development","Operational:Typical Work Streams:Community Development:Entrepreneurial Support System",0,"Work Streams","A comprehensive; responsive and sustainable social protection system","Inclusion and Access",null,null,null,"R-ADMIN OR HEAD OFFICE",0,0,9064735.9199999999,11513000,16531085,12584515,13163404]
["Planning And Development","Operational:Typical Work Streams:Expanded Public Works Programme:Project",0,"Work Streams","An efficient; effective and development-oriented public service","Inclusion and Access",null,null,null,"R-ADMIN OR HEAD OFFICE",0,0,855798.73,0,0,0,0]
["Planning And Development","Operational:Typical Work Streams:Local Economic Development:Project Implementation",0,"Work Streams","An efficient; effective and development-oriented public service","Spatial Integration",null,null,null,"R-ADMIN OR HEAD OFFICE",0,0,498611.33,2643200,2762144,2889202,3022106]
["Planning And Development","Operational:Typical Work Streams:Local Economic Development:Project Implementation",0,"Work Streams","An efficient; effective and development-oriented public service","Spatial Integration",null,null,null,"R-WHOLE OF THE DISTRICT",0,0,35030157.799999997,43191559,44267179,44843469,45492269]
["Planning And Development","Operational:Typical Work Streams:Website Development And Maintenance",0,"Work Streams","Responsive; accountable; effective and efficient local government","Governance",null,null,null,"R-ADMIN OR HEAD OFFICE",0,0,0,80262,83874,87732,91768]
["Road Transport","Operational:Municipal Running Cost","M123","Municipal Running Cost","Sustainable human settlements and improved quality of household life","Governance",null,null,null,"R-ADMIN OR HEAD OFFICE",0,0,3556209.58,7300173,5680025,5992743,6323060]
["Road Transport","Operational:Typical Work Streams:Integrated Public Transport Network",0,"Work Streams","An efficient; effective and development-oriented public service","Inclusion and Access",null,null,null,"R-ADMIN OR HEAD OFFICE",0,0,150700,24918,26039,27237,28490]
["Road Transport","Operational:Typical Work Streams:Integrated Public Transport Network",0,"Work Streams","An efficient; effective and development-oriented public service","Inclusion and Access",null,null,null,"R-WHOLE OF THE DISTRICT",0,0,431966.39,424753,864653,907794,485641]
["Road Transport","Operational:Maintenance:Non-Infrastructure:Corrective Maintenance:Emergency:Other Assets:Operational",0,"Corrective Maintenance","An efficient; effective and development-oriented public service","Governance",null,"Operational Buildings","Municipal Offices","R-ADMIN OR HEAD OFFICE",0,0,2967440.73,5788882,5975216,6250075,6537579]
["Road Transport","Operational:Maintenance:Non-Infrastructure:Preventative Maintenance:Interval Based:Other Assets:Oper",0,"Preventative Maintenance","An efficient; effective and development-oriented public service","Governance",null,"Operational Buildings","Municipal Offices","R-ADMIN OR HEAD OFFICE",0,0,1660386.78,3064903,3202824,212154,221913]
["Road Transport","Operational:Maintenance:Infrastructure:Corrective Maintenance:Emergency:Roads Infrastructure:Roads:E",0,"Corrective Maintenance","An efficient; competitive and responsive economic infrastructure network","Inclusion and Access",null,"Roads Infrastructure","Roads","R-WHOLE OF THE DISTRICT",0,0,1094290.8500000001,5912000,7252206,9677807,10122986]
["Environmental Protection","Operational:Municipal Running Cost","M123","Municipal Running Cost","Sustainable human settlements and improved quality of household life","Governance",null,null,null,"R-ADMIN OR HEAD OFFICE",0,0,8477669.9100000001,5810977,6148578,6507654,6888011]
["Environmental Protection","Operational:Typical Work Streams:Communication And Public Participation:Awareness Campaign",0,"Work Streams","Sustainable human settlements and improved quality of household life","Inclusion and Access",null,null,null,"R-WHOLE OF THE DISTRICT",0,0,1699579.93,1390700,1975783,2066670,2161732]
["Environmental Protection","Operational:Typical Work Streams:Community Development:Entrepreneurial Support System",0,"Work Streams","A comprehensive; responsive and sustainable social protection system","Inclusion and Access",null,null,null,"R-ADMIN OR HEAD OFFICE",0,0,0,3670000,5629650,5905478,3853094]
["Environmental Protection","Operational:Typical Work Streams:Environmental:Development Of Standards To Set Environmental By-Laws",0,"Work Streams","Protect and enhance our environmental assets and natural resources","Spatial Integration",null,null,null,"R-ADMIN OR HEAD OFFICE",0,0,821314.36,705790,737551,771478,806966]
["Environmental Protection","Operational:Typical Work Streams:Strategic Management And Governance:Administrative Strategy And Pla",0,"Work Streams","Responsive; accountable; effective and efficient local government","Spatial Integration",null,null,null,"R-ADMIN OR HEAD OFFICE",0,0,607070.96,2116900,2212161,2313920,2420361]
["Environmental Protection","Operational:Typical Work Streams:Strategic Management And Governance:Administrative Strategy And Pla",0,"Work Streams","Responsive; accountable; effective and efficient local government","Spatial Integration",null,null,null,"R-WHOLE OF THE DISTRICT",0,0,189273.92,0,0,0,0]
["Environmental Protection","Operational:Typical Work Streams:Strategic Management And Governance:Develop Integrated Waste Manage",0,"Work Streams","Responsive; accountable; effective and efficient local government","Spatial Integration",null,null,null,"R-ADMIN OR HEAD OFFICE",0,0,473560.86,1583200,1445444,1511934,1581483]
["Water Management","Operational:Municipal Running Cost","M123","Municipal Running Cost","Sustainable human settlements and improved quality of household life","Governance",null,null,null,"R-ADMIN OR HEAD OFFICE",0,0,414226566.74000001,591745296,683718019,715925074,747980666]
["Water Management","Operational:Municipal Running Cost","M123","Municipal Running Cost","Sustainable human settlements and improved quality of household life","Governance",null,null,null,"R-WHOLE OF THE DISTRICT",0,0,295957144.33999997,0,0,0,0]
["Water Management","Operational:Typical Work Streams:Capacity Building Training And Development:Workshops; Seminars And ",0,"Work Streams","A skilled and capable workforce to support an inclusive growth path","Governance",null,null,null,"R-ADMIN OR HEAD OFFICE",0,0,0,0,586827,618515,0]
["Water Management","Operational:Typical Work Streams:Drinking Water Quality",0,"Work Streams","A long and healthy life for all South Africans","Inclusion and Access",null,null,null,"R-ADMIN OR HEAD OFFICE",0,0,86700,1304328,1363022,1425722,1491305]
["Water Management","Operational:Typical Work Streams:Efficient And Effective Public Service",0,"Work Streams","An efficient; effective and development-oriented public service","Inclusion and Access",null,null,null,"R-ADMIN OR HEAD OFFICE",0,0,0,298549,311984,326335,341346]
["Water Management","Operational:Typical Work Streams:Functions And Events:Special Events And Functions",0,"Work Streams","An efficient; effective and development-oriented public service","Inclusion and Access",null,null,null,"R-ADMIN OR HEAD OFFICE",0,0,805250,1136124,1187250,1241863,1298989]
["Water Management","Operational:Typical Work Streams:Health And Welfare:Municipal Health Service",0,"Work Streams","A long and healthy life for all South Africans","Inclusion and Access",null,null,null,"R-ADMIN OR HEAD OFFICE",0,0,0,116425,121664,127260,133114]
["Water Management","Operational:Typical Work Streams:Meter Conversion And Replacement",0,"Work Streams","An efficient; effective and development-oriented public service","Spatial Integration",null,null,null,"R-WHOLE OF THE DISTRICT",0,0,7452728.0599999996,0,3506051,3695378,0]
["Water Management","Operational:Typical Work Streams:Music; Arts And Culture:Productions And Shows",0,"Work Streams","An efficient; effective and development-oriented public service","Inclusion and Access",null,null,null,"R-WHOLE OF THE DISTRICT",0,0,22821054.079999998,0,0,0,0]
["Water Management","Operational:Typical Work Streams:Strategic Management And Governance:Administrative Strategy And Pla",0,"Work Streams","Responsive; accountable; effective and efficient local government","Spatial Integration",null,null,null,"R-ADMIN OR HEAD OFFICE",0,0,3665838.15,2466698,3507457,3676238,2820302]
["Water Management","Operational:Typical Work Streams:Volunteer Programme",0,"Work Streams","An efficient; effective and development-oriented public service","Inclusion and Access",null,null,null,"R-ADMIN OR HEAD OFFICE",0,0,861280,7284648,7612457,7962630,8328911]
["Water Management","Operational:Typical Work Streams:Water Saving Initiatives",0,"Work Streams","An efficient; effective and development-oriented public service","Inclusion and Access",null,null,null,"R-ADMIN OR HEAD OFFICE",0,0,-1049198.3999999999,2164248,2261640,2365675,2474496]
["Water Management","Operational:Maintenance:Infrastructure:Corrective Maintenance:Emergency:Sanitation Infrastructure:Pu",0,"Corrective Maintenance","An efficient; competitive and responsive economic infrastructure network","Inclusion and Access",null,"Sanitation Infrastructure","Pump Station","R-ADMIN OR HEAD OFFICE",0,0,26018378.609999999,10415354,12637070,13232400,11908408]
["Water Management",null,0,null,"An efficient; competitive and responsive economic infrastructure network","Inclusion and Access",null,"Sanitation Infrastructure","Reticulation","R-ADMIN OR HEAD OFFICE",0,0,0,1131432,1182346,1236734,1293624]
["Water Management","Operational:Maintenance:Infrastructure:Corrective Maintenance:Planned:Sanitation Infrastructure:Toil",0,"Corrective Maintenance","An efficient; competitive and responsive economic infrastructure network","Inclusion and Access",null,"Sanitation Infrastructure","Toilet Facilities","R-WHOLE OF THE DISTRICT",0,0,31584860.100000001,10500000,6972500,11477235,12005188]
["Water Management","Operational:Maintenance:Infrastructure:Corrective Maintenance:Emergency:Sanitation Infrastructure:Waste Water Treatment:Mechanical Equipment",0,"Corrective Maintenance","An efficient; competitive and responsive economic infrastructure network","Inclusion and Access",null,"Sanitation Infrastructure","Waste Water Treatment Works","R-ADMIN OR HEAD OFFICE",0,0,275966.74,0,2337367,2463585,0]
["Water Management","Operational:Maintenance:Infrastructure:Corrective Maintenance:Emergency:Water Supply Infrastructure:",0,"Corrective Maintenance","An efficient; competitive and responsive economic infrastructure network","Inclusion and Access",null,"Water Supply Infrastructure","Boreholes","R-ADMIN OR HEAD OFFICE",0,0,3318124.53,4296631,4489979,4696518,4912558]
["Water Management","Operational:Maintenance:Infrastructure:Corrective Maintenance:Emergency:Water Supply Infrastructure:Distribution:Municipal Service Connections",0,"Corrective Maintenance","An efficient; competitive and responsive economic infrastructure network","Inclusion and Access",null,"Water Supply Infrastructure","Distribution","R-ADMIN OR HEAD OFFICE",0,0,55014071.490000002,20000000,31900000,21861400,22867024]
["Water Management","Operational:Maintenance:Infrastructure:Corrective Maintenance:Emergency:Water Supply Infrastructure:",0,"Corrective Maintenance","An efficient; competitive and responsive economic infrastructure network","Inclusion and Access",null,"Water Supply Infrastructure","Pump Stations","R-WHOLE OF THE DISTRICT",0,0,-70000,0,0,0,0]
["Water Management","Operational:Maintenance:Infrastructure:Preventative Maintenance:Condition Based:Water Supply Infrastructure:Pump Station:Pipe Work",0,"Preventative Maintenance","An efficient; competitive and responsive economic infrastructure network","Inclusion and Access",null,"Water Supply Infrastructure","Pump Stations","R-WHOLE OF THE DISTRICT",0,0,2779092.68,0,4000000,4300000,4400000]
["Water Management",null,0,null,"An efficient; competitive and responsive economic infrastructure network","Inclusion and Access",null,"Water Supply Infrastructure","Reservoirs","R-ADMIN OR HEAD OFFICE",0,0,7592865.2199999997,1136528,1187672,1242305,1299451]
["Water Management",null,0,null,"An efficient; competitive and responsive economic infrastructure network","Inclusion and Access",null,"Water Supply Infrastructure","Water Treatment Works","R-ADMIN OR HEAD OFFICE",0,0,0,0,1227118,1293382,0]
["Other","Operational:Municipal Running Cost","M123","Municipal Running Cost","Sustainable human settlements and improved quality of household life","Governance",null,null,null,"R-ADMIN OR HEAD OFFICE",0,0,1335453.47,3194324,3393969,3606091,3831472]
["Other","Operational:Typical Work Streams:Communication And Public Participation:Awareness Campaign",0,"Work Streams","Sustainable human settlements and improved quality of household life","Inclusion and Access",null,null,null,"R-WHOLE OF THE DISTRICT",0,0,1918499.55,1312212,1371262,1434339,1500321]
["Other","Operational:Typical Work Streams:Music; Arts And Culture:Productions And Shows",0,"Work Streams","An efficient; effective and development-oriented public service","Inclusion and Access",null,null,null,"R-WHOLE OF THE DISTRICT",0,0,14485,232850,243328,254521,266229]
["Other","Operational:Typical Work Streams:Research And Development",0,"Work Streams","An efficient; effective and development-oriented public service","Inclusion and Access",null,null,null,"R-WHOLE OF THE DISTRICT",0,0,350666.29,278549,591084,304474,318479]
["Other","Operational:Typical Work Streams:Tourism:Tourism Development",0,"Work Streams","An efficient; effective and development-oriented public service","Growth",null,null,null,"R-WHOLE OF THE DISTRICT",0,0,1676063.24,1861517,1945286,2034768,2128368]
["Parent Operational expenditure",null,null,null,null,null,null,null,null,null,{"$f":"SUM(K7:K141)","v":0},0,1633893907.4499998,1474727785,1622510119,1697929421,1761846534]
[]
["Entities:"]
["List all Operational projects grouped by Entity"]
[]
["Ntinga Development Agency"]
["Planning And Development","Operational:Municipal Running Cost","M123","Municipal Running Cost","Sustainable human settlements and improved quality of household life","Governance",null,null,null,"R-ADMIN OR HEAD OFFICE",0,0,0,31973053,28406265,31852548,34638872]
["Planning And Development","Operational:Municipal Running Cost","M123","Municipal Running Cost","Sustainable human settlements and improved quality of household life","Governance",null,null,null,"R-WHOLE OF THE DISTRICT",0,0,0,97285102,29378785,32307119,34026646]
["Planning And Development","Operational:Typical Work Streams:Local Economic Development:Project Implementation",0,"Work Streams","An efficient; effective and development-oriented public service","Spatial Integration",null,null,null,"R-ADMIN OR HEAD OFFICE",0,0,0,236900,119000,113400,108240]
["Planning And Development","Operational:Typical Work Streams:Local Economic Development:Project Implementation",0,"Work Streams","An efficient; effective and development-oriented public service","Spatial Integration",null,null,null,"R-WHOLE OF THE DISTRICT",0,0,48438858.450000286,48313152,21505782,25787939,28867254]
["Planning And Development","Operational:Typical Work Streams:Research And Development",0,"Work Streams","An efficient; effective and development-oriented public service","Inclusion and Access",null,null,null,"R-WHOLE OF THE DISTRICT",0,0,0,0,0,0,0]
["Planning And Development","Operational:Typical Work Streams:Strategic Management And Governance:Communication And Development",0,"Work Streams","Responsive; accountable; effective and efficient local government","Inclusion and Access",null,null,null,"R-WHOLE OF THE DISTRICT",0,0,0,0,0,0,0]
["Planning And Development","Tws:Community Development:Food Security & Self Help Programmes",0,"Work Streams","A comprehensive; responsive and sustainable social protection system","Inclusion and Access",null,null,null,"R-WHOLE OF THE DISTRICT",0,0,0,2608696,0,0,0]
["Planning And Development","O_Mai_Ninf_Cm_Pl_Machinery And Equipment",0,"Corrective Maintenance",null,"Governance",null,"Machinery And Equipment","Machinery And Equipment","R-WHOLE OF THE DISTRICT",0,0,0,166000,241852,295473,295473]
["Planning And Development","Operational:Non-Infrastructure:New:Investment Properties:Non-Revenue Generating:Improved Property",0,"NEW",null,"Growth",null,"Non-Revenue Generating","Improved Property","R-WHOLE OF THE DISTRICT",0,0,0,0,0,0,0]
["Planning And Development",null,0,null,"An efficient; effective and development-oriented public service","Governance",null,"Operational Buildings","Building Plan Offices","R-ADMIN OR HEAD OFFICE",0,0,0,2874846,159590,175549,175000]
["Planning And Development",null,0,null,"An efficient; effective and development-oriented public service","Governance",null,"Operational Buildings","Depots","R-WHOLE OF THE DISTRICT",0,0,0,55000,59400,59400,59400]
["Planning And Development",null,0,null,"An efficient; effective and development-oriented public service","Governance",null,"Operational Buildings","Municipal Offices","R-WHOLE OF THE DISTRICT",0,0,0,1325888,4020450,3983970,3989842]
["Entity Operational expenditure",null,null,null,null,null,null,null,null,null,{"$f":"SUM(K147:K159)","v":0},0,48438858.450000286,184838637,83891124,94575398,102160727]
["Total Operational expenditure",null,null,null,null,null,null,null,null,null,{"$f":"K142 + K160","v":0},0,1682332765.9000001,1659566422,1706401243,1792504819,1864007261]
[{"$f":"head27a","v":"References"}]
["Must reconcile with Budgeted Operating Expenditure"]
["Asset class as per table A9 and asset sub-class as per table SA34"]
["GPS coordinates correct to seconds. Provide a logical starting point on networked infrastructure."]
["Project Number consists of MSCOA Project Longcode and seq No (sample PO001001002001002001002_00066)",null,null,null,null,null,null,null,null,null,null,"check",{"$f":"+'A4-FinPerf RE'!E35-'SA38'!M161","v":0},{"$f":"+'A4-FinPerf RE'!H35-'SA38'!N161","v":0},{"$f":"+'A4-FinPerf RE'!J35-'SA38'!O161","v":0},{"$f":"+'A4-FinPerf RE'!K35-'SA38'!P161","v":0},{"$f":"+'A4-FinPerf RE'!L35-'SA38'!Q161","v":0}]

{"sheet":"LGDB_EXPORT","index":64,"n_rows":2876,"n_cols":23,"rows_kept":2876,"cut":false,"hidden":false,"merged":[]}
["FORM","YEAR END","MUNCDE","ITEMCODE","SEQ","DESCRIPTION",null,null,null,null,null,null,null,null,null,null,null,null,null,null,null,null,"~"]
["BSD",{"$f":"+MTREF","v":2020},{"$f":"LEFT(muni,(FIND(\" \",muni,1)-1))","v":"DC15"},"1000",1,"Household service targets (000)",null,null,null,null,null,null,null,null,null,null,null,null,null,null,null,null,"~"]
["BSD",2020,"DC15","1100",2,"Water:",null,null,null,null,null,null,null,null,null,null,null,null,null,null,null,null,"~"]
["BSD",2020,"DC15","1101",3,"Piped water inside dwelling",null,null,null,null,null,null,null,null,null,null,null,null,null,null,null,null,"~"]
["BSD",2020,"DC15","1102",4,"Piped water inside yard (but not in dwelling)",null,null,null,null,null,null,null,null,null,null,null,null,null,null,null,null,"~"]
["BSD",2020,"DC15","1103",5,"Using public tap (at least min.service level)",null,null,null,null,null,null,null,null,null,null,null,null,null,null,null,null,"~"]
["BSD",2020,"DC15","1104",6,"Other water supply (at least min.service level)",null,null,null,null,null,null,null,null,null,null,null,null,null,null,null,null,"~"]
["BSD",2020,"DC15","1105",7,"Minimum Service Level and Above sub-total",null,null,null,null,null,null,null,null,null,null,null,null,null,null,null,null,"~"]
["BSD",2020,"DC15","1106",8,"Using public tap (< min.service level)",null,null,null,null,null,null,null,null,null,null,null,null,null,null,null,null,"~"]
["BSD",2020,"DC15","1107",9,"Other water supply (< min.service level)",null,null,null,null,null,null,null,null,null,null,null,null,null,null,null,null,"~"]
["BSD",2020,"DC15","1108",10,"No water supply",null,null,null,null,null,null,null,null,null,null,null,null,null,null,null,null,"~"]
["BSD",2020,"DC15","1109",11,"Below Minimum Service Level sub-total",null,null,null,null,null,null,null,null,null,null,null,null,null,null,null,null,"~"]
["BSD",2020,"DC15","1110",12,"Total number of households",null,null,null,null,null,null,null,null,null,null,null,null,null,null,null,null,"~"]
["BSD",2020,"DC15","1200",13,"Sanitation/sewerage:",null,null,null,null,null,null,null,null,null,null,null,null,null,null,null,null,"~"]
["BSD",2020,"DC15","1201",14,"Flush toilet (connected to sewerage)",null,null,null,null,null,null,null,null,null,null,null,null,null,null,null,null,"~"]
["BSD",2020,"DC15","1202",15,"Flush toilet (with septic tank)",null,null,null,null,null,null,null,null,null,null,null,null,null,null,null,null,"~"]
["BSD",2020,"DC15","1203",16,"Chemical toilet",null,null,null,null,null,null,null,null,null,null,null,null,null,null,null,null,"~"]
["BSD",2020,"DC15","1204",17,"Pit toilet (ventilated)",null,null,null,null,null,null,null,null,null,null,null,null,null,null,null,null,"~"]
["BSD",2020,"DC15","1205",18,"Other toilet provisions (> min.service level)",null,null,null,null,null,null,null,null,null,null,null,null,null,null,null,null,"~"]
["BSD",2020,"DC15","1206",19,"Minimum Service Level and Above sub-total",null,null,null,null,null,null,null,null,null,null,null,null,null,null,null,null,"~"]
["BSD",2020,"DC15","1207",20,"Bucket toilet",null,null,null,null,null,null,null,null,null,null,null,null,null,null,null,null,"~"]
["BSD",2020,"DC15","1208",21,"Other toilet provisions (< min.service level)",null,null,null,null,null,null,null,null,null,null,null,null,null,null,null,null,"~"]
["BSD",2020,"DC15","1209",22,"No toilet provisions",null,null,null,null,null,null,null,null,null,null,null,null,null,null,null,null,"~"]
["BSD",2020,"DC15","1210",23,"Below Minimum Service Level sub-total",null,null,null,null,null,null,null,null,null,null,null,null,null,null,null,null,"~"]
["BSD",2020,"DC15","1211",24,"Total number of households",null,null,null,null,null,null,null,null,null,null,null,null,null,null,null,null,"~"]
["BSD",2020,"DC15","1300",25,"Energy:",null,null,null,null,null,null,null,null,null,null,null,null,null,null,null,null,"~"]
["BSD",2020,"DC15","1301",26,"Electricity (at least min.service level)",null,null,null,null,null,null,null,null,null,null,null,null,null,null,null,null,"~"]
["BSD",2020,"DC15","1302",27,"Electricity - prepaid (min.service level)",null,null,null,null,null,null,null,null,null,null,null,null,null,null,null,null,"~"]
["BSD",2020,"DC15","1303",28,"Minimum Service Level and Above sub-total",null,null,null,null,null,null,null,null,null,null,null,null,null,null,null,null,"~"]
["BSD",2020,"DC15","1304",29,"Electricity (< min.service level)",null,null,null,null,null,null,null,null,null,null,null,null,null,null,null,null,"~"]
["BSD",2020,"DC15","1305",30,"Electricity - prepaid (< min. service level)",null,null,null,null,null,null,null,null,null,null,null,null,null,null,null,null,"~"]
["BSD",2020,"DC15","1306",31,"Other energy sources",null,null,null,null,null,null,null,null,null,null,null,null,null,null,null,null,"~"]
["BSD",2020,"DC15","1307",32,"Below Minimum Service Level sub-total",null,null,null,null,null,null,null,null,null,null,null,null,null,null,null,null,"~"]
["BSD",2020,"DC15","1308",33,"Total number of households",null,null,null,null,null,null,null,null,null,null,null,null,null,null,null,null,"~"]
["BSD",2020,"DC15","1400",34,"Refuse:",null,null,null,null,null,null,null,null,null,null,null,null,null,null,null,null,"~"]
["BSD",2020,"DC15","1401",35,"Removed at least once a week",null,null,null,null,null,null,null,null,null,null,null,null,null,null,null,null,"~"]
["BSD",2020,"DC15","1402",36,"Minimum Service Level and Above sub-total",null,null,null,null,null,null,null,null,null,null,null,null,null,null,null,null,"~"]
["BSD",2020,"DC15","1403",37,"Removed less frequently than once a week",null,null,null,null,null,null,null,null,null,null,null,null,null,null,null,null,"~"]
["BSD",2020,"DC15","1404",38,"Using communal refuse dump",null,null,null,null,null,null,null,null,null,null,null,null,null,null,null,null,"~"]
["BSD",2020,"DC15","1405",39,"Using own refuse dump",null,null,null,null,null,null,null,null,null,null,null,null,null,null,null,null,"~"]
["BSD",2020,"DC15","1406",40,"Other rubbish disposal",null,null,null,null,null,null,null,null,null,null,null,null,null,null,null,null,"~"]
["BSD",2020,"DC15","1407",41,"No rubbish disposal",null,null,null,null,null,null,null,null,null,null,null,null,null,null,null,null,"~"]
["BSD",2020,"DC15","1408",42,"Below Minimum Service Level sub-total",null,null,null,null,null,null,null,null,null,null,null,null,null,null,null,null,"~"]
["BSD",2020,"DC15","1409",43,"Total number of households",null,null,null,null,null,null,null,null,null,null,null,null,null,null,null,null,"~"]
["BSD",2020,"DC15",null,null,null,null,null,null,null,null,null,null,null,null,null,null,null,null,null,null,null,"~"]
["BSD",2020,"DC15","1500",45,"Households receiving Free Basic Service",null,null,null,null,null,null,null,null,null,null,null,null,null,null,null,null,"~"]
["BSD",2020,"DC15","1501",46,"Water (6 kilolitres per household per month)",null,null,null,null,null,null,null,null,null,null,null,null,null,null,null,null,"~"]
["BSD",2020,"DC15","1502",47,"Sanitation (free minimum level service)",null,null,null,null,null,null,null,null,null,null,null,null,null,null,null,null,"~"]
["BSD",2020,"DC15","1503",48,"Electricity/other energy (50kwh per household per month)",null,null,null,null,null,null,null,null,null,null,null,null,null,null,null,null,"~"]
["BSD",2020,"DC15","1504",49,"Refuse (removed at least once a week)",null,null,null,null,null,null,null,null,null,null,null,null,null,null,null,null,"~"]
["BSD",2020,"DC15",null,null,null,null,null,null,null,null,null,null,null,null,null,null,null,null,null,null,null,"~"]
["BSD",2020,"DC15","1600",51,"Cost of Free Basic Services provided - Formal Settlements (R'000)",null,null,null,null,null,null,null,null,null,null,null,null,null,null,null,null,"~"]
["BSD",2020,"DC15","1601",52,"Water (6 kilolitres per indigent household per month)",null,null,null,null,null,null,null,null,null,null,null,null,null,null,null,null,"~"]
["BSD",2020,"DC15","1602",53,"Sanitation (free sanitation service to indigent households)",null,null,null,null,null,null,null,null,null,null,null,null,null,null,null,null,"~"]
["BSD",2020,"DC15","1603",54,"Electricity/other energy (50kwh per indigent household per month)",null,null,null,null,null,null,null,null,null,null,null,null,null,null,null,null,"~"]
["BSD",2020,"DC15","1604",55,"Refuse (removed once a week for indigent households)",null,null,null,null,null,null,null,null,null,null,null,null,null,null,null,null,"~"]
["BSD",2020,"DC15",1606,56,"Cost of Free Basic Services provided - Informal Formal Settlements (R'000)",null,null,null,null,null,null,null,null,null,null,null,null,null,null,null,null,"~"]
["BSD",2020,"DC15",1607,57,"Total cost of FBS provided  ",null,null,null,null,null,null,null,null,null,null,null,null,null,null,null,null,"~"]
["BSD",2020,"DC15",null,null,null,null,null,null,null,null,null,null,null,null,null,null,null,null,null,null,null,"~"]
["BSD",2020,"DC15","1700",58,"Highest level of free service provided per household",null,null,null,null,null,null,null,null,null,null,null,null,null,null,null,null,"~"]
["BSD",2020,"DC15","1701",59,"Property rates (R value threshold)",null,null,null,null,null,null,null,null,null,null,null,null,null,null,null,null,"~"]
["BSD",2020,"DC15","1702",60,"Water (kilolitres per household per month)",null,null,null,null,null,null,null,null,null,null,null,null,null,null,null,null,"~"]
["BSD",2020,"DC15","1703",61,"Sanitation (kilolitres per household per month)",null,null,null,null,null,null,null,null,null,null,null,null,null,null,null,null,"~"]
["BSD",2020,"DC15","1704",62,"Sanitation (Rand per household per month)",null,null,null,null,null,null,null,null,null,null,null,null,null,null,null,null,"~"]
["BSD",2020,"DC15","1705",63,"Electricity (kwh per household per month)",null,null,null,null,null,null,null,null,null,null,null,null,null,null,null,null,"~"]
["BSD",{"$f":"+MTREF","v":2020},{"$f":"LEFT(muni,(FIND(\" \",muni,1)-1))","v":"DC15"},"1706",64,"Refuse (average litres per week)",null,null,null,null,null,null,null,null,null,null,null,null,null,null,null,null,"~"]
["BSD",2020,"DC15","1707",65,"Revenue  cost of subsidised services provided (R'000)",null,null,null,null,null,null,null,null,null,null,null,null,null,null,null,null,"~"]
["BSD",2020,"DC15","1708",66,"Property rates (tariff adjustment) ( impermissable values per section 17 of MPRA)",null,null,null,null,null,null,null,null,null,null,null,null,null,null,null,null,"~"]
["BSD",2020,"DC15","1709",67,"Property rates  exemptions, reductions and rebates and impermissable values in excess of section 17 of MPRA)",null,null,null,null,null,null,null,null,null,null,null,null,null,null,null,null,"~"]
["BSD",2020,"DC15","1710",68,"Water (in excess of 6 kilolitres per indigent household per month)",null,null,null,null,null,null,null,null,null,null,null,null,null,null,null,null,"~"]
["BSD",2020,"DC15","1711",69,"Sanitation (in excess of free sanitation service to indigent households)",null,null,null,null,null,null,null,null,null,null,null,null,null,null,null,null,"~"]
["BSD",2020,"DC15","1712",70,"Electricity/other energy (in excess of 50 kwh per indigent household per month)",null,null,null,null,null,null,null,null,null,null,null,null,null,null,null,null,"~"]
["BSD",2020,"DC15","1713",71,"Refuse (in excess of one removal a week for indigent households)",null,null,null,null,null,null,null,null,null,null,null,null,null,null,null,null,"~"]
["BSD",2020,"DC15","1714",72,"Municipal Housing - rental rebates",null,null,null,null,null,null,null,null,null,null,null,null,null,null,null,null,"~"]
["BSD",2020,"DC15","1715",73,"Housing - top structure subsidies",null,null,null,null,null,null,null,null,null,null,null,null,null,null,null,null,"~"]
["BSD",2020,"DC15","1716",74,"Other",null,null,null,null,null,null,null,null,null,null,null,null,null,null,null,null,"~"]
["BSD",2020,"DC15","1717",75,"Total revenue cost of subsidised services provided ",null,null,null,null,null,null,null,null,null,null,null,null,null,null,null,null,"~"]
["SA11",2020,"DC15",1000,"T","Valuation:",null,null,null,null,null,null,null,null,null,null,null,null,null,null,null,null,"~"]
["SA11",2020,"DC15",1001,"T","Date of valuation:",null,null,null,null,null,null,null,null,null,null,null,null,null,null,null,null,"~"]
["SA11",2020,"DC15",1002,"T","Financial year valuation used",null,null,null,null,null,null,null,null,null,null,null,null,null,null,null,null,"~"]
["SA11",2020,"DC15",1003,"T","Municipal by-laws s6 in place? (Y/N)",null,null,null,null,null,null,null,null,null,null,null,null,null,null,null,null,"~"]
["SA11",2020,"DC15",1004,"T","Municipal/assistant valuer appointed? (Y/N)",null,null,null,null,null,null,null,null,null,null,null,null,null,null,null,null,"~"]
["SA11",2020,"DC15",1005,"T","Municipal partnership s38 used? (Y/N)",null,null,null,null,null,null,null,null,null,null,null,null,null,null,null,null,"~"]
["SA11",2020,"DC15",1006,"V","No. of assistant valuers (FTE)",null,null,null,null,null,null,null,null,null,null,null,null,null,null,null,null,"~"]
["SA11",2020,"DC15",1007,"V","No. of data collectors (FTE)",null,null,null,null,null,null,null,null,null,null,null,null,null,null,null,null,"~"]
["SA11",2020,"DC15",1008,"V","No. of internal valuers (FTE)",null,null,null,null,null,null,null,null,null,null,null,null,null,null,null,null,"~"]
["SA11",2020,"DC15",1009,"V","No. of external valuers (FTE)",null,null,null,null,null,null,null,null,null,null,null,null,null,null,null,null,"~"]
["SA11",2020,"DC15",1010,"V","No. of additional valuers (FTE)",null,null,null,null,null,null,null,null,null,null,null,null,null,null,null,null,"~"]
["SA11",2020,"DC15",1011,"T","Valuation appeal board established? (Y/N)",null,null,null,null,null,null,null,null,null,null,null,null,null,null,null,null,"~"]
["SA11",2020,"DC15",1012,"V","Implementation time of new valuation roll (mths)",null,null,null,null,null,null,null,null,null,null,null,null,null,null,null,null,"~"]
["SA11",2020,"DC15",1020,"V","No. of properties",null,null,null,null,null,null,null,null,null,null,null,null,null,null,null,null,"~"]
["SA11",2020,"DC15",1021,"V","No. of sectional title values",null,null,null,null,null,null,null,null,null,null,null,null,null,null,null,null,"~"]
["SA11",2020,"DC15",1022,"V","No. of unreasonably difficult properties s7(2)",null,null,null,null,null,null,null,null,null,null,null,null,null,null,null,null,"~"]
["SA11",2020,"DC15",1023,"V","No. of supplementary valuations",null,null,null,null,null,null,null,null,null,null,null,null,null,null,null,null,"~"]
["SA11",2020,"DC15",1024,"V","No. of valuation roll amendments",null,null,null,null,null,null,null,null,null,null,null,null,null,null,null,null,"~"]
["SA11",2020,"DC15",1025,"V","No. of objections by rate payers",null,null,null,null,null,null,null,null,null,null,null,null,null,null,null,null,"~"]
["SA11",2020,"DC15",1026,"V","No. of appeals by rate payers",null,null,null,null,null,null,null,null,null,null,null,null,null,null,null,null,"~"]
["SA11",2020,"DC15",1028,"V","No. of successful objections",null,null,null,null,null,null,null,null,null,null,null,null,null,null,null,null,"~"]
["SA11",2020,"DC15",1029,"V","No. of successful objections > 10%",null,null,null,null,null,null,null,null,null,null,null,null,null,null,null,null,"~"]
["SA11",2020,"DC15",1030,"V","Supplementary valuation",null,null,null,null,null,null,null,null,null,null,null,null,null,null,null,null,"~"]
["SA11",2020,"DC15",1031,"V","Public service infrastructure value ",null,null,null,null,null,null,null,null,null,null,null,null,null,null,null,null,"~"]
["SA11",2020,"DC15",1032,"V","Municipality owned property value ",null,null,null,null,null,null,null,null,null,null,null,null,null,null,null,null,"~"]
["SA11",2020,"DC15",1100,"T","Valuation reductions:",null,null,null,null,null,null,null,null,null,null,null,null,null,null,null,null,"~"]
["SA11",2020,"DC15",1101,"V","Valuation reductions-public infrastructure",null,null,null,null,null,null,null,null,null,null,null,null,null,null,null,null,"~"]
["SA11",2020,"DC15",1102,"V","Valuation reductions-nature reserves/park",null,null,null,null,null,null,null,null,null,null,null,null,null,null,null,null,"~"]
["SA11",2020,"DC15",1103,"V","Valuation reductions-mineral rights",null,null,null,null,null,null,null,null,null,null,null,null,null,null,null,null,"~"]
["SA11",2020,"DC15",1104,"V","Valuation reductions-R15,000 threshold",null,null,null,null,null,null,null,null,null,null,null,null,null,null,null,null,"~"]
["SA11",2020,"DC15",1105,"V","Valuation reductions-public worship ",null,null,null,null,null,null,null,null,null,null,null,null,null,null,null,null,"~"]
["SA11",2020,"DC15",1106,"V","Valuation reductions-other",null,null,null,null,null,null,null,null,null,null,null,null,null,null,null,null,"~"]
["SA11",2020,"DC15",1107,"V","Total valuation reductions:",null,null,null,null,null,null,null,null,null,null,null,null,null,null,null,null,"~"]
["SA11",2020,"DC15",1108,"V","Total value used for rating",null,null,null,null,null,null,null,null,null,null,null,null,null,null,null,null,"~"]
["SA11",2020,"DC15",1109,"V","Total land value ",null,null,null,null,null,null,null,null,null,null,null,null,null,null,null,null,"~"]
["SA11",2020,"DC15",1110,"V","Total value of improvements",null,null,null,null,null,null,null,null,null,null,null,null,null,null,null,null,"~"]
["SA11",2020,"DC15",1111,"V","Total market value",null,null,null,null,null,null,null,null,null,null,null,null,null,null,null,null,"~"]
["SA11",2020,"DC15",null,null,null,null,null,null,null,null,null,null,null,null,null,null,null,null,null,null,null,"~"]
["SA11",2020,"DC15",1200,"T","Rating:",null,null,null,null,null,null,null,null,null,null,null,null,null,null,null,null,"~"]
["SA11",2020,"DC15",1202,"T","Residential rate used to determine rate for other categories? (Y/N)",null,null,null,null,null,null,null,null,null,null,null,null,null,null,null,null,"~"]
["SA11",2020,"DC15",1203,"T","Differential rates used? (Y/N)",null,null,null,null,null,null,null,null,null,null,null,null,null,null,null,null,"~"]
["SA11",2020,"DC15",1204,"T","Limit on annual rate increase (s20)? (Y/N)",null,null,null,null,null,null,null,null,null,null,null,null,null,null,null,null,"~"]
["SA11",2020,"DC15",1205,"T","Special rating area used? (Y/N)",null,null,null,null,null,null,null,null,null,null,null,null,null,null,null,null,"~"]
["SA11",2020,"DC15",1206,"V","Phasing-in properties s21 (number)",null,null,null,null,null,null,null,null,null,null,null,null,null,null,null,null,"~"]
["SA11",2020,"DC15",1207,"T","Rates policy accompanying budget? (Y/N)",null,null,null,null,null,null,null,null,null,null,null,null,null,null,null,null,"~"]
["SA11",2020,"DC15",1208,"V","Fixed amount minimum value",null,null,null,null,null,null,null,null,null,null,null,null,null,null,null,null,"~"]
["SA11",2020,"DC15",1209,"P","Non-residential prescribed ratio s19? (%)",null,null,null,null,null,null,null,null,null,null,null,null,null,null,null,null,"~"]
["SA11",2020,"DC15",null,null,null,null,null,null,null,null,null,null,null,null,null,null,null,null,null,null,null,"~"]
["SA11",2020,"DC15",1300,"T","Rate revenue:",null,null,null,null,null,null,null,null,null,null,null,null,null,null,null,null,"~"]
["SA11",2020,"DC15",1301,"V","Rate revenue budget ",null,null,null,null,null,null,null,null,null,null,null,null,null,null,null,null,"~"]
["SA11",2020,"DC15",1302,"V","Rate revenue expected to collect",null,null,null,null,null,null,null,null,null,null,null,null,null,null,null,null,"~"]
["SA11",2020,"DC15",1303,"P","Expected cash collection rate (%)",null,null,null,null,null,null,null,null,null,null,null,null,null,null,null,null,"~"]
["SA11",{"$f":"+MTREF","v":2020},{"$f":"LEFT(muni,(FIND(\" \",muni,1)-1))","v":"DC15"},1304,"V","Special rating areas",null,null,null,null,null,null,null,null,null,null,null,null,null,null,null,null,"~"]
["SA11",2020,"DC15",1305,"V","Rebates, exemptions - indigent",null,null,null,null,null,null,null,null,null,null,null,null,null,null,null,null,"~"]
["SA11",2020,"DC15",1306,"V","Rebates, exemptions - pensioners",null,null,null,null,null,null,null,null,null,null,null,null,null,null,null,null,"~"]
["SA11",2020,"DC15",1307,"V","Rebates, exemptions - bona fide farm",null,null,null,null,null,null,null,null,null,null,null,null,null,null,null,null,"~"]
["SA11",2020,"DC15",1308,"V","Rebates, exemptions - other",null,null,null,null,null,null,null,null,null,null,null,null,null,null,null,null,"~"]
["SA11",2020,"DC15",1309,"V","Phase-in reductions/discounts",null,null,null,null,null,null,null,null,null,null,null,null,null,null,null,null,"~"]
["SA11",2020,"DC15",1310,"V","Total rebates,exemptns,reductns,discs",null,null,null,null,null,null,null,null,null,null,null,null,null,null,null,null,"~"]
["SA12",2020,"DC15",1000,"T","Valuation:",null,null,null,null,null,null,null,null,null,null,null,null,null,null,null,null,"~"]
["SA12",2020,"DC15",1020,"V","No. of properties",null,null,null,null,null,null,null,null,null,null,null,null,null,null,null,null,"~"]
["SA12",2020,"DC15",1021,"V","No. of sectional title property values",null,null,null,null,null,null,null,null,null,null,null,null,null,null,null,null,"~"]
["SA12",2020,"DC15",1022,"V","No. of unreasonably difficult properties s7(2)",null,null,null,null,null,null,null,null,null,null,null,null,null,null,null,null,"~"]
["SA12",2020,"DC15",1023,"V","No. of supplementary valuations",null,null,null,null,null,null,null,null,null,null,null,null,null,null,null,null,"~"]
["SA12",2020,"DC15",1030,"V","Supplementary valuation ",null,null,null,null,null,null,null,null,null,null,null,null,null,null,null,null,"~"]
["SA12",2020,"DC15",1024,"V","No. of valuation roll amendments",null,null,null,null,null,null,null,null,null,null,null,null,null,null,null,null,"~"]
["SA12",2020,"DC15",1025,"V","No. of objections by rate-payers",null,null,null,null,null,null,null,null,null,null,null,null,null,null,null,null,"~"]
["SA12",2020,"DC15",1026,"V","No. of appeals by rate-payers",null,null,null,null,null,null,null,null,null,null,null,null,null,null,null,null,"~"]
["SA12",2020,"DC15",1027,"V","No. of appeals by rate-payers finalised",null,null,null,null,null,null,null,null,null,null,null,null,null,null,null,null,"~"]
["SA12",2020,"DC15",1028,"V","No. of successful objections",null,null,null,null,null,null,null,null,null,null,null,null,null,null,null,null,"~"]
["SA12",2020,"DC15",1029,"V","No. of successful objections > 10%",null,null,null,null,null,null,null,null,null,null,null,null,null,null,null,null,"~"]
["SA12",2020,"DC15",1040,"V","Estimated no. of properties not valued",null,null,null,null,null,null,null,null,null,null,null,null,null,null,null,null,"~"]
["SA12",2020,"DC15",1041,"T","Years since last valuation",null,null,null,null,null,null,null,null,null,null,null,null,null,null,null,null,"~"]
["SA12",2020,"DC15",1042,"T","Frequency of valuation ",null,null,null,null,null,null,null,null,null,null,null,null,null,null,null,null,"~"]
["SA12",2020,"DC15",1043,"T","Method of valuation used",null,null,null,null,null,null,null,null,null,null,null,null,null,null,null,null,"~"]
["SA12",2020,"DC15",1044,"T","Base of valuation",null,null,null,null,null,null,null,null,null,null,null,null,null,null,null,null,"~"]
["SA12",2020,"DC15",1206,"V","Phasing-in properties s21 (number)",null,null,null,null,null,null,null,null,null,null,null,null,null,null,null,null,"~"]
["SA12",2020,"DC15",1046,"T","Combination of rating types used? (Y/N)",null,null,null,null,null,null,null,null,null,null,null,null,null,null,null,null,"~"]
["SA12",2020,"DC15",1047,"T","Flat rate used? (Y/N)",null,null,null,null,null,null,null,null,null,null,null,null,null,null,null,null,"~"]
["SA12",2020,"DC15",1048,"T","Is balance rated by uniform rate/variable rate?",null,null,null,null,null,null,null,null,null,null,null,null,null,null,null,null,"~"]
["SA12",2020,"DC15",1100,"T","Valuation reductions:",null,null,null,null,null,null,null,null,null,null,null,null,null,null,null,null,"~"]
["SA12",2020,"DC15",1101,"V","Valuation reductions-public infrastructure",null,null,null,null,null,null,null,null,null,null,null,null,null,null,null,null,"~"]
["SA12",2020,"DC15",1102,"V","Valuation reductions-nature reserves/park",null,null,null,null,null,null,null,null,null,null,null,null,null,null,null,null,"~"]
["SA12",2020,"DC15",1103,"V","Valuation reductions-mineral rights",null,null,null,null,null,null,null,null,null,null,null,null,null,null,null,null,"~"]
["SA12",2020,"DC15",1104,"V","Valuation reductions-R15,000 threshold ",null,null,null,null,null,null,null,null,null,null,null,null,null,null,null,null,"~"]
["SA12",2020,"DC15",1105,"V","Valuation reductions-public worship",null,null,null,null,null,null,null,null,null,null,null,null,null,null,null,null,"~"]
["SA12",2020,"DC15",1106,"V","Valuation reductions-other",null,null,null,null,null,null,null,null,null,null,null,null,null,null,null,null,"~"]
["SA12",2020,"DC15",1107,"V","Total valuation reductions:",null,null,null,null,null,null,null,null,null,null,null,null,null,null,null,null,"~"]
["SA12",2020,"DC15",1108,"V","Total value used for rating",null,null,null,null,null,null,null,null,null,null,null,null,null,null,null,null,"~"]
["SA12",2020,"DC15",1109,"V","Total land value ",null,null,null,null,null,null,null,null,null,null,null,null,null,null,null,null,"~"]
["SA12",2020,"DC15",1110,"V","Total value of improvements",null,null,null,null,null,null,null,null,null,null,null,null,null,null,null,null,"~"]
["SA12",2020,"DC15",1111,"V","Total market value ",null,null,null,null,null,null,null,null,null,null,null,null,null,null,null,null,"~"]
["SA12",2020,"DC15",1200,"T","Rating:",null,null,null,null,null,null,null,null,null,null,null,null,null,null,null,null,"~"]
["SA12",2020,"DC15",1201,"V","Average rate",null,null,null,null,null,null,null,null,null,null,null,null,null,null,null,null,"~"]
["SA12",2020,"DC15",1301,"V","Rate revenue budget ",null,null,null,null,null,null,null,null,null,null,null,null,null,null,null,null,"~"]
["SA12",2020,"DC15",1302,"V","Rate revenue expected to collect",null,null,null,null,null,null,null,null,null,null,null,null,null,null,null,null,"~"]
["SA12",2020,"DC15",1303,"P","Expected cash collection rate (%)",null,null,null,null,null,null,null,null,null,null,null,null,null,null,null,null,"~"]
["SA12",2020,"DC15",1304,"V","Special rating areas",null,null,null,null,null,null,null,null,null,null,null,null,null,null,null,null,"~"]
["SA12",2020,"DC15",1305,"V","Rebates, exemptions - indigent",null,null,null,null,null,null,null,null,null,null,null,null,null,null,null,null,"~"]
["SA12",2020,"DC15",1306,"V","Rebates, exemptions - pensioners",null,null,null,null,null,null,null,null,null,null,null,null,null,null,null,null,"~"]
["SA12",2020,"DC15",1307,"V","Rebates, exemptions - bona fide farm. ",null,null,null,null,null,null,null,null,null,null,null,null,null,null,null,null,"~"]
["SA12",2020,"DC15",1308,"V","Rebates, exemptions - other ",null,null,null,null,null,null,null,null,null,null,null,null,null,null,null,null,"~"]
["SA12",2020,"DC15",1309,"V","Phase-in reductions/discounts ",null,null,null,null,null,null,null,null,null,null,null,null,null,null,null,null,"~"]
["SA12",2020,"DC15",1310,"V","Total rebates,exemptns,reductns,discs",null,null,null,null,null,null,null,null,null,null,null,null,null,null,null,null,"~"]
["SA12",2020,"DC15",null,null,null,null,null,null,null,null,null,null,null,null,null,null,null,null,null,null,null,"~"]
["SA12",2020,"DC15",null,null,null,null,null,null,null,null,null,null,null,null,null,null,null,null,null,null,null,"~"]
["SA12",2020,"DC15",null,null,null,null,null,null,null,null,null,null,null,null,null,null,null,null,null,null,null,"~"]
["SA12",2020,"DC15",null,null,null,null,null,null,null,null,null,null,null,null,null,null,null,null,null,null,null,"~"]
["SA12",2020,"DC15",1000,"T","Valuation:",null,null,null,null,null,null,null,null,null,null,null,null,null,null,null,null,"~"]
["SA12",2020,"DC15",1020,"V","No. of properties",null,null,null,null,null,null,null,null,null,null,null,null,null,null,null,null,"~"]
["SA12",2020,"DC15",1021,"V","No. of sectional title property values",null,null,null,null,null,null,null,null,null,null,null,null,null,null,null,null,"~"]
["SA12",2020,"DC15",1022,"V","No. of unreasonably difficult properties s7(2)",null,null,null,null,null,null,null,null,null,null,null,null,null,null,null,null,"~"]
["SA12",2020,"DC15",1023,"V","No. of supplementary valuations",null,null,null,null,null,null,null,null,null,null,null,null,null,null,null,null,"~"]
["SA12",2020,"DC15",1030,"V","Supplementary valuation ",null,null,null,null,null,null,null,null,null,null,null,null,null,null,null,null,"~"]
["SA12",2020,"DC15",1024,"V","No. of valuation roll amendments",null,null,null,null,null,null,null,null,null,null,null,null,null,null,null,null,"~"]
["SA12",2020,"DC15",1025,"V","No. of objections by rate-payers",null,null,null,null,null,null,null,null,null,null,null,null,null,null,null,null,"~"]
["SA12",{"$f":"+MTREF","v":2020},{"$f":"LEFT(muni,(FIND(\" \",muni,1)-1))","v":"DC15"},1026,"V","No. of appeals by rate-payers",null,null,null,null,null,null,null,null,null,null,null,null,null,null,null,null,"~"]
["SA12",2020,"DC15",1027,"V","No. of appeals by rate-payers finalised",null,null,null,null,null,null,null,null,null,null,null,null,null,null,null,null,"~"]
["SA12",2020,"DC15",1028,"V","No. of successful objections",null,null,null,null,null,null,null,null,null,null,null,null,null,null,null,null,"~"]
["SA12",2020,"DC15",1029,"V","No. of successful objections > 10%",null,null,null,null,null,null,null,null,null,null,null,null,null,null,null,null,"~"]
["SA12",2020,"DC15",1040,"V","Estimated no. of properties not valued",null,null,null,null,null,null,null,null,null,null,null,null,null,null,null,null,"~"]
["SA12",2020,"DC15",1041,"T","Years since last valuation",null,null,null,null,null,null,null,null,null,null,null,null,null,null,null,null,"~"]
["SA12",2020,"DC15",1042,"T","Frequency of valuation ",null,null,null,null,null,null,null,null,null,null,null,null,null,null,null,null,"~"]
["SA12",2020,"DC15",1043,"T","Method of valuation used",null,null,null,null,null,null,null,null,null,null,null,null,null,null,null,null,"~"]
["SA12",2020,"DC15",1044,"T","Base of valuation",null,null,null,null,null,null,null,null,null,null,null,null,null,null,null,null,"~"]
["SA12",2020,"DC15",1206,"V","Phasing-in properties s21 (number)",null,null,null,null,null,null,null,null,null,null,null,null,null,null,null,null,"~"]
["SA12",2020,"DC15",1046,"T","Combination of rating types used? (Y/N)",null,null,null,null,null,null,null,null,null,null,null,null,null,null,null,null,"~"]
["SA12",2020,"DC15",1047,"T","Flat rate used? (Y/N)",null,null,null,null,null,null,null,null,null,null,null,null,null,null,null,null,"~"]
["SA12",2020,"DC15",1048,"T","Is balance rated by uniform rate/variable rate?",null,null,null,null,null,null,null,null,null,null,null,null,null,null,null,null,"~"]
["SA12",2020,"DC15",1100,"T","Valuation reductions:",null,null,null,null,null,null,null,null,null,null,null,null,null,null,null,null,"~"]
["SA12",2020,"DC15",1101,"V","Valuation reductions-public infrastructure",null,null,null,null,null,null,null,null,null,null,null,null,null,null,null,null,"~"]
["SA12",2020,"DC15",1102,"V","Valuation reductions-nature reserves/park",null,null,null,null,null,null,null,null,null,null,null,null,null,null,null,null,"~"]
["SA12",2020,"DC15",1103,"V","Valuation reductions-mineral rights",null,null,null,null,null,null,null,null,null,null,null,null,null,null,null,null,"~"]
["SA12",2020,"DC15",1104,"V","Valuation reductions-R15,000 threshold ",null,null,null,null,null,null,null,null,null,null,null,null,null,null,null,null,"~"]
["SA12",2020,"DC15",1105,"V","Valuation reductions-public worship",null,null,null,null,null,null,null,null,null,null,null,null,null,null,null,null,"~"]
["SA12",2020,"DC15",1106,"V","Valuation reductions-other",null,null,null,null,null,null,null,null,null,null,null,null,null,null,null,null,"~"]
["SA12",2020,"DC15",1107,"V","Total valuation reductions:",null,null,null,null,null,null,null,null,null,null,null,null,null,null,null,null,"~"]
["SA12",2020,"DC15",1108,"V","Total value used for rating",null,null,null,null,null,null,null,null,null,null,null,null,null,null,null,null,"~"]
["SA12",2020,"DC15",1109,"V","Total land value ",null,null,null,null,null,null,null,null,null,null,null,null,null,null,null,null,"~"]
["SA12",2020,"DC15",1110,"V","Total value of improvements",null,null,null,null,null,null,null,null,null,null,null,null,null,null,null,null,"~"]
["SA12",2020,"DC15",1111,"V","Total market value ",null,null,null,null,null,null,null,null,null,null,null,null,null,null,null,null,"~"]
["SA12",2020,"DC15",1200,"T","Rating:",null,null,null,null,null,null,null,null,null,null,null,null,null,null,null,null,"~"]
["SA12",2020,"DC15",1201,"V","Average rate",null,null,null,null,null,null,null,null,null,null,null,null,null,null,null,null,"~"]
["SA12",2020,"DC15",1301,"V","Rate revenue budget ",null,null,null,null,null,null,null,null,null,null,null,null,null,null,null,null,"~"]
["SA12",2020,"DC15",1302,"V","Rate revenue expected to collect",null,null,null,null,null,null,null,null,null,null,null,null,null,null,null,null,"~"]
["SA12",2020,"DC15",1303,"P","Expected cash collection rate (%)",null,null,null,null,null,null,null,null,null,null,null,null,null,null,null,null,"~"]
["SA12",2020,"DC15",1304,"V","Special rating areas",null,null,null,null,null,null,null,null,null,null,null,null,null,null,null,null,"~"]
["SA12",2020,"DC15",1305,"V","Rebates, exemptions - indigent",null,null,null,null,null,null,null,null,null,null,null,null,null,null,null,null,"~"]
["SA12",2020,"DC15",1306,"V","Rebates, exemptions - pensioners",null,null,null,null,null,null,null,null,null,null,null,null,null,null,null,null,"~"]
["SA12",2020,"DC15",1307,"V","Rebates, exemptions - bona fide farm. ",null,null,null,null,null,null,null,null,null,null,null,null,null,null,null,null,"~"]
["SA12",2020,"DC15",1308,"V","Rebates, exemptions - other ",null,null,null,null,null,null,null,null,null,null,null,null,null,null,null,null,"~"]
["SA12",2020,"DC15",1309,"V","Phase-in reductions/discounts ",null,null,null,null,null,null,null,null,null,null,null,null,null,null,null,null,"~"]
["SA12",2020,"DC15",1310,"V","Total rebates,exemptns,reductns,discs",null,null,null,null,null,null,null,null,null,null,null,null,null,null,null,null,"~"]
["SA13",2020,"DC15",1000,1,"Property rates (rate in the Rand)",null,null,null,null,null,null,null,null,null,null,null,null,null,null,null,null,"~"]
["SA13",2020,"DC15",1001,2,"Residential properties",null,null,null,null,null,null,null,null,null,null,null,null,null,null,null,null,"~"]
["SA13",2020,"DC15",1002,3,"Residential properties - vacant land",null,null,null,null,null,null,null,null,null,null,null,null,null,null,null,null,"~"]
["SA13",2020,"DC15",1003,4,"Formal/informal settlements",null,null,null,null,null,null,null,null,null,null,null,null,null,null,null,null,"~"]
["SA13",2020,"DC15",1004,5,"Small holdings",null,null,null,null,null,null,null,null,null,null,null,null,null,null,null,null,"~"]
["SA13",2020,"DC15",1005,6,"Farm properties - used",null,null,null,null,null,null,null,null,null,null,null,null,null,null,null,null,"~"]
["SA13",2020,"DC15",1006,7,"Farm properties - not used",null,null,null,null,null,null,null,null,null,null,null,null,null,null,null,null,"~"]
["SA13",2020,"DC15",1007,8,"Industrial properties",null,null,null,null,null,null,null,null,null,null,null,null,null,null,null,null,"~"]
["SA13",2020,"DC15",1008,9,"Business and commercial properties",null,null,null,null,null,null,null,null,null,null,null,null,null,null,null,null,"~"]
["SA13",2020,"DC15",1009,10,"Communal land - residential",null,null,null,null,null,null,null,null,null,null,null,null,null,null,null,null,"~"]
["SA13",2020,"DC15",1010,11,"Communal land - small holdings",null,null,null,null,null,null,null,null,null,null,null,null,null,null,null,null,"~"]
["SA13",2020,"DC15",1011,12,"Communal land - farm property",null,null,null,null,null,null,null,null,null,null,null,null,null,null,null,null,"~"]
["SA13",2020,"DC15",1012,13,"Communal land - business and commercial",null,null,null,null,null,null,null,null,null,null,null,null,null,null,null,null,"~"]
["SA13",2020,"DC15",1013,14,"Communal land - other",null,null,null,null,null,null,null,null,null,null,null,null,null,null,null,null,"~"]
["SA13",2020,"DC15",1014,15,"State-owned properties",null,null,null,null,null,null,null,null,null,null,null,null,null,null,null,null,"~"]
["SA13",2020,"DC15",1015,16,"Municipal properties",null,null,null,null,null,null,null,null,null,null,null,null,null,null,null,null,"~"]
["SA13",2020,"DC15",1016,17,"Public service infrastructure",null,null,null,null,null,null,null,null,null,null,null,null,null,null,null,null,"~"]
["SA13",2020,"DC15",1017,18,"Privately owned towns serviced by the owner",null,null,null,null,null,null,null,null,null,null,null,null,null,null,null,null,"~"]
["SA13",2020,"DC15",1018,19,"State trust land",null,null,null,null,null,null,null,null,null,null,null,null,null,null,null,null,"~"]
["SA13",2020,"DC15",1019,20,"Restitution and redistribution properties",null,null,null,null,null,null,null,null,null,null,null,null,null,null,null,null,"~"]
["SA13",2020,"DC15",1020,21,"Protected areas",null,null,null,null,null,null,null,null,null,null,null,null,null,null,null,null,"~"]
["SA13",2020,"DC15",1021,22,"National monuments properties",null,null,null,null,null,null,null,null,null,null,null,null,null,null,null,null,"~"]
["SA13",2020,"DC15",null,null,null,null,null,null,null,null,null,null,null,null,null,null,null,null,null,null,null,"~"]
["SA13",2020,"DC15",1030,23,"Exemptions, reductions and rebates (Rands)",null,null,null,null,null,null,null,null,null,null,null,null,null,null,null,null,"~"]
["SA13",2020,"DC15",1031,24,"Residential properties",null,null,null,null,null,null,null,null,null,null,null,null,null,null,null,null,"~"]
["SA13",2020,"DC15",1032,25,"R15 000 threshhold rebate",null,null,null,null,null,null,null,null,null,null,null,null,null,null,null,null,"~"]
["SA13",2020,"DC15",1033,26,"General residential rebate",null,null,null,null,null,null,null,null,null,null,null,null,null,null,null,null,"~"]
["SA13",{"$f":"+MTREF","v":2020},{"$f":"LEFT(muni,(FIND(\" \",muni,1)-1))","v":"DC15"},1034,27,"Indigent rebate or exemption",null,null,null,null,null,null,null,null,null,null,null,null,null,null,null,null,"~"]
["SA13",2020,"DC15",1035,28,"Pensioners/social grants rebate or exemption ",null,null,null,null,null,null,null,null,null,null,null,null,null,null,null,null,"~"]
["SA13",2020,"DC15",1036,29,"Temporary relief rebate or exemption",null,null,null,null,null,null,null,null,null,null,null,null,null,null,null,null,"~"]
["SA13",2020,"DC15",1037,30," Bona fide farmers rebate or exemption",null,null,null,null,null,null,null,null,null,null,null,null,null,null,null,null,"~"]
["SA13",2020,"DC15",1038,31,"Other rebates or exemptions",null,null,null,null,null,null,null,null,null,null,null,null,null,null,null,null,"~"]
["SA13",2020,"DC15",null,null,null,null,null,null,null,null,null,null,null,null,null,null,null,null,null,null,null,"~"]
["SA13",2020,"DC15",1100,32,"Water tariffs",null,null,null,null,null,null,null,null,null,null,null,null,null,null,null,null,"~"]
["SA13",2020,"DC15",1101,33,"Domestic",null,null,null,null,null,null,null,null,null,null,null,null,null,null,null,null,"~"]
["SA13",2020,"DC15",1102,34,"Basic charge/fixed fee (Rands/month)",null,null,null,null,null,null,null,null,null,null,null,null,null,null,null,null,"~"]
["SA13",2020,"DC15",1103,35,"Service point - vacant land (Rands/month)",null,null,null,null,null,null,null,null,null,null,null,null,null,null,null,null,"~"]
["SA13",2020,"DC15",1104,36,"Water usage - flat rate tariff (c/kl)",null,null,null,null,null,null,null,null,null,null,null,null,null,null,null,null,"~"]
["SA13",2020,"DC15",1105,37,"Water usage - life line tariff",null,null,null,null,null,null,null,null,null,null,null,null,null,null,null,null,"~"]
["SA13",2020,"DC15",1106,38,"Water usage - Block 1 (c/kl)",null,null,null,null,null,null,null,null,null,null,null,null,null,null,null,null,"~"]
["SA13",2020,"DC15",1107,39,"Water usage - Block 2 (c/kl)",null,null,null,null,null,null,null,null,null,null,null,null,null,null,null,null,"~"]
["SA13",2020,"DC15",1108,40,"Water usage - Block 3 (c/kl)",null,null,null,null,null,null,null,null,null,null,null,null,null,null,null,null,"~"]
["SA13",2020,"DC15",1109,41,"Water usage - Block 4 (c/kl)",null,null,null,null,null,null,null,null,null,null,null,null,null,null,null,null,"~"]
["SA13",2020,"DC15",1110,42,"Other",null,null,null,null,null,null,null,null,null,null,null,null,null,null,null,null,"~"]
["SA13",2020,"DC15",null,null,null,null,null,null,null,null,null,null,null,null,null,null,null,null,null,null,null,"~"]
["SA13",2020,"DC15",1200,43,"Waste water tariffs",null,null,null,null,null,null,null,null,null,null,null,null,null,null,null,null,"~"]
["SA13",2020,"DC15",1201,44,"Domestic",null,null,null,null,null,null,null,null,null,null,null,null,null,null,null,null,"~"]
["SA13",2020,"DC15",1202,45,"Basic charge/fixed fee (Rands/month)",null,null,null,null,null,null,null,null,null,null,null,null,null,null,null,null,"~"]
["SA13",2020,"DC15",1203,46,"Service point - vacant land (Rands/month)",null,null,null,null,null,null,null,null,null,null,null,null,null,null,null,null,"~"]
["SA13",2020,"DC15",1204,47,"Waste water - flat rate tariff (c/kl)",null,null,null,null,null,null,null,null,null,null,null,null,null,null,null,null,"~"]
["SA13",2020,"DC15",1205,48,"Volumetric charge - Block 1 (c/kl)",null,null,null,null,null,null,null,null,null,null,null,null,null,null,null,null,"~"]
["SA13",2020,"DC15",1206,49,"Volumetric charge - Block 2 (c/kl)",null,null,null,null,null,null,null,null,null,null,null,null,null,null,null,null,"~"]
["SA13",2020,"DC15",1207,50,"Volumetric charge - Block 3 (c/kl)",null,null,null,null,null,null,null,null,null,null,null,null,null,null,null,null,"~"]
["SA13",2020,"DC15",1208,51,"Volumetric charge - Block 4 (c/kl)",null,null,null,null,null,null,null,null,null,null,null,null,null,null,null,null,"~"]
["SA13",2020,"DC15",1209,52,"Other",null,null,null,null,null,null,null,null,null,null,null,null,null,null,null,null,"~"]
["SA13",2020,"DC15",null,null,null,null,null,null,null,null,null,null,null,null,null,null,null,null,null,null,null,"~"]
["SA13",2020,"DC15",1300,53,"Electricity tariffs",null,null,null,null,null,null,null,null,null,null,null,null,null,null,null,null,"~"]
["SA13",2020,"DC15",1301,54,"Domestic",null,null,null,null,null,null,null,null,null,null,null,null,null,null,null,null,"~"]
["SA13",2020,"DC15",1302,55,"Basic charge/fixed fee (Rands/month)",null,null,null,null,null,null,null,null,null,null,null,null,null,null,null,null,"~"]
["SA13",2020,"DC15",1303,56,"Service point - vacant land (Rands/month)",null,null,null,null,null,null,null,null,null,null,null,null,null,null,null,null,"~"]
["SA13",2020,"DC15",1304,57,"FBE",null,null,null,null,null,null,null,null,null,null,null,null,null,null,null,null,"~"]
["SA13",2020,"DC15",1305,58,"Life-line tariff - meter",null,null,null,null,null,null,null,null,null,null,null,null,null,null,null,null,"~"]
["SA13",2020,"DC15",1306,59,"Life-line tariff - prepaid",null,null,null,null,null,null,null,null,null,null,null,null,null,null,null,null,"~"]
["SA13",2020,"DC15",1307,60,"Flat rate tariff - meter (c/kwh)",null,null,null,null,null,null,null,null,null,null,null,null,null,null,null,null,"~"]
["SA13",2020,"DC15",1308,61,"Flat rate tariff - prepaid(c/kwh)",null,null,null,null,null,null,null,null,null,null,null,null,null,null,null,null,"~"]
["SA13",2020,"DC15",1309,62,"Meter - IBT Block 1 (c/kwh)",null,null,null,null,null,null,null,null,null,null,null,null,null,null,null,null,"~"]
["SA13",2020,"DC15",1310,63,"Meter - IBT Block 2 (c/kwh)",null,null,null,null,null,null,null,null,null,null,null,null,null,null,null,null,"~"]
["SA13",2020,"DC15",1311,64,"Meter - IBT Block 3 (c/kwh)",null,null,null,null,null,null,null,null,null,null,null,null,null,null,null,null,"~"]
["SA13",2020,"DC15",1312,65,"Meter - IBT Block 4 (c/kwh)",null,null,null,null,null,null,null,null,null,null,null,null,null,null,null,null,"~"]
["SA13",2020,"DC15",1313,66,"Meter - IBT Block 5 (c/kwh)",null,null,null,null,null,null,null,null,null,null,null,null,null,null,null,null,"~"]
["SA13",2020,"DC15",1314,67,"Prepaid - IBT Block 1 (c/kwh)",null,null,null,null,null,null,null,null,null,null,null,null,null,null,null,null,"~"]
["SA13",2020,"DC15",1315,68,"Prepaid - IBT Block 2 (c/kwh)",null,null,null,null,null,null,null,null,null,null,null,null,null,null,null,null,"~"]
["SA13",2020,"DC15",1316,69,"Prepaid - IBT Block 3 (c/kwh)",null,null,null,null,null,null,null,null,null,null,null,null,null,null,null,null,"~"]
["SA13",2020,"DC15",1317,70,"Prepaid - IBT Block 4 (c/kwh)",null,null,null,null,null,null,null,null,null,null,null,null,null,null,null,null,"~"]
["SA13",2020,"DC15",1318,71,"Prepaid - IBT Block 5 (c/kwh)",null,null,null,null,null,null,null,null,null,null,null,null,null,null,null,null,"~"]
["SA13",2020,"DC15",1319,72,"Other",null,null,null,null,null,null,null,null,null,null,null,null,null,null,null,null,"~"]
["SA13",2020,"DC15",null,null,null,null,null,null,null,null,null,null,null,null,null,null,null,null,null,null,null,"~"]
["SA13",2020,"DC15",1400,73,"Waste management tariffs",null,null,null,null,null,null,null,null,null,null,null,null,null,null,null,null,"~"]
["SA13",2020,"DC15",1401,74,"Domestic",null,null,null,null,null,null,null,null,null,null,null,null,null,null,null,null,"~"]
["SA13",2020,"DC15",1402,75,"Street cleaning charge",null,null,null,null,null,null,null,null,null,null,null,null,null,null,null,null,"~"]
["SA13",2020,"DC15",1403,76,"Basic charge/fixed fee",null,null,null,null,null,null,null,null,null,null,null,null,null,null,null,null,"~"]
["SA13",2020,"DC15",1404,77,"80l bin - once a week",null,null,null,null,null,null,null,null,null,null,null,null,null,null,null,null,"~"]
["SA13",2020,"DC15",1405,78,"250l bin - once a week",null,null,null,null,null,null,null,null,null,null,null,null,null,null,null,null,"~"]
["SA14",2020,"DC15",1000,1,"Monthly Account for Household - 'Middle Income Range'",null,null,null,null,null,null,null,null,null,null,null,null,null,null,null,null,"~"]
["SA14",2020,"DC15",1001,2,"Rates and services charges:",null,null,null,null,null,null,null,null,null,null,null,null,null,null,null,null,"~"]
["SA14",2020,"DC15",1002,3,"Property rates",null,null,null,null,null,null,null,null,null,null,null,null,null,null,null,null,"~"]
["SA14",2020,"DC15",1003,4,"Electricity: Basic levy",null,null,null,null,null,null,null,null,null,null,null,null,null,null,null,null,"~"]
["SA14",2020,"DC15",1004,5,"Electricity: Consumption",null,null,null,null,null,null,null,null,null,null,null,null,null,null,null,null,"~"]
["SA14",2020,"DC15",1005,6,"Water: Basic levy",null,null,null,null,null,null,null,null,null,null,null,null,null,null,null,null,"~"]
["SA14",2020,"DC15",1006,7,"Water: Consumption",null,null,null,null,null,null,null,null,null,null,null,null,null,null,null,null,"~"]
["SA14",2020,"DC15",1007,8,"Sanitation",null,null,null,null,null,null,null,null,null,null,null,null,null,null,null,null,"~"]
["SA14",{"$f":"+MTREF","v":2020},{"$f":"LEFT(muni,(FIND(\" \",muni,1)-1))","v":"DC15"},1008,9,"Refuse removal",null,null,null,null,null,null,null,null,null,null,null,null,null,null,null,null,"~"]
["SA14",2020,"DC15",1009,10,"Other",null,null,null,null,null,null,null,null,null,null,null,null,null,null,null,null,"~"]
["SA14",2020,"DC15",1090,11,"sub-total",null,null,null,null,null,null,null,null,null,null,null,null,null,null,null,null,"~"]
["SA14",2020,"DC15",1091,12,"VAT on Services",null,null,null,null,null,null,null,null,null,null,null,null,null,null,null,null,"~"]
["SA14",2020,"DC15",1095,13,"Total large household bill:",null,null,null,null,null,null,null,null,null,null,null,null,null,null,null,null,"~"]
["SA14",2020,"DC15",1096,14,"% increase/-decrease",null,null,null,null,null,null,null,null,null,null,null,null,null,null,null,null,"~"]
["SA14",2020,"DC15",null,null,null,null,null,null,null,null,null,null,null,null,null,null,null,null,null,null,null,"~"]
["SA14",2020,"DC15",1100,15,"Monthly Account for Household - 'Affordable Range' ",null,null,null,null,null,null,null,null,null,null,null,null,null,null,null,null,"~"]
["SA14",2020,"DC15",1101,16,"Rates and services charges:",null,null,null,null,null,null,null,null,null,null,null,null,null,null,null,null,"~"]
["SA14",2020,"DC15",1102,17,"Property rates",null,null,null,null,null,null,null,null,null,null,null,null,null,null,null,null,"~"]
["SA14",2020,"DC15",1103,18,"Electricity: Basic levy",null,null,null,null,null,null,null,null,null,null,null,null,null,null,null,null,"~"]
["SA14",2020,"DC15",1110,19,"Electricity: Consumption",null,null,null,null,null,null,null,null,null,null,null,null,null,null,null,null,"~"]
["SA14",2020,"DC15",1107,20,"Water: Basic levy",null,null,null,null,null,null,null,null,null,null,null,null,null,null,null,null,"~"]
["SA14",2020,"DC15",1104,21,"Water: Consumption",null,null,null,null,null,null,null,null,null,null,null,null,null,null,null,null,"~"]
["SA14",2020,"DC15",1105,22,"Sanitation",null,null,null,null,null,null,null,null,null,null,null,null,null,null,null,null,"~"]
["SA14",2020,"DC15",1106,23,"Refuse removal",null,null,null,null,null,null,null,null,null,null,null,null,null,null,null,null,"~"]
["SA14",2020,"DC15",1108,24,"Other",null,null,null,null,null,null,null,null,null,null,null,null,null,null,null,null,"~"]
["SA14",2020,"DC15",1190,25,"sub-total",null,null,null,null,null,null,null,null,null,null,null,null,null,null,null,null,"~"]
["SA14",2020,"DC15",1191,26,"VAT on Services",null,null,null,null,null,null,null,null,null,null,null,null,null,null,null,null,"~"]
["SA14",2020,"DC15",1195,27,"Total small household bill:",null,null,null,null,null,null,null,null,null,null,null,null,null,null,null,null,"~"]
["SA14",2020,"DC15",1196,28,"% increase/-decrease",null,null,null,null,null,null,null,null,null,null,null,null,null,null,null,null,"~"]
["SA14",2020,"DC15",null,null,null,null,null,null,null,null,null,null,null,null,null,null,null,null,null,null,null,"~"]
["SA14",2020,"DC15",1200,29,"Monthly Account for Household - 'Indigent' HH receiving FBS",null,null,null,null,null,null,null,null,null,null,null,null,null,null,null,null,"~"]
["SA14",2020,"DC15",1201,30,"Rates and services charges:",null,null,null,null,null,null,null,null,null,null,null,null,null,null,null,null,"~"]
["SA14",2020,"DC15",1202,31,"Property rates",null,null,null,null,null,null,null,null,null,null,null,null,null,null,null,null,"~"]
["SA14",2020,"DC15",1203,32,"Electricity: Basic levy",null,null,null,null,null,null,null,null,null,null,null,null,null,null,null,null,"~"]
["SA14",2020,"DC15",1207,33,"Electricity: Consumption",null,null,null,null,null,null,null,null,null,null,null,null,null,null,null,null,"~"]
["SA14",2020,"DC15",1208,34,"Water: Basic levy",null,null,null,null,null,null,null,null,null,null,null,null,null,null,null,null,"~"]
["SA14",2020,"DC15",1204,35,"Water: Consumption",null,null,null,null,null,null,null,null,null,null,null,null,null,null,null,null,"~"]
["SA14",2020,"DC15",1205,36,"Sanitation",null,null,null,null,null,null,null,null,null,null,null,null,null,null,null,null,"~"]
["SA14",2020,"DC15",1206,37,"Refuse removal",null,null,null,null,null,null,null,null,null,null,null,null,null,null,null,null,"~"]
["SA14",2020,"DC15",1209,38,"Other",null,null,null,null,null,null,null,null,null,null,null,null,null,null,null,null,"~"]
["SA14",2020,"DC15",1290,39,"sub-total",null,null,null,null,null,null,null,null,null,null,null,null,null,null,null,null,"~"]
["SA14",2020,"DC15",1291,40,"VAT on Services",null,null,null,null,null,null,null,null,null,null,null,null,null,null,null,null,"~"]
["SA14",2020,"DC15",1295,41,"Total small household bill:",null,null,null,null,null,null,null,null,null,null,null,null,null,null,null,null,"~"]
["SA14",2020,"DC15",1296,42,"% increase/-decrease",null,null,null,null,null,null,null,null,null,null,null,null,null,null,null,null,"~"]
["SA22",2020,"DC15",1000,1,"Councillors (Political Office Bearers plus Other)",null,null,null,null,null,null,null,null,null,null,null,null,null,null,null,null,"~"]
["SA22",2020,"DC15",1001,2,"Basic Salaries and Wages",null,null,null,null,null,null,null,null,null,null,null,null,null,null,null,null,"~"]
["SA22",2020,"DC15",1002,3,"Pension and UIF Contributions",null,null,null,null,null,null,null,null,null,null,null,null,null,null,null,null,"~"]
["SA22",2020,"DC15",1003,4,"Medical Aid Contributions",null,null,null,null,null,null,null,null,null,null,null,null,null,null,null,null,"~"]
["SA22",2020,"DC15",1004,5,"Motor Vehicle Allowance",null,null,null,null,null,null,null,null,null,null,null,null,null,null,null,null,"~"]
["SA22",2020,"DC15",1005,6,"Cellphone Allowance",null,null,null,null,null,null,null,null,null,null,null,null,null,null,null,null,"~"]
["SA22",2020,"DC15",1006,7,"Housing Allowances",null,null,null,null,null,null,null,null,null,null,null,null,null,null,null,null,"~"]
["SA22",2020,"DC15",1007,8,"Other benefits and allowances",null,null,null,null,null,null,null,null,null,null,null,null,null,null,null,null,"~"]
["SA22",2020,"DC15",1090,9,"Sub Total - Councillors",null,null,null,null,null,null,null,null,null,null,null,null,null,null,null,null,"~"]
["SA22",2020,"DC15",1091,10,"% increase",null,null,null,null,null,null,null,null,null,null,null,null,null,null,null,null,"~"]
["SA22",2020,"DC15",null,null,null,null,null,null,null,null,null,null,null,null,null,null,null,null,null,null,null,"~"]
["SA22",2020,"DC15",1100,11,"Senior Managers of the Municipality",null,null,null,null,null,null,null,null,null,null,null,null,null,null,null,null,"~"]
["SA22",2020,"DC15",1101,12,"Basic Salaries and Wages",null,null,null,null,null,null,null,null,null,null,null,null,null,null,null,null,"~"]
["SA22",2020,"DC15",1102,13,"Pension and UIF Contributions",null,null,null,null,null,null,null,null,null,null,null,null,null,null,null,null,"~"]
["SA22",2020,"DC15",1103,14,"Medical Aid Contributions",null,null,null,null,null,null,null,null,null,null,null,null,null,null,null,null,"~"]
["SA22",2020,"DC15",1110,15,"Overtime",null,null,null,null,null,null,null,null,null,null,null,null,null,null,null,null,"~"]
["SA22",2020,"DC15",1107,16,"Performance Bonus",null,null,null,null,null,null,null,null,null,null,null,null,null,null,null,null,"~"]
["SA22",2020,"DC15",1104,17,"Motor Vehicle Allowance",null,null,null,null,null,null,null,null,null,null,null,null,null,null,null,null,"~"]
["SA22",2020,"DC15",1105,18,"Cellphone Allowance",null,null,null,null,null,null,null,null,null,null,null,null,null,null,null,null,"~"]
["SA22",2020,"DC15",1106,19,"Housing Allowances",null,null,null,null,null,null,null,null,null,null,null,null,null,null,null,null,"~"]
["SA22",2020,"DC15",1108,20,"Other benefits and allowances",null,null,null,null,null,null,null,null,null,null,null,null,null,null,null,null,"~"]
["SA22",2020,"DC15",1111,21,"Payments in lieu of leave",null,null,null,null,null,null,null,null,null,null,null,null,null,null,null,null,"~"]
["SA22",2020,"DC15",1112,22,"Long service awards",null,null,null,null,null,null,null,null,null,null,null,null,null,null,null,null,"~"]
["SA22",2020,"DC15",1113,23,"Post-retirement benefit obligations",null,null,null,null,null,null,null,null,null,null,null,null,null,null,null,null,"~"]
["SA22",2020,"DC15",1190,24,"Sub Total - Senior Managers of Municipality",null,null,null,null,null,null,null,null,null,null,null,null,null,null,null,null,"~"]
["SA22",2020,"DC15",1191,25,"% increase",null,null,null,null,null,null,null,null,null,null,null,null,null,null,null,null,"~"]
["SA22",2020,"DC15",null,null,null,null,null,null,null,null,null,null,null,null,null,null,null,null,null,null,null,"~"]
["SA22",2020,"DC15",1200,26,"Other Municipal Staff",null,null,null,null,null,null,null,null,null,null,null,null,null,null,null,null,"~"]
["SA22",{"$f":"+MTREF","v":2020},{"$f":"LEFT(muni,(FIND(\" \",muni,1)-1))","v":"DC15"},1201,27,"Basic Salaries and Wages",null,null,null,null,null,null,null,null,null,null,null,null,null,null,null,null,"~"]
["SA22",2020,"DC15",1202,28,"Pension and UIF Contributions",null,null,null,null,null,null,null,null,null,null,null,null,null,null,null,null,"~"]
["SA22",2020,"DC15",1203,29,"Medical Aid Contributions",null,null,null,null,null,null,null,null,null,null,null,null,null,null,null,null,"~"]
["SA22",2020,"DC15",1207,30,"Overtime",null,null,null,null,null,null,null,null,null,null,null,null,null,null,null,null,"~"]
["SA22",2020,"DC15",1208,31,"Performance Bonus",null,null,null,null,null,null,null,null,null,null,null,null,null,null,null,null,"~"]
["SA22",2020,"DC15",1204,32,"Motor Vehicle Allowance",null,null,null,null,null,null,null,null,null,null,null,null,null,null,null,null,"~"]
["SA22",2020,"DC15",1205,33,"Cellphone Allowance",null,null,null,null,null,null,null,null,null,null,null,null,null,null,null,null,"~"]
["SA22",2020,"DC15",1206,34,"Housing Allowances",null,null,null,null,null,null,null,null,null,null,null,null,null,null,null,null,"~"]
["SA22",2020,"DC15",1209,35,"Other benefits and allowances",null,null,null,null,null,null,null,null,null,null,null,null,null,null,null,null,"~"]
["SA22",2020,"DC15",1211,36,"Payments in lieu of leave",null,null,null,null,null,null,null,null,null,null,null,null,null,null,null,null,"~"]
["SA22",2020,"DC15",1212,37,"Long service awards",null,null,null,null,null,null,null,null,null,null,null,null,null,null,null,null,"~"]
["SA22",2020,"DC15",1213,38,"Post-retirement benefit obligations",null,null,null,null,null,null,null,null,null,null,null,null,null,null,null,null,"~"]
["SA22",2020,"DC15",1290,39,"Sub Total - Other Municipal Staff",null,null,null,null,null,null,null,null,null,null,null,null,null,null,null,null,"~"]
["SA22",2020,"DC15",1291,40,"% increase",null,null,null,null,null,null,null,null,null,null,null,null,null,null,null,null,"~"]
["SA22",2020,"DC15",null,null,null,null,null,null,null,null,null,null,null,null,null,null,null,null,null,null,null,"~"]
["SA22",2020,"DC15",1295,41,"Total Parent Municipality",null,null,null,null,null,null,null,null,null,null,null,null,null,null,null,null,"~"]
["SA22",2020,"DC15",1297,42,"% increase",null,null,null,null,null,null,null,null,null,null,null,null,null,null,null,null,"~"]
["SA22",2020,"DC15",null,null,null,null,null,null,null,null,null,null,null,null,null,null,null,null,null,null,null,"~"]
["SA22",2020,"DC15",2000,43,"Board Members of Entities",null,null,null,null,null,null,null,null,null,null,null,null,null,null,null,null,"~"]
["SA22",2020,"DC15",2001,44,"Basic Salaries and Wages",null,null,null,null,null,null,null,null,null,null,null,null,null,null,null,null,"~"]
["SA22",2020,"DC15",2002,45,"Pension and UIF Contributions",null,null,null,null,null,null,null,null,null,null,null,null,null,null,null,null,"~"]
["SA22",2020,"DC15",2003,46,"Medical Aid Contributions",null,null,null,null,null,null,null,null,null,null,null,null,null,null,null,null,"~"]
["SA22",2020,"DC15",2010,47,"Overtime",null,null,null,null,null,null,null,null,null,null,null,null,null,null,null,null,"~"]
["SA22",2020,"DC15",2011,48,"Performance Bonus",null,null,null,null,null,null,null,null,null,null,null,null,null,null,null,null,"~"]
["SA22",2020,"DC15",2004,49,"Motor Vehicle Allowance",null,null,null,null,null,null,null,null,null,null,null,null,null,null,null,null,"~"]
["SA22",2020,"DC15",2005,50,"Cellphone Allowance",null,null,null,null,null,null,null,null,null,null,null,null,null,null,null,null,"~"]
["SA22",2020,"DC15",2006,51,"Housing Allowances",null,null,null,null,null,null,null,null,null,null,null,null,null,null,null,null,"~"]
["SA22",2020,"DC15",2008,52,"Other benefits and allowances",null,null,null,null,null,null,null,null,null,null,null,null,null,null,null,null,"~"]
["SA22",2020,"DC15",2007,53,"Board Fees",null,null,null,null,null,null,null,null,null,null,null,null,null,null,null,null,"~"]
["SA22",2020,"DC15",2012,54,"Payments in lieu of leave",null,null,null,null,null,null,null,null,null,null,null,null,null,null,null,null,"~"]
["SA22",2020,"DC15",2013,55,"Long service awards",null,null,null,null,null,null,null,null,null,null,null,null,null,null,null,null,"~"]
["SA22",2020,"DC15",2014,56,"Post-retirement benefit obligations",null,null,null,null,null,null,null,null,null,null,null,null,null,null,null,null,"~"]
["SA22",2020,"DC15",2090,57,"Sub Total - Board Members of Entities",null,null,null,null,null,null,null,null,null,null,null,null,null,null,null,null,"~"]
["SA22",2020,"DC15",2091,58,"% increase",null,null,null,null,null,null,null,null,null,null,null,null,null,null,null,null,"~"]
["SA22",2020,"DC15",null,null,null,null,null,null,null,null,null,null,null,null,null,null,null,null,null,null,null,"~"]
["SA22",2020,"DC15",2100,59,"Senior Managers of Entities",null,null,null,null,null,null,null,null,null,null,null,null,null,null,null,null,"~"]
["SA22",2020,"DC15",2101,60,"Basic Salaries and Wages",null,null,null,null,null,null,null,null,null,null,null,null,null,null,null,null,"~"]
["SA22",2020,"DC15",2102,61,"Pension and UIF Contributions",null,null,null,null,null,null,null,null,null,null,null,null,null,null,null,null,"~"]
["SA22",2020,"DC15",2103,62,"Medical Aid Contributions",null,null,null,null,null,null,null,null,null,null,null,null,null,null,null,null,"~"]
["SA22",2020,"DC15",2110,63,"Overtime",null,null,null,null,null,null,null,null,null,null,null,null,null,null,null,null,"~"]
["SA22",2020,"DC15",2107,64,"Performance Bonus",null,null,null,null,null,null,null,null,null,null,null,null,null,null,null,null,"~"]
["SA22",2020,"DC15",2104,65,"Motor Vehicle Allowance",null,null,null,null,null,null,null,null,null,null,null,null,null,null,null,null,"~"]
["SA22",2020,"DC15",2105,66,"Cellphone Allowance",null,null,null,null,null,null,null,null,null,null,null,null,null,null,null,null,"~"]
["SA22",2020,"DC15",2106,67,"Housing Allowances",null,null,null,null,null,null,null,null,null,null,null,null,null,null,null,null,"~"]
["SA22",2020,"DC15",2108,68,"Other benefits and allowances",null,null,null,null,null,null,null,null,null,null,null,null,null,null,null,null,"~"]
["SA22",2020,"DC15",2111,69,"Payments in lieu of leave",null,null,null,null,null,null,null,null,null,null,null,null,null,null,null,null,"~"]
["SA22",2020,"DC15",2112,70,"Long service awards",null,null,null,null,null,null,null,null,null,null,null,null,null,null,null,null,"~"]
["SA22",2020,"DC15",2113,71,"Post-retirement benefit obligations",null,null,null,null,null,null,null,null,null,null,null,null,null,null,null,null,"~"]
["SA22",2020,"DC15",2190,72,"Sub Total - Senior Managers of Entities",null,null,null,null,null,null,null,null,null,null,null,null,null,null,null,null,"~"]
["SA22",2020,"DC15",2191,73,"% increase",null,null,null,null,null,null,null,null,null,null,null,null,null,null,null,null,"~"]
["SA22",2020,"DC15",null,null,null,null,null,null,null,null,null,null,null,null,null,null,null,null,null,null,null,"~"]
["SA22",2020,"DC15",2200,74,"Other Staff of Entities",null,null,null,null,null,null,null,null,null,null,null,null,null,null,null,null,"~"]
["SA22",2020,"DC15",2201,75,"Basic Salaries and Wages",null,null,null,null,null,null,null,null,null,null,null,null,null,null,null,null,"~"]
["SA22",2020,"DC15",2202,76,"Pension and UIF Contributions",null,null,null,null,null,null,null,null,null,null,null,null,null,null,null,null,"~"]
["SA22",2020,"DC15",2203,77,"Medical Aid Contributions",null,null,null,null,null,null,null,null,null,null,null,null,null,null,null,null,"~"]
["SA22",2020,"DC15",2207,78,"Overtime",null,null,null,null,null,null,null,null,null,null,null,null,null,null,null,null,"~"]
["SA22",2020,"DC15",2208,79,"Performance Bonus",null,null,null,null,null,null,null,null,null,null,null,null,null,null,null,null,"~"]
["SA22",2020,"DC15",2204,80,"Motor Vehicle Allowance",null,null,null,null,null,null,null,null,null,null,null,null,null,null,null,null,"~"]
["SA22",2020,"DC15",2205,81,"Cellphone Allowance",null,null,null,null,null,null,null,null,null,null,null,null,null,null,null,null,"~"]
["SA22",2020,"DC15",2206,82,"Housing Allowances",null,null,null,null,null,null,null,null,null,null,null,null,null,null,null,null,"~"]
["SA22",2020,"DC15",2209,83,"Other benefits and allowances",null,null,null,null,null,null,null,null,null,null,null,null,null,null,null,null,"~"]
["SA22",2020,"DC15",2211,84,"Payments in lieu of leave",null,null,null,null,null,null,null,null,null,null,null,null,null,null,null,null,"~"]
["SA22",2020,"DC15",2212,85,"Long service awards",null,null,null,null,null,null,null,null,null,null,null,null,null,null,null,null,"~"]
["SA22",2020,"DC15",2213,86,"Post-retirement benefit obligations",null,null,null,null,null,null,null,null,null,null,null,null,null,null,null,null,"~"]
["SA22",{"$f":"+MTREF","v":2020},{"$f":"LEFT(muni,(FIND(\" \",muni,1)-1))","v":"DC15"},2290,87,"Sub Total - Other Staff of Entities",null,null,null,null,null,null,null,null,null,null,null,null,null,null,null,null,"~"]
["SA22",2020,"DC15",2291,89,"% increase",null,null,null,null,null,null,null,null,null,null,null,null,null,null,null,null,"~"]
["SA22",2020,"DC15",null,null,null,null,null,null,null,null,null,null,null,null,null,null,null,null,null,null,null,"~"]
["SA22",2020,"DC15",2295,90,"Total Municipal Entities",null,null,null,null,null,null,null,null,null,null,null,null,null,null,null,null,"~"]
["SA22",2020,"DC15",null,null,null,null,null,null,null,null,null,null,null,null,null,null,null,null,null,null,null,"~"]
["SA22",2020,"DC15",2296,91,"TOTAL SALARY, ALLOWANCES & BENEFITS",null,null,null,null,null,null,null,null,null,null,null,null,null,null,null,null,"~"]
["SA22",2020,"DC15",2297,92,"% increase",null,null,null,null,null,null,null,null,null,null,null,null,null,null,null,null,"~"]
["SA22",2020,"DC15",2298,93,"TOTAL MANAGERS AND STAFF",null,null,null,null,null,null,null,null,null,null,null,null,null,null,null,null,"~"]
["SA23",2020,"DC15",1000,1,null,null,null,null,null,null,null,null,null,null,null,null,null,null,null,null,null,"~"]
["SA23",2020,"DC15",1001,2,null,null,null,null,null,null,null,null,null,null,null,null,null,null,null,null,null,"~"]
["SA23",2020,"DC15",1002,3,null,null,null,null,null,null,null,null,null,null,null,null,null,null,null,null,null,"~"]
["SA23",2020,"DC15",1003,4,null,null,null,null,null,null,null,null,null,null,null,null,null,null,null,null,null,"~"]
["SA23",2020,"DC15",1004,5,null,null,null,null,null,null,null,null,null,null,null,null,null,null,null,null,null,"~"]
["SA23",2020,"DC15",1005,6,null,null,null,null,null,null,null,null,null,null,null,null,null,null,null,null,null,"~"]
["SA23",2020,"DC15",1006,7,null,null,null,null,null,null,null,null,null,null,null,null,null,null,null,null,null,"~"]
["SA23",2020,"DC15",1090,8,null,null,null,null,null,null,null,null,null,null,null,null,null,null,null,null,null,"~"]
["SA23",2020,"DC15",null,null,null,null,null,null,null,null,null,null,null,null,null,null,null,null,null,null,null,"~"]
["SA23",2020,"DC15",null,null,null,null,null,null,null,null,null,null,null,null,null,null,null,null,null,null,null,"~"]
["SA23",2020,"DC15",null,null,null,null,null,null,null,null,null,null,null,null,null,null,null,null,null,null,null,"~"]
["SA23",2020,"DC15",null,null,null,null,null,null,null,null,null,null,null,null,null,null,null,null,null,null,null,"~"]
["SA23",2020,"DC15",null,null,null,null,null,null,null,null,null,null,null,null,null,null,null,null,null,null,null,"~"]
["SA23",2020,"DC15",null,null,null,null,null,null,null,null,null,null,null,null,null,null,null,null,null,null,null,"~"]
["SA23",2020,"DC15",null,null,null,null,null,null,null,null,null,null,null,null,null,null,null,null,null,null,null,"~"]
["SA23",2020,"DC15",null,null,null,null,null,null,null,null,null,null,null,null,null,null,null,null,null,null,null,"~"]
["SA23",2020,"DC15",null,null,null,null,null,null,null,null,null,null,null,null,null,null,null,null,null,null,null,"~"]
["SA23",2020,"DC15",null,null,null,null,null,null,null,null,null,null,null,null,null,null,null,null,null,null,null,"~"]
["SA23",2020,"DC15",null,null,null,null,null,null,null,null,null,null,null,null,null,null,null,null,null,null,null,"~"]
["SA23",2020,"DC15",null,null,null,null,null,null,null,null,null,null,null,null,null,null,null,null,null,null,null,"~"]
["SA23",2020,"DC15",null,null,null,null,null,null,null,null,null,null,null,null,null,null,null,null,null,null,null,"~"]
["SA23",2020,"DC15",null,null,null,null,null,null,null,null,null,null,null,null,null,null,null,null,null,null,null,"~"]
["SA23",2020,"DC15",null,null,null,null,null,null,null,null,null,null,null,null,null,null,null,null,null,null,null,"~"]
["SA23",2020,"DC15",null,null,null,null,null,null,null,null,null,null,null,null,null,null,null,null,null,null,null,"~"]
["SA23",2020,"DC15",null,null,null,null,null,null,null,null,null,null,null,null,null,null,null,null,null,null,null,"~"]
["SA23",2020,"DC15",null,null,null,null,null,null,null,null,null,null,null,null,null,null,null,null,null,null,null,"~"]
["SA23",2020,"DC15",null,null,null,null,null,null,null,null,null,null,null,null,null,null,null,null,null,null,null,"~"]
["SA23",2020,"DC15",null,null,null,null,null,null,null,null,null,null,null,null,null,null,null,null,null,null,null,"~"]
["SA23",2020,"DC15",null,null,null,null,null,null,null,null,null,null,null,null,null,null,null,null,null,null,null,"~"]
["SA23",2020,"DC15",null,null,null,null,null,null,null,null,null,null,null,null,null,null,null,null,null,null,null,"~"]
["SA23",2020,"DC15",null,null,null,null,null,null,null,null,null,null,null,null,null,null,null,null,null,null,null,"~"]
["SA23",2020,"DC15",null,null,null,null,null,null,null,null,null,null,null,null,null,null,null,null,null,null,null,"~"]
["SA23",2020,"DC15",null,null,null,null,null,null,null,null,null,null,null,null,null,null,null,null,null,null,null,"~"]
["SA23",2020,"DC15",null,null,null,null,null,null,null,null,null,null,null,null,null,null,null,null,null,null,null,"~"]
["SA23",2020,"DC15",null,null,null,null,null,null,null,null,null,null,null,null,null,null,null,null,null,null,null,"~"]
["SA23",2020,"DC15",null,null,null,null,null,null,null,null,null,null,null,null,null,null,null,null,null,null,null,"~"]
["SA23",2020,"DC15",null,null,null,null,null,null,null,null,null,null,null,null,null,null,null,null,null,null,null,"~"]
["SA23",2020,"DC15",null,null,null,null,null,null,null,null,null,null,null,null,null,null,null,null,null,null,null,"~"]
["SA23",2020,"DC15",null,null,null,null,null,null,null,null,null,null,null,null,null,null,null,null,null,null,null,"~"]
["SA23",2020,"DC15",null,null,null,null,null,null,null,null,null,null,null,null,null,null,null,null,null,null,null,"~"]
["SA23",2020,"DC15",null,null,null,null,null,null,null,null,null,null,null,null,null,null,null,null,null,null,null,"~"]
["SA23",2020,"DC15",null,null,null,null,null,null,null,null,null,null,null,null,null,null,null,null,null,null,null,"~"]
["SA23",2020,"DC15",null,null,null,null,null,null,null,null,null,null,null,null,null,null,null,null,null,null,null,"~"]
["SA23",2020,"DC15",null,null,null,null,null,null,null,null,null,null,null,null,null,null,null,null,null,null,null,"~"]
["SA23",2020,"DC15",null,null,null,null,null,null,null,null,null,null,null,null,null,null,null,null,null,null,null,"~"]
["SA23",2020,"DC15",null,null,null,null,null,null,null,null,null,null,null,null,null,null,null,null,null,null,null,"~"]
["SA23",2020,"DC15",null,null,null,null,null,null,null,null,null,null,null,null,null,null,null,null,null,null,null,"~"]
["SA23",2020,"DC15",null,null,null,null,null,null,null,null,null,null,null,null,null,null,null,null,null,null,null,"~"]
["SA23",2020,"DC15",null,null,null,null,null,null,null,null,null,null,null,null,null,null,null,null,null,null,null,"~"]
["SA23",2020,"DC15",null,null,null,null,null,null,null,null,null,null,null,null,null,null,null,null,null,null,null,"~"]
["SA23",2020,"DC15",null,null,null,null,null,null,null,null,null,null,null,null,null,null,null,null,null,null,null,"~"]
["SA23",2020,"DC15",null,null,null,null,null,null,null,null,null,null,null,null,null,null,null,null,null,null,null,"~"]
["SA23",2020,"DC15",null,null,null,null,null,null,null,null,null,null,null,null,null,null,null,null,null,null,null,"~"]
["SA23",2020,"DC15",null,null,null,null,null,null,null,null,null,null,null,null,null,null,null,null,null,null,null,"~"]
["SA23",2020,"DC15",null,null,null,null,null,null,null,null,null,null,null,null,null,null,null,null,null,null,null,"~"]
["SA23",2020,"DC15",null,null,null,null,null,null,null,null,null,null,null,null,null,null,null,null,null,null,null,"~"]
["SA23",{"$f":"+MTREF","v":2020},{"$f":"LEFT(muni,(FIND(\" \",muni,1)-1))","v":"DC15"},null,null,null,null,null,null,null,null,null,null,null,null,null,null,null,null,null,null,null,"~"]
["SA23",2020,"DC15",null,null,null,null,null,null,null,null,null,null,null,null,null,null,null,null,null,null,null,"~"]
["SA23",2020,"DC15",null,null,null,null,null,null,null,null,null,null,null,null,null,null,null,null,null,null,null,"~"]
["SA23",2020,"DC15",null,null,null,null,null,null,null,null,null,null,null,null,null,null,null,null,null,null,null,"~"]
["SA23",2020,"DC15",null,null,null,null,null,null,null,null,null,null,null,null,null,null,null,null,null,null,null,"~"]
["SA23",2020,"DC15",null,null,null,null,null,null,null,null,null,null,null,null,null,null,null,null,null,null,null,"~"]
["SA23",2020,"DC15",null,null,null,null,null,null,null,null,null,null,null,null,null,null,null,null,null,null,null,"~"]
["SA23",2020,"DC15",null,null,null,null,null,null,null,null,null,null,null,null,null,null,null,null,null,null,null,"~"]
["SA23",2020,"DC15",null,null,null,null,null,null,null,null,null,null,null,null,null,null,null,null,null,null,null,"~"]
["SA23",2020,"DC15",null,null,null,null,null,null,null,null,null,null,null,null,null,null,null,null,null,null,null,"~"]
["SA23",2020,"DC15",null,null,null,null,null,null,null,null,null,null,null,null,null,null,null,null,null,null,null,"~"]
["SA23",2020,"DC15",null,null,null,null,null,null,null,null,null,null,null,null,null,null,null,null,null,null,null,"~"]
["SA23",2020,"DC15",null,null,null,null,null,null,null,null,null,null,null,null,null,null,null,null,null,null,null,"~"]
["SA23",2020,"DC15",null,null,null,null,null,null,null,null,null,null,null,null,null,null,null,null,null,null,null,"~"]
["SA23",2020,"DC15",null,null,null,null,null,null,null,null,null,null,null,null,null,null,null,null,null,null,null,"~"]
["SA23",2020,"DC15",null,null,null,null,null,null,null,null,null,null,null,null,null,null,null,null,null,null,null,"~"]
["SA23",2020,"DC15",null,null,null,null,null,null,null,null,null,null,null,null,null,null,null,null,null,null,null,"~"]
["SA23",2020,"DC15",null,null,null,null,null,null,null,null,null,null,null,null,null,null,null,null,null,null,null,"~"]
["SA23",2020,"DC15",null,null,null,null,null,null,null,null,null,null,null,null,null,null,null,null,null,null,null,"~"]
["SA23",2020,"DC15",null,null,null,null,null,null,null,null,null,null,null,null,null,null,null,null,null,null,null,"~"]
["SA23",2020,"DC15",null,null,null,null,null,null,null,null,null,null,null,null,null,null,null,null,null,null,null,"~"]
["SA23",2020,"DC15",null,null,null,null,null,null,null,null,null,null,null,null,null,null,null,null,null,null,null,"~"]
["SA23",2020,"DC15",null,null,null,null,null,null,null,null,null,null,null,null,null,null,null,null,null,null,null,"~"]
["SA23",2020,"DC15",null,null,null,null,null,null,null,null,null,null,null,null,null,null,null,null,null,null,null,"~"]
["SA23",2020,"DC15",null,null,null,null,null,null,null,null,null,null,null,null,null,null,null,null,null,null,null,"~"]
["SA23",2020,"DC15",null,null,null,null,null,null,null,null,null,null,null,null,null,null,null,null,null,null,null,"~"]
["SA23",2020,"DC15",null,null,null,null,null,null,null,null,null,null,null,null,null,null,null,null,null,null,null,"~"]
["SA23",2020,"DC15",null,null,null,null,null,null,null,null,null,null,null,null,null,null,null,null,null,null,null,"~"]
["SA23",2020,"DC15",null,null,null,null,null,null,null,null,null,null,null,null,null,null,null,null,null,null,null,"~"]
["SA23",2020,"DC15",null,null,null,null,null,null,null,null,null,null,null,null,null,null,null,null,null,null,null,"~"]
["SA23",2020,"DC15",null,null,null,null,null,null,null,null,null,null,null,null,null,null,null,null,null,null,null,"~"]
["SA23",2020,"DC15",null,null,null,null,null,null,null,null,null,null,null,null,null,null,null,null,null,null,null,"~"]
["SA23",2020,"DC15",null,null,null,null,null,null,null,null,null,null,null,null,null,null,null,null,null,null,null,"~"]
["SA23",2020,"DC15",null,null,null,null,null,null,null,null,null,null,null,null,null,null,null,null,null,null,null,"~"]
["SA23",2020,"DC15",null,null,null,null,null,null,null,null,null,null,null,null,null,null,null,null,null,null,null,"~"]
["SA23",2020,"DC15",null,null,null,null,null,null,null,null,null,null,null,null,null,null,null,null,null,null,null,"~"]
["SA23",2020,"DC15",null,null,null,null,null,null,null,null,null,null,null,null,null,null,null,null,null,null,null,"~"]
["SA23",2020,"DC15",null,null,null,null,null,null,null,null,null,null,null,null,null,null,null,null,null,null,null,"~"]
["SA23",2020,"DC15",null,null,null,null,null,null,null,null,null,null,null,null,null,null,null,null,null,null,null,"~"]
["SA23",2020,"DC15",null,null,null,null,null,null,null,null,null,null,null,null,null,null,null,null,null,null,null,"~"]
["SA23",2020,"DC15",null,null,null,null,null,null,null,null,null,null,null,null,null,null,null,null,null,null,null,"~"]
["SA23",2020,"DC15",null,null,null,null,null,null,null,null,null,null,null,null,null,null,null,null,null,null,null,"~"]
["SA23",2020,"DC15",null,null,null,null,null,null,null,null,null,null,null,null,null,null,null,null,null,null,null,"~"]
["SA24",2020,"DC15",1000,1,"Municipal Council and Boards of Municipal Entities",null,null,null,null,null,null,null,null,null,null,null,null,null,null,null,null,"~"]
["SA24",2020,"DC15",1001,2,"Councillors (Political Office Bearers and Other Councillors)",null,null,null,null,null,null,null,null,null,null,null,null,null,null,null,null,"~"]
["SA24",2020,"DC15",1002,3,"Board Members of municipal entities",null,null,null,null,null,null,null,null,null,null,null,null,null,null,null,null,"~"]
["SA24",2020,"DC15",1100,4,"Municipal employees",null,null,null,null,null,null,null,null,null,null,null,null,null,null,null,null,"~"]
["SA24",2020,"DC15",1101,5,"Municipal Manager and Senior Managers",null,null,null,null,null,null,null,null,null,null,null,null,null,null,null,null,"~"]
["SA24",2020,"DC15",1102,6,"Other Managers",null,null,null,null,null,null,null,null,null,null,null,null,null,null,null,null,"~"]
["SA24",2020,"DC15",1103,7,"Professionals",null,null,null,null,null,null,null,null,null,null,null,null,null,null,null,null,"~"]
["SA24",2020,"DC15",1104,8,"Finance",null,null,null,null,null,null,null,null,null,null,null,null,null,null,null,null,"~"]
["SA24",2020,"DC15",1105,9,"Spatial/town planning",null,null,null,null,null,null,null,null,null,null,null,null,null,null,null,null,"~"]
["SA24",2020,"DC15",1106,10,"Information Technology",null,null,null,null,null,null,null,null,null,null,null,null,null,null,null,null,"~"]
["SA24",2020,"DC15",1107,11,"Roads",null,null,null,null,null,null,null,null,null,null,null,null,null,null,null,null,"~"]
["SA24",2020,"DC15",1108,12,"Electricity",null,null,null,null,null,null,null,null,null,null,null,null,null,null,null,null,"~"]
["SA24",2020,"DC15",1109,13,"Water",null,null,null,null,null,null,null,null,null,null,null,null,null,null,null,null,"~"]
["SA24",2020,"DC15",1110,14,"Sanitation",null,null,null,null,null,null,null,null,null,null,null,null,null,null,null,null,"~"]
["SA24",2020,"DC15",1111,15,"Refuse",null,null,null,null,null,null,null,null,null,null,null,null,null,null,null,null,"~"]
["SA24",2020,"DC15",1112,16,"Other",null,null,null,null,null,null,null,null,null,null,null,null,null,null,null,null,"~"]
["SA24",2020,"DC15",1113,17,"Technicians",null,null,null,null,null,null,null,null,null,null,null,null,null,null,null,null,"~"]
["SA24",2020,"DC15",1114,18,"Finance",null,null,null,null,null,null,null,null,null,null,null,null,null,null,null,null,"~"]
["SA24",2020,"DC15",1115,19,"Spatial/town planning",null,null,null,null,null,null,null,null,null,null,null,null,null,null,null,null,"~"]
["SA24",2020,"DC15",1116,20,"Information Technology",null,null,null,null,null,null,null,null,null,null,null,null,null,null,null,null,"~"]
["SA24",2020,"DC15",1117,21,"Roads",null,null,null,null,null,null,null,null,null,null,null,null,null,null,null,null,"~"]
["SA24",{"$f":"+MTREF","v":2020},{"$f":"LEFT(muni,(FIND(\" \",muni,1)-1))","v":"DC15"},1118,22,"Electricity",null,null,null,null,null,null,null,null,null,null,null,null,null,null,null,null,"~"]
["SA24",2020,"DC15",1119,23,"Water",null,null,null,null,null,null,null,null,null,null,null,null,null,null,null,null,"~"]
["SA24",2020,"DC15",1120,24,"Sanitation",null,null,null,null,null,null,null,null,null,null,null,null,null,null,null,null,"~"]
["SA24",2020,"DC15",1121,25,"Refuse",null,null,null,null,null,null,null,null,null,null,null,null,null,null,null,null,"~"]
["SA24",2020,"DC15",1122,26,"Other",null,null,null,null,null,null,null,null,null,null,null,null,null,null,null,null,"~"]
["SA24",2020,"DC15",1123,27,"Clerks (Clerical and administrative)",null,null,null,null,null,null,null,null,null,null,null,null,null,null,null,null,"~"]
["SA24",2020,"DC15",1124,28,"Service and sales workers",null,null,null,null,null,null,null,null,null,null,null,null,null,null,null,null,"~"]
["SA24",2020,"DC15",1125,29,"Skilled agricultural and fishery workers",null,null,null,null,null,null,null,null,null,null,null,null,null,null,null,null,"~"]
["SA24",2020,"DC15",1126,30,"Craft and related trades",null,null,null,null,null,null,null,null,null,null,null,null,null,null,null,null,"~"]
["SA24",2020,"DC15",1127,31,"Plant and Machine Operators",null,null,null,null,null,null,null,null,null,null,null,null,null,null,null,null,"~"]
["SA24",2020,"DC15",1128,32,"Elementary Occupations",null,null,null,null,null,null,null,null,null,null,null,null,null,null,null,null,"~"]
["SA24",2020,"DC15",1190,33,"TOTAL PERSONNEL NUMBERS",null,null,null,null,null,null,null,null,null,null,null,null,null,null,null,null,"~"]
["SA24",2020,"DC15",1191,34,"% increase",null,null,null,null,null,null,null,null,null,null,null,null,null,null,null,null,"~"]
["SA24",2020,"DC15",null,null,null,null,null,null,null,null,null,null,null,null,null,null,null,null,null,null,null,"~"]
["SA24",2020,"DC15",1200,35,"Total municipal employees headcount",null,null,null,null,null,null,null,null,null,null,null,null,null,null,null,null,"~"]
["SA24",2020,"DC15",1201,36,"Finance personnel headcount",null,null,null,null,null,null,null,null,null,null,null,null,null,null,null,null,"~"]
["SA24",2020,"DC15",1202,37,"Human Resources personnel headcount",null,null,null,null,null,null,null,null,null,null,null,null,null,null,null,null,"~"]
["OTHER",2020,"DC15","1001",1,"Unspent conditional transfers",null,null,null,null,null,null,null,null,null,null,null,null,null,null,null,null,"~"]
["OTHER",2020,"DC15","1002",2,"Unspent borrowing",null,null,null,null,null,null,null,null,null,null,null,null,null,null,null,null,"~"]
["OTHER",2020,"DC15","1003",3,"Statutory requirements",null,null,null,null,null,null,null,null,null,null,null,null,null,null,null,null,"~"]
["OTHER",2020,"DC15","1005",5,"Other provisions",null,null,null,null,null,null,null,null,null,null,null,null,null,null,null,null,"~"]
["OTHER",2020,"DC15","1006",6,"Long term investments committed",null,null,null,null,null,null,null,null,null,null,null,null,null,null,null,null,"~"]
["OTHER",2020,"DC15","1007",7,"Reserves to be backed by cash/investments",null,null,null,null,null,null,null,null,null,null,null,null,null,null,null,null,"~"]
["OTHER",2020,"DC15","1008",8,"Estimate of other debtors > 90 days",null,null,null,null,null,null,null,null,null,null,null,null,null,null,null,null,"~"]
["OTHER",2020,"DC15",2001,9,"Contributions recognised - capital",null,null,null,null,null,null,null,null,null,null,null,null,null,null,null,null,"~"]
["OTHER",2020,"DC15","3001",10,"Depreciation offsets",null,null,null,null,null,null,null,null,null,null,null,null,null,null,null,null,"~"]
["OTHER",2020,"DC15","4001",11,"Fixed operational expenditure % assumption",null,null,null,null,null,null,null,null,null,null,null,null,null,null,null,null,"~"]
["OTHER",2020,"DC15",5000,50,"Repairs and Maintenance by Expenditure Item",null,null,null,null,null,null,null,null,null,null,null,null,null,null,null,null,"~"]
["OTHER",2020,"DC15",5001,51,"Employee related costs",null,null,null,null,null,null,null,null,null,null,null,null,null,null,null,null,"~"]
["OTHER",2020,"DC15",5002,52,"Other materials",null,null,null,null,null,null,null,null,null,null,null,null,null,null,null,null,"~"]
["OTHER",2020,"DC15",5003,53,"Contracted Services",null,null,null,null,null,null,null,null,null,null,null,null,null,null,null,null,"~"]
["OTHER",2020,"DC15",5004,54,"Other Expenditure",null,null,null,null,null,null,null,null,null,null,null,null,null,null,null,null,"~"]
["OTHER",2020,"DC15",5005,55,"Total Repairs and Maintenance Expenditure",null,null,null,null,null,null,null,null,null,null,null,null,null,null,null,null,"~"]
["OTHER",2020,"DC15",6001,61,"Volume Electricity Distribution Losses",null,null,null,null,null,null,null,null,null,null,null,null,null,null,null,null,"~"]
["OTHER",2020,"DC15",6002,62,"Cost Electiricty Distribution Losses",null,null,null,null,null,null,null,null,null,null,null,null,null,null,null,null,"~"]
["OTHER",2020,"DC15",null,null,null,null,null,null,null,null,null,null,null,null,null,null,null,null,null,null,null,"~"]
["OTHER",2020,"DC15",6003,63,"Volume Water Distribution Losses",null,null,null,null,null,null,null,null,null,null,null,null,null,null,null,null,"~"]
["OTHER",2020,"DC15",6004,64,"Cost Water Distribution Losses",null,null,null,null,null,null,null,null,null,null,null,null,null,null,null,null,"~"]
["OTHER",2020,"DC15",null,null,null,null,null,null,null,null,null,null,null,null,null,null,null,null,null,null,null,"~"]
["OTHER",2020,"DC15",7001,71,"Consultant Fees",null,null,null,null,null,null,null,null,null,null,null,null,null,null,null,null,"~"]
["OTHER",2020,"DC15",7002,72,"Audit Fees",null,null,null,null,null,null,null,null,null,null,null,null,null,null,null,null,"~"]
["SA36",2020,"DC15",1,null,null,null,null,null,null,null,null,null,null,null,null,null,null,null,null,null,null,"~"]
["SA36",2020,"DC15",2,null,null,null,null,null,null,null,null,null,null,null,null,null,null,null,null,null,null,"~"]
["SA36",2020,"DC15",3,null,null,null,null,null,null,null,null,null,null,null,null,null,null,null,null,null,null,"~"]
["SA36",2020,"DC15",4,null,null,null,null,null,null,null,null,null,null,null,null,null,null,null,null,null,null,"~"]
["SA36",2020,"DC15",5,null,null,null,null,null,null,null,null,null,null,null,null,null,null,null,null,null,null,"~"]
["SA36",2020,"DC15",6,null,null,null,null,null,null,null,null,null,null,null,null,null,null,null,null,null,null,"~"]
["SA36",2020,"DC15",7,null,null,null,null,null,null,null,null,null,null,null,null,null,null,null,null,null,null,"~"]
["SA36",2020,"DC15",8,null,null,null,null,null,null,null,null,null,null,null,null,null,null,null,null,null,null,"~"]
["SA36",2020,"DC15",9,null,null,null,null,null,null,null,null,null,null,null,null,null,null,null,null,null,null,"~"]
["SA36",2020,"DC15",10,null,null,null,null,null,null,null,null,null,null,null,null,null,null,null,null,null,null,"~"]
["SA36",2020,"DC15",11,null,null,null,null,null,null,null,null,null,null,null,null,null,null,null,null,null,null,"~"]
["SA36",2020,"DC15",12,null,null,null,null,null,null,null,null,null,null,null,null,null,null,null,null,null,null,"~"]
["SA36",2020,"DC15",13,null,null,null,null,null,null,null,null,null,null,null,null,null,null,null,null,null,null,"~"]
["SA36",2020,"DC15",14,null,null,null,null,null,null,null,null,null,null,null,null,null,null,null,null,null,null,"~"]
["SA36",2020,"DC15",15,null,null,null,null,null,null,null,null,null,null,null,null,null,null,null,null,null,null,"~"]
["SA36",2020,"DC15",16,null,null,null,null,null,null,null,null,null,null,null,null,null,null,null,null,null,null,"~"]
["SA36",2020,"DC15",17,null,null,null,null,null,null,null,null,null,null,null,0,0,null,null,0,null,null,"~"]
["SA36",2020,"DC15",18,null,null,null,null,null,null,null,null,null,null,null,null,null,null,null,null,null,null,"~"]
["SA36",2020,"DC15",19,null,null,null,null,null,null,null,null,null,null,null,null,null,null,null,null,null,null,"~"]
["SA36",2020,"DC15",20,null,null,null,null,null,null,null,null,null,null,null,null,null,null,null,null,null,null,"~"]
["SA36",2020,"DC15",21,null,null,null,null,null,null,null,null,null,null,null,null,null,null,null,null,null,null,"~"]
["SA36",2020,"DC15",22,null,null,null,null,null,null,null,null,null,null,null,null,null,null,null,null,null,null,"~"]
["SA36",2020,"DC15",23,null,null,null,null,null,null,null,null,null,null,null,null,null,null,null,null,null,null,"~"]
["SA36",{"$f":"+MTREF","v":2020},{"$f":"LEFT(muni,(FIND(\" \",muni,1)-1))","v":"DC15"},24,null,null,null,null,null,null,null,null,null,null,null,null,null,null,null,null,null,null,"~"]
["SA36",2020,"DC15",25,null,null,null,null,null,null,null,null,null,null,null,null,null,null,null,null,null,null,"~"]
["SA36",2020,"DC15",26,null,null,null,null,null,null,null,null,null,null,null,null,null,null,null,null,null,null,"~"]
["SA36",2020,"DC15",27,null,null,null,null,null,null,null,null,null,null,null,null,null,null,null,null,null,null,"~"]
["SA36",2020,"DC15",28,null,null,null,null,null,null,null,null,null,null,null,null,null,null,null,null,null,null,"~"]
["SA36",2020,"DC15",29,null,null,null,null,null,null,null,null,null,null,null,null,null,null,null,null,null,null,"~"]
["SA36",2020,"DC15",30,null,null,null,null,null,null,null,null,null,0,0,0,0,null,null,null,null,null,"~"]
["SA36",2020,"DC15",31,null,null,null,null,null,null,null,null,null,0,0,0,0,null,null,null,null,null,"~"]
["SA36",2020,"DC15",32,null,null,null,null,null,null,null,null,null,null,null,null,null,null,null,null,null,null,"~"]
["SA36",2020,"DC15",33,null,null,null,null,null,null,null,null,null,null,null,null,null,null,null,null,null,null,"~"]
["SA36",2020,"DC15",34,null,null,null,null,null,null,null,null,null,null,null,null,null,null,null,null,null,null,"~"]
["SA36",2020,"DC15",35,null,null,null,null,null,null,null,null,null,null,null,null,null,null,null,null,null,null,"~"]
["SA36",2020,"DC15",36,null,null,null,null,null,null,null,null,null,null,null,null,null,null,null,null,null,null,"~"]
["SA36",2020,"DC15",37,null,null,null,null,null,null,null,null,null,null,null,null,null,null,null,null,null,null,"~"]
["SA36",2020,"DC15",38,null,null,null,null,null,null,null,null,"Check",0,null,null,null,null,null,null,null,null,"~"]
["SA36",2020,"DC15",39,null,null,null,null,null,null,null,null,null,null,null,null,null,null,null,null,null,null,"~"]
["SA36",2020,"DC15",40,null,null,null,null,null,null,null,null,null,null,null,null,null,null,null,null,null,null,"~"]
["SA36",2020,"DC15",41,null,null,null,null,null,null,null,null,null,null,null,null,null,null,null,null,null,null,"~"]
["SA36",2020,"DC15",42,null,null,null,null,null,null,null,null,null,null,null,null,null,null,null,null,null,null,"~"]
["SA36",2020,"DC15",43,null,null,null,null,null,null,null,null,null,null,null,null,null,null,null,null,null,null,"~"]
["SA36",2020,"DC15",44,null,null,null,null,null,null,null,null,null,null,null,null,null,null,null,null,null,null,"~"]
["SA36",2020,"DC15",45,null,null,null,null,null,null,null,null,null,null,null,null,null,null,null,null,null,null,"~"]
["SA36",2020,"DC15",46,null,null,null,null,null,null,null,null,null,null,null,null,null,null,null,null,null,null,"~"]
["SA36",2020,"DC15",47,null,null,null,null,null,null,null,null,null,null,null,null,null,null,null,null,null,null,"~"]
["SA36",2020,"DC15",48,null,null,null,null,null,null,null,null,null,null,null,null,null,null,null,null,null,null,"~"]
["SA36",2020,"DC15",49,null,null,null,null,null,null,null,null,null,null,null,null,null,null,null,null,null,null,"~"]
["SA36",2020,"DC15",50,null,null,null,null,null,null,null,null,null,null,null,null,null,null,null,null,null,null,"~"]
["SA36",2020,"DC15",51,null,null,null,null,null,null,null,null,null,null,null,null,null,null,null,null,null,null,"~"]
["SA36",2020,"DC15",52,null,null,null,null,null,null,null,null,null,null,null,null,null,null,null,null,null,null,"~"]
["SA36",2020,"DC15",53,null,null,null,null,null,null,null,null,null,null,null,null,null,null,null,null,null,null,"~"]
["SA36",2020,"DC15",54,null,null,null,null,null,null,null,null,null,null,null,null,null,null,null,null,null,null,"~"]
["SA36",2020,"DC15",55,null,null,null,null,null,null,null,null,null,null,null,null,null,null,null,null,null,null,"~"]
["SA36",2020,"DC15",56,null,null,null,null,null,null,null,null,null,null,null,null,null,null,null,null,null,null,"~"]
["SA36",2020,"DC15",57,null,null,null,null,null,null,null,null,null,null,null,null,null,null,null,null,null,null,"~"]
["SA36",2020,"DC15",58,null,null,null,null,null,null,null,null,null,null,null,null,null,null,null,null,null,null,"~"]
["SA36",2020,"DC15",59,null,null,null,null,null,null,null,null,null,null,null,null,null,null,null,null,null,null,"~"]
["SA36",2020,"DC15",60,null,null,null,null,null,null,null,null,null,null,null,null,null,null,null,null,null,null,"~"]
["SA36",2020,"DC15",61,null,null,null,null,null,null,null,null,null,null,null,null,null,null,null,null,null,null,"~"]
["SA36",2020,"DC15",62,null,null,null,null,null,null,null,null,null,null,null,null,null,null,null,null,null,null,"~"]
["SA36",2020,"DC15",63,null,null,null,null,null,null,null,null,null,null,null,null,null,null,null,null,null,null,"~"]
["SA36",2020,"DC15",64,null,null,null,null,null,null,null,null,null,null,null,null,null,null,null,null,null,null,"~"]
["SA36",2020,"DC15",65,null,null,null,null,null,null,null,null,null,null,null,null,null,null,null,null,null,null,"~"]
["SA36",2020,"DC15",66,null,null,null,null,null,null,null,null,null,null,null,null,null,null,null,null,null,null,"~"]
["SA36",2020,"DC15",67,null,null,null,null,null,null,null,null,null,null,null,null,null,null,null,null,null,null,"~"]
["SA36",2020,"DC15",68,null,null,null,null,null,null,null,null,null,null,null,null,null,null,null,null,null,null,"~"]
["SA36",2020,"DC15",69,null,null,null,null,null,null,null,null,null,null,null,null,null,null,null,null,null,null,"~"]
["SA36",2020,"DC15",70,null,null,null,null,null,null,null,null,null,null,null,null,null,null,null,null,null,null,"~"]
["SA36",2020,"DC15",71,null,null,null,null,null,null,null,null,null,null,null,null,null,null,null,null,null,null,"~"]
["SA36",2020,"DC15",72,null,null,null,null,null,null,null,null,null,null,null,null,null,null,null,null,null,null,"~"]
["SA36",2020,"DC15",73,null,null,null,null,null,null,null,null,null,null,null,null,null,null,null,null,null,null,"~"]
["SA36",2020,"DC15",74,null,null,null,null,null,null,null,null,null,null,null,null,null,null,null,null,null,null,"~"]
["SA36",2020,"DC15",75,null,null,null,null,null,null,null,null,null,null,null,null,null,null,null,null,null,null,"~"]
["SA36",2020,"DC15",76,null,null,null,null,null,null,null,null,null,null,null,null,null,null,null,null,null,null,"~"]
["SA36",2020,"DC15",77,null,null,null,null,null,null,null,null,null,null,null,null,null,null,null,null,null,null,"~"]
["SA36",2020,"DC15",78,null,null,null,null,null,null,null,null,null,null,null,null,null,null,null,null,null,null,"~"]
["SA36",2020,"DC15",79,null,null,null,null,null,null,null,null,null,null,null,null,null,null,null,null,null,null,"~"]
["SA36",2020,"DC15",80,null,null,null,null,null,null,null,null,null,null,null,null,null,null,null,null,null,null,"~"]
["SA36",2020,"DC15",81,null,null,null,null,null,null,null,null,null,null,null,null,null,null,null,null,null,null,"~"]
["SA36",2020,"DC15",82,null,null,null,null,null,null,null,null,null,null,null,null,null,null,null,null,null,null,"~"]
["SA36",2020,"DC15",83,null,null,null,null,null,null,null,null,null,null,null,null,null,null,null,null,null,null,"~"]
["SA36",2020,"DC15",84,null,null,null,null,null,null,null,null,null,null,null,null,null,null,null,null,null,null,"~"]
["SA36",2020,"DC15",85,null,null,null,null,null,null,null,null,null,null,null,null,null,null,null,null,null,null,"~"]
["SA36",2020,"DC15",86,null,null,null,null,null,null,null,null,null,null,null,null,null,null,null,null,null,null,"~"]
["SA36",2020,"DC15",87,null,null,null,null,null,null,null,null,null,null,null,null,null,null,null,null,null,null,"~"]
["SA36",{"$f":"+MTREF","v":2020},{"$f":"LEFT(muni,(FIND(\" \",muni,1)-1))","v":"DC15"},88,null,null,null,null,null,null,null,null,null,null,null,null,null,null,null,null,null,null,"~"]
["SA36",2020,"DC15",89,null,null,null,null,null,null,null,null,null,null,null,null,null,null,null,null,null,null,"~"]
["SA36",2020,"DC15",90,null,null,null,null,null,null,null,null,null,null,null,null,null,null,null,null,null,null,"~"]
["SA36",2020,"DC15",91,null,null,null,null,null,null,null,null,null,null,null,null,null,null,null,null,null,null,"~"]
["SA36",2020,"DC15",92,null,null,null,null,null,null,null,null,null,null,null,null,null,null,null,null,null,null,"~"]
["SA36",2020,"DC15",93,null,null,null,null,null,null,null,null,null,null,null,null,null,null,null,null,null,null,"~"]
["SA36",2020,"DC15",94,null,null,null,null,null,null,null,null,null,null,null,null,null,null,null,null,null,null,"~"]
["SA36",2020,"DC15",95,null,null,null,null,null,null,null,null,null,null,null,null,null,null,null,null,null,null,"~"]
["SA36",2020,"DC15",96,null,null,null,null,null,null,null,null,null,null,null,null,null,null,null,null,null,null,"~"]
["SA36",2020,"DC15",97,null,null,null,null,null,null,null,null,null,null,null,null,null,null,null,null,null,null,"~"]
["SA36",2020,"DC15",98,null,null,null,null,null,null,null,null,null,null,null,null,null,null,null,null,null,null,"~"]
["SA36",2020,"DC15",99,null,null,null,null,null,null,null,null,null,null,null,null,null,null,null,null,null,null,"~"]
["SA36",2020,"DC15",100,null,null,null,null,null,null,null,null,null,null,null,null,null,null,null,null,null,null,"~"]
["SA36",2020,"DC15",101,null,null,null,null,null,null,null,null,null,null,null,null,null,null,null,null,null,null,"~"]
["SA36",2020,"DC15",102,null,null,null,null,null,null,null,null,null,null,null,null,null,null,null,null,null,null,"~"]
["SA36",2020,"DC15",103,null,null,null,null,null,null,null,null,null,null,null,null,null,null,null,null,null,null,"~"]
["SA36",2020,"DC15",104,null,null,null,null,null,null,null,null,null,null,null,null,null,null,null,null,null,null,"~"]
["SA36",2020,"DC15",105,null,null,null,null,null,null,null,null,null,null,null,null,null,null,null,null,null,null,"~"]
["SA36",2020,"DC15",106,null,null,null,null,null,null,null,null,null,null,null,null,null,null,null,null,null,null,"~"]
["SA36",2020,"DC15",107,null,null,null,null,null,null,null,null,null,null,null,null,null,null,null,null,null,null,"~"]
["SA36",2020,"DC15",108,null,null,null,null,null,null,null,null,null,null,null,null,null,null,null,null,null,null,"~"]
["SA36",2020,"DC15",109,null,null,null,null,null,null,null,null,null,null,null,null,null,null,null,null,null,null,"~"]
["SA36",2020,"DC15",110,null,null,null,null,null,null,null,null,null,null,null,null,null,null,null,null,null,null,"~"]
["SA36",2020,"DC15",111,null,null,null,null,null,null,null,null,null,null,null,null,null,null,null,null,null,null,"~"]
["SA36",2020,"DC15",112,null,null,null,null,null,null,null,null,null,null,null,null,null,null,null,null,null,null,"~"]
["SA36",2020,"DC15",113,null,null,null,null,null,null,null,null,null,null,null,null,null,null,null,null,null,null,"~"]
["SA36",2020,"DC15",114,null,null,null,null,null,null,null,null,null,null,null,null,null,null,null,null,null,null,"~"]
["SA36",2020,"DC15",115,null,null,null,null,null,null,null,null,null,null,null,null,null,null,null,null,null,null,"~"]
["SA36",2020,"DC15",116,null,null,null,null,null,null,null,null,null,null,null,null,null,null,null,null,null,null,"~"]
["SA36",2020,"DC15",117,null,null,null,null,null,null,null,null,null,null,null,null,null,null,null,null,null,null,"~"]
["SA36",2020,"DC15",118,null,null,null,null,null,null,null,null,null,null,null,null,null,null,null,null,null,null,"~"]
["SA36",2020,"DC15",119,null,null,null,null,null,null,null,null,null,null,null,null,null,null,null,null,null,null,"~"]
["SA36",2020,"DC15",120,null,null,null,null,null,null,null,null,null,null,null,null,null,null,null,null,null,null,"~"]
["SA36",2020,"DC15",121,null,null,null,null,null,null,null,null,null,null,null,null,null,null,null,null,null,null,"~"]
["SA36",2020,"DC15",122,null,null,null,null,null,null,null,null,null,null,null,null,null,null,null,null,null,null,"~"]
["SA36",2020,"DC15",123,null,null,null,null,null,null,null,null,null,null,null,null,null,null,null,null,null,null,"~"]
["SA36",2020,"DC15",124,null,null,null,null,null,null,null,null,null,null,null,null,null,null,null,null,null,null,"~"]
["SA36",2020,"DC15",125,null,null,null,null,null,null,null,null,null,null,null,null,null,null,null,null,null,null,"~"]
["SA36",2020,"DC15",126,null,null,null,null,null,null,null,null,null,null,null,null,null,null,null,null,null,null,"~"]
["SA36",2020,"DC15",127,null,null,null,null,null,null,null,null,null,null,null,null,null,null,null,null,null,null,"~"]
["SA36",2020,"DC15",128,null,null,null,null,null,null,null,null,null,null,null,null,null,null,null,null,null,null,"~"]
["SA36",2020,"DC15",129,null,null,null,null,null,null,null,null,null,null,null,null,null,null,null,null,null,null,"~"]
["SA36",2020,"DC15",130,null,null,null,null,null,null,null,null,null,null,null,null,null,null,null,null,null,null,"~"]
["SA36",2020,"DC15",131,null,null,null,null,null,null,null,null,null,null,null,null,null,null,null,null,null,null,"~"]
["SA36",2020,"DC15",132,null,null,null,null,null,null,null,null,null,null,null,null,null,null,null,null,null,null,"~"]
["SA36",2020,"DC15",133,null,null,null,null,null,null,null,null,null,null,null,null,null,null,null,null,null,null,"~"]
["SA36",2020,"DC15",134,null,null,null,null,null,null,null,null,null,null,null,null,null,null,null,null,null,null,"~"]
["SA36",2020,"DC15",135,null,null,null,null,null,null,null,null,null,null,null,null,null,null,null,null,null,null,"~"]
["SA36",2020,"DC15",136,null,null,null,null,null,null,null,null,null,null,null,null,null,null,null,null,null,null,"~"]
["SA36",2020,"DC15",137,null,null,null,null,null,null,null,null,null,null,null,null,null,null,null,null,null,null,"~"]
["SA36",2020,"DC15",138,null,null,null,null,null,null,null,null,null,null,null,null,null,null,null,null,null,null,"~"]
["SA36",2020,"DC15",139,null,null,null,null,null,null,null,null,null,null,null,null,null,null,null,null,null,null,"~"]
["SA36",2020,"DC15",140,null,null,null,null,null,null,null,null,null,null,null,null,null,null,null,null,null,null,"~"]
["SA36",2020,"DC15",141,null,null,null,null,null,null,null,null,null,null,null,null,null,null,null,null,null,null,"~"]
["SA36",2020,"DC15",142,null,null,null,null,null,null,null,null,null,null,null,null,null,null,null,null,null,null,"~"]
["SA36",2020,"DC15",143,null,null,null,null,null,null,null,null,null,null,null,null,null,null,null,null,null,null,"~"]
["SA36",2020,"DC15",144,null,null,null,null,null,null,null,null,null,null,null,null,null,null,null,null,null,null,"~"]
["SA36",2020,"DC15",145,null,null,null,null,null,null,null,null,null,null,null,null,null,null,null,null,null,null,"~"]
["SA36",2020,"DC15",146,null,null,null,null,null,null,null,null,null,null,null,null,null,null,null,null,null,null,"~"]
["SA36",2020,"DC15",147,null,null,null,null,null,null,null,null,null,null,null,null,null,null,null,null,null,null,"~"]
["SA36",2020,"DC15",148,null,null,null,null,null,null,null,null,null,null,null,null,null,null,null,null,null,null,"~"]
["SA36",2020,"DC15",149,null,null,null,null,null,null,null,null,null,null,null,null,null,null,null,null,null,null,"~"]
["SA36",2020,"DC15",150,null,null,null,null,null,null,null,null,null,null,null,null,null,null,null,null,null,null,"~"]
["SA36",2020,"DC15",151,null,null,null,null,null,null,null,null,null,null,null,null,null,null,null,null,null,null,"~"]
["SA36",{"$f":"+MTREF","v":2020},{"$f":"LEFT(muni,(FIND(\" \",muni,1)-1))","v":"DC15"},152,null,null,null,null,null,null,null,null,null,null,null,null,null,null,null,null,null,null,"~"]
["SA36",2020,"DC15",153,null,null,null,null,null,null,null,null,null,null,null,null,null,null,null,null,null,null,"~"]
["SA36",2020,"DC15",154,null,null,null,null,null,null,null,null,null,null,null,null,null,null,null,null,null,null,"~"]
["SA36",2020,"DC15",155,null,null,null,null,null,null,null,null,null,null,null,null,null,null,null,null,null,null,"~"]
["SA36",2020,"DC15",156,null,null,null,null,null,null,null,null,null,null,null,null,null,null,null,null,null,null,"~"]
["SA36",2020,"DC15",157,null,null,null,null,null,null,null,null,null,null,null,null,null,null,null,null,null,null,"~"]
["SA36",2020,"DC15",158,null,null,null,null,null,null,null,null,null,null,null,null,null,null,null,null,null,null,"~"]
["SA36",2020,"DC15",159,null,null,null,null,null,null,null,null,null,null,null,null,null,null,null,null,null,null,"~"]
["SA36",2020,"DC15",160,null,null,null,null,null,null,null,null,null,null,null,null,null,null,null,null,null,null,"~"]
["SA36",2020,"DC15",161,null,null,null,null,null,null,null,null,null,null,null,null,null,null,null,null,null,null,"~"]
["SA36",2020,"DC15",162,null,null,null,null,null,null,null,null,null,null,null,null,null,null,null,null,null,null,"~"]
["SA36",2020,"DC15",163,null,null,null,null,null,null,null,null,null,null,null,null,null,null,null,null,null,null,"~"]
["SA36",2020,"DC15",164,null,null,null,null,null,null,null,null,null,null,null,null,null,null,null,null,null,null,"~"]
["SA36",2020,"DC15",165,null,null,null,null,null,null,null,null,null,null,null,null,null,null,null,null,null,null,"~"]
["SA36",2020,"DC15",166,null,null,null,null,null,null,null,null,null,null,null,null,null,null,null,null,null,null,"~"]
["SA36",2020,"DC15",167,null,null,null,null,null,null,null,null,null,null,null,null,null,null,null,null,null,null,"~"]
["SA36",2020,"DC15",168,null,null,null,null,null,null,null,null,null,null,null,null,null,null,null,null,null,null,"~"]
["SA36",2020,"DC15",169,null,null,null,null,null,null,null,null,null,null,null,null,null,null,null,null,null,null,"~"]
["SA36",2020,"DC15",170,null,null,null,null,null,null,null,null,null,null,null,null,null,null,null,null,null,null,"~"]
["SA36",2020,"DC15",171,null,null,null,null,null,null,null,null,null,null,null,null,null,null,null,null,null,null,"~"]
["SA36",2020,"DC15",172,null,null,null,null,null,null,null,null,null,null,null,null,null,null,null,null,null,null,"~"]
["SA36",2020,"DC15",173,null,null,null,null,null,null,null,null,null,null,null,null,null,null,null,null,null,null,"~"]
["SA36",2020,"DC15",174,null,null,null,null,null,null,null,null,null,null,null,null,null,null,null,null,null,null,"~"]
["SA36",2020,"DC15",175,null,null,null,null,null,null,null,null,null,null,null,null,null,null,null,null,null,null,"~"]
["SA36",2020,"DC15",176,null,null,null,null,null,null,null,null,null,null,null,null,null,null,null,null,null,null,"~"]
["SA36",2020,"DC15",177,null,null,null,null,null,null,null,null,null,null,null,null,null,null,null,null,null,null,"~"]
["SA36",2020,"DC15",178,null,null,null,null,null,null,null,null,null,null,null,null,null,null,null,null,null,null,"~"]
["SA36",2020,"DC15",179,null,null,null,null,null,null,null,null,null,null,null,null,null,null,null,null,null,null,"~"]
["SA36",2020,"DC15",180,null,null,null,null,null,null,null,null,null,null,null,null,null,null,null,null,null,null,"~"]
["SA36",2020,"DC15",181,null,null,null,null,null,null,null,null,null,null,null,null,null,null,null,null,null,null,"~"]
["SA36",2020,"DC15",182,null,null,null,null,null,null,null,null,null,null,null,null,null,null,null,null,null,null,"~"]
["SA36",2020,"DC15",183,null,null,null,null,null,null,null,null,null,null,null,null,null,null,null,null,null,null,"~"]
["SA36",2020,"DC15",184,null,null,null,null,null,null,null,null,null,null,null,null,null,null,null,null,null,null,"~"]
["SA36",2020,"DC15",185,null,null,null,null,null,null,null,null,null,null,null,null,null,null,null,null,null,null,"~"]
["SA36",2020,"DC15",186,null,null,null,null,null,null,null,null,null,null,null,null,null,null,null,null,null,null,"~"]
["SA36",2020,"DC15",187,null,null,null,null,null,null,null,null,null,null,null,null,null,null,null,null,null,null,"~"]
["SA36",2020,"DC15",188,null,null,null,null,null,null,null,null,null,null,null,null,null,null,null,null,null,null,"~"]
["SA36",2020,"DC15",189,null,null,null,null,null,null,null,null,null,null,null,null,null,null,null,null,null,null,"~"]
["SA36",2020,"DC15",190,null,null,null,null,null,null,null,null,null,null,null,null,null,null,null,null,null,null,"~"]
["SA36",2020,"DC15",191,null,null,null,null,null,null,null,null,null,null,null,null,null,null,null,null,null,null,"~"]
["SA36",2020,"DC15",192,null,null,null,null,null,null,null,null,null,null,null,null,null,null,null,null,null,null,"~"]
["SA36",2020,"DC15",193,null,null,null,null,null,null,null,null,null,null,null,null,null,null,null,null,null,null,"~"]
["SA36",2020,"DC15",194,null,null,null,null,null,null,null,null,null,null,null,null,null,null,null,null,null,null,"~"]
["SA36",2020,"DC15",195,null,null,null,null,null,null,null,null,null,null,null,null,null,null,null,null,null,null,"~"]
["SA36",2020,"DC15",196,null,null,null,null,null,null,null,null,null,null,null,null,null,null,null,null,null,null,"~"]
["SA36",2020,"DC15",197,null,null,null,null,null,null,null,null,null,null,null,null,null,null,null,null,null,null,"~"]
["SA36",2020,"DC15",198,null,null,null,null,null,null,null,null,null,null,null,null,null,null,null,null,null,null,"~"]
["SA36",2020,"DC15",199,null,null,null,null,null,null,null,null,null,null,null,null,null,null,null,null,null,null,"~"]
["SA36",2020,"DC15",200,null,null,null,null,null,null,null,null,null,null,null,null,null,null,null,null,null,null,"~"]
["SA36",2020,"DC15",201,null,null,null,null,null,null,null,null,null,null,null,null,null,null,null,null,null,null,"~"]
["SA36",2020,"DC15",202,null,null,null,null,null,null,null,null,null,null,null,null,null,null,null,null,null,null,"~"]
["SA36",2020,"DC15",203,null,null,null,null,null,null,null,null,null,null,null,null,null,null,null,null,null,null,"~"]
["SA36",2020,"DC15",204,null,null,null,null,null,null,null,null,null,null,null,null,null,null,null,null,null,null,"~"]
["SA36",2020,"DC15",205,null,null,null,null,null,null,null,null,null,null,null,null,null,null,null,null,null,null,"~"]
["SA36",2020,"DC15",206,null,null,null,null,null,null,null,null,null,null,null,null,null,null,null,null,null,null,"~"]
["SA36",2020,"DC15",207,null,null,null,null,null,null,null,null,null,null,null,null,null,null,null,null,null,null,"~"]
["SA36",2020,"DC15",208,null,null,null,null,null,null,null,null,null,null,null,null,null,null,null,null,null,null,"~"]
["SA36",2020,"DC15",209,null,null,null,null,null,null,null,null,null,null,null,null,null,null,null,null,null,null,"~"]
["SA36",2020,"DC15",210,null,null,null,null,null,null,null,null,null,null,null,null,null,null,null,null,null,null,"~"]
["SA36",2020,"DC15",211,null,null,null,null,null,null,null,null,null,null,null,null,null,null,null,null,null,null,"~"]
["SA36",2020,"DC15",212,null,null,null,null,null,null,null,null,null,null,null,null,null,null,null,null,null,null,"~"]
["SA36",2020,"DC15",213,null,null,null,null,null,null,null,null,null,null,null,null,null,null,null,null,null,null,"~"]
["SA36",2020,"DC15",214,null,null,null,null,null,null,null,null,null,null,null,null,null,null,null,null,null,null,"~"]
["SA36",2020,"DC15",215,null,null,null,null,null,null,null,null,null,null,null,null,null,null,null,null,null,null,"~"]
["SA36",{"$f":"+MTREF","v":2020},{"$f":"LEFT(muni,(FIND(\" \",muni,1)-1))","v":"DC15"},216,null,null,null,null,null,null,null,null,null,null,null,null,null,null,null,null,null,null,"~"]
["SA36",2020,"DC15",217,null,null,null,null,null,null,null,null,null,null,null,null,null,null,null,null,null,null,"~"]
["SA36",2020,"DC15",218,null,null,null,null,null,null,null,null,null,null,null,null,null,null,null,null,null,null,"~"]
["SA36",2020,"DC15",219,null,null,null,null,null,null,null,null,null,null,null,null,null,null,null,null,null,null,"~"]
["SA36",2020,"DC15",220,null,null,null,null,null,null,null,null,null,null,null,null,null,null,null,null,null,null,"~"]
["SA36",2020,"DC15",221,null,null,null,null,null,null,null,null,null,null,null,null,null,null,null,null,null,null,"~"]
["SA36",2020,"DC15",222,null,null,null,null,null,null,null,null,null,null,null,null,null,null,null,null,null,null,"~"]
["SA36",2020,"DC15",223,null,null,null,null,null,null,null,null,null,null,null,null,null,null,null,null,null,null,"~"]
["SA36",2020,"DC15",224,null,null,null,null,null,null,null,null,null,null,null,null,null,null,null,null,null,null,"~"]
["SA36",2020,"DC15",225,null,null,null,null,null,null,null,null,null,null,null,null,null,null,null,null,null,null,"~"]
["SA36",2020,"DC15",226,null,null,null,null,null,null,null,null,null,null,null,null,null,null,null,null,null,null,"~"]
["SA36",2020,"DC15",227,null,null,null,null,null,null,null,null,null,null,null,null,null,null,null,null,null,null,"~"]
["SA36",2020,"DC15",228,null,null,null,null,null,null,null,null,null,null,null,null,null,null,null,null,null,null,"~"]
["SA36",2020,"DC15",229,null,null,null,null,null,null,null,null,null,null,null,null,null,null,null,null,null,null,"~"]
["SA36",2020,"DC15",230,null,null,null,null,null,null,null,null,null,null,null,null,null,null,null,null,null,null,"~"]
["SA36",2020,"DC15",231,null,null,null,null,null,null,null,null,null,null,null,null,null,null,null,null,null,null,"~"]
["SA36",2020,"DC15",232,null,null,null,null,null,null,null,null,null,null,null,null,null,null,null,null,null,null,"~"]
["SA36",2020,"DC15",233,null,null,null,null,null,null,null,null,null,null,null,null,null,null,null,null,null,null,"~"]
["SA36",2020,"DC15",234,null,null,null,null,null,null,null,null,null,null,null,null,null,null,null,null,null,null,"~"]
["SA36",2020,"DC15",235,null,null,null,null,null,null,null,null,null,null,null,null,null,null,null,null,null,null,"~"]
["SA36",2020,"DC15",236,null,null,null,null,null,null,null,null,null,null,null,null,null,null,null,null,null,null,"~"]
["SA36",2020,"DC15",237,null,null,null,null,null,null,null,null,null,null,null,null,null,null,null,null,null,null,"~"]
["SA36",2020,"DC15",238,null,null,null,null,null,null,null,null,null,null,null,null,null,null,null,null,null,null,"~"]
["SA36",2020,"DC15",239,null,null,null,null,null,null,null,null,null,null,null,null,null,null,null,null,null,null,"~"]
["SA36",2020,"DC15",240,null,null,null,null,null,null,null,null,null,null,null,null,null,null,null,null,null,null,"~"]
["SA36",2020,"DC15",241,null,null,null,null,null,null,null,null,null,null,null,null,null,null,null,null,null,null,"~"]
["SA36",2020,"DC15",242,null,null,null,null,null,null,null,null,null,null,null,null,null,null,null,null,null,null,"~"]
["SA36",2020,"DC15",243,null,null,null,null,null,null,null,null,null,null,null,null,null,null,null,null,null,null,"~"]
["SA36",2020,"DC15",244,null,null,null,null,null,null,null,null,null,null,null,null,null,null,null,null,null,null,"~"]
["SA36",2020,"DC15",245,null,null,null,null,null,null,null,null,null,null,null,null,null,null,null,null,null,null,"~"]
["SA36",2020,"DC15",246,null,null,null,null,null,null,null,null,null,null,null,null,null,null,null,null,null,null,"~"]
["SA36",2020,"DC15",247,null,null,null,null,null,null,null,null,null,null,null,null,null,null,null,null,null,null,"~"]
["SA36",2020,"DC15",248,null,null,null,null,null,null,null,null,null,null,null,null,null,null,null,null,null,null,"~"]
["SA36",2020,"DC15",249,null,null,null,null,null,null,null,null,null,null,null,null,null,null,null,null,null,null,"~"]
["SA36",2020,"DC15",250,null,null,null,null,null,null,null,null,null,null,null,null,null,null,null,null,null,null,"~"]
["SA36",2020,"DC15",251,null,null,null,null,null,null,null,null,null,null,null,null,null,null,null,null,null,null,"~"]
["SA36",2020,"DC15",252,null,null,null,null,null,null,null,null,null,null,null,null,null,null,null,null,null,null,"~"]
["SA36",2020,"DC15",253,null,null,null,null,null,null,null,null,null,null,null,null,null,null,null,null,null,null,"~"]
["SA36",2020,"DC15",254,null,null,null,null,null,null,null,null,null,null,null,null,null,null,null,null,null,null,"~"]
["SA36",2020,"DC15",255,null,null,null,null,null,null,null,null,null,null,null,null,null,null,null,null,null,null,"~"]
["SA36",2020,"DC15",256,null,null,null,null,null,null,null,null,null,null,null,null,null,null,null,null,null,null,"~"]
["SA36",2020,"DC15",257,null,null,null,null,null,null,null,null,null,null,null,null,null,null,null,null,null,null,"~"]
["SA36",2020,"DC15",258,null,null,null,null,null,null,null,null,null,null,null,null,null,null,null,null,null,null,"~"]
["SA36",2020,"DC15",259,null,null,null,null,null,null,null,null,null,null,null,null,null,null,null,null,null,null,"~"]
["SA36",2020,"DC15",260,null,null,null,null,null,null,null,null,null,null,null,null,null,null,null,null,null,null,"~"]
["SA36",2020,"DC15",261,null,null,null,null,null,null,null,null,null,null,null,null,null,null,null,null,null,null,"~"]
["SA36",2020,"DC15",262,null,null,null,null,null,null,null,null,null,null,null,null,null,null,null,null,null,null,"~"]
["SA36",2020,"DC15",263,null,null,null,null,null,null,null,null,null,null,null,null,null,null,null,null,null,null,"~"]
["SA36",2020,"DC15",264,null,null,null,null,null,null,null,null,null,null,null,null,null,null,null,null,null,null,"~"]
["SA36",2020,"DC15",265,null,null,null,null,null,null,null,null,null,null,null,null,null,null,null,null,null,null,"~"]
["SA36",2020,"DC15",266,null,null,null,null,null,null,null,null,null,null,null,null,null,null,null,null,null,null,"~"]
["SA36",2020,"DC15",267,null,null,null,null,null,null,null,null,null,null,null,null,null,null,null,null,null,null,"~"]
["SA36",2020,"DC15",268,null,null,null,null,null,null,null,null,null,null,null,null,null,null,null,null,null,null,"~"]
["SA36",2020,"DC15",269,null,null,null,null,null,null,null,null,null,null,null,null,null,null,null,null,null,null,"~"]
["SA36",2020,"DC15",270,null,null,null,null,null,null,null,null,null,null,null,null,null,null,null,null,null,null,"~"]
["SA36",2020,"DC15",271,null,null,null,null,null,null,null,null,null,null,null,null,null,null,null,null,null,null,"~"]
["SA36",2020,"DC15",272,null,null,null,null,null,null,null,null,null,null,null,null,null,null,null,null,null,null,"~"]
["SA36",2020,"DC15",273,null,null,null,null,null,null,null,null,null,null,null,null,null,null,null,null,null,null,"~"]
["SA36",2020,"DC15",274,null,null,null,null,null,null,null,null,null,null,null,null,null,null,null,null,null,null,"~"]
["SA36",2020,"DC15",275,null,null,null,null,null,null,null,null,null,null,null,null,null,null,null,null,null,null,"~"]
["SA36",2020,"DC15",276,null,null,null,null,null,null,null,null,null,null,null,null,null,null,null,null,null,null,"~"]
["SA36",2020,"DC15",277,null,null,null,null,null,null,null,null,null,null,null,null,null,null,null,null,null,null,"~"]
["SA36",2020,"DC15",278,null,null,null,null,null,null,null,null,null,null,null,null,null,null,null,null,null,null,"~"]
["SA36",2020,"DC15",279,null,null,null,null,null,null,null,null,null,null,null,null,null,null,null,null,null,null,"~"]
["SA36",{"$f":"+MTREF","v":2020},{"$f":"LEFT(muni,(FIND(\" \",muni,1)-1))","v":"DC15"},280,null,null,null,null,null,null,null,null,null,null,null,null,null,null,null,null,null,null,"~"]
["SA36",2020,"DC15",281,null,null,null,null,null,null,null,null,null,null,null,null,null,null,null,null,null,null,"~"]
["SA36",2020,"DC15",282,null,null,null,null,null,null,null,null,null,null,null,null,null,null,null,null,null,null,"~"]
["SA36",2020,"DC15",283,null,null,null,null,null,null,null,null,null,null,null,null,null,null,null,null,null,null,"~"]
["SA36",2020,"DC15",284,null,null,null,null,null,null,null,null,null,null,null,null,null,null,null,null,null,null,"~"]
["SA36",2020,"DC15",285,null,null,null,null,null,null,null,null,null,null,null,null,null,null,null,null,null,null,"~"]
["SA36",2020,"DC15",286,null,null,null,null,null,null,null,null,null,null,null,null,null,null,null,null,null,null,"~"]
["SA36",2020,"DC15",287,null,null,null,null,null,null,null,null,null,null,null,null,null,null,null,null,null,null,"~"]
["SA36",2020,"DC15",288,null,null,null,null,null,null,null,null,null,null,null,null,null,null,null,null,null,null,"~"]
["SA36",2020,"DC15",289,null,null,null,null,null,null,null,null,null,null,null,null,null,null,null,null,null,null,"~"]
["SA36",2020,"DC15",290,null,null,null,null,null,null,null,null,null,null,null,null,null,null,null,null,null,null,"~"]
["SA36",2020,"DC15",291,null,null,null,null,null,null,null,null,null,null,null,null,null,null,null,null,null,null,"~"]
["SA36",2020,"DC15",292,null,null,null,null,null,null,null,null,null,null,null,null,null,null,null,null,null,null,"~"]
["SA36",2020,"DC15",293,null,null,null,null,null,null,null,null,null,null,null,null,null,null,null,null,null,null,"~"]
["SA36",2020,"DC15",294,null,null,null,null,null,null,null,null,null,null,null,null,null,null,null,null,null,null,"~"]
["SA36",2020,"DC15",295,null,null,null,null,null,null,null,null,null,null,null,null,null,null,null,null,null,null,"~"]
["SA36",2020,"DC15",296,null,null,null,null,null,null,null,null,null,null,null,null,null,null,null,null,null,null,"~"]
["SA36",2020,"DC15",297,null,null,null,null,null,null,null,null,null,null,null,null,null,null,null,null,null,null,"~"]
["SA36",2020,"DC15",298,null,null,null,null,null,null,null,null,null,null,null,null,null,null,null,null,null,null,"~"]
["SA36",2020,"DC15",299,null,null,null,null,null,null,null,null,null,null,null,null,null,null,null,null,null,null,"~"]
["SA36",2020,"DC15",300,null,null,null,null,null,null,null,null,null,null,null,null,null,null,null,null,null,null,"~"]
["SA36",2020,"DC15",301,null,null,null,null,null,null,null,null,null,null,null,null,null,null,null,null,null,null,"~"]
["SA36",2020,"DC15",302,null,null,null,null,null,null,null,null,null,null,null,null,null,null,null,null,null,null,"~"]
["SA36",2020,"DC15",303,null,null,null,null,null,null,null,null,null,null,null,null,null,null,null,null,null,null,"~"]
["SA36",2020,"DC15",304,null,null,null,null,null,null,null,null,null,null,null,null,null,null,null,null,null,null,"~"]
["SA36",2020,"DC15",305,null,null,null,null,null,null,null,null,null,null,null,null,null,null,null,null,null,null,"~"]
["SA36",2020,"DC15",306,null,null,null,null,null,null,null,null,null,null,null,null,null,null,null,null,null,null,"~"]
["SA36",2020,"DC15",307,null,null,null,null,null,null,null,null,null,null,null,null,null,null,null,null,null,null,"~"]
["SA36",2020,"DC15",308,null,null,null,null,null,null,null,null,null,null,null,null,null,null,null,null,null,null,"~"]
["SA36",2020,"DC15",309,null,null,null,null,null,null,null,null,null,null,null,null,null,null,null,null,null,null,"~"]
["SA36",2020,"DC15",310,null,null,null,null,null,null,null,null,null,null,null,null,null,null,null,null,null,null,"~"]
["SA36",2020,"DC15",311,null,null,null,null,null,null,null,null,null,null,null,null,null,null,null,null,null,null,"~"]
["SA36",2020,"DC15",312,null,null,null,null,null,null,null,null,null,null,null,null,null,null,null,null,null,null,"~"]
["SA36",2020,"DC15",313,null,null,null,null,null,null,null,null,null,null,null,null,null,null,null,null,null,null,"~"]
["SA36",2020,"DC15",314,null,null,null,null,null,null,null,null,null,null,null,null,null,null,null,null,null,null,"~"]
["SA36",2020,"DC15",315,null,null,null,null,null,null,null,null,null,null,null,null,null,null,null,null,null,null,"~"]
["SA36",2020,"DC15",316,null,null,null,null,null,null,null,null,null,null,null,null,null,null,null,null,null,null,"~"]
["SA36",2020,"DC15",317,null,null,null,null,null,null,null,null,null,null,null,null,null,null,null,null,null,null,"~"]
["SA36",2020,"DC15",318,null,null,null,null,null,null,null,null,null,null,null,null,null,null,null,null,null,null,"~"]
["SA36",2020,"DC15",319,null,null,null,null,null,null,null,null,null,null,null,null,null,null,null,null,null,null,"~"]
["SA36",2020,"DC15",320,null,null,null,null,null,null,null,null,null,null,null,null,null,null,null,null,null,null,"~"]
["SA36",2020,"DC15",321,null,null,null,null,null,null,null,null,null,null,null,null,null,null,null,null,null,null,"~"]
["SA36",2020,"DC15",322,null,null,null,null,null,null,null,null,null,null,null,null,null,null,null,null,null,null,"~"]
["SA36",2020,"DC15",323,null,null,null,null,null,null,null,null,null,null,null,null,null,null,null,null,null,null,"~"]
["SA36",2020,"DC15",324,null,null,null,null,null,null,null,null,null,null,null,null,null,null,null,null,null,null,"~"]
["SA36",2020,"DC15",325,null,null,null,null,null,null,null,null,null,null,null,null,null,null,null,null,null,null,"~"]
["SA36",2020,"DC15",326,null,null,null,null,null,null,null,null,null,null,null,null,null,null,null,null,null,null,"~"]
["SA36",2020,"DC15",327,null,null,null,null,null,null,null,null,null,null,null,null,null,null,null,null,null,null,"~"]
["SA36",2020,"DC15",328,null,null,null,null,null,null,null,null,null,null,null,null,null,null,null,null,null,null,"~"]
["SA36",2020,"DC15",329,null,null,null,null,null,null,null,null,null,null,null,null,null,null,null,null,null,null,"~"]
["SA36",2020,"DC15",330,null,null,null,null,null,null,null,null,null,null,null,null,null,null,null,null,null,null,"~"]
["SA36",2020,"DC15",331,null,null,null,null,null,null,null,null,null,null,null,null,null,null,null,null,null,null,"~"]
["SA36",2020,"DC15",332,null,null,null,null,null,null,null,null,null,null,null,null,null,null,null,null,null,null,"~"]
["SA36",2020,"DC15",333,null,null,null,null,null,null,null,null,null,null,null,null,null,null,null,null,null,null,"~"]
["SA36",2020,"DC15",334,null,null,null,null,null,null,null,null,null,null,null,null,null,null,null,null,null,null,"~"]
["SA36",2020,"DC15",335,null,null,null,null,null,null,null,null,null,null,null,null,null,null,null,null,null,null,"~"]
["SA36",2020,"DC15",336,null,null,null,null,null,null,null,null,null,null,null,null,null,null,null,null,null,null,"~"]
["SA36",2020,"DC15",337,null,null,null,null,null,null,null,null,null,null,null,null,null,null,null,null,null,null,"~"]
["SA36",2020,"DC15",338,null,null,null,null,null,null,null,null,null,null,null,null,null,null,null,null,null,null,"~"]
["SA36",2020,"DC15",339,null,null,null,null,null,null,null,null,null,null,null,null,null,null,null,null,null,null,"~"]
["SA36",2020,"DC15",340,null,null,null,null,null,null,null,null,null,null,null,null,null,null,null,null,null,null,"~"]
["SA36",2020,"DC15",341,null,null,null,null,null,null,null,null,null,null,null,null,null,null,null,null,null,null,"~"]
["SA36",2020,"DC15",342,null,null,null,null,null,null,null,null,null,null,null,null,null,null,null,null,null,null,"~"]
["SA36",2020,"DC15",343,null,null,null,null,null,null,null,null,null,null,null,null,null,null,null,null,null,null,"~"]
["SA36",{"$f":"+MTREF","v":2020},{"$f":"LEFT(muni,(FIND(\" \",muni,1)-1))","v":"DC15"},344,null,null,null,null,null,null,null,null,null,null,null,null,null,null,null,null,null,null,"~"]
["SA36",2020,"DC15",345,null,null,null,null,null,null,null,null,null,null,null,null,null,null,null,null,null,null,"~"]
["SA36",2020,"DC15",346,null,null,null,null,null,null,null,null,null,null,null,null,null,null,null,null,null,null,"~"]
["SA36",2020,"DC15",347,null,null,null,null,null,null,null,null,null,null,null,null,null,null,null,null,null,null,"~"]
["SA36",2020,"DC15",348,null,null,null,null,null,null,null,null,null,null,null,null,null,null,null,null,null,null,"~"]
["SA36",2020,"DC15",349,null,null,null,null,null,null,null,null,null,null,null,null,null,null,null,null,null,null,"~"]
["SA36",2020,"DC15",350,null,null,null,null,null,null,null,null,null,null,null,null,null,null,null,null,null,null,"~"]
["SA36",2020,"DC15",351,null,null,null,null,null,null,null,null,null,null,null,null,null,null,null,null,null,null,"~"]
["SA36",2020,"DC15",352,null,null,null,null,null,null,null,null,null,null,null,null,null,null,null,null,null,null,"~"]
["SA36",2020,"DC15",353,null,null,null,null,null,null,null,null,null,null,null,null,null,null,null,null,null,null,"~"]
["SA36",2020,"DC15",354,null,null,null,null,null,null,null,null,null,null,null,null,null,null,null,null,null,null,"~"]
["SA36",2020,"DC15",355,null,null,null,null,null,null,null,null,null,null,null,null,null,null,null,null,null,null,"~"]
["SA36",2020,"DC15",356,null,null,null,null,null,null,null,null,null,null,null,null,null,null,null,null,null,null,"~"]
["SA36",2020,"DC15",357,null,null,null,null,null,null,null,null,null,null,null,null,null,null,null,null,null,null,"~"]
["SA36",2020,"DC15",358,null,null,null,null,null,null,null,null,null,null,null,null,null,null,null,null,null,null,"~"]
["SA36",2020,"DC15",359,null,null,null,null,null,null,null,null,null,null,null,null,null,null,null,null,null,null,"~"]
["SA36",2020,"DC15",360,null,null,null,null,null,null,null,null,null,null,null,null,null,null,null,null,null,null,"~"]
["SA36",2020,"DC15",361,null,null,null,null,null,null,null,null,null,null,null,null,null,null,null,null,null,null,"~"]
["SA36",2020,"DC15",362,null,null,null,null,null,null,null,null,null,null,null,null,null,null,null,null,null,null,"~"]
["SA36",2020,"DC15",363,null,null,null,null,null,null,null,null,null,null,null,null,null,null,null,null,null,null,"~"]
["SA36",2020,"DC15",364,null,null,null,null,null,null,null,null,null,null,null,null,null,null,null,null,null,null,"~"]
["SA36",2020,"DC15",365,null,null,null,null,null,null,null,null,null,null,null,null,null,null,null,null,null,null,"~"]
["SA36",2020,"DC15",366,null,null,null,null,null,null,null,null,null,null,null,null,null,null,null,null,null,null,"~"]
["SA36",2020,"DC15",367,null,null,null,null,null,null,null,null,null,null,null,null,null,null,null,null,null,null,"~"]
["SA36",2020,"DC15",368,null,null,null,null,null,null,null,null,null,null,null,null,null,null,null,null,null,null,"~"]
["SA36",2020,"DC15",369,null,null,null,null,null,null,null,null,null,null,null,null,null,null,null,null,null,null,"~"]
["SA36",2020,"DC15",370,null,null,null,null,null,null,null,null,null,null,null,null,null,null,null,null,null,null,"~"]
["SA36",2020,"DC15",371,null,null,null,null,null,null,null,null,null,null,null,null,null,null,null,null,null,null,"~"]
["SA36",2020,"DC15",372,null,null,null,null,null,null,null,null,null,null,null,null,null,null,null,null,null,null,"~"]
["SA36",2020,"DC15",373,null,null,null,null,null,null,null,null,null,null,null,null,null,null,null,null,null,null,"~"]
["SA36",2020,"DC15",374,null,null,null,null,null,null,null,null,null,null,null,null,null,null,null,null,null,null,"~"]
["SA36",2020,"DC15",375,null,null,null,null,null,null,null,null,null,null,null,null,null,null,null,null,null,null,"~"]
["SA36",2020,"DC15",376,null,null,null,null,null,null,null,null,null,null,null,null,null,null,null,null,null,null,"~"]
["SA36",2020,"DC15",377,null,null,null,null,null,null,null,null,null,null,null,null,null,null,null,null,null,null,"~"]
["SA36",2020,"DC15",378,null,null,null,null,null,null,null,null,null,null,null,null,null,null,null,null,null,null,"~"]
["SA36",2020,"DC15",379,null,null,null,null,null,null,null,null,null,null,null,null,null,null,null,null,null,null,"~"]
["SA36",2020,"DC15",380,null,null,null,null,null,null,null,null,null,null,null,null,null,null,null,null,null,null,"~"]
["SA36",2020,"DC15",381,null,null,null,null,null,null,null,null,null,null,null,null,null,null,null,null,null,null,"~"]
["SA36",2020,"DC15",382,null,null,null,null,null,null,null,null,null,null,null,null,null,null,null,null,null,null,"~"]
["SA36",2020,"DC15",383,null,null,null,null,null,null,null,null,null,null,null,null,null,null,null,null,null,null,"~"]
["SA36",2020,"DC15",384,null,null,null,null,null,null,null,null,null,null,null,null,null,null,null,null,null,null,"~"]
["SA36",2020,"DC15",385,null,null,null,null,null,null,null,null,null,null,null,null,null,null,null,null,null,null,"~"]
["SA36",2020,"DC15",386,null,null,null,null,null,null,null,null,null,null,null,null,null,null,null,null,null,null,"~"]
["SA36",2020,"DC15",387,null,null,null,null,null,null,null,null,null,null,null,null,null,null,null,null,null,null,"~"]
["SA36",2020,"DC15",388,null,null,null,null,null,null,null,null,null,null,null,null,null,null,null,null,null,null,"~"]
["SA36",2020,"DC15",389,null,null,null,null,null,null,null,null,null,null,null,null,null,null,null,null,null,null,"~"]
["SA36",2020,"DC15",390,null,null,null,null,null,null,null,null,null,null,null,null,null,null,null,null,null,null,"~"]
["SA36",2020,"DC15",391,null,null,null,null,null,null,null,null,null,null,null,null,null,null,null,null,null,null,"~"]
["SA36",2020,"DC15",392,null,null,null,null,null,null,null,null,null,null,null,null,null,null,null,null,null,null,"~"]
["SA36",2020,"DC15",393,null,null,null,null,null,null,null,null,null,null,null,null,null,null,null,null,null,null,"~"]
["SA36",2020,"DC15",394,null,null,null,null,null,null,null,null,null,null,null,null,null,null,null,null,null,null,"~"]
["SA36",2020,"DC15",395,null,null,null,null,null,null,null,null,null,null,null,null,null,null,null,null,null,null,"~"]
["SA36",2020,"DC15",396,null,null,null,null,null,null,null,null,null,null,null,null,null,null,null,null,null,null,"~"]
["SA36",2020,"DC15",397,null,null,null,null,null,null,null,null,null,null,null,null,null,null,null,null,null,null,"~"]
["SA36",2020,"DC15",398,null,null,null,null,null,null,null,null,null,null,null,null,null,null,null,null,null,null,"~"]
["SA36",2020,"DC15",399,null,null,null,null,null,null,null,null,null,null,null,null,null,null,null,null,null,null,"~"]
["SA36",2020,"DC15",400,null,null,null,null,null,null,null,null,null,null,null,null,null,null,null,null,null,null,"~"]
["SA36",2020,"DC15",401,null,null,null,null,null,null,null,null,null,null,null,null,null,null,null,null,null,null,"~"]
["SA36",2020,"DC15",402,null,null,null,null,null,null,null,null,null,null,null,null,null,null,null,null,null,null,"~"]
["SA36",2020,"DC15",403,null,null,null,null,null,null,null,null,null,null,null,null,null,null,null,null,null,null,"~"]
["SA36",2020,"DC15",404,null,null,null,null,null,null,null,null,null,null,null,null,null,null,null,null,null,null,"~"]
["SA36",2020,"DC15",405,null,null,null,null,null,null,null,null,null,null,null,null,null,null,null,null,null,null,"~"]
["SA36",2020,"DC15",406,null,null,null,null,null,null,null,null,null,null,null,null,null,null,null,null,null,null,"~"]
["SA36",2020,"DC15",407,null,null,null,null,null,null,null,null,null,null,null,null,null,null,null,null,null,null,"~"]
["SA36",{"$f":"+MTREF","v":2020},{"$f":"LEFT(muni,(FIND(\" \",muni,1)-1))","v":"DC15"},408,null,null,null,null,null,null,null,null,null,null,null,null,null,null,null,null,null,null,"~"]
["SA36",2020,"DC15",409,null,null,null,null,null,null,null,null,null,null,null,null,null,null,null,null,null,null,"~"]
["SA36",2020,"DC15",410,null,null,null,null,null,null,null,null,null,null,null,null,null,null,null,null,null,null,"~"]
["SA36",2020,"DC15",411,null,null,null,null,null,null,null,null,null,null,null,null,null,null,null,null,null,null,"~"]
["SA36",2020,"DC15",412,null,null,null,null,null,null,null,null,null,null,null,null,null,null,null,null,null,null,"~"]
["SA36",2020,"DC15",413,null,null,null,null,null,null,null,null,null,null,null,null,null,null,null,null,null,null,"~"]
["SA36",2020,"DC15",414,null,null,null,null,null,null,null,null,null,null,null,null,null,null,null,null,null,null,"~"]
["SA36",2020,"DC15",415,null,null,null,null,null,null,null,null,null,null,null,null,null,null,null,null,null,null,"~"]
["SA36",2020,"DC15",416,null,null,null,null,null,null,null,null,null,null,null,null,null,null,null,null,null,null,"~"]
["SA36",2020,"DC15",417,null,null,null,null,null,null,null,null,null,null,null,null,null,null,null,null,null,null,"~"]
["SA36",2020,"DC15",418,null,null,null,null,null,null,null,null,null,null,null,null,null,null,null,null,null,null,"~"]
["SA36",2020,"DC15",419,null,null,null,null,null,null,null,null,null,null,null,null,null,null,null,null,null,null,"~"]
["SA36",2020,"DC15",420,null,null,null,null,null,null,null,null,null,null,null,null,null,null,null,null,null,null,"~"]
["SA36",2020,"DC15",421,null,null,null,null,null,null,null,null,null,null,null,null,null,null,null,null,null,null,"~"]
["SA36",2020,"DC15",422,null,null,null,null,null,null,null,null,null,null,null,null,null,null,null,null,null,null,"~"]
["SA36",2020,"DC15",423,null,null,null,null,null,null,null,null,null,null,null,null,null,null,null,null,null,null,"~"]
["SA36",2020,"DC15",424,null,null,null,null,null,null,null,null,null,null,null,null,null,null,null,null,null,null,"~"]
["SA36",2020,"DC15",425,null,null,null,null,null,null,null,null,null,null,null,null,null,null,null,null,null,null,"~"]
["SA36",2020,"DC15",426,null,null,null,null,null,null,null,null,null,null,null,null,null,null,null,null,null,null,"~"]
["SA36",2020,"DC15",427,null,null,null,null,null,null,null,null,null,null,null,null,null,null,null,null,null,null,"~"]
["SA36",2020,"DC15",428,null,null,null,null,null,null,null,null,null,null,null,null,null,null,null,null,null,null,"~"]
["SA36",2020,"DC15",429,null,null,null,null,null,null,null,null,null,null,null,null,null,null,null,null,null,null,"~"]
["SA36",2020,"DC15",430,null,null,null,null,null,null,null,null,null,null,null,null,null,null,null,null,null,null,"~"]
["SA36",2020,"DC15",431,null,null,null,null,null,null,null,null,null,null,null,null,null,null,null,null,null,null,"~"]
["SA36",2020,"DC15",432,null,null,null,null,null,null,null,null,null,null,null,null,null,null,null,null,null,null,"~"]
["SA36",2020,"DC15",433,null,null,null,null,null,null,null,null,null,null,null,null,null,null,null,null,null,null,"~"]
["SA36",2020,"DC15",434,null,null,null,null,null,null,null,null,null,null,null,null,null,null,null,null,null,null,"~"]
["SA36",2020,"DC15",435,null,null,null,null,null,null,null,null,null,null,null,null,null,null,null,null,null,null,"~"]
["SA36",2020,"DC15",436,null,null,null,null,null,null,null,null,null,null,null,null,null,null,null,null,null,null,"~"]
["SA36",2020,"DC15",437,null,null,null,null,null,null,null,null,null,null,null,null,null,null,null,null,null,null,"~"]
["SA36",2020,"DC15",438,null,null,null,null,null,null,null,null,null,null,null,null,null,null,null,null,null,null,"~"]
["SA36",2020,"DC15",439,null,null,null,null,null,null,null,null,null,null,null,null,null,null,null,null,null,null,"~"]
["SA36",2020,"DC15",440,null,null,null,null,null,null,null,null,null,null,null,null,null,null,null,null,null,null,"~"]
["SA36",2020,"DC15",441,null,null,null,null,null,null,null,null,null,null,null,null,null,null,null,null,null,null,"~"]
["SA36",2020,"DC15",442,null,null,null,null,null,null,null,null,null,null,null,null,null,null,null,null,null,null,"~"]
["SA36",2020,"DC15",443,null,null,null,null,null,null,null,null,null,null,null,null,null,null,null,null,null,null,"~"]
["SA36",2020,"DC15",444,null,null,null,null,null,null,null,null,null,null,null,null,null,null,null,null,null,null,"~"]
["SA36",2020,"DC15",445,null,null,null,null,null,null,null,null,null,null,null,null,null,null,null,null,null,null,"~"]
["SA36",2020,"DC15",446,null,null,null,null,null,null,null,null,null,null,null,null,null,null,null,null,null,null,"~"]
["SA36",2020,"DC15",447,null,null,null,null,null,null,null,null,null,null,null,null,null,null,null,null,null,null,"~"]
["SA36",2020,"DC15",448,null,null,null,null,null,null,null,null,null,null,null,null,null,null,null,null,null,null,"~"]
["SA36",2020,"DC15",449,null,null,null,null,null,null,null,null,null,null,null,null,null,null,null,null,null,null,"~"]
["SA36",2020,"DC15",450,null,null,null,null,null,null,null,null,null,null,null,null,null,null,null,null,null,null,"~"]
["SA36",2020,"DC15",451,null,null,null,null,null,null,null,null,null,null,null,null,null,null,null,null,null,null,"~"]
["SA36",2020,"DC15",452,null,null,null,null,null,null,null,null,null,null,null,null,null,null,null,null,null,null,"~"]
["SA36",2020,"DC15",453,null,null,null,null,null,null,null,null,null,null,null,null,null,null,null,null,null,null,"~"]
["SA36",2020,"DC15",454,null,null,null,null,null,null,null,null,null,null,null,null,null,null,null,null,null,null,"~"]
["SA36",2020,"DC15",455,null,null,null,null,null,null,null,null,null,null,null,null,null,null,null,null,null,null,"~"]
["SA36",2020,"DC15",456,null,null,null,null,null,null,null,null,null,null,null,null,null,null,null,null,null,null,"~"]
["SA36",2020,"DC15",457,null,null,null,null,null,null,null,null,null,null,null,null,null,null,null,null,null,null,"~"]
["SA36",2020,"DC15",458,null,null,null,null,null,null,null,null,null,null,null,null,null,null,null,null,null,null,"~"]
["SA36",2020,"DC15",459,null,null,null,null,null,null,null,null,null,null,null,null,null,null,null,null,null,null,"~"]
["SA36",2020,"DC15",460,null,null,null,null,null,null,null,null,null,null,null,null,null,null,null,null,null,null,"~"]
["SA36",2020,"DC15",461,null,null,null,null,null,null,null,null,null,null,null,null,null,null,null,null,null,null,"~"]
["SA36",2020,"DC15",462,null,null,null,null,null,null,null,null,null,null,null,null,null,null,null,null,null,null,"~"]
["SA36",2020,"DC15",463,null,null,null,null,null,null,null,null,null,null,null,null,null,null,null,null,null,null,"~"]
["SA36",2020,"DC15",464,null,null,null,null,null,null,null,null,null,null,null,null,null,null,null,null,null,null,"~"]
["SA36",2020,"DC15",465,null,null,null,null,null,null,null,null,null,null,null,null,null,null,null,null,null,null,"~"]
["SA36",2020,"DC15",466,null,null,null,null,null,null,null,null,null,null,null,null,null,null,null,null,null,null,"~"]
["SA36",2020,"DC15",467,null,null,null,null,null,null,null,null,null,null,null,null,null,null,null,null,null,null,"~"]
["SA36",2020,"DC15",468,null,null,null,null,null,null,null,null,null,null,null,null,null,null,null,null,null,null,"~"]
["SA36",2020,"DC15",469,null,null,null,null,null,null,null,null,null,null,null,null,null,null,null,null,null,null,"~"]
["SA36",2020,"DC15",470,null,null,null,null,null,null,null,null,null,null,null,null,null,null,null,null,null,null,"~"]
["SA36",2020,"DC15",471,null,null,null,null,null,null,null,null,null,null,null,null,null,null,null,null,null,null,"~"]
["SA36",{"$f":"+MTREF","v":2020},{"$f":"LEFT(muni,(FIND(\" \",muni,1)-1))","v":"DC15"},472,null,null,null,null,null,null,null,null,null,null,null,null,null,null,null,null,null,null,"~"]
["SA36",2020,"DC15",473,null,null,null,null,null,null,null,null,null,null,null,null,null,null,null,null,null,null,"~"]
["SA36",2020,"DC15",474,null,null,null,null,null,null,null,null,null,null,null,null,null,null,null,null,null,null,"~"]
["SA36",2020,"DC15",475,null,null,null,null,null,null,null,null,null,null,null,null,null,null,null,null,null,null,"~"]
["SA36",2020,"DC15",476,null,null,null,null,null,null,null,null,null,null,null,null,null,null,null,null,null,null,"~"]
["SA36",2020,"DC15",477,null,null,null,null,null,null,null,null,null,null,null,null,null,null,null,null,null,null,"~"]
["SA36",2020,"DC15",478,null,null,null,null,null,null,null,null,null,null,null,null,null,null,null,null,null,null,"~"]
["SA36",2020,"DC15",479,null,null,null,null,null,null,null,null,null,null,null,null,null,null,null,null,null,null,"~"]
["SA36",2020,"DC15",480,null,null,null,null,null,null,null,null,null,null,null,null,null,null,null,null,null,null,"~"]
["SA36",2020,"DC15",481,null,null,null,null,null,null,null,null,null,null,null,null,null,null,null,null,null,null,"~"]
["SA36",2020,"DC15",482,null,null,null,null,null,null,null,null,null,null,null,null,null,null,null,null,null,null,"~"]
["SA36",2020,"DC15",483,null,null,null,null,null,null,null,null,null,null,null,null,null,null,null,null,null,null,"~"]
["SA36",2020,"DC15",484,null,null,null,null,null,null,null,null,null,null,null,null,null,null,null,null,null,null,"~"]
["SA36",2020,"DC15",485,null,null,null,null,null,null,null,null,null,null,null,null,null,null,null,null,null,null,"~"]
["SA36",2020,"DC15",486,null,null,null,null,null,null,null,null,null,null,null,null,null,null,null,null,null,null,"~"]
["SA36",2020,"DC15",487,null,null,null,null,null,null,null,null,null,null,null,null,null,null,null,null,null,null,"~"]
["SA36",2020,"DC15",488,null,null,null,null,null,null,null,null,null,null,null,null,null,null,null,null,null,null,"~"]
["SA36",2020,"DC15",489,null,null,null,null,null,null,null,null,null,null,null,null,null,null,null,null,null,null,"~"]
["SA36",2020,"DC15",490,null,null,null,null,null,null,null,null,null,null,null,null,null,null,null,null,null,null,"~"]
["SA36",2020,"DC15",491,null,null,null,null,null,null,null,null,null,null,null,null,null,null,null,null,null,null,"~"]
["SA36",2020,"DC15",492,null,null,null,null,null,null,null,null,null,null,null,null,null,null,null,null,null,null,"~"]
["SA36",2020,"DC15",493,null,null,null,null,null,null,null,null,null,null,null,null,null,null,null,null,null,null,"~"]
["SA36",2020,"DC15",494,null,null,null,null,null,null,null,null,null,null,null,null,null,null,null,null,null,null,"~"]
["SA36",2020,"DC15",495,null,null,null,null,null,null,null,null,null,null,null,null,null,null,null,null,null,null,"~"]
["SA36",2020,"DC15",496,null,null,null,null,null,null,null,null,null,null,null,null,null,null,null,null,null,null,"~"]
["SA36",2020,"DC15",497,null,null,null,null,null,null,null,null,null,null,null,null,null,null,null,null,null,null,"~"]
["SA36",2020,"DC15",498,null,null,null,null,null,null,null,null,null,null,null,null,null,null,null,null,null,null,"~"]
["SA36",2020,"DC15",499,null,null,null,null,null,null,null,null,null,null,null,null,null,null,null,null,null,null,"~"]
["SA36",2020,"DC15",500,null,null,null,null,null,null,null,null,null,null,null,null,null,null,null,null,null,null,"~"]
["SA36",2020,"DC15",501,null,null,null,null,null,null,null,null,null,null,null,null,null,null,null,null,null,null,"~"]
["SA36",2020,"DC15",502,null,null,null,null,null,null,null,null,null,null,null,null,null,null,null,null,null,null,"~"]
["SA36",2020,"DC15",503,null,null,null,null,null,null,null,null,null,null,null,null,null,null,null,null,null,null,"~"]
["SA36",2020,"DC15",504,null,null,null,null,null,null,null,null,null,null,null,null,null,null,null,null,null,null,"~"]
["SA36",2020,"DC15",505,null,null,null,null,null,null,null,null,null,null,null,null,null,null,null,null,null,null,"~"]
["SA36",2020,"DC15",506,null,null,null,null,null,null,null,null,null,null,null,null,null,null,null,null,null,null,"~"]
["SA36",2020,"DC15",507,null,null,null,null,null,null,null,null,null,null,null,null,null,null,null,null,null,null,"~"]
["SA36",2020,"DC15",508,null,null,null,null,null,null,null,null,null,null,null,null,null,null,null,null,null,null,"~"]
["SA36",2020,"DC15",509,null,null,null,null,null,null,null,null,null,null,null,null,null,null,null,null,null,null,"~"]
["SA36",2020,"DC15",510,null,null,null,null,null,null,null,null,null,null,null,null,null,null,null,null,null,null,"~"]
["SA36",2020,"DC15",511,null,null,null,null,null,null,null,null,null,null,null,null,null,null,null,null,null,null,"~"]
["SA36",2020,"DC15",512,null,null,null,null,null,null,null,null,null,null,null,null,null,null,null,null,null,null,"~"]
["SA36",2020,"DC15",513,null,null,null,null,null,null,null,null,null,null,null,null,null,null,null,null,null,null,"~"]
["SA36",2020,"DC15",514,null,null,null,null,null,null,null,null,null,null,null,null,null,null,null,null,null,null,"~"]
["SA36",2020,"DC15",515,null,null,null,null,null,null,null,null,null,null,null,null,null,null,null,null,null,null,"~"]
["SA36",2020,"DC15",516,null,null,null,null,null,null,null,null,null,null,null,null,null,null,null,null,null,null,"~"]
["SA36",2020,"DC15",517,null,null,null,null,null,null,null,null,null,null,null,null,null,null,null,null,null,null,"~"]
["SA36",2020,"DC15",518,null,null,null,null,null,null,null,null,null,null,null,null,null,null,null,null,null,null,"~"]
["SA36",2020,"DC15",519,null,null,null,null,null,null,null,null,null,null,null,null,null,null,null,null,null,null,"~"]
["SA36",2020,"DC15",520,null,null,null,null,null,null,null,null,null,null,null,null,null,null,null,null,null,null,"~"]
["SA36",2020,"DC15",521,null,null,null,null,null,null,null,null,null,null,null,null,null,null,null,null,null,null,"~"]
["SA36",2020,"DC15",522,null,null,null,null,null,null,null,null,null,null,null,null,null,null,null,null,null,null,"~"]
["SA36",2020,"DC15",523,null,null,null,null,null,null,null,null,null,null,null,null,null,null,null,null,null,null,"~"]
["SA36",2020,"DC15",524,null,null,null,null,null,null,null,null,null,null,null,null,null,null,null,null,null,null,"~"]
["SA36",2020,"DC15",525,null,null,null,null,null,null,null,null,null,null,null,null,null,null,null,null,null,null,"~"]
["SA36",2020,"DC15",526,null,null,null,null,null,null,null,null,null,null,null,null,null,null,null,null,null,null,"~"]
["SA36",2020,"DC15",527,null,null,null,null,null,null,null,null,null,null,null,null,null,null,null,null,null,null,"~"]
["SA36",2020,"DC15",528,null,null,null,null,null,null,null,null,null,null,null,null,null,null,null,null,null,null,"~"]
["SA36",2020,"DC15",529,null,null,null,null,null,null,null,null,null,null,null,null,null,null,null,null,null,null,"~"]
["SA36",2020,"DC15",530,null,null,null,null,null,null,null,null,null,null,null,null,null,null,null,null,null,null,"~"]
["SA36",2020,"DC15",531,null,null,null,null,null,null,null,null,null,null,null,null,null,null,null,null,null,null,"~"]
["SA36",2020,"DC15",532,null,null,null,null,null,null,null,null,null,null,null,null,null,null,null,null,null,null,"~"]
["SA36",2020,"DC15",533,null,null,null,null,null,null,null,null,null,null,null,null,null,null,null,null,null,null,"~"]
["SA36",2020,"DC15",534,null,null,null,null,null,null,null,null,null,null,null,null,null,null,null,null,null,null,"~"]
["SA36",2020,"DC15",535,null,null,null,null,null,null,null,null,null,null,null,null,null,null,null,null,null,null,"~"]
["SA36",{"$f":"+MTREF","v":2020},{"$f":"LEFT(muni,(FIND(\" \",muni,1)-1))","v":"DC15"},536,null,null,null,null,null,null,null,null,null,null,null,null,null,null,null,null,null,null,"~"]
["SA36",2020,"DC15",537,null,null,null,null,null,null,null,null,null,null,null,null,null,null,null,null,null,null,"~"]
["SA36",2020,"DC15",538,null,null,null,null,null,null,null,null,null,null,null,null,null,null,null,null,null,null,"~"]
["SA36",2020,"DC15",539,null,null,null,null,null,null,null,null,null,null,null,null,null,null,null,null,null,null,"~"]
["SA36",2020,"DC15",540,null,null,null,null,null,null,null,null,null,null,null,null,null,null,null,null,null,null,"~"]
["SA36",2020,"DC15",541,null,null,null,null,null,null,null,null,null,null,null,null,null,null,null,null,null,null,"~"]
["SA36",2020,"DC15",542,null,null,null,null,null,null,null,null,null,null,null,null,null,null,null,null,null,null,"~"]
["SA36",2020,"DC15",543,null,null,null,null,null,null,null,null,null,null,null,null,null,null,null,null,null,null,"~"]
["SA36",2020,"DC15",544,null,null,null,null,null,null,null,null,null,null,null,null,null,null,null,null,null,null,"~"]
["SA36",2020,"DC15",545,null,null,null,null,null,null,null,null,null,null,null,null,null,null,null,null,null,null,"~"]
["SA36",2020,"DC15",546,null,null,null,null,null,null,null,null,null,null,null,null,null,null,null,null,null,null,"~"]
["SA36",2020,"DC15",547,null,null,null,null,null,null,null,null,null,null,null,null,null,null,null,null,null,null,"~"]
["SA36",2020,"DC15",548,null,null,null,null,null,null,null,null,null,null,null,null,null,null,null,null,null,null,"~"]
["SA36",2020,"DC15",549,null,null,null,null,null,null,null,null,null,null,null,null,null,null,null,null,null,null,"~"]
["SA36",2020,"DC15",550,null,null,null,null,null,null,null,null,null,null,null,null,null,null,null,null,null,null,"~"]
["SA36",2020,"DC15",551,null,null,null,null,null,null,null,null,null,null,null,null,null,null,null,null,null,null,"~"]
["SA36",2020,"DC15",552,null,null,null,null,null,null,null,null,null,null,null,null,null,null,null,null,null,null,"~"]
["SA36",2020,"DC15",553,null,null,null,null,null,null,null,null,null,null,null,null,null,null,null,null,null,null,"~"]
["SA36",2020,"DC15",554,null,null,null,null,null,null,null,null,null,null,null,null,null,null,null,null,null,null,"~"]
["SA36",2020,"DC15",555,null,null,null,null,null,null,null,null,null,null,null,null,null,null,null,null,null,null,"~"]
["SA36",2020,"DC15",556,null,null,null,null,null,null,null,null,null,null,null,null,null,null,null,null,null,null,"~"]
["SA36",2020,"DC15",557,null,null,null,null,null,null,null,null,null,null,null,null,null,null,null,null,null,null,"~"]
["SA36",2020,"DC15",558,null,null,null,null,null,null,null,null,null,null,null,null,null,null,null,null,null,null,"~"]
["SA36",2020,"DC15",559,null,null,null,null,null,null,null,null,null,null,null,null,null,null,null,null,null,null,"~"]
["SA36",2020,"DC15",560,null,null,null,null,null,null,null,null,null,null,null,null,null,null,null,null,null,null,"~"]
["SA36",2020,"DC15",561,null,null,null,null,null,null,null,null,null,null,null,null,null,null,null,null,null,null,"~"]
["SA36",2020,"DC15",562,null,null,null,null,null,null,null,null,null,null,null,null,null,null,null,null,null,null,"~"]
["SA36",2020,"DC15",563,null,null,null,null,null,null,null,null,null,null,null,null,null,null,null,null,null,null,"~"]
["SA36",2020,"DC15",564,null,null,null,null,null,null,null,null,null,null,null,null,null,null,null,null,null,null,"~"]
["SA36",2020,"DC15",565,null,null,null,null,null,null,null,null,null,null,null,null,null,null,null,null,null,null,"~"]
["SA36",2020,"DC15",566,null,null,null,null,null,null,null,null,null,null,null,null,null,null,null,null,null,null,"~"]
["SA36",2020,"DC15",567,null,null,null,null,null,null,null,null,null,null,null,null,null,null,null,null,null,null,"~"]
["SA36",2020,"DC15",568,null,null,null,null,null,null,null,null,null,null,null,null,null,null,null,null,null,null,"~"]
["SA36",2020,"DC15",569,null,null,null,null,null,null,null,null,null,null,null,null,null,null,null,null,null,null,"~"]
["SA36",2020,"DC15",570,null,null,null,null,null,null,null,null,null,null,null,null,null,null,null,null,null,null,"~"]
["SA36",2020,"DC15",571,null,null,null,null,null,null,null,null,null,null,null,null,null,null,null,null,null,null,"~"]
["SA36",2020,"DC15",572,null,null,null,null,null,null,null,null,null,null,null,null,null,null,null,null,null,null,"~"]
["SA36",2020,"DC15",573,null,null,null,null,null,null,null,null,null,null,null,null,null,null,null,null,null,null,"~"]
["SA36",2020,"DC15",574,null,null,null,null,null,null,null,null,null,null,null,null,null,null,null,null,null,null,"~"]
["SA36",2020,"DC15",575,null,null,null,null,null,null,null,null,null,null,null,null,null,null,null,null,null,null,"~"]
["SA36",2020,"DC15",576,null,null,null,null,null,null,null,null,null,null,null,null,null,null,null,null,null,null,"~"]
["SA36",2020,"DC15",577,null,null,null,null,null,null,null,null,null,null,null,null,null,null,null,null,null,null,"~"]
["SA36",2020,"DC15",578,null,null,null,null,null,null,null,null,null,null,null,null,null,null,null,null,null,null,"~"]
["SA36",2020,"DC15",579,null,null,null,null,null,null,null,null,null,null,null,null,null,null,null,null,null,null,"~"]
["SA36",2020,"DC15",580,null,null,null,null,null,null,null,null,null,null,null,null,null,null,null,null,null,null,"~"]
["SA36",2020,"DC15",581,null,null,null,null,null,null,null,null,null,null,null,null,null,null,null,null,null,null,"~"]
["SA36",2020,"DC15",582,null,null,null,null,null,null,null,null,null,null,null,null,null,null,null,null,null,null,"~"]
["SA36",2020,"DC15",583,null,null,null,null,null,null,null,null,null,null,null,null,null,null,null,null,null,null,"~"]
["SA36",2020,"DC15",584,null,null,null,null,null,null,null,null,null,null,null,null,null,null,null,null,null,null,"~"]
["SA36",2020,"DC15",585,null,null,null,null,null,null,null,null,null,null,null,null,null,null,null,null,null,null,"~"]
["SA36",2020,"DC15",586,null,null,null,null,null,null,null,null,null,null,null,null,null,null,null,null,null,null,"~"]
["SA36",2020,"DC15",587,null,null,null,null,null,null,null,null,null,null,null,null,null,null,null,null,null,null,"~"]
["SA36",2020,"DC15",588,null,null,null,null,null,null,null,null,null,null,null,null,null,null,null,null,null,null,"~"]
["SA36",2020,"DC15",589,null,null,null,null,null,null,null,null,null,null,null,null,null,null,null,null,null,null,"~"]
["SA36",2020,"DC15",590,null,null,null,null,null,null,null,null,null,null,null,null,null,null,null,null,null,null,"~"]
["SA36",2020,"DC15",591,null,null,null,null,null,null,null,null,null,null,null,null,null,null,null,null,null,null,"~"]
["SA36",2020,"DC15",592,null,null,null,null,null,null,null,null,null,null,null,null,null,null,null,null,null,null,"~"]
["SA36",2020,"DC15",593,null,null,null,null,null,null,null,null,null,null,null,null,null,null,null,null,null,null,"~"]
["SA36",2020,"DC15",594,null,null,null,null,null,null,null,null,null,null,null,null,null,null,null,null,null,null,"~"]
["SA36",2020,"DC15",595,null,null,null,null,null,null,null,null,null,null,null,null,null,null,null,null,null,null,"~"]
["SA36",2020,"DC15",596,null,null,null,null,null,null,null,null,null,null,null,null,null,null,null,null,null,null,"~"]
["SA36",2020,"DC15",597,null,null,null,null,null,null,null,null,null,null,null,null,null,null,null,null,null,null,"~"]
["SA36",2020,"DC15",598,null,null,null,null,null,null,null,null,null,null,null,null,null,null,null,null,null,null,"~"]
["SA36",2020,"DC15",599,null,null,null,null,null,null,null,null,null,null,null,null,null,null,null,null,null,null,"~"]
["SA36",{"$f":"+MTREF","v":2020},{"$f":"LEFT(muni,(FIND(\" \",muni,1)-1))","v":"DC15"},600,null,null,null,null,null,null,null,null,null,null,null,null,null,null,null,null,null,null,"~"]
["SA36",2020,"DC15",601,null,null,null,null,null,null,null,null,null,null,null,null,null,null,null,null,null,null,"~"]
["SA36",2020,"DC15",602,null,null,null,null,null,null,null,null,null,null,null,null,null,null,null,null,null,null,"~"]
["SA36",2020,"DC15",603,null,null,null,null,null,null,null,null,null,null,null,null,null,null,null,null,null,null,"~"]
["SA36",2020,"DC15",604,null,null,null,null,null,null,null,null,null,null,null,null,null,null,null,null,null,null,"~"]
["SA36",2020,"DC15",605,null,null,null,null,null,null,null,null,null,null,null,null,null,null,null,null,null,null,"~"]
["SA36",2020,"DC15",606,null,null,null,null,null,null,null,null,null,null,null,null,null,null,null,null,null,null,"~"]
["SA36",2020,"DC15",607,null,null,null,null,null,null,null,null,null,null,null,null,null,null,null,null,null,null,"~"]
["SA36",2020,"DC15",608,null,null,null,null,null,null,null,null,null,null,null,null,null,null,null,null,null,null,"~"]
["SA36",2020,"DC15",609,null,null,null,null,null,null,null,null,null,null,null,null,null,null,null,null,null,null,"~"]
["SA36",2020,"DC15",610,null,null,null,null,null,null,null,null,null,null,null,null,null,null,null,null,null,null,"~"]
["SA36",2020,"DC15",611,null,null,null,null,null,null,null,null,null,null,null,null,null,null,null,null,null,null,"~"]
["SA36",2020,"DC15",612,null,null,null,null,null,null,null,null,null,null,null,null,null,null,null,null,null,null,"~"]
["SA36",2020,"DC15",613,null,null,null,null,null,null,null,null,null,null,null,null,null,null,null,null,null,null,"~"]
["SA36",2020,"DC15",614,null,null,null,null,null,null,null,null,null,null,null,null,null,null,null,null,null,null,"~"]
["SA36",2020,"DC15",615,null,null,null,null,null,null,null,null,null,null,null,null,null,null,null,null,null,null,"~"]
["SA36",2020,"DC15",616,null,null,null,null,null,null,null,null,null,null,null,null,null,null,null,null,null,null,"~"]
["SA36",2020,"DC15",617,null,null,null,null,null,null,null,null,null,null,null,null,null,null,null,null,null,null,"~"]
["SA36",2020,"DC15",618,null,null,null,null,null,null,null,null,null,null,null,null,null,null,null,null,null,null,"~"]
["SA36",2020,"DC15",619,null,null,null,null,null,null,null,null,null,null,null,null,null,null,null,null,null,null,"~"]
["SA36",2020,"DC15",620,null,null,null,null,null,null,null,null,null,null,null,null,null,null,null,null,null,null,"~"]
["SA36",2020,"DC15",621,null,null,null,null,null,null,null,null,null,null,null,null,null,null,null,null,null,null,"~"]
["SA36",2020,"DC15",622,null,null,null,null,null,null,null,null,null,null,null,null,null,null,null,null,null,null,"~"]
["SA36",2020,"DC15",623,null,null,null,null,null,null,null,null,null,null,null,null,null,null,null,null,null,null,"~"]
["SA36",2020,"DC15",624,null,null,null,null,null,null,null,null,null,null,null,null,null,null,null,null,null,null,"~"]
["SA36",2020,"DC15",625,null,null,null,null,null,null,null,null,null,null,null,null,null,null,null,null,null,null,"~"]
["SA36",2020,"DC15",626,null,null,null,null,null,null,null,null,null,null,null,null,null,null,null,null,null,null,"~"]
["SA36",2020,"DC15",627,null,null,null,null,null,null,null,null,null,null,null,null,null,null,null,null,null,null,"~"]
["SA36",2020,"DC15",628,null,null,null,null,null,null,null,null,null,null,null,null,null,null,null,null,null,null,"~"]
["SA36",2020,"DC15",629,null,null,null,null,null,null,null,null,null,null,null,null,null,null,null,null,null,null,"~"]
["SA36",2020,"DC15",630,null,null,null,null,null,null,null,null,null,null,null,null,null,null,null,null,null,null,"~"]
["SA36",2020,"DC15",631,null,null,null,null,null,null,null,null,null,null,null,null,null,null,null,null,null,null,"~"]
["SA36",2020,"DC15",632,null,null,null,null,null,null,null,null,null,null,null,null,null,null,null,null,null,null,"~"]
["SA36",2020,"DC15",633,null,null,null,null,null,null,null,null,null,null,null,null,null,null,null,null,null,null,"~"]
["SA36",2020,"DC15",634,null,null,null,null,null,null,null,null,null,null,null,null,null,null,null,null,null,null,"~"]
["SA36",2020,"DC15",635,null,null,null,null,null,null,null,null,null,null,null,null,null,null,null,null,null,null,"~"]
["SA36",2020,"DC15",636,null,null,null,null,null,null,null,null,null,null,null,null,null,null,null,null,null,null,"~"]
["SA36",2020,"DC15",637,null,null,null,null,null,null,null,null,null,null,null,null,null,null,null,null,null,null,"~"]
["SA36",2020,"DC15",638,null,null,null,null,null,null,null,null,null,null,null,null,null,null,null,null,null,null,"~"]
["SA36",2020,"DC15",639,null,null,null,null,null,null,null,null,null,null,null,null,null,null,null,null,null,null,"~"]
["SA36",2020,"DC15",640,null,null,null,null,null,null,null,null,null,null,null,null,null,null,null,null,null,null,"~"]
["SA36",2020,"DC15",641,null,null,null,null,null,null,null,null,null,null,null,null,null,null,null,null,null,null,"~"]
["SA36",2020,"DC15",642,null,null,null,null,null,null,null,null,null,null,null,null,null,null,null,null,null,null,"~"]
["SA36",2020,"DC15",643,null,null,null,null,null,null,null,null,null,null,null,null,null,null,null,null,null,null,"~"]
["SA36",2020,"DC15",644,null,null,null,null,null,null,null,null,null,null,null,null,null,null,null,null,null,null,"~"]
["SA36",2020,"DC15",645,null,null,null,null,null,null,null,null,null,null,null,null,null,null,null,null,null,null,"~"]
["SA36",2020,"DC15",646,null,null,null,null,null,null,null,null,null,null,null,null,null,null,null,null,null,null,"~"]
["SA36",2020,"DC15",647,null,null,null,null,null,null,null,null,null,null,null,null,null,null,null,null,null,null,"~"]
["SA36",2020,"DC15",648,null,null,null,null,null,null,null,null,null,null,null,null,null,null,null,null,null,null,"~"]
["SA36",2020,"DC15",649,null,null,null,null,null,null,null,null,null,null,null,null,null,null,null,null,null,null,"~"]
["SA36",2020,"DC15",650,null,null,null,null,null,null,null,null,null,null,null,null,null,null,null,null,null,null,"~"]
["SA36",2020,"DC15",651,null,null,null,null,null,null,null,null,null,null,null,null,null,null,null,null,null,null,"~"]
["SA36",2020,"DC15",652,null,null,null,null,null,null,null,null,null,null,null,null,null,null,null,null,null,null,"~"]
["SA36",2020,"DC15",653,null,null,null,null,null,null,null,null,null,null,null,null,null,null,null,null,null,null,"~"]
["SA36",2020,"DC15",654,null,null,null,null,null,null,null,null,null,null,null,null,null,null,null,null,null,null,"~"]
["SA36",2020,"DC15",655,null,null,null,null,null,null,null,null,null,null,null,null,null,null,null,null,null,null,"~"]
["SA36",2020,"DC15",656,null,null,null,null,null,null,null,null,null,null,null,null,null,null,null,null,null,null,"~"]
["SA36",2020,"DC15",657,null,null,null,null,null,null,null,null,null,null,null,null,null,null,null,null,null,null,"~"]
["SA36",2020,"DC15",658,null,null,null,null,null,null,null,null,null,null,null,null,null,null,null,null,null,null,"~"]
["SA36",2020,"DC15",659,null,null,null,null,null,null,null,null,null,null,null,null,null,null,null,null,null,null,"~"]
["SA36",2020,"DC15",660,null,null,null,null,null,null,null,null,null,null,null,null,null,null,null,null,null,null,"~"]
["SA36",2020,"DC15",661,null,null,null,null,null,null,null,null,null,null,null,null,null,null,null,null,null,null,"~"]
["SA36",2020,"DC15",662,null,null,null,null,null,null,null,null,null,null,null,null,null,null,null,null,null,null,"~"]
["SA36",2020,"DC15",663,null,null,null,null,null,null,null,null,null,null,null,null,null,null,null,null,null,null,"~"]
["SA36",{"$f":"+MTREF","v":2020},{"$f":"LEFT(muni,(FIND(\" \",muni,1)-1))","v":"DC15"},664,null,null,null,null,null,null,null,null,null,null,null,null,null,null,null,null,null,null,"~"]
["SA36",2020,"DC15",665,null,null,null,null,null,null,null,null,null,null,null,null,null,null,null,null,null,null,"~"]
["SA36",2020,"DC15",666,null,null,null,null,null,null,null,null,null,null,null,null,null,null,null,null,null,null,"~"]
["SA36",2020,"DC15",667,null,null,null,null,null,null,null,null,null,null,null,null,null,null,null,null,null,null,"~"]
["SA36",2020,"DC15",668,null,null,null,null,null,null,null,null,null,null,null,null,null,null,null,null,null,null,"~"]
["SA36",2020,"DC15",669,null,null,null,null,null,null,null,null,null,null,null,null,null,null,null,null,null,null,"~"]
["SA36",2020,"DC15",670,null,null,null,null,null,null,null,null,null,null,null,null,null,null,null,null,null,null,"~"]
["SA36",2020,"DC15",671,null,null,null,null,null,null,null,null,null,null,null,null,null,null,null,null,null,null,"~"]
["SA36",2020,"DC15",672,null,null,null,null,null,null,null,null,null,null,null,null,null,null,null,null,null,null,"~"]
["SA36",2020,"DC15",673,null,null,null,null,null,null,null,null,null,null,null,null,null,null,null,null,null,null,"~"]
["SA36",2020,"DC15",674,null,null,null,null,null,null,null,null,null,null,null,null,null,null,null,null,null,null,"~"]
["SA36",2020,"DC15",675,null,null,null,null,null,null,null,null,null,null,null,null,null,null,null,null,null,null,"~"]
["SA36",2020,"DC15",676,null,null,null,null,null,null,null,null,null,null,null,null,null,null,null,null,null,null,"~"]
["SA36",2020,"DC15",677,null,null,null,null,null,null,null,null,null,null,null,null,null,null,null,null,null,null,"~"]
["SA36",2020,"DC15",678,null,null,null,null,null,null,null,null,null,null,null,null,null,null,null,null,null,null,"~"]
["SA36",2020,"DC15",679,null,null,null,null,null,null,null,null,null,null,null,null,null,null,null,null,null,null,"~"]
["SA36",2020,"DC15",680,null,null,null,null,null,null,null,null,null,null,null,null,null,null,null,null,null,null,"~"]
["SA36",2020,"DC15",681,null,null,null,null,null,null,null,null,null,null,null,null,null,null,null,null,null,null,"~"]
["SA36",2020,"DC15",682,null,null,null,null,null,null,null,null,null,null,null,null,null,null,null,null,null,null,"~"]
["SA36",2020,"DC15",683,null,null,null,null,null,null,null,null,null,null,null,null,null,null,null,null,null,null,"~"]
["SA36",2020,"DC15",684,null,null,null,null,null,null,null,null,null,null,null,null,null,null,null,null,null,null,"~"]
["SA36",2020,"DC15",685,null,null,null,null,null,null,null,null,null,null,null,null,null,null,null,null,null,null,"~"]
["SA36",2020,"DC15",686,null,null,null,null,null,null,null,null,null,null,null,null,null,null,null,null,null,null,"~"]
["SA36",2020,"DC15",687,null,null,null,null,null,null,null,null,null,null,null,null,null,null,null,null,null,null,"~"]
["SA36",2020,"DC15",688,null,null,null,null,null,null,null,null,null,null,null,null,null,null,null,null,null,null,"~"]
["SA36",2020,"DC15",689,null,null,null,null,null,null,null,null,null,null,null,null,null,null,null,null,null,null,"~"]
["SA36",2020,"DC15",690,null,null,null,null,null,null,null,null,null,null,null,null,null,null,null,null,null,null,"~"]
["SA36",2020,"DC15",691,null,null,null,null,null,null,null,null,null,null,null,null,null,null,null,null,null,null,"~"]
["SA36",2020,"DC15",692,null,null,null,null,null,null,null,null,null,null,null,null,null,null,null,null,null,null,"~"]
["SA36",2020,"DC15",693,null,null,null,null,null,null,null,null,null,null,null,null,null,null,null,null,null,null,"~"]
["SA36",2020,"DC15",694,null,null,null,null,null,null,null,null,null,null,null,null,null,null,null,null,null,null,"~"]
["SA36",2020,"DC15",695,null,null,null,null,null,null,null,null,null,null,null,null,null,null,null,null,null,null,"~"]
["SA36",2020,"DC15",696,null,null,null,null,null,null,null,null,null,null,null,null,null,null,null,null,null,null,"~"]
["SA36",2020,"DC15",697,null,null,null,null,null,null,null,null,null,null,null,null,null,null,null,null,null,null,"~"]
["SA36",2020,"DC15",698,null,null,null,null,null,null,null,null,null,null,null,null,null,null,null,null,null,null,"~"]
["SA36",2020,"DC15",699,null,null,null,null,null,null,null,null,null,null,null,null,null,null,null,null,null,null,"~"]
["SA36",2020,"DC15",700,null,null,null,null,null,null,null,null,null,null,null,null,null,null,null,null,null,null,"~"]
["SA36",2020,"DC15",701,null,null,null,null,null,null,null,null,null,null,null,null,null,null,null,null,null,null,"~"]
["SA36",2020,"DC15",702,null,null,null,null,null,null,null,null,null,null,null,null,null,null,null,null,null,null,"~"]
["SA36",2020,"DC15",703,null,null,null,null,null,null,null,null,null,null,null,null,null,null,null,null,null,null,"~"]
["SA36",2020,"DC15",704,null,null,null,null,null,null,null,null,null,null,null,null,null,null,null,null,null,null,"~"]
["SA36",2020,"DC15",705,null,null,null,null,null,null,null,null,null,null,null,null,null,null,null,null,null,null,"~"]
["SA36",2020,"DC15",706,null,null,null,null,null,null,null,null,null,null,null,null,null,null,null,null,null,null,"~"]
["SA36",2020,"DC15",707,null,null,null,null,null,null,null,null,null,null,null,null,null,null,null,null,null,null,"~"]
["SA36",2020,"DC15",708,null,null,null,null,null,null,null,null,null,null,null,null,null,null,null,null,null,null,"~"]
["SA36",2020,"DC15",709,null,null,null,null,null,null,null,null,null,null,null,null,null,null,null,null,null,null,"~"]
["SA36",2020,"DC15",710,null,null,null,null,null,null,null,null,null,null,null,null,null,null,null,null,null,null,"~"]
["SA36",2020,"DC15",711,null,null,null,null,null,null,null,null,null,null,null,null,null,null,null,null,null,null,"~"]
["SA36",2020,"DC15",712,null,null,null,null,null,null,null,null,null,null,null,null,null,null,null,null,null,null,"~"]
["SA36",2020,"DC15",713,null,null,null,null,null,null,null,null,null,null,null,null,null,null,null,null,null,null,"~"]
["SA36",2020,"DC15",714,null,null,null,null,null,null,null,null,null,null,null,null,null,null,null,null,null,null,"~"]
["SA36",2020,"DC15",715,null,null,null,null,null,null,null,null,null,null,null,null,null,null,null,null,null,null,"~"]
["SA36",2020,"DC15",716,null,null,null,null,null,null,null,null,null,null,null,null,null,null,null,null,null,null,"~"]
["SA36",2020,"DC15",717,null,null,null,null,null,null,null,null,null,null,null,null,null,null,null,null,null,null,"~"]
["SA36",2020,"DC15",718,null,null,null,null,null,null,null,null,null,null,null,null,null,null,null,null,null,null,"~"]
["SA36",2020,"DC15",719,null,null,null,null,null,null,null,null,null,null,null,null,null,null,null,null,null,null,"~"]
["SA36",2020,"DC15",720,null,null,null,null,null,null,null,null,null,null,null,null,null,null,null,null,null,null,"~"]
["SA36",2020,"DC15",721,null,null,null,null,null,null,null,null,null,null,null,null,null,null,null,null,null,null,"~"]
["SA36",2020,"DC15",722,null,null,null,null,null,null,null,null,null,null,null,null,null,null,null,null,null,null,"~"]
["SA36",2020,"DC15",723,null,null,null,null,null,null,null,null,null,null,null,null,null,null,null,null,null,null,"~"]
["SA36",2020,"DC15",724,null,null,null,null,null,null,null,null,null,null,null,null,null,null,null,null,null,null,"~"]
["SA36",2020,"DC15",725,null,null,null,null,null,null,null,null,null,null,null,null,null,null,null,null,null,null,"~"]
["SA36",2020,"DC15",726,null,null,null,null,null,null,null,null,null,null,null,null,null,null,null,null,null,null,"~"]
["SA36",2020,"DC15",727,null,null,null,null,null,null,null,null,null,null,null,null,null,null,null,null,null,null,"~"]
["SA36",{"$f":"+MTREF","v":2020},{"$f":"LEFT(muni,(FIND(\" \",muni,1)-1))","v":"DC15"},728,null,null,null,null,null,null,null,null,null,null,null,null,null,null,null,null,null,null,"~"]
["SA36",2020,"DC15",729,null,null,null,null,null,null,null,null,null,null,null,null,null,null,null,null,null,null,"~"]
["SA36",2020,"DC15",730,null,null,null,null,null,null,null,null,null,null,null,null,null,null,null,null,null,null,"~"]
["SA36",2020,"DC15",731,null,null,null,null,null,null,null,null,null,null,null,null,null,null,null,null,null,null,"~"]
["SA36",2020,"DC15",732,null,null,null,null,null,null,null,null,null,null,null,null,null,null,null,null,null,null,"~"]
["SA36",2020,"DC15",733,null,null,null,null,null,null,null,null,null,null,null,null,null,null,null,null,null,null,"~"]
["SA36",2020,"DC15",734,null,null,null,null,null,null,null,null,null,null,null,null,null,null,null,null,null,null,"~"]
["SA36",2020,"DC15",735,null,null,null,null,null,null,null,null,null,null,null,null,null,null,null,null,null,null,"~"]
["SA36",2020,"DC15",736,null,null,null,null,null,null,null,null,null,null,null,null,null,null,null,null,null,null,"~"]
["SA36",2020,"DC15",737,null,null,null,null,null,null,null,null,null,null,null,null,null,null,null,null,null,null,"~"]
["SA36",2020,"DC15",738,null,null,null,null,null,null,null,null,null,null,null,null,null,null,null,null,null,null,"~"]
["SA36",2020,"DC15",739,null,null,null,null,null,null,null,null,null,null,null,null,null,null,null,null,null,null,"~"]
["SA36",2020,"DC15",740,null,null,null,null,null,null,null,null,null,null,null,null,null,null,null,null,null,null,"~"]
["SA36",2020,"DC15",741,null,null,null,null,null,null,null,null,null,null,null,null,null,null,null,null,null,null,"~"]
["SA36",2020,"DC15",742,null,null,null,null,null,null,null,null,null,null,null,null,null,null,null,null,null,null,"~"]
["SA36",2020,"DC15",743,null,null,null,null,null,null,null,null,null,null,null,null,null,null,null,null,null,null,"~"]
["SA36",2020,"DC15",744,null,null,null,null,null,null,null,null,null,null,null,null,null,null,null,null,null,null,"~"]
["SA36",2020,"DC15",745,null,null,null,null,null,null,null,null,null,null,null,null,null,null,null,null,null,null,"~"]
["SA36",2020,"DC15",746,null,null,null,null,null,null,null,null,null,null,null,null,null,null,null,null,null,null,"~"]
["SA36",2020,"DC15",747,null,null,null,null,null,null,null,null,null,null,null,null,null,null,null,null,null,null,"~"]
["SA36",2020,"DC15",748,null,null,null,null,null,null,null,null,null,null,null,null,null,null,null,null,null,null,"~"]
["SA36",2020,"DC15",749,null,null,null,null,null,null,null,null,null,null,null,null,null,null,null,null,null,null,"~"]
["SA36",2020,"DC15",750,null,null,null,null,null,null,null,null,null,null,null,null,null,null,null,null,null,null,"~"]
["SA36",2020,"DC15",751,null,null,null,null,null,null,null,null,null,null,null,null,null,null,null,null,null,null,"~"]
["SA36",2020,"DC15",752,null,null,null,null,null,null,null,null,null,null,null,null,null,null,null,null,null,null,"~"]
["SA36",2020,"DC15",753,null,null,null,null,null,null,null,null,null,null,null,null,null,null,null,null,null,null,"~"]
["SA36",2020,"DC15",754,null,null,null,null,null,null,null,null,null,null,null,null,null,null,null,null,null,null,"~"]
["SA36",2020,"DC15",755,null,null,null,null,null,null,null,null,null,null,null,null,null,null,null,null,null,null,"~"]
["SA36",2020,"DC15",756,null,null,null,null,null,null,null,null,null,null,null,null,null,null,null,null,null,null,"~"]
["SA36",2020,"DC15",757,null,null,null,null,null,null,null,null,null,null,null,null,null,null,null,null,null,null,"~"]
["SA36",2020,"DC15",758,null,null,null,null,null,null,null,null,null,null,null,null,null,null,null,null,null,null,"~"]
["SA36",2020,"DC15",759,null,null,null,null,null,null,null,null,null,null,null,null,null,null,null,null,null,null,"~"]
["SA36",2020,"DC15",760,null,null,null,null,null,null,null,null,null,null,null,null,null,null,null,null,null,null,"~"]
["SA36",2020,"DC15",761,null,null,null,null,null,null,null,null,null,null,null,null,null,null,null,null,null,null,"~"]
["SA36",2020,"DC15",762,null,null,null,null,null,null,null,null,null,null,null,null,null,null,null,null,null,null,"~"]
["SA36",2020,"DC15",763,null,null,null,null,null,null,null,null,null,null,null,null,null,null,null,null,null,null,"~"]
["SA36",2020,"DC15",764,null,null,null,null,null,null,null,null,null,null,null,null,null,null,null,null,null,null,"~"]
["SA36",2020,"DC15",765,null,null,null,null,null,null,null,null,null,null,null,null,null,null,null,null,null,null,"~"]
["SA36",2020,"DC15",766,null,null,null,null,null,null,null,null,null,null,null,null,null,null,null,null,null,null,"~"]
["SA36",2020,"DC15",767,null,null,null,null,null,null,null,null,null,null,null,null,null,null,null,null,null,null,"~"]
["SA36",2020,"DC15",768,null,null,null,null,null,null,null,null,null,null,null,null,null,null,null,null,null,null,"~"]
["SA36",2020,"DC15",769,null,null,null,null,null,null,null,null,null,null,null,null,null,null,null,null,null,null,"~"]
["SA36",2020,"DC15",770,null,null,null,null,null,null,null,null,null,null,null,null,null,null,null,null,null,null,"~"]
["SA36",2020,"DC15",771,null,null,null,null,null,null,null,null,null,null,null,null,null,null,null,null,null,null,"~"]
["SA36",2020,"DC15",772,null,null,null,null,null,null,null,null,null,null,null,null,null,null,null,null,null,null,"~"]
["SA36",2020,"DC15",773,null,null,null,null,null,null,null,null,null,null,null,null,null,null,null,null,null,null,"~"]
["SA36",2020,"DC15",774,null,null,null,null,null,null,null,null,null,null,null,null,null,null,null,null,null,null,"~"]
["SA36",2020,"DC15",775,null,null,null,null,null,null,null,null,null,null,null,null,null,null,null,null,null,null,"~"]
["SA36",2020,"DC15",776,null,null,null,null,null,null,null,null,null,null,null,null,null,null,null,null,null,null,"~"]
["SA36",2020,"DC15",777,null,null,null,null,null,null,null,null,null,null,null,null,null,null,null,null,null,null,"~"]
["SA36",2020,"DC15",778,null,null,null,null,null,null,null,null,null,null,null,null,null,null,null,null,null,null,"~"]
["SA36",2020,"DC15",779,null,null,null,null,null,null,null,null,null,null,null,null,null,null,null,null,null,null,"~"]
["SA36",2020,"DC15",780,null,null,null,null,null,null,null,null,null,null,null,null,null,null,null,null,null,null,"~"]
["SA36",2020,"DC15",781,null,null,null,null,null,null,null,null,null,null,null,null,null,null,null,null,null,null,"~"]
["SA36",2020,"DC15",782,null,null,null,null,null,null,null,null,null,null,null,null,null,null,null,null,null,null,"~"]
["SA36",2020,"DC15",783,null,null,null,null,null,null,null,null,null,null,null,null,null,null,null,null,null,null,"~"]
["SA36",2020,"DC15",784,null,null,null,null,null,null,null,null,null,null,null,null,null,null,null,null,null,null,"~"]
["SA36",2020,"DC15",785,null,null,null,null,null,null,null,null,null,null,null,null,null,null,null,null,null,null,"~"]
["SA36",2020,"DC15",786,null,null,null,null,null,null,null,null,null,null,null,null,null,null,null,null,null,null,"~"]
["SA36",2020,"DC15",787,null,null,null,null,null,null,null,null,null,null,null,null,null,null,null,null,null,null,"~"]
["SA36",2020,"DC15",788,null,null,null,null,null,null,null,null,null,null,null,null,null,null,null,null,null,null,"~"]
["SA36",2020,"DC15",789,null,null,null,null,null,null,null,null,null,null,null,null,null,null,null,null,null,null,"~"]
["SA36",2020,"DC15",790,null,null,null,null,null,null,null,null,null,null,null,null,null,null,null,null,null,null,"~"]
["SA36",2020,"DC15",791,null,null,null,null,null,null,null,null,null,null,null,null,null,null,null,null,null,null,"~"]
["SA36",{"$f":"+MTREF","v":2020},{"$f":"LEFT(muni,(FIND(\" \",muni,1)-1))","v":"DC15"},792,null,null,null,null,null,null,null,null,null,null,null,null,null,null,null,null,null,null,"~"]
["SA36",2020,"DC15",793,null,null,null,null,null,null,null,null,null,null,null,null,null,null,null,null,null,null,"~"]
["SA36",2020,"DC15",794,null,null,null,null,null,null,null,null,null,null,null,null,null,null,null,null,null,null,"~"]
["SA36",2020,"DC15",795,null,null,null,null,null,null,null,null,null,null,null,null,null,null,null,null,null,null,"~"]
["SA36",2020,"DC15",796,null,null,null,null,null,null,null,null,null,null,null,null,null,null,null,null,null,null,"~"]
["SA36",2020,"DC15",797,null,null,null,null,null,null,null,null,null,null,null,null,null,null,null,null,null,null,"~"]
["SA36",2020,"DC15",798,null,null,null,null,null,null,null,null,null,null,null,null,null,null,null,null,null,null,"~"]
["SA36",2020,"DC15",799,null,null,null,null,null,null,null,null,null,null,null,null,null,null,null,null,null,null,"~"]
["SA36",2020,"DC15",800,null,null,null,null,null,null,null,null,null,null,null,null,null,null,null,null,null,null,"~"]
["SA36",2020,"DC15",801,null,null,null,null,null,null,null,null,null,null,null,null,null,null,null,null,null,null,"~"]
["SA36",2020,"DC15",802,null,null,null,null,null,null,null,null,null,null,null,null,null,null,null,null,null,null,"~"]
["SA36",2020,"DC15",803,null,null,null,null,null,null,null,null,null,null,null,null,null,null,null,null,null,null,"~"]
["SA36",2020,"DC15",804,null,null,null,null,null,null,null,null,null,null,null,null,null,null,null,null,null,null,"~"]
["SA36",2020,"DC15",805,null,null,null,null,null,null,null,null,null,null,null,null,null,null,null,null,null,null,"~"]
["SA36",2020,"DC15",806,null,null,null,null,null,null,null,null,null,null,null,null,null,null,null,null,null,null,"~"]
["SA36",2020,"DC15",807,null,null,null,null,null,null,null,null,null,null,null,null,null,null,null,null,null,null,"~"]
["SA36",2020,"DC15",808,null,null,null,null,null,null,null,null,null,null,null,null,null,null,null,null,null,null,"~"]
["SA36",2020,"DC15",809,null,null,null,null,null,null,null,null,null,null,null,null,null,null,null,null,null,null,"~"]
["SA36",2020,"DC15",810,null,null,null,null,null,null,null,null,null,null,null,null,null,null,null,null,null,null,"~"]
["SA36",2020,"DC15",811,null,null,null,null,null,null,null,null,null,null,null,null,null,null,null,null,null,null,"~"]
["SA36",2020,"DC15",812,null,null,null,null,null,null,null,null,null,null,null,null,null,null,null,null,null,null,"~"]
["SA36",2020,"DC15",813,null,null,null,null,null,null,null,null,null,null,null,null,null,null,null,null,null,null,"~"]
["SA36",2020,"DC15",814,null,null,null,null,null,null,null,null,null,null,null,null,null,null,null,null,null,null,"~"]
["SA36",2020,"DC15",815,null,null,null,null,null,null,null,null,null,null,null,null,null,null,null,null,null,null,"~"]
["SA36",2020,"DC15",816,null,null,null,null,null,null,null,null,null,null,null,null,null,null,null,null,null,null,"~"]
["SA36",2020,"DC15",817,null,null,null,null,null,null,null,null,null,null,null,null,null,null,null,null,null,null,"~"]
["SA36",2020,"DC15",818,null,null,null,null,null,null,null,null,null,null,null,null,null,null,null,null,null,null,"~"]
["SA36",2020,"DC15",819,null,null,null,null,null,null,null,null,null,null,null,null,null,null,null,null,null,null,"~"]
["SA36",2020,"DC15",820,null,null,null,null,null,null,null,null,null,null,null,null,null,null,null,null,null,null,"~"]
["SA36",2020,"DC15",821,null,null,null,null,null,null,null,null,null,null,null,null,null,null,null,null,null,null,"~"]
["SA36",2020,"DC15",822,null,null,null,null,null,null,null,null,null,null,null,null,null,null,null,null,null,null,"~"]
["SA36",2020,"DC15",823,null,null,null,null,null,null,null,null,null,null,null,null,null,null,null,null,null,null,"~"]
["SA36",2020,"DC15",824,null,null,null,null,null,null,null,null,null,null,null,null,null,null,null,null,null,null,"~"]
["SA36",2020,"DC15",825,null,null,null,null,null,null,null,null,null,null,null,null,null,null,null,null,null,null,"~"]
["SA36",2020,"DC15",826,null,null,null,null,null,null,null,null,null,null,null,null,null,null,null,null,null,null,"~"]
["SA36",2020,"DC15",827,null,null,null,null,null,null,null,null,null,null,null,null,null,null,null,null,null,null,"~"]
["SA36",2020,"DC15",828,null,null,null,null,null,null,null,null,null,null,null,null,null,null,null,null,null,null,"~"]
["SA36",2020,"DC15",829,null,null,null,null,null,null,null,null,null,null,null,null,null,null,null,null,null,null,"~"]
["SA36",2020,"DC15",830,null,null,null,null,null,null,null,null,null,null,null,null,null,null,null,null,null,null,"~"]
["SA36",2020,"DC15",831,null,null,null,null,null,null,null,null,null,null,null,null,null,null,null,null,null,null,"~"]
["SA36",2020,"DC15",832,null,null,null,null,null,null,null,null,null,null,null,null,null,null,null,null,null,null,"~"]
["SA36",2020,"DC15",833,null,null,null,null,null,null,null,null,null,null,null,null,null,null,null,null,null,null,"~"]
["SA36",2020,"DC15",834,null,null,null,null,null,null,null,null,null,null,null,null,null,null,null,null,null,null,"~"]
["SA36",2020,"DC15",835,null,null,null,null,null,null,null,null,null,null,null,null,null,null,null,null,null,null,"~"]
["SA36",2020,"DC15",836,null,null,null,null,null,null,null,null,null,null,null,null,null,null,null,null,null,null,"~"]
["SA36",2020,"DC15",837,null,null,null,null,null,null,null,null,null,null,null,null,null,null,null,null,null,null,"~"]
["SA36",2020,"DC15",838,null,null,null,null,null,null,null,null,null,null,null,null,null,null,null,null,null,null,"~"]
["SA36",2020,"DC15",839,null,null,null,null,null,null,null,null,null,null,null,null,null,null,null,null,null,null,"~"]
["SA36",2020,"DC15",840,null,null,null,null,null,null,null,null,null,null,null,null,null,null,null,null,null,null,"~"]
["SA36",2020,"DC15",841,null,null,null,null,null,null,null,null,null,null,null,null,null,null,null,null,null,null,"~"]
["SA36",2020,"DC15",842,null,null,null,null,null,null,null,null,null,null,null,null,null,null,null,null,null,null,"~"]
["SA36",2020,"DC15",843,null,null,null,null,null,null,null,null,null,null,null,null,null,null,null,null,null,null,"~"]
["SA36",2020,"DC15",844,null,null,null,null,null,null,null,null,null,null,null,null,null,null,null,null,null,null,"~"]
["SA36",2020,"DC15",845,null,null,null,null,null,null,null,null,null,null,null,null,null,null,null,null,null,null,"~"]
["SA36",2020,"DC15",846,null,null,null,null,null,null,null,null,null,null,null,null,null,null,null,null,null,null,"~"]
["SA36",2020,"DC15",847,null,null,null,null,null,null,null,null,null,null,null,null,null,null,null,null,null,null,"~"]
["SA36",2020,"DC15",848,null,null,null,null,null,null,null,null,null,null,null,null,null,null,null,null,null,null,"~"]
["SA36",2020,"DC15",849,null,null,null,null,null,null,null,null,null,null,null,null,null,null,null,null,null,null,"~"]
["SA36",2020,"DC15",850,null,null,null,null,null,null,null,null,null,null,null,null,null,null,null,null,null,null,"~"]
["SA36",2020,"DC15",851,null,null,null,null,null,null,null,null,null,null,null,null,null,null,null,null,null,null,"~"]
["SA36",2020,"DC15",852,null,null,null,null,null,null,null,null,null,null,null,null,null,null,null,null,null,null,"~"]
["SA36",2020,"DC15",853,null,null,null,null,null,null,null,null,null,null,null,null,null,null,null,null,null,null,"~"]
["SA36",2020,"DC15",854,null,null,null,null,null,null,null,null,null,null,null,null,null,null,null,null,null,null,"~"]
["SA36",2020,"DC15",855,null,null,null,null,null,null,null,null,null,null,null,null,null,null,null,null,null,null,"~"]
["SA36",{"$f":"+MTREF","v":2020},{"$f":"LEFT(muni,(FIND(\" \",muni,1)-1))","v":"DC15"},856,null,null,null,null,null,null,null,null,null,null,null,null,null,null,null,null,null,null,"~"]
["SA36",2020,"DC15",857,null,null,null,null,null,null,null,null,null,null,null,null,null,null,null,null,null,null,"~"]
["SA36",2020,"DC15",858,null,null,null,null,null,null,null,null,null,null,null,null,null,null,null,null,null,null,"~"]
["SA36",2020,"DC15",859,null,null,null,null,null,null,null,null,null,null,null,null,null,null,null,null,null,null,"~"]
["SA36",2020,"DC15",860,null,null,null,null,null,null,null,null,null,null,null,null,null,null,null,null,null,null,"~"]
["SA36",2020,"DC15",861,null,null,null,null,null,null,null,null,null,null,null,null,null,null,null,null,null,null,"~"]
["SA36",2020,"DC15",862,null,null,null,null,null,null,null,null,null,null,null,null,null,null,null,null,null,null,"~"]
["SA36",2020,"DC15",863,null,null,null,null,null,null,null,null,null,null,null,null,null,null,null,null,null,null,"~"]
["SA36",2020,"DC15",864,null,null,null,null,null,null,null,null,null,null,null,null,null,null,null,null,null,null,"~"]
["SA36",2020,"DC15",865,null,null,null,null,null,null,null,null,null,null,null,null,null,null,null,null,null,null,"~"]
["SA36",2020,"DC15",866,null,null,null,null,null,null,null,null,null,null,null,null,null,null,null,null,null,null,"~"]
["SA36",2020,"DC15",867,null,null,null,null,null,null,null,null,null,null,null,null,null,null,null,null,null,null,"~"]
["SA36",2020,"DC15",868,null,null,null,null,null,null,null,null,null,null,null,null,null,null,null,null,null,null,"~"]
["SA36",2020,"DC15",869,null,null,null,null,null,null,null,null,null,null,null,null,null,null,null,null,null,null,"~"]
["SA36",2020,"DC15",870,null,null,null,null,null,null,null,null,null,null,null,null,null,null,null,null,null,null,"~"]
["SA36",2020,"DC15",871,null,null,null,null,null,null,null,null,null,null,null,null,null,null,null,null,null,null,"~"]
["SA36",2020,"DC15",872,null,null,null,null,null,null,null,null,null,null,null,null,null,null,null,null,null,null,"~"]
["SA36",2020,"DC15",873,null,null,null,null,null,null,null,null,null,null,null,null,null,null,null,null,null,null,"~"]
["SA36",2020,"DC15",874,null,null,null,null,null,null,null,null,null,null,null,null,null,null,null,null,null,null,"~"]
["SA36",2020,"DC15",875,null,null,null,null,null,null,null,null,null,null,null,null,null,null,null,null,null,null,"~"]
["SA36",2020,"DC15",876,null,null,null,null,null,null,null,null,null,null,null,null,null,null,null,null,null,null,"~"]
["SA36",2020,"DC15",877,null,null,null,null,null,null,null,null,null,null,null,null,null,null,null,null,null,null,"~"]
["SA36",2020,"DC15",878,null,null,null,null,null,null,null,null,null,null,null,null,null,null,null,null,null,null,"~"]
["SA36",2020,"DC15",879,null,null,null,null,null,null,null,null,null,null,null,null,null,null,null,null,null,null,"~"]
["SA36",2020,"DC15",880,null,null,null,null,null,null,null,null,null,null,null,null,null,null,null,null,null,null,"~"]
["SA36",2020,"DC15",881,null,null,null,null,null,null,null,null,null,null,null,null,null,null,null,null,null,null,"~"]
["SA36",2020,"DC15",882,null,null,null,null,null,null,null,null,null,null,null,null,null,null,null,null,null,null,"~"]
["SA36",2020,"DC15",883,null,null,null,null,null,null,null,null,null,null,null,null,null,null,null,null,null,null,"~"]
["SA36",2020,"DC15",884,null,null,null,null,null,null,null,null,null,null,null,null,null,null,null,null,null,null,"~"]
["SA36",2020,"DC15",885,null,null,null,null,null,null,null,null,null,null,null,null,null,null,null,null,null,null,"~"]
["SA36",2020,"DC15",886,null,null,null,null,null,null,null,null,null,null,null,null,null,null,null,null,null,null,"~"]
["SA36",2020,"DC15",887,null,null,null,null,null,null,null,null,null,null,null,null,null,null,null,null,null,null,"~"]
["SA36",2020,"DC15",888,null,null,null,null,null,null,null,null,null,null,null,null,null,null,null,null,null,null,"~"]
["SA36",2020,"DC15",889,null,null,null,null,null,null,null,null,null,null,null,null,null,null,null,null,null,null,"~"]
["SA36",2020,"DC15",890,null,null,null,null,null,null,null,null,null,null,null,null,null,null,null,null,null,null,"~"]
["SA36",2020,"DC15",891,null,null,null,null,null,null,null,null,null,null,null,null,null,null,null,null,null,null,"~"]
["SA36",2020,"DC15",892,null,null,null,null,null,null,null,null,null,null,null,null,null,null,null,null,null,null,"~"]
["SA36",2020,"DC15",893,null,null,null,null,null,null,null,null,null,null,null,null,null,null,null,null,null,null,"~"]
["SA36",2020,"DC15",894,null,null,null,null,null,null,null,null,null,null,null,null,null,null,null,null,null,null,"~"]
["SA36",2020,"DC15",895,null,null,null,null,null,null,null,null,null,null,null,null,null,null,null,null,null,null,"~"]
["SA36",2020,"DC15",896,null,null,null,null,null,null,null,null,null,null,null,null,null,null,null,null,null,null,"~"]
["SA36",2020,"DC15",897,null,null,null,null,null,null,null,null,null,null,null,null,null,null,null,null,null,null,"~"]
["SA36",2020,"DC15",898,null,null,null,null,null,null,null,null,null,null,null,null,null,null,null,null,null,null,"~"]
["SA36",2020,"DC15",899,null,null,null,null,null,null,null,null,null,null,null,null,null,null,null,null,null,null,"~"]
["SA36",2020,"DC15",900,null,null,null,null,null,null,null,null,null,null,null,null,null,null,null,null,null,null,"~"]
["SA36",2020,"DC15",901,null,null,null,null,null,null,null,null,null,null,null,null,null,null,null,null,null,null,"~"]
["SA36",2020,"DC15",902,null,null,null,null,null,null,null,null,null,null,null,null,null,null,null,null,null,null,"~"]
["SA36",2020,"DC15",903,null,null,null,null,null,null,null,null,null,null,null,null,null,null,null,null,null,null,"~"]
["SA36",2020,"DC15",904,null,null,null,null,null,null,null,null,null,null,null,null,null,null,null,null,null,null,"~"]
["SA36",2020,"DC15",905,null,null,null,null,null,null,null,null,null,null,null,null,null,null,null,null,null,null,"~"]
["SA36",2020,"DC15",906,null,null,null,null,null,null,null,null,null,null,null,null,null,null,null,null,null,null,"~"]
["SA36",2020,"DC15",907,null,null,null,null,null,null,null,null,null,null,null,null,null,null,null,null,null,null,"~"]
["SA36",2020,"DC15",908,null,null,null,null,null,null,null,null,null,null,null,null,null,null,null,null,null,null,"~"]
["SA36",2020,"DC15",909,null,null,null,null,null,null,null,null,null,null,null,null,null,null,null,null,null,null,"~"]
["SA36",2020,"DC15",910,null,null,null,null,null,null,null,null,null,null,null,null,null,null,null,null,null,null,"~"]
["SA36",2020,"DC15",911,null,null,null,null,null,null,null,null,null,null,null,null,null,null,null,null,null,null,"~"]
["SA36",2020,"DC15",912,null,null,null,null,null,null,null,null,null,null,null,null,null,null,null,null,null,null,"~"]
["SA36",2020,"DC15",913,null,null,null,null,null,null,null,null,null,null,null,null,null,null,null,null,null,null,"~"]
["SA36",2020,"DC15",914,null,null,null,null,null,null,null,null,null,null,null,null,null,null,null,null,null,null,"~"]
["SA36",2020,"DC15",915,null,null,null,null,null,null,null,null,null,null,null,null,null,null,null,null,null,null,"~"]
["SA36",2020,"DC15",916,null,null,null,null,null,null,null,null,null,null,null,null,null,null,null,null,null,null,"~"]
["SA36",2020,"DC15",917,null,null,null,null,null,null,null,null,null,null,null,null,null,null,null,null,null,null,"~"]
["SA36",2020,"DC15",918,null,null,null,null,null,null,null,null,null,null,null,null,null,null,null,null,null,null,"~"]
["SA36",2020,"DC15",919,null,null,null,null,null,null,null,null,null,null,null,null,null,null,null,null,null,null,"~"]
["SA36",{"$f":"+MTREF","v":2020},{"$f":"LEFT(muni,(FIND(\" \",muni,1)-1))","v":"DC15"},920,null,null,null,null,null,null,null,null,null,null,null,null,null,null,null,null,null,null,"~"]
["SA36",2020,"DC15",921,null,null,null,null,null,null,null,null,null,null,null,null,null,null,null,null,null,null,"~"]
["SA36",2020,"DC15",922,null,null,null,null,null,null,null,null,null,null,null,null,null,null,null,null,null,null,"~"]
["SA36",2020,"DC15",923,null,null,null,null,null,null,null,null,null,null,null,null,null,null,null,null,null,null,"~"]
["SA36",2020,"DC15",924,null,null,null,null,null,null,null,null,null,null,null,null,null,null,null,null,null,null,"~"]
["SA36",2020,"DC15",925,null,null,null,null,null,null,null,null,null,null,null,null,null,null,null,null,null,null,"~"]
["SA36",2020,"DC15",926,null,null,null,null,null,null,null,null,null,null,null,null,null,null,null,null,null,null,"~"]
["SA36",2020,"DC15",927,null,null,null,null,null,null,null,null,null,null,null,null,null,null,null,null,null,null,"~"]
["SA36",2020,"DC15",928,null,null,null,null,null,null,null,null,null,null,null,null,null,null,null,null,null,null,"~"]
["SA36",2020,"DC15",929,null,null,null,null,null,null,null,null,null,null,null,null,null,null,null,null,null,null,"~"]
["SA36",2020,"DC15",930,null,null,null,null,null,null,null,null,null,null,null,null,null,null,null,null,null,null,"~"]
["SA36",2020,"DC15",931,null,null,null,null,null,null,null,null,null,null,null,null,null,null,null,null,null,null,"~"]
["SA36",2020,"DC15",932,null,null,null,null,null,null,null,null,null,null,null,null,null,null,null,null,null,null,"~"]
["SA36",2020,"DC15",933,null,null,null,null,null,null,null,null,null,null,null,null,null,null,null,null,null,null,"~"]
["SA36",2020,"DC15",934,null,null,null,null,null,null,null,null,null,null,null,null,null,null,null,null,null,null,"~"]
["SA36",2020,"DC15",935,null,null,null,null,null,null,null,null,null,null,null,null,null,null,null,null,null,null,"~"]
["SA36",2020,"DC15",936,null,null,null,null,null,null,null,null,null,null,null,null,null,null,null,null,null,null,"~"]
["SA36",2020,"DC15",937,null,null,null,null,null,null,null,null,null,null,null,null,null,null,null,null,null,null,"~"]
["SA36",2020,"DC15",938,null,null,null,null,null,null,null,null,null,null,null,null,null,null,null,null,null,null,"~"]
["SA36",2020,"DC15",939,null,null,null,null,null,null,null,null,null,null,null,null,null,null,null,null,null,null,"~"]
["SA36",2020,"DC15",940,null,null,null,null,null,null,null,null,null,null,null,null,null,null,null,null,null,null,"~"]
["SA36",2020,"DC15",941,null,null,null,null,null,null,null,null,null,null,null,null,null,null,null,null,null,null,"~"]
["SA36",2020,"DC15",942,null,null,null,null,null,null,null,null,null,null,null,null,null,null,null,null,null,null,"~"]
["SA36",2020,"DC15",943,null,null,null,null,null,null,null,null,null,null,null,null,null,null,null,null,null,null,"~"]
["SA36",2020,"DC15",944,null,null,null,null,null,null,null,null,null,null,null,null,null,null,null,null,null,null,"~"]
["SA36",2020,"DC15",945,null,null,null,null,null,null,null,null,null,null,null,null,null,null,null,null,null,null,"~"]
["SA36",2020,"DC15",946,null,null,null,null,null,null,null,null,null,null,null,null,null,null,null,null,null,null,"~"]
["SA36",2020,"DC15",947,null,null,null,null,null,null,null,null,null,null,null,null,null,null,null,null,null,null,"~"]
["SA36",2020,"DC15",948,null,null,null,null,null,null,null,null,null,null,null,null,null,null,null,null,null,null,"~"]
["SA36",2020,"DC15",949,null,null,null,null,null,null,null,null,null,null,null,null,null,null,null,null,null,null,"~"]
["SA36",2020,"DC15",950,null,null,null,null,null,null,null,null,null,null,null,null,null,null,null,null,null,null,"~"]
["SA36",2020,"DC15",951,null,null,null,null,null,null,null,null,null,null,null,null,null,null,null,null,null,null,"~"]
["SA36",2020,"DC15",952,null,null,null,null,null,null,null,null,null,null,null,null,null,null,null,null,null,null,"~"]
["SA36",2020,"DC15",953,null,null,null,null,null,null,null,null,null,null,null,null,null,null,null,null,null,null,"~"]
["SA36",2020,"DC15",954,null,null,null,null,null,null,null,null,null,null,null,null,null,null,null,null,null,null,"~"]
["SA36",2020,"DC15",955,null,null,null,null,null,null,null,null,null,null,null,null,null,null,null,null,null,null,"~"]
["SA36",2020,"DC15",956,null,null,null,null,null,null,null,null,null,null,null,null,null,null,null,null,null,null,"~"]
["SA36",2020,"DC15",957,null,null,null,null,null,null,null,null,null,null,null,null,null,null,null,null,null,null,"~"]
["SA36",2020,"DC15",958,null,null,null,null,null,null,null,null,null,null,null,null,null,null,null,null,null,null,"~"]
["SA36",2020,"DC15",959,null,null,null,null,null,null,null,null,null,null,null,null,null,null,null,null,null,null,"~"]
["SA36",2020,"DC15",960,null,null,null,null,null,null,null,null,null,null,null,null,null,null,null,null,null,null,"~"]
["SA36",2020,"DC15",961,null,null,null,null,null,null,null,null,null,null,null,null,null,null,null,null,null,null,"~"]
["SA36",2020,"DC15",962,null,null,null,null,null,null,null,null,null,null,null,null,null,null,null,null,null,null,"~"]
["SA36",2020,"DC15",963,null,null,null,null,null,null,null,null,null,null,null,null,null,null,null,null,null,null,"~"]
["SA36",2020,"DC15",964,null,null,null,null,null,null,null,null,null,null,null,null,null,null,null,null,null,null,"~"]
["SA36",2020,"DC15",965,null,null,null,null,null,null,null,null,null,null,null,null,null,null,null,null,null,null,"~"]
["SA36",2020,"DC15",966,null,null,null,null,null,null,null,null,null,null,null,null,null,null,null,null,null,null,"~"]
["SA36",2020,"DC15",967,null,null,null,null,null,null,null,null,null,null,null,null,null,null,null,null,null,null,"~"]
["SA36",2020,"DC15",968,null,null,null,null,null,null,null,null,null,null,null,null,null,null,null,null,null,null,"~"]
["SA36",2020,"DC15",969,null,null,null,null,null,null,null,null,null,null,null,null,null,null,null,null,null,null,"~"]
["SA36",2020,"DC15",970,null,null,null,null,null,null,null,null,null,null,null,null,null,null,null,null,null,null,"~"]
["SA36",2020,"DC15",971,null,null,null,null,null,null,null,null,null,null,null,null,null,null,null,null,null,null,"~"]
["SA36",2020,"DC15",972,null,null,null,null,null,null,null,null,null,null,null,null,null,null,null,null,null,null,"~"]
["SA36",2020,"DC15",973,null,null,null,null,null,null,null,null,null,null,null,null,null,null,null,null,null,null,"~"]
["SA36",2020,"DC15",974,null,null,null,null,null,null,null,null,null,null,null,null,null,null,null,null,null,null,"~"]
["SA36",2020,"DC15",975,null,null,null,null,null,null,null,null,null,null,null,null,null,null,null,null,null,null,"~"]
["SA36",2020,"DC15",976,null,null,null,null,null,null,null,null,null,null,null,null,null,null,null,null,null,null,"~"]
["SA36",2020,"DC15",977,null,null,null,null,null,null,null,null,null,null,null,null,null,null,null,null,null,null,"~"]
["SA36",2020,"DC15",978,null,null,null,null,null,null,null,null,null,null,null,null,null,null,null,null,null,null,"~"]
["SA36",2020,"DC15",979,null,null,null,null,null,null,null,null,null,null,null,null,null,null,null,null,null,null,"~"]
["SA36",2020,"DC15",980,null,null,null,null,null,null,null,null,null,null,null,null,null,null,null,null,null,null,"~"]
["SA36",2020,"DC15",981,null,null,null,null,null,null,null,null,null,null,null,null,null,null,null,null,null,null,"~"]
["SA36",2020,"DC15",982,null,null,null,null,null,null,null,null,null,null,null,null,null,null,null,null,null,null,"~"]
["SA36",2020,"DC15",983,null,null,null,null,null,null,null,null,null,null,null,null,null,null,null,null,null,null,"~"]
["SA36",{"$f":"+MTREF","v":2020},{"$f":"LEFT(muni,(FIND(\" \",muni,1)-1))","v":"DC15"},984,null,null,null,null,null,null,null,null,null,null,null,null,null,null,null,null,null,null,"~"]
["SA36",2020,"DC15",985,null,null,null,null,null,null,null,null,null,null,null,null,null,null,null,null,null,null,"~"]
["SA36",2020,"DC15",986,null,null,null,null,null,null,null,null,null,null,null,null,null,null,null,null,null,null,"~"]
["SA36",2020,"DC15",987,null,null,null,null,null,null,null,null,null,null,null,null,null,null,null,null,null,null,"~"]
["SA36",2020,"DC15",988,null,null,null,null,null,null,null,null,null,null,null,null,null,null,null,null,null,null,"~"]
["SA36",2020,"DC15",989,null,null,null,null,null,null,null,null,null,null,null,null,null,null,null,null,null,null,"~"]
["SA36",2020,"DC15",990,null,null,null,null,null,null,null,null,null,null,null,null,null,null,null,null,null,null,"~"]
["SA36",2020,"DC15",991,null,null,null,null,null,null,null,null,null,null,null,null,null,null,null,null,null,null,"~"]
["SA36",2020,"DC15",992,null,null,null,null,null,null,null,null,null,null,null,null,null,null,null,null,null,null,"~"]
["SA36",2020,"DC15",993,null,null,null,null,null,null,null,null,null,null,null,null,null,null,null,null,null,null,"~"]
["SA36",2020,"DC15",994,null,null,null,null,null,null,null,null,null,null,null,null,null,null,null,null,null,null,"~"]
["SA36",2020,"DC15",995,null,null,null,null,null,null,null,null,null,null,null,null,null,null,null,null,null,null,"~"]
["SA36",2020,"DC15",996,null,null,null,null,null,null,null,null,null,null,null,null,null,null,null,null,null,null,"~"]
["SA36",2020,"DC15",997,null,null,null,null,null,null,null,null,null,null,null,null,null,null,null,null,null,null,"~"]
["SA36",2020,"DC15",998,null,null,null,null,null,null,null,null,null,null,null,null,null,null,null,null,null,null,"~"]
["SA36",2020,"DC15",999,null,null,null,null,null,null,null,null,null,null,null,null,null,null,null,null,null,null,"~"]
["SA36",2020,"DC15",1000,null,null,null,null,null,null,null,null,null,null,null,null,null,null,null,null,null,null,"~"]
["SA37",2020,"DC15",1,null,null,null,null,null,null,null,null,null,null,null,null,null,null,null,null,null,null,"~"]
["SA37",2020,"DC15",2,null,null,null,null,null,null,null,null,null,null,null,null,null,null,null,null,null,null,"~"]
["SA37",2020,"DC15",3,null,null,null,null,null,null,null,null,null,null,null,null,null,null,null,null,null,null,"~"]
["SA37",2020,"DC15",4,null,null,null,null,null,null,null,null,null,null,null,null,null,null,null,null,null,null,"~"]
["SA37",2020,"DC15",5,null,null,null,null,null,null,null,null,null,null,null,null,null,null,null,null,null,null,"~"]
["SA37",2020,"DC15",6,null,null,null,null,null,null,null,null,null,null,null,null,null,null,null,null,null,null,"~"]
["SA37",2020,"DC15",7,null,null,null,null,null,null,null,null,null,null,null,null,null,null,null,null,null,null,"~"]
["SA37",2020,"DC15",8,null,null,null,null,null,null,null,null,null,null,null,null,null,null,null,null,null,null,"~"]
["SA37",2020,"DC15",9,null,null,null,null,null,null,null,null,null,null,null,null,null,null,null,null,null,null,"~"]
["SA37",2020,"DC15",10,null,null,null,null,null,null,null,null,null,null,null,null,null,null,null,null,null,null,"~"]
["SA37",2020,"DC15",11,null,null,null,null,null,null,null,null,null,null,null,null,null,null,null,null,null,null,"~"]
["SA37",2020,"DC15",12,null,null,null,null,null,null,null,null,null,null,null,null,null,null,null,null,null,null,"~"]
["SA37",2020,"DC15",13,null,null,null,null,null,null,null,null,null,null,null,null,null,null,null,null,null,null,"~"]
["SA37",2020,"DC15",14,null,null,null,null,null,null,null,null,null,null,null,null,null,null,null,null,null,null,"~"]
["SA37",2020,"DC15",15,null,null,null,null,null,null,null,null,null,null,null,null,null,null,null,null,null,null,"~"]
["SA37",2020,"DC15",16,null,null,null,null,null,null,null,null,null,null,null,null,null,null,null,null,null,null,"~"]
["SA37",2020,"DC15",17,null,null,null,null,null,null,null,null,null,null,null,null,null,null,null,null,null,null,"~"]
["SA37",2020,"DC15",18,null,null,null,null,null,null,null,null,null,null,null,null,null,null,null,null,null,null,"~"]
["SA37",2020,"DC15",19,null,null,null,null,null,null,null,null,null,null,null,null,null,null,null,null,null,null,"~"]
["SA37",2020,"DC15",20,null,null,null,null,null,null,null,null,null,null,null,null,null,null,null,null,null,null,"~"]
["SA37",2020,"DC15",21,null,null,null,null,null,null,null,null,null,null,null,null,null,null,null,null,null,null,"~"]
["SA37",2020,"DC15",22,null,null,null,null,null,null,null,null,null,null,null,null,null,null,null,null,null,null,"~"]
["SA37",2020,"DC15",23,null,null,null,null,null,null,null,null,null,null,null,null,null,null,null,null,null,null,"~"]
["SA37",2020,"DC15",24,null,null,null,null,null,null,null,null,null,null,null,null,null,null,null,null,null,null,"~"]
["SA37",2020,"DC15",25,null,null,null,null,null,null,null,null,null,null,null,null,null,null,null,null,null,null,"~"]
["SA37",2020,"DC15",26,null,null,null,null,null,null,null,null,null,null,null,null,null,null,null,null,null,null,"~"]
["SA37",2020,"DC15",27,null,null,null,null,null,null,null,null,null,null,null,null,null,null,null,null,null,null,"~"]
["SA37",2020,"DC15",28,null,null,null,null,null,null,null,null,null,null,null,null,null,null,null,null,null,null,"~"]
["SA37",2020,"DC15",29,null,null,null,null,null,null,null,null,null,null,null,null,null,null,null,null,null,null,"~"]
["SA37",2020,"DC15",30,null,null,null,null,null,null,null,null,null,null,null,null,null,null,null,null,null,null,"~"]
["SA37",2020,"DC15",31,null,null,null,null,null,null,null,null,null,null,null,null,null,null,null,null,null,null,"~"]
["SA37",2020,"DC15",32,null,null,null,null,null,null,null,null,null,null,null,null,null,null,null,null,null,null,"~"]
["SA37",2020,"DC15",33,null,null,null,null,null,null,null,null,null,null,null,null,null,null,null,null,null,null,"~"]
["SA37",2020,"DC15",34,null,null,null,null,null,null,null,null,null,null,null,null,null,null,null,null,null,null,"~"]
["SA37",2020,"DC15",35,null,null,null,null,null,null,null,null,null,null,null,null,null,null,null,null,null,null,"~"]
["SA37",2020,"DC15",36,null,null,null,null,null,null,null,null,null,null,null,null,null,null,null,null,null,null,"~"]
["SA37",2020,"DC15",37,null,null,null,null,null,null,null,null,null,null,null,null,null,null,null,null,null,null,"~"]
["SA37",2020,"DC15",38,null,null,null,null,null,null,null,null,null,null,null,null,null,null,null,null,null,null,"~"]
["SA37",2020,"DC15",39,null,null,null,null,null,null,null,null,null,null,null,null,null,null,null,null,null,null,"~"]
["SA37",2020,"DC15",40,null,null,null,null,null,null,null,null,null,null,null,null,null,null,null,null,null,null,"~"]
["SA37",2020,"DC15",41,null,null,null,null,null,null,null,null,null,null,null,null,null,null,null,null,null,null,"~"]
["SA37",2020,"DC15",42,null,null,null,null,null,null,null,null,null,null,null,null,null,null,null,null,null,null,"~"]
["SA37",2020,"DC15",43,null,null,null,null,null,null,null,null,null,null,null,null,null,null,null,null,null,null,"~"]
["SA37",2020,"DC15",44,null,null,null,null,null,null,null,null,null,null,null,null,null,null,null,null,null,null,"~"]
["SA37",2020,"DC15",45,null,null,null,null,null,null,null,null,null,null,null,null,null,null,null,null,null,null,"~"]
["SA37",2020,"DC15",46,null,null,null,null,null,null,null,null,null,null,null,null,null,null,null,null,null,null,"~"]
["SA37",2020,"DC15",47,null,null,null,null,null,null,null,null,null,null,null,null,null,null,null,null,null,null,"~"]
["SA37",{"$f":"+MTREF","v":2020},{"$f":"LEFT(muni,(FIND(\" \",muni,1)-1))","v":"DC15"},48,null,null,null,null,null,null,null,null,null,null,null,null,null,null,null,null,null,null,"~"]
["SA37",2020,"DC15",49,null,null,null,null,null,null,null,null,null,null,null,null,null,null,null,null,null,null,"~"]
["SA37",2020,"DC15",50,null,null,null,null,null,null,null,null,null,null,null,null,null,null,null,null,null,null,"~"]
["SA37",2020,"DC15",51,null,null,null,null,null,null,null,null,null,null,null,null,null,null,null,null,null,null,"~"]
["SA37",2020,"DC15",52,null,null,null,null,null,null,null,null,null,null,null,null,null,null,null,null,null,null,"~"]
["SA37",2020,"DC15",53,null,null,null,null,null,null,null,null,null,null,null,null,null,null,null,null,null,null,"~"]
["SA37",2020,"DC15",54,null,null,null,null,null,null,null,null,null,null,null,null,null,null,null,null,null,null,"~"]
["SA37",2020,"DC15",55,null,null,null,null,null,null,null,null,null,null,null,null,null,null,null,null,null,null,"~"]
["SA37",2020,"DC15",56,null,null,null,null,null,null,null,null,null,null,null,null,null,null,null,null,null,null,"~"]
["SA37",2020,"DC15",57,null,null,null,null,null,null,null,null,null,null,null,null,null,null,null,null,null,null,"~"]
["SA37",2020,"DC15",58,null,null,null,null,null,null,null,null,null,null,null,null,null,null,null,null,null,null,"~"]
["SA37",2020,"DC15",59,null,null,null,null,null,null,null,null,null,null,null,null,null,null,null,null,null,null,"~"]
["SA37",2020,"DC15",60,null,null,null,null,null,null,null,null,null,null,null,null,null,null,null,null,null,null,"~"]
["SA37",2020,"DC15",61,null,null,null,null,null,null,null,null,null,null,null,null,null,null,null,null,null,null,"~"]
["SA37",2020,"DC15",62,null,null,null,null,null,null,null,null,null,null,null,null,null,null,null,null,null,null,"~"]
["SA37",2020,"DC15",63,null,null,null,null,null,null,null,null,null,null,null,null,null,null,null,null,null,null,"~"]
["SA37",2020,"DC15",64,null,null,null,null,null,null,null,null,null,null,null,null,null,null,null,null,null,null,"~"]
["SA37",2020,"DC15",65,null,null,null,null,null,null,null,null,null,null,null,null,null,null,null,null,null,null,"~"]
["SA37",2020,"DC15",66,null,null,null,null,null,null,null,null,null,null,null,null,null,null,null,null,null,null,"~"]
["SA37",2020,"DC15",67,null,null,null,null,null,null,null,null,null,null,null,null,null,null,null,null,null,null,"~"]
["SA37",2020,"DC15",68,null,null,null,null,null,null,null,null,null,null,null,null,null,null,null,null,null,null,"~"]
["SA37",2020,"DC15",69,null,null,null,null,null,null,null,null,null,null,null,null,null,null,null,null,null,null,"~"]
["SA37",2020,"DC15",70,null,null,null,null,null,null,null,null,null,null,null,null,null,null,null,null,null,null,"~"]
["SA37",2020,"DC15",71,null,null,null,null,null,null,null,null,null,null,null,null,null,null,null,null,null,null,"~"]
["SA37",2020,"DC15",72,null,null,null,null,null,null,null,null,null,null,null,null,null,null,null,null,null,null,"~"]
["SA37",2020,"DC15",73,null,null,null,null,null,null,null,null,null,null,null,null,null,null,null,null,null,null,"~"]
["SA37",2020,"DC15",74,null,null,null,null,null,null,null,null,null,null,null,null,null,null,null,null,null,null,"~"]
["SA37",2020,"DC15",75,null,null,null,null,null,null,null,null,null,null,null,null,null,null,null,null,null,null,"~"]
["SA37",2020,"DC15",76,null,null,null,null,null,null,null,null,null,null,null,null,null,null,null,null,null,null,"~"]
["SA37",2020,"DC15",77,null,null,null,null,null,null,null,null,null,null,null,null,null,null,null,null,null,null,"~"]
["SA37",2020,"DC15",78,null,null,null,null,null,null,null,null,null,null,null,null,null,null,null,null,null,null,"~"]
["SA37",2020,"DC15",79,null,null,null,null,null,null,null,null,null,null,null,null,null,null,null,null,null,null,"~"]
["SA37",2020,"DC15",80,null,null,null,null,null,null,null,null,null,null,null,null,null,null,null,null,null,null,"~"]
["SA37",2020,"DC15",81,null,null,null,null,null,null,null,null,null,null,null,null,null,null,null,null,null,null,"~"]
["SA37",2020,"DC15",82,null,null,null,null,null,null,null,null,null,null,null,null,null,null,null,null,null,null,"~"]
["SA37",2020,"DC15",83,null,null,null,null,null,null,null,null,null,null,null,null,null,null,null,null,null,null,"~"]
["SA37",2020,"DC15",84,null,null,null,null,null,null,null,null,null,null,null,null,null,null,null,null,null,null,"~"]
["SA37",2020,"DC15",85,null,null,null,null,null,null,null,null,null,null,null,null,null,null,null,null,null,null,"~"]
["SA37",2020,"DC15",86,null,null,null,null,null,null,null,null,null,null,null,null,null,null,null,null,null,null,"~"]
["SA37",2020,"DC15",87,null,null,null,null,null,null,null,null,null,null,null,null,null,null,null,null,null,null,"~"]
["SA37",2020,"DC15",88,null,null,null,null,null,null,null,null,null,null,null,null,null,null,null,null,null,null,"~"]
["SA37",2020,"DC15",89,null,null,null,null,null,null,null,null,null,null,null,null,null,null,null,null,null,null,"~"]
["SA37",2020,"DC15",90,null,null,null,null,null,null,null,null,null,null,null,null,null,null,null,null,null,null,"~"]
["SA37",2020,"DC15",91,null,null,null,null,null,null,null,null,null,null,null,null,null,null,null,null,null,null,"~"]
["SA37",2020,"DC15",92,null,null,null,null,null,null,null,null,null,null,null,null,null,null,null,null,null,null,"~"]
["SA37",2020,"DC15",93,null,null,null,null,null,null,null,null,null,null,null,null,null,null,null,null,null,null,"~"]
["SA37",2020,"DC15",94,null,null,null,null,null,null,null,null,null,null,null,null,null,null,null,null,null,null,"~"]
["SA37",2020,"DC15",95,null,null,null,null,null,null,null,null,null,null,null,null,null,null,null,null,null,null,"~"]
["SA37",2020,"DC15",96,null,null,null,null,null,null,null,null,null,null,null,null,null,null,null,null,null,null,"~"]
["SA37",2020,"DC15",97,null,null,null,null,null,null,null,null,null,null,null,null,null,null,null,null,null,null,"~"]
["SA37",2020,"DC15",98,null,null,null,null,null,null,null,null,null,null,null,null,null,null,null,null,null,null,"~"]
["SA37",2020,"DC15",99,null,null,null,null,null,null,null,null,null,null,null,null,null,null,null,null,null,null,"~"]
["SA37",2020,"DC15",100,null,null,null,null,null,null,null,null,null,null,null,null,null,null,null,null,null,null,"~"]
["SA37",2020,"DC15",101,null,null,null,null,null,null,null,null,null,null,null,null,null,null,null,null,null,null,"~"]
["SA37",2020,"DC15",102,null,null,null,null,null,null,null,null,null,null,null,null,null,null,null,null,null,null,"~"]
["SA37",2020,"DC15",103,null,null,null,null,null,null,null,null,null,null,null,null,null,null,null,null,null,null,"~"]
["SA37",2020,"DC15",104,null,null,null,null,null,null,null,null,null,null,null,null,null,null,null,null,null,null,"~"]
["SA37",2020,"DC15",105,null,null,null,null,null,null,null,null,null,null,null,null,null,null,null,null,null,null,"~"]
["SA37",2020,"DC15",106,null,null,null,null,null,null,null,null,null,null,null,null,null,null,null,null,null,null,"~"]
["SA37",2020,"DC15",107,null,null,null,null,null,null,null,null,null,null,null,null,null,null,null,null,null,null,"~"]
["SA37",2020,"DC15",108,null,null,null,null,null,null,null,null,null,null,null,null,null,null,null,null,null,null,"~"]
["SA37",2020,"DC15",109,null,null,null,null,null,null,null,null,null,null,null,null,null,null,null,null,null,null,"~"]
["SA37",2020,"DC15",110,null,null,null,null,null,null,null,null,null,null,null,null,null,null,null,null,null,null,"~"]
["SA37",2020,"DC15",111,null,null,null,null,null,null,null,null,null,null,null,null,null,null,null,null,null,null,"~"]
["SA37",{"$f":"+MTREF","v":2020},{"$f":"LEFT(muni,(FIND(\" \",muni,1)-1))","v":"DC15"},112,null,null,null,null,null,null,null,null,null,null,null,null,null,null,null,null,null,null,"~"]
["SA37",2020,"DC15",113,null,null,null,null,null,null,null,null,null,null,null,null,null,null,null,null,null,null,"~"]
["SA37",2020,"DC15",114,null,null,null,null,null,null,null,null,null,null,null,null,null,null,null,null,null,null,"~"]
["SA37",2020,"DC15",115,null,null,null,null,null,null,null,null,null,null,null,null,null,null,null,null,null,null,"~"]
["SA37",2020,"DC15",116,null,null,null,null,null,null,null,null,null,null,null,null,null,null,null,null,null,null,"~"]
["SA37",2020,"DC15",117,null,null,null,null,null,null,null,null,null,null,null,null,null,null,null,null,null,null,"~"]
["SA37",2020,"DC15",118,null,null,null,null,null,null,null,null,null,null,null,null,null,null,null,null,null,null,"~"]
["SA37",2020,"DC15",119,null,null,null,null,null,null,null,null,null,null,null,null,null,null,null,null,null,null,"~"]
["SA37",2020,"DC15",120,null,null,null,null,null,null,null,null,null,null,null,null,null,null,null,null,null,null,"~"]
["SA37",2020,"DC15",121,null,null,null,null,null,null,null,null,null,null,null,null,null,null,null,null,null,null,"~"]
["SA37",2020,"DC15",122,null,null,null,null,null,null,null,null,null,null,null,null,null,null,null,null,null,null,"~"]
["SA37",2020,"DC15",123,null,null,null,null,null,null,null,null,null,null,null,null,null,null,null,null,null,null,"~"]
["SA37",2020,"DC15",124,null,null,null,null,null,null,null,null,null,null,null,null,null,null,null,null,null,null,"~"]
["SA37",2020,"DC15",125,null,null,null,null,null,null,null,null,null,null,null,null,null,null,null,null,null,null,"~"]
["SA37",2020,"DC15",126,null,null,null,null,null,null,null,null,null,null,null,null,null,null,null,null,null,null,"~"]
["SA37",2020,"DC15",127,null,null,null,null,null,null,null,null,null,null,null,null,null,null,null,null,null,null,"~"]
["SA37",2020,"DC15",128,null,null,null,null,null,null,null,null,null,null,null,null,null,null,null,null,null,null,"~"]
["SA37",2020,"DC15",129,null,null,null,null,null,null,null,null,null,null,null,null,null,null,null,null,null,null,"~"]
["SA37",2020,"DC15",130,null,null,null,null,null,null,null,null,null,null,null,null,null,null,null,null,null,null,"~"]
["SA37",2020,"DC15",131,null,null,null,null,null,null,null,null,null,null,null,null,null,null,null,null,null,null,"~"]
["SA37",2020,"DC15",132,null,null,null,null,null,null,null,null,null,null,null,null,null,null,null,null,null,null,"~"]
["SA37",2020,"DC15",133,null,null,null,null,null,null,null,null,null,null,null,null,null,null,null,null,null,null,"~"]
["SA37",2020,"DC15",134,null,null,null,null,null,null,null,null,null,null,null,null,null,null,null,null,null,null,"~"]
["SA37",2020,"DC15",135,null,null,null,null,null,null,null,null,null,null,null,null,null,null,null,null,null,null,"~"]
["SA37",2020,"DC15",136,null,null,null,null,null,null,null,null,null,null,null,null,null,null,null,null,null,null,"~"]
["SA37",2020,"DC15",137,null,null,null,null,null,null,null,null,null,null,null,null,null,null,null,null,null,null,"~"]
["SA37",2020,"DC15",138,null,null,null,null,null,null,null,null,null,null,null,null,null,null,null,null,null,null,"~"]
["SA37",2020,"DC15",139,null,null,null,null,null,null,null,null,null,null,null,null,null,null,null,null,null,null,"~"]
["SA37",2020,"DC15",140,null,null,null,null,null,null,null,null,null,null,null,null,null,null,null,null,null,null,"~"]
["SA37",2020,"DC15",141,null,null,null,null,null,null,null,null,null,null,null,null,null,null,null,null,null,null,"~"]
["SA37",2020,"DC15",142,null,null,null,null,null,null,null,null,null,null,null,null,null,null,null,null,null,null,"~"]
["SA37",2020,"DC15",143,null,null,null,null,null,null,null,null,null,null,null,null,null,null,null,null,null,null,"~"]
["SA37",2020,"DC15",144,null,null,null,null,null,null,null,null,null,null,null,null,null,null,null,null,null,null,"~"]
["SA37",2020,"DC15",145,null,null,null,null,null,null,null,null,null,null,null,null,null,null,null,null,null,null,"~"]
["SA37",2020,"DC15",146,null,null,null,null,null,null,null,null,null,null,null,null,null,null,null,null,null,null,"~"]
["SA37",2020,"DC15",147,null,null,null,null,null,null,null,null,null,null,null,null,null,null,null,null,null,null,"~"]
["SA37",2020,"DC15",148,null,null,null,null,null,null,null,null,null,null,null,null,null,null,null,null,null,null,"~"]
["SA37",2020,"DC15",149,null,null,null,null,null,null,null,null,null,null,null,null,null,null,null,null,null,null,"~"]
["SA37",2020,"DC15",150,null,null,null,null,null,null,null,null,null,null,null,null,null,null,null,null,null,null,"~"]
["SA37",2020,"DC15",151,null,null,null,null,null,null,null,null,null,null,null,null,null,null,null,null,null,null,"~"]
["SA37",2020,"DC15",152,null,null,null,null,null,null,null,null,null,null,null,null,null,null,null,null,null,null,"~"]
["SA37",2020,"DC15",153,null,null,null,null,null,null,null,null,null,null,null,null,null,null,null,null,null,null,"~"]
["SA37",2020,"DC15",154,null,null,null,null,null,null,null,null,null,null,null,null,null,null,null,null,null,null,"~"]
["SA37",2020,"DC15",155,null,null,null,null,null,null,null,null,null,null,null,null,null,null,null,null,null,null,"~"]
["SA37",2020,"DC15",156,null,null,null,null,null,null,null,null,null,null,null,null,null,null,null,null,null,null,"~"]
["SA37",2020,"DC15",157,null,null,null,null,null,null,null,null,null,null,null,null,null,null,null,null,null,null,"~"]
["SA37",2020,"DC15",158,null,null,null,null,null,null,null,null,null,null,null,null,null,null,null,null,null,null,"~"]
["SA37",2020,"DC15",159,null,null,null,null,null,null,null,null,null,null,null,null,null,null,null,null,null,null,"~"]
["SA37",2020,"DC15",160,null,null,null,null,null,null,null,null,null,null,null,null,null,null,null,null,null,null,"~"]
["SA37",2020,"DC15",161,null,null,null,null,null,null,null,null,null,null,null,null,null,null,null,null,null,null,"~"]
["SA37",2020,"DC15",162,null,null,null,null,null,null,null,null,null,null,null,null,null,null,null,null,null,null,"~"]
["SA37",2020,"DC15",163,null,null,null,null,null,null,null,null,null,null,null,null,null,null,null,null,null,null,"~"]
["SA37",2020,"DC15",164,null,null,null,null,null,null,null,null,null,null,null,null,null,null,null,null,null,null,"~"]
["SA37",2020,"DC15",165,null,null,null,null,null,null,null,null,null,null,null,null,null,null,null,null,null,null,"~"]
["SA37",2020,"DC15",166,null,null,null,null,null,null,null,null,null,null,null,null,null,null,null,null,null,null,"~"]
["SA37",2020,"DC15",167,null,null,null,null,null,null,null,null,null,null,null,null,null,null,null,null,null,null,"~"]
["SA37",2020,"DC15",168,null,null,null,null,null,null,null,null,null,null,null,null,null,null,null,null,null,null,"~"]
["SA37",2020,"DC15",169,null,null,null,null,null,null,null,null,null,null,null,null,null,null,null,null,null,null,"~"]
["SA37",2020,"DC15",170,null,null,null,null,null,null,null,null,null,null,null,null,null,null,null,null,null,null,"~"]
["SA37",2020,"DC15",171,null,null,null,null,null,null,null,null,null,null,null,null,null,null,null,null,null,null,"~"]
["SA37",2020,"DC15",172,null,null,null,null,null,null,null,null,null,null,null,null,null,null,null,null,null,null,"~"]
["SA37",2020,"DC15",173,null,null,null,null,null,null,null,null,null,null,null,null,null,null,null,null,null,null,"~"]
["SA37",2020,"DC15",174,null,null,null,null,null,null,null,null,null,null,null,null,null,null,null,null,null,null,"~"]
["SA37",2020,"DC15",175,null,null,null,null,null,null,null,null,null,null,null,null,null,null,null,null,null,null,"~"]
["SA37",{"$f":"+MTREF","v":2020},{"$f":"LEFT(muni,(FIND(\" \",muni,1)-1))","v":"DC15"},176,null,null,null,null,null,null,null,null,null,null,null,null,null,null,null,null,null,null,"~"]
["SA37",2020,"DC15",177,null,null,null,null,null,null,null,null,null,null,null,null,null,null,null,null,null,null,"~"]
["SA37",2020,"DC15",178,null,null,null,null,null,null,null,null,null,null,null,null,null,null,null,null,null,null,"~"]
["SA37",2020,"DC15",179,null,null,null,null,null,null,null,null,null,null,null,null,null,null,null,null,null,null,"~"]
["SA37",2020,"DC15",180,null,null,null,null,null,null,null,null,null,null,null,null,null,null,null,null,null,null,"~"]
["SA37",2020,"DC15",181,null,null,null,null,null,null,null,null,null,null,null,null,null,null,null,null,null,null,"~"]
["SA37",2020,"DC15",182,null,null,null,null,null,null,null,null,null,null,null,null,null,null,null,null,null,null,"~"]
["SA37",2020,"DC15",183,null,null,null,null,null,null,null,null,null,null,null,null,null,null,null,null,null,null,"~"]
["SA37",2020,"DC15",184,null,null,null,null,null,null,null,null,null,null,null,null,null,null,null,null,null,null,"~"]
["SA37",2020,"DC15",185,null,null,null,null,null,null,null,null,null,null,null,null,null,null,null,null,null,null,"~"]
["SA37",2020,"DC15",186,null,null,null,null,null,null,null,null,null,null,null,null,null,null,null,null,null,null,"~"]
["SA37",2020,"DC15",187,null,null,null,null,null,null,null,null,null,null,null,null,null,null,null,null,null,null,"~"]
["SA37",2020,"DC15",188,null,null,null,null,null,null,null,null,null,null,null,null,null,null,null,null,null,null,"~"]
["SA37",2020,"DC15",189,null,null,null,null,null,null,null,null,null,null,null,null,null,null,null,null,null,null,"~"]
["SA37",2020,"DC15",190,null,null,null,null,null,null,null,null,null,null,null,null,null,null,null,null,null,null,"~"]
["SA37",2020,"DC15",191,null,null,null,null,null,null,null,null,null,null,null,null,null,null,null,null,null,null,"~"]
["SA37",2020,"DC15",192,null,null,null,null,null,null,null,null,null,null,null,null,null,null,null,null,null,null,"~"]
["SA37",2020,"DC15",193,null,null,null,null,null,null,null,null,null,null,null,null,null,null,null,null,null,null,"~"]
["SA37",2020,"DC15",194,null,null,null,null,null,null,null,null,null,null,null,null,null,null,null,null,null,null,"~"]
["SA37",2020,"DC15",195,null,null,null,null,null,null,null,null,null,null,null,null,null,null,null,null,null,null,"~"]
["SA37",2020,"DC15",196,null,null,null,null,null,null,null,null,null,null,null,null,null,null,null,null,null,null,"~"]
["SA37",2020,"DC15",197,null,null,null,null,null,null,null,null,null,null,null,null,null,null,null,null,null,null,"~"]
["SA37",2020,"DC15",198,null,null,null,null,null,null,null,null,null,null,null,null,null,null,null,null,null,null,"~"]
["SA37",2020,"DC15",199,null,null,null,null,null,null,null,null,null,null,null,null,null,null,null,null,null,null,"~"]
["SA37",2020,"DC15",200,null,null,null,null,null,null,null,null,null,null,null,null,null,null,null,null,null,null,"~"]
["SA37",2020,"DC15",201,null,null,null,null,null,null,null,null,null,null,null,null,null,null,null,null,null,null,"~"]
["SA37",2020,"DC15",202,null,null,null,null,null,null,null,null,null,null,null,null,null,null,null,null,null,null,"~"]
["SA37",2020,"DC15",203,null,null,null,null,null,null,null,null,null,null,null,null,null,null,null,null,null,null,"~"]
["SA37",2020,"DC15",204,null,null,null,null,null,null,null,null,null,null,null,null,null,null,null,null,null,null,"~"]
["SA37",2020,"DC15",205,null,null,null,null,null,null,null,null,null,null,null,null,null,null,null,null,null,null,"~"]
["SA37",2020,"DC15",206,null,null,null,null,null,null,null,null,null,null,null,null,null,null,null,null,null,null,"~"]
["SA37",2020,"DC15",207,null,null,null,null,null,null,null,null,null,null,null,null,null,null,null,null,null,null,"~"]
["SA37",2020,"DC15",208,null,null,null,null,null,null,null,null,null,null,null,null,null,null,null,null,null,null,"~"]
["SA37",2020,"DC15",209,null,null,null,null,null,null,null,null,null,null,null,null,null,null,null,null,null,null,"~"]
["SA37",2020,"DC15",210,null,null,null,null,null,null,null,null,null,null,null,null,null,null,null,null,null,null,"~"]
["SA37",2020,"DC15",211,null,null,null,null,null,null,null,null,null,null,null,null,null,null,null,null,null,null,"~"]
["SA37",2020,"DC15",212,null,null,null,null,null,null,null,null,null,null,null,null,null,null,null,null,null,null,"~"]
["SA37",2020,"DC15",213,null,null,null,null,null,null,null,null,null,null,null,null,null,null,null,null,null,null,"~"]
["SA37",2020,"DC15",214,null,null,null,null,null,null,null,null,null,null,null,null,null,null,null,null,null,null,"~"]
["SA37",2020,"DC15",215,null,null,null,null,null,null,null,null,null,null,null,null,null,null,null,null,null,null,"~"]
["SA37",2020,"DC15",216,null,null,null,null,null,null,null,null,null,null,null,null,null,null,null,null,null,null,"~"]
["SA37",2020,"DC15",217,null,null,null,null,null,null,null,null,null,null,null,null,null,null,null,null,null,null,"~"]
["SA37",2020,"DC15",218,null,null,null,null,null,null,null,null,null,null,null,null,null,null,null,null,null,null,"~"]
["SA37",2020,"DC15",219,null,null,null,null,null,null,null,null,null,null,null,null,null,null,null,null,null,null,"~"]
["SA37",2020,"DC15",220,null,null,null,null,null,null,null,null,null,null,null,null,null,null,null,null,null,null,"~"]
["SA37",2020,"DC15",221,null,null,null,null,null,null,null,null,null,null,null,null,null,null,null,null,null,null,"~"]
["SA37",2020,"DC15",222,null,null,null,null,null,null,null,null,null,null,null,null,null,null,null,null,null,null,"~"]
["SA37",2020,"DC15",223,null,null,null,null,null,null,null,null,null,null,null,null,null,null,null,null,null,null,"~"]
["SA37",2020,"DC15",224,null,null,null,null,null,null,null,null,null,null,null,null,null,null,null,null,null,null,"~"]
["SA37",2020,"DC15",225,null,null,null,null,null,null,null,null,null,null,null,null,null,null,null,null,null,null,"~"]
["SA37",2020,"DC15",226,null,null,null,null,null,null,null,null,null,null,null,null,null,null,null,null,null,null,"~"]
["SA37",2020,"DC15",227,null,null,null,null,null,null,null,null,null,null,null,null,null,null,null,null,null,null,"~"]
["SA37",2020,"DC15",228,null,null,null,null,null,null,null,null,null,null,null,null,null,null,null,null,null,null,"~"]
["SA37",2020,"DC15",229,null,null,null,null,null,null,null,null,null,null,null,null,null,null,null,null,null,null,"~"]
["SA37",2020,"DC15",230,null,null,null,null,null,null,null,null,null,null,null,null,null,null,null,null,null,null,"~"]
["SA37",2020,"DC15",231,null,null,null,null,null,null,null,null,null,null,null,null,null,null,null,null,null,null,"~"]
["SA37",2020,"DC15",232,null,null,null,null,null,null,null,null,null,null,null,null,null,null,null,null,null,null,"~"]
["SA37",2020,"DC15",233,null,null,null,null,null,null,null,null,null,null,null,null,null,null,null,null,null,null,"~"]
["SA37",2020,"DC15",234,null,null,null,null,null,null,null,null,null,null,null,null,null,null,null,null,null,null,"~"]
["SA37",2020,"DC15",235,null,null,null,null,null,null,null,null,null,null,null,null,null,null,null,null,null,null,"~"]
["SA37",2020,"DC15",236,null,null,null,null,null,null,null,null,null,null,null,null,null,null,null,null,null,null,"~"]
["SA37",2020,"DC15",237,null,null,null,null,null,null,null,null,null,null,null,null,null,null,null,null,null,null,"~"]
["SA37",2020,"DC15",238,null,null,null,null,null,null,null,null,null,null,null,null,null,null,null,null,null,null,"~"]
["SA37",2020,"DC15",239,null,null,null,null,null,null,null,null,null,null,null,null,null,null,null,null,null,null,"~"]
["SA37",{"$f":"+MTREF","v":2020},{"$f":"LEFT(muni,(FIND(\" \",muni,1)-1))","v":"DC15"},240,null,null,null,null,null,null,null,null,null,null,null,null,null,null,null,null,null,null,"~"]
["SA37",2020,"DC15",241,null,null,null,null,null,null,null,null,null,null,null,null,null,null,null,null,null,null,"~"]
["SA37",2020,"DC15",242,null,null,null,null,null,null,null,null,null,null,null,null,null,null,null,null,null,null,"~"]
["SA37",2020,"DC15",243,null,null,null,null,null,null,null,null,null,null,null,null,null,null,null,null,null,null,"~"]
["SA37",2020,"DC15",244,null,null,null,null,null,null,null,null,null,null,null,null,null,null,null,null,null,null,"~"]
["SA37",2020,"DC15",245,null,null,null,null,null,null,null,null,null,null,null,null,null,null,null,null,null,null,"~"]
["SA37",2020,"DC15",246,null,null,null,null,null,null,null,null,null,null,null,null,null,null,null,null,null,null,"~"]
["SA37",2020,"DC15",247,null,null,null,null,null,null,null,null,null,null,null,null,null,null,null,null,null,null,"~"]
["SA37",2020,"DC15",248,null,null,null,null,null,null,null,null,null,null,null,null,null,null,null,null,null,null,"~"]
["SA37",2020,"DC15",249,null,null,null,null,null,null,null,null,null,null,null,null,null,null,null,null,null,null,"~"]
["SA37",2020,"DC15",250,null,null,null,null,null,null,null,null,null,null,null,null,null,null,null,null,null,null,"~"]
["SA37",2020,"DC15",251,null,null,null,null,null,null,null,null,null,null,null,null,null,null,null,null,null,null,"~"]
["SA37",2020,"DC15",252,null,null,null,null,null,null,null,null,null,null,null,null,null,null,null,null,null,null,"~"]
["SA37",2020,"DC15",253,null,null,null,null,null,null,null,null,null,null,null,null,null,null,null,null,null,null,"~"]
["SA37",2020,"DC15",254,null,null,null,null,null,null,null,null,null,null,null,null,null,null,null,null,null,null,"~"]
["SA37",2020,"DC15",255,null,null,null,null,null,null,null,null,null,null,null,null,null,null,null,null,null,null,"~"]
["SA37",2020,"DC15",256,null,null,null,null,null,null,null,null,null,null,null,null,null,null,null,null,null,null,"~"]
["SA37",2020,"DC15",257,null,null,null,null,null,null,null,null,null,null,null,null,null,null,null,null,null,null,"~"]
["SA37",2020,"DC15",258,null,null,null,null,null,null,null,null,null,null,null,null,null,null,null,null,null,null,"~"]
["SA37",2020,"DC15",259,null,null,null,null,null,null,null,null,null,null,null,null,null,null,null,null,null,null,"~"]
["SA37",2020,"DC15",260,null,null,null,null,null,null,null,null,null,null,null,null,null,null,null,null,null,null,"~"]
["SA37",2020,"DC15",261,null,null,null,null,null,null,null,null,null,null,null,null,null,null,null,null,null,null,"~"]
["SA37",2020,"DC15",262,null,null,null,null,null,null,null,null,null,null,null,null,null,null,null,null,null,null,"~"]
["SA37",2020,"DC15",263,null,null,null,null,null,null,null,null,null,null,null,null,null,null,null,null,null,null,"~"]
["SA37",2020,"DC15",264,null,null,null,null,null,null,null,null,null,null,null,null,null,null,null,null,null,null,"~"]
["SA37",2020,"DC15",265,null,null,null,null,null,null,null,null,null,null,null,null,null,null,null,null,null,null,"~"]
["SA37",2020,"DC15",266,null,null,null,null,null,null,null,null,null,null,null,null,null,null,null,null,null,null,"~"]
["SA37",2020,"DC15",267,null,null,null,null,null,null,null,null,null,null,null,null,null,null,null,null,null,null,"~"]
["SA37",2020,"DC15",268,null,null,null,null,null,null,null,null,null,null,null,null,null,null,null,null,null,null,"~"]
["SA37",2020,"DC15",269,null,null,null,null,null,null,null,null,null,null,null,null,null,null,null,null,null,null,"~"]
["SA37",2020,"DC15",270,null,null,null,null,null,null,null,null,null,null,null,null,null,null,null,null,null,null,"~"]
["SA37",2020,"DC15",271,null,null,null,null,null,null,null,null,null,null,null,null,null,null,null,null,null,null,"~"]
["SA37",2020,"DC15",272,null,null,null,null,null,null,null,null,null,null,null,null,null,null,null,null,null,null,"~"]
["SA37",2020,"DC15",273,null,null,null,null,null,null,null,null,null,null,null,null,null,null,null,null,null,null,"~"]
["SA37",2020,"DC15",274,null,null,null,null,null,null,null,null,null,null,null,null,null,null,null,null,null,null,"~"]
["SA37",2020,"DC15",275,null,null,null,null,null,null,null,null,null,null,null,null,null,null,null,null,null,null,"~"]
["SA37",2020,"DC15",276,null,null,null,null,null,null,null,null,null,null,null,null,null,null,null,null,null,null,"~"]
["SA37",2020,"DC15",277,null,null,null,null,null,null,null,null,null,null,null,null,null,null,null,null,null,null,"~"]
["SA37",2020,"DC15",278,null,null,null,null,null,null,null,null,null,null,null,null,null,null,null,null,null,null,"~"]
["SA37",2020,"DC15",279,null,null,null,null,null,null,null,null,null,null,null,null,null,null,null,null,null,null,"~"]
["SA37",2020,"DC15",280,null,null,null,null,null,null,null,null,null,null,null,null,null,null,null,null,null,null,"~"]
["SA37",2020,"DC15",281,null,null,null,null,null,null,null,null,null,null,null,null,null,null,null,null,null,null,"~"]
["SA37",2020,"DC15",282,null,null,null,null,null,null,null,null,null,null,null,null,null,null,null,null,null,null,"~"]
["SA37",2020,"DC15",283,null,null,null,null,null,null,null,null,null,null,null,null,null,null,null,null,null,null,"~"]
["SA37",2020,"DC15",284,null,null,null,null,null,null,null,null,null,null,null,null,null,null,null,null,null,null,"~"]
["SA37",2020,"DC15",285,null,null,null,null,null,null,null,null,null,null,null,null,null,null,null,null,null,null,"~"]
["SA37",2020,"DC15",286,null,null,null,null,null,null,null,null,null,null,null,null,null,null,null,null,null,null,"~"]
["SA37",2020,"DC15",287,null,null,null,null,null,null,null,null,null,null,null,null,null,null,null,null,null,null,"~"]
["SA37",2020,"DC15",288,null,null,null,null,null,null,null,null,null,null,null,null,null,null,null,null,null,null,"~"]
["SA37",2020,"DC15",289,null,null,null,null,null,null,null,null,null,null,null,null,null,null,null,null,null,null,"~"]
["SA37",2020,"DC15",290,null,null,null,null,null,null,null,null,null,null,null,null,null,null,null,null,null,null,"~"]
["SA37",2020,"DC15",291,null,null,null,null,null,null,null,null,null,null,null,null,null,null,null,null,null,null,"~"]
["SA37",2020,"DC15",292,null,null,null,null,null,null,null,null,null,null,null,null,null,null,null,null,null,null,"~"]
["SA37",2020,"DC15",293,null,null,null,null,null,null,null,null,null,null,null,null,null,null,null,null,null,null,"~"]
["SA37",2020,"DC15",294,null,null,null,null,null,null,null,null,null,null,null,null,null,null,null,null,null,null,"~"]
["SA37",2020,"DC15",295,null,null,null,null,null,null,null,null,null,null,null,null,null,null,null,null,null,null,"~"]
["SA37",2020,"DC15",296,null,null,null,null,null,null,null,null,null,null,null,null,null,null,null,null,null,null,"~"]
["SA37",2020,"DC15",297,null,null,null,null,null,null,null,null,null,null,null,null,null,null,null,null,null,null,"~"]
["SA37",2020,"DC15",298,null,null,null,null,null,null,null,null,null,null,null,null,null,null,null,null,null,null,"~"]
["SA37",2020,"DC15",299,null,null,null,null,null,null,null,null,null,null,null,null,null,null,null,null,null,null,"~"]
["SA37",2020,"DC15",300,null,null,null,null,null,null,null,null,null,null,null,null,null,null,null,null,null,null,"~"]
["SA37",2020,"DC15",301,null,null,null,null,null,null,null,null,null,null,null,null,null,null,null,null,null,null,"~"]
["SA37",2020,"DC15",302,null,null,null,null,null,null,null,null,null,null,null,null,null,null,null,null,null,null,"~"]
["SA37",2020,"DC15",303,null,null,null,null,null,null,null,null,null,null,null,null,null,null,null,null,null,null,"~"]
["SA37",{"$f":"+MTREF","v":2020},{"$f":"LEFT(muni,(FIND(\" \",muni,1)-1))","v":"DC15"},304,null,null,null,null,null,null,null,null,null,null,null,null,null,null,null,null,null,null,"~"]
["SA37",2020,"DC15",305,null,null,null,null,null,null,null,null,null,null,null,null,null,null,null,null,null,null,"~"]
["SA37",2020,"DC15",306,null,null,null,null,null,null,null,null,null,null,null,null,null,null,null,null,null,null,"~"]
["SA37",2020,"DC15",307,null,null,null,null,null,null,null,null,null,null,null,null,null,null,null,null,null,null,"~"]
["SA37",2020,"DC15",308,null,null,null,null,null,null,null,null,null,null,null,null,null,null,null,null,null,null,"~"]
["SA37",2020,"DC15",309,null,null,null,null,null,null,null,null,null,null,null,null,null,null,null,null,null,null,"~"]
["SA37",2020,"DC15",310,null,null,null,null,null,null,null,null,null,null,null,null,null,null,null,null,null,null,"~"]
["SA37",2020,"DC15",311,null,null,null,null,null,null,null,null,null,null,null,null,null,null,null,null,null,null,"~"]
["SA37",2020,"DC15",312,null,null,null,null,null,null,null,null,null,null,null,null,null,null,null,null,null,null,"~"]
["SA37",2020,"DC15",313,null,null,null,null,null,null,null,null,null,null,null,null,null,null,null,null,null,null,"~"]
["SA37",2020,"DC15",314,null,null,null,null,null,null,null,null,null,null,null,null,null,null,null,null,null,null,"~"]
["SA37",2020,"DC15",315,null,null,null,null,null,null,null,null,null,null,null,null,null,null,null,null,null,null,"~"]
["SA37",2020,"DC15",316,null,null,null,null,null,null,null,null,null,null,null,null,null,null,null,null,null,null,"~"]
["SA37",2020,"DC15",317,null,null,null,null,null,null,null,null,null,null,null,null,null,null,null,null,null,null,"~"]
["SA37",2020,"DC15",318,null,null,null,null,null,null,null,null,null,null,null,null,null,null,null,null,null,null,"~"]
["SA37",2020,"DC15",319,null,null,null,null,null,null,null,null,null,null,null,null,null,null,null,null,null,null,"~"]
["SA37",2020,"DC15",320,null,null,null,null,null,null,null,null,null,null,null,null,null,null,null,null,null,null,"~"]
["SA37",2020,"DC15",321,null,null,null,null,null,null,null,null,null,null,null,null,null,null,null,null,null,null,"~"]
["SA37",2020,"DC15",322,null,null,null,null,null,null,null,null,null,null,null,null,null,null,null,null,null,null,"~"]
["SA37",2020,"DC15",323,null,null,null,null,null,null,null,null,null,null,null,null,null,null,null,null,null,null,"~"]
["SA37",2020,"DC15",324,null,null,null,null,null,null,null,null,null,null,null,null,null,null,null,null,null,null,"~"]
["SA37",2020,"DC15",325,null,null,null,null,null,null,null,null,null,null,null,null,null,null,null,null,null,null,"~"]
["SA37",2020,"DC15",326,null,null,null,null,null,null,null,null,null,null,null,null,null,null,null,null,null,null,"~"]
["SA37",2020,"DC15",327,null,null,null,null,null,null,null,null,null,null,null,null,null,null,null,null,null,null,"~"]
["SA37",2020,"DC15",328,null,null,null,null,null,null,null,null,null,null,null,null,null,null,null,null,null,null,"~"]
["SA37",2020,"DC15",329,null,null,null,null,null,null,null,null,null,null,null,null,null,null,null,null,null,null,"~"]
["SA37",2020,"DC15",330,null,null,null,null,null,null,null,null,null,null,null,null,null,null,null,null,null,null,"~"]
["SA37",2020,"DC15",331,null,null,null,null,null,null,null,null,null,null,null,null,null,null,null,null,null,null,"~"]
["SA37",2020,"DC15",332,null,null,null,null,null,null,null,null,null,null,null,null,null,null,null,null,null,null,"~"]
["SA37",2020,"DC15",333,null,null,null,null,null,null,null,null,null,null,null,null,null,null,null,null,null,null,"~"]
["SA37",2020,"DC15",334,null,null,null,null,null,null,null,null,null,null,null,null,null,null,null,null,null,null,"~"]
["SA37",2020,"DC15",335,null,null,null,null,null,null,null,null,null,null,null,null,null,null,null,null,null,null,"~"]
["SA37",2020,"DC15",336,null,null,null,null,null,null,null,null,null,null,null,null,null,null,null,null,null,null,"~"]
["SA37",2020,"DC15",337,null,null,null,null,null,null,null,null,null,null,null,null,null,null,null,null,null,null,"~"]
["SA37",2020,"DC15",338,null,null,null,null,null,null,null,null,null,null,null,null,null,null,null,null,null,null,"~"]
["SA37",2020,"DC15",339,null,null,null,null,null,null,null,null,null,null,null,null,null,null,null,null,null,null,"~"]
["SA37",2020,"DC15",340,null,null,null,null,null,null,null,null,null,null,null,null,null,null,null,null,null,null,"~"]
["SA37",2020,"DC15",341,null,null,null,null,null,null,null,null,null,null,null,null,null,null,null,null,null,null,"~"]
["SA37",2020,"DC15",342,null,null,null,null,null,null,null,null,null,null,null,null,null,null,null,null,null,null,"~"]
["SA37",2020,"DC15",343,null,null,null,null,null,null,null,null,null,null,null,null,null,null,null,null,null,null,"~"]
["SA37",2020,"DC15",344,null,null,null,null,null,null,null,null,null,null,null,null,null,null,null,null,null,null,"~"]
["SA37",2020,"DC15",345,null,null,null,null,null,null,null,null,null,null,null,null,null,null,null,null,null,null,"~"]
["SA37",2020,"DC15",346,null,null,null,null,null,null,null,null,null,null,null,null,null,null,null,null,null,null,"~"]
["SA37",2020,"DC15",347,null,null,null,null,null,null,null,null,null,null,null,null,null,null,null,null,null,null,"~"]
["SA37",2020,"DC15",348,null,null,null,null,null,null,null,null,null,null,null,null,null,null,null,null,null,null,"~"]
["SA37",2020,"DC15",349,null,null,null,null,null,null,null,null,null,null,null,null,null,null,null,null,null,null,"~"]
["SA37",2020,"DC15",350,null,null,null,null,null,null,null,null,null,null,null,null,null,null,null,null,null,null,"~"]
["SA37",2020,"DC15",351,null,null,null,null,null,null,null,null,null,null,null,null,null,null,null,null,null,null,"~"]
["SA37",2020,"DC15",352,null,null,null,null,null,null,null,null,null,null,null,null,null,null,null,null,null,null,"~"]
["SA37",2020,"DC15",353,null,null,null,null,null,null,null,null,null,null,null,null,null,null,null,null,null,null,"~"]
["SA37",2020,"DC15",354,null,null,null,null,null,null,null,null,null,null,null,null,null,null,null,null,null,null,"~"]
["SA37",2020,"DC15",355,null,null,null,null,null,null,null,null,null,null,null,null,null,null,null,null,null,null,"~"]
["SA37",2020,"DC15",356,null,null,null,null,null,null,null,null,null,null,null,null,null,null,null,null,null,null,"~"]
["SA37",2020,"DC15",357,null,null,null,null,null,null,null,null,null,null,null,null,null,null,null,null,null,null,"~"]
["SA37",2020,"DC15",358,null,null,null,null,null,null,null,null,null,null,null,null,null,null,null,null,null,null,"~"]
["SA37",2020,"DC15",359,null,null,null,null,null,null,null,null,null,null,null,null,null,null,null,null,null,null,"~"]
["SA37",2020,"DC15",360,null,null,null,null,null,null,null,null,null,null,null,null,null,null,null,null,null,null,"~"]
["SA37",2020,"DC15",361,null,null,null,null,null,null,null,null,null,null,null,null,null,null,null,null,null,null,"~"]
["SA37",2020,"DC15",362,null,null,null,null,null,null,null,null,null,null,null,null,null,null,null,null,null,null,"~"]
["SA37",2020,"DC15",363,null,null,null,null,null,null,null,null,null,null,null,null,null,null,null,null,null,null,"~"]
["SA37",2020,"DC15",364,null,null,null,null,null,null,null,null,null,null,null,null,null,null,null,null,null,null,"~"]
["SA37",2020,"DC15",365,null,null,null,null,null,null,null,null,null,null,null,null,null,null,null,null,null,null,"~"]
["SA37",2020,"DC15",366,null,null,null,null,null,null,null,null,null,null,null,null,null,null,null,null,null,null,"~"]
["SA37",2020,"DC15",367,null,null,null,null,null,null,null,null,null,null,null,null,null,null,null,null,null,null,"~"]
["SA37",{"$f":"+MTREF","v":2020},{"$f":"LEFT(muni,(FIND(\" \",muni,1)-1))","v":"DC15"},368,null,null,null,null,null,null,null,null,null,null,null,null,null,null,null,null,null,null,"~"]
["SA37",2020,"DC15",369,null,null,null,null,null,null,null,null,null,null,null,null,null,null,null,null,null,null,"~"]
["SA37",2020,"DC15",370,null,null,null,null,null,null,null,null,null,null,null,null,null,null,null,null,null,null,"~"]
["SA37",2020,"DC15",371,null,null,null,null,null,null,null,null,null,null,null,null,null,null,null,null,null,null,"~"]
["SA37",2020,"DC15",372,null,null,null,null,null,null,null,null,null,null,null,null,null,null,null,null,null,null,"~"]
["SA37",2020,"DC15",373,null,null,null,null,null,null,null,null,null,null,null,null,null,null,null,null,null,null,"~"]
["SA37",2020,"DC15",374,null,null,null,null,null,null,null,null,null,null,null,null,null,null,null,null,null,null,"~"]
["SA37",2020,"DC15",375,null,null,null,null,null,null,null,null,null,null,null,null,null,null,null,null,null,null,"~"]
["SA37",2020,"DC15",376,null,null,null,null,null,null,null,null,null,null,null,null,null,null,null,null,null,null,"~"]
["SA37",2020,"DC15",377,null,null,null,null,null,null,null,null,null,null,null,null,null,null,null,null,null,null,"~"]
["SA37",2020,"DC15",378,null,null,null,null,null,null,null,null,null,null,null,null,null,null,null,null,null,null,"~"]
["SA37",2020,"DC15",379,null,null,null,null,null,null,null,null,null,null,null,null,null,null,null,null,null,null,"~"]
["SA37",2020,"DC15",380,null,null,null,null,null,null,null,null,null,null,null,null,null,null,null,null,null,null,"~"]
["SA37",2020,"DC15",381,null,null,null,null,null,null,null,null,null,null,null,null,null,null,null,null,null,null,"~"]
["SA37",2020,"DC15",382,null,null,null,null,null,null,null,null,null,null,null,null,null,null,null,null,null,null,"~"]
["SA37",2020,"DC15",383,null,null,null,null,null,null,null,null,null,null,null,null,null,null,null,null,null,null,"~"]
["SA37",2020,"DC15",384,null,null,null,null,null,null,null,null,null,null,null,null,null,null,null,null,null,null,"~"]
["SA37",2020,"DC15",385,null,null,null,null,null,null,null,null,null,null,null,null,null,null,null,null,null,null,"~"]
["SA37",2020,"DC15",386,null,null,null,null,null,null,null,null,null,null,null,null,null,null,null,null,null,null,"~"]
["SA37",2020,"DC15",387,null,null,null,null,null,null,null,null,null,null,null,null,null,null,null,null,null,null,"~"]
["SA37",2020,"DC15",388,null,null,null,null,null,null,null,null,null,null,null,null,null,null,null,null,null,null,"~"]
["SA37",2020,"DC15",389,null,null,null,null,null,null,null,null,null,null,null,null,null,null,null,null,null,null,"~"]
["SA37",2020,"DC15",390,null,null,null,null,null,null,null,null,null,null,null,null,null,null,null,null,null,null,"~"]
["SA37",2020,"DC15",391,null,null,null,null,null,null,null,null,null,null,null,null,null,null,null,null,null,null,"~"]
["SA37",2020,"DC15",392,null,null,null,null,null,null,null,null,null,null,null,null,null,null,null,null,null,null,"~"]
["SA37",2020,"DC15",393,null,null,null,null,null,null,null,null,null,null,null,null,null,null,null,null,null,null,"~"]
["SA37",2020,"DC15",394,null,null,null,null,null,null,null,null,null,null,null,null,null,null,null,null,null,null,"~"]
["SA37",2020,"DC15",395,null,null,null,null,null,null,null,null,null,null,null,null,null,null,null,null,null,null,"~"]
["SA37",2020,"DC15",396,null,null,null,null,null,null,null,null,null,null,null,null,null,null,null,null,null,null,"~"]
["SA37",2020,"DC15",397,null,null,null,null,null,null,null,null,null,null,null,null,null,null,null,null,null,null,"~"]
["SA37",2020,"DC15",398,null,null,null,null,null,null,null,null,null,null,null,null,null,null,null,null,null,null,"~"]
["SA37",2020,"DC15",399,null,null,null,null,null,null,null,null,null,null,null,null,null,null,null,null,null,null,"~"]
["SA37",2020,"DC15",400,null,null,null,null,null,null,null,null,null,null,null,null,null,null,null,null,null,null,"~"]
["SA37",2020,"DC15",401,null,null,null,null,null,null,null,null,null,null,null,null,null,null,null,null,null,null,"~"]
["SA37",2020,"DC15",402,null,null,null,null,null,null,null,null,null,null,null,null,null,null,null,null,null,null,"~"]
["SA37",2020,"DC15",403,null,null,null,null,null,null,null,null,null,null,null,null,null,null,null,null,null,null,"~"]
["SA37",2020,"DC15",404,null,null,null,null,null,null,null,null,null,null,null,null,null,null,null,null,null,null,"~"]
["SA37",2020,"DC15",405,null,null,null,null,null,null,null,null,null,null,null,null,null,null,null,null,null,null,"~"]
["SA37",2020,"DC15",406,null,null,null,null,null,null,null,null,null,null,null,null,null,null,null,null,null,null,"~"]
["SA37",2020,"DC15",407,null,null,null,null,null,null,null,null,null,null,null,null,null,null,null,null,null,null,"~"]
["SA37",2020,"DC15",408,null,null,null,null,null,null,null,null,null,null,null,null,null,null,null,null,null,null,"~"]
["SA37",2020,"DC15",409,null,null,null,null,null,null,null,null,null,null,null,null,null,null,null,null,null,null,"~"]
["SA37",2020,"DC15",410,null,null,null,null,null,null,null,null,null,null,null,null,null,null,null,null,null,null,"~"]
["SA37",2020,"DC15",411,null,null,null,null,null,null,null,null,null,null,null,null,null,null,null,null,null,null,"~"]
["SA37",2020,"DC15",412,null,null,null,null,null,null,null,null,null,null,null,null,null,null,null,null,null,null,"~"]
["SA37",2020,"DC15",413,null,null,null,null,null,null,null,null,null,null,null,null,null,null,null,null,null,null,"~"]
["SA37",2020,"DC15",414,null,null,null,null,null,null,null,null,null,null,null,null,null,null,null,null,null,null,"~"]
["SA37",2020,"DC15",415,null,null,null,null,null,null,null,null,null,null,null,null,null,null,null,null,null,null,"~"]
["SA37",2020,"DC15",416,null,null,null,null,null,null,null,null,null,null,null,null,null,null,null,null,null,null,"~"]
["SA37",2020,"DC15",417,null,null,null,null,null,null,null,null,null,null,null,null,null,null,null,null,null,null,"~"]
["SA37",2020,"DC15",418,null,null,null,null,null,null,null,null,null,null,null,null,null,null,null,null,null,null,"~"]
["SA37",2020,"DC15",419,null,null,null,null,null,null,null,null,null,null,null,null,null,null,null,null,null,null,"~"]
["SA37",2020,"DC15",420,null,null,null,null,null,null,null,null,null,null,null,null,null,null,null,null,null,null,"~"]
["SA37",2020,"DC15",421,null,null,null,null,null,null,null,null,null,null,null,null,null,null,null,null,null,null,"~"]
["SA37",2020,"DC15",422,null,null,null,null,null,null,null,null,null,null,null,null,null,null,null,null,null,null,"~"]
["SA37",2020,"DC15",423,null,null,null,null,null,null,null,null,null,null,null,null,null,null,null,null,null,null,"~"]
["SA37",2020,"DC15",424,null,null,null,null,null,null,null,null,null,null,null,null,null,null,null,null,null,null,"~"]
["SA37",2020,"DC15",425,null,null,null,null,null,null,null,null,null,null,null,null,null,null,null,null,null,null,"~"]
["SA37",2020,"DC15",426,null,null,null,null,null,null,null,null,null,null,null,null,null,null,null,null,null,null,"~"]
["SA37",2020,"DC15",427,null,null,null,null,null,null,null,null,null,null,null,null,null,null,null,null,null,null,"~"]
["SA37",2020,"DC15",428,null,null,null,null,null,null,null,null,null,null,null,null,null,null,null,null,null,null,"~"]
["SA37",2020,"DC15",429,null,null,null,null,null,null,null,null,null,null,null,null,null,null,null,null,null,null,"~"]
["SA37",2020,"DC15",430,null,null,null,null,null,null,null,null,null,null,null,null,null,null,null,null,null,null,"~"]
["SA37",2020,"DC15",431,null,null,null,null,null,null,null,null,null,null,null,null,null,null,null,null,null,null,"~"]
["SA37",{"$f":"+MTREF","v":2020},{"$f":"LEFT(muni,(FIND(\" \",muni,1)-1))","v":"DC15"},432,null,null,null,null,null,null,null,null,null,null,null,null,null,null,null,null,null,null,"~"]
["SA37",2020,"DC15",433,null,null,null,null,null,null,null,null,null,null,null,null,null,null,null,null,null,null,"~"]
["SA37",2020,"DC15",434,null,null,null,null,null,null,null,null,null,null,null,null,null,null,null,null,null,null,"~"]
["SA37",2020,"DC15",435,null,null,null,null,null,null,null,null,null,null,null,null,null,null,null,null,null,null,"~"]
["SA37",2020,"DC15",436,null,null,null,null,null,null,null,null,null,null,null,null,null,null,null,null,null,null,"~"]
["SA37",2020,"DC15",437,null,null,null,null,null,null,null,null,null,null,null,null,null,null,null,null,null,null,"~"]
["SA37",2020,"DC15",438,null,null,null,null,null,null,null,null,null,null,null,null,null,null,null,null,null,null,"~"]
["SA37",2020,"DC15",439,null,null,null,null,null,null,null,null,null,null,null,null,null,null,null,null,null,null,"~"]
["SA37",2020,"DC15",440,null,null,null,null,null,null,null,null,null,null,null,null,null,null,null,null,null,null,"~"]
["SA37",2020,"DC15",441,null,null,null,null,null,null,null,null,null,null,null,null,null,null,null,null,null,null,"~"]
["SA37",2020,"DC15",442,null,null,null,null,null,null,null,null,null,null,null,null,null,null,null,null,null,null,"~"]
["SA37",2020,"DC15",443,null,null,null,null,null,null,null,null,null,null,null,null,null,null,null,null,null,null,"~"]
["SA37",2020,"DC15",444,null,null,null,null,null,null,null,null,null,null,null,null,null,null,null,null,null,null,"~"]
["SA37",2020,"DC15",445,null,null,null,null,null,null,null,null,null,null,null,null,null,null,null,null,null,null,"~"]
["SA37",2020,"DC15",446,null,null,null,null,null,null,null,null,null,null,null,null,null,null,null,null,null,null,"~"]
["SA37",2020,"DC15",447,null,null,null,null,null,null,null,null,null,null,null,null,null,null,null,null,null,null,"~"]
["SA37",2020,"DC15",448,null,null,null,null,null,null,null,null,null,null,null,null,null,null,null,null,null,null,"~"]
["SA37",2020,"DC15",449,null,null,null,null,null,null,null,null,null,null,null,null,null,null,null,null,null,null,"~"]
["SA37",2020,"DC15",450,null,null,null,null,null,null,null,null,null,null,null,null,null,null,null,null,null,null,"~"]
["SA37",2020,"DC15",451,null,null,null,null,null,null,null,null,null,null,null,null,null,null,null,null,null,null,"~"]
["SA37",2020,"DC15",452,null,null,null,null,null,null,null,null,null,null,null,null,null,null,null,null,null,null,"~"]
["SA37",2020,"DC15",453,null,null,null,null,null,null,null,null,null,null,null,null,null,null,null,null,null,null,"~"]
["SA37",2020,"DC15",454,null,null,null,null,null,null,null,null,null,null,null,null,null,null,null,null,null,null,"~"]
["SA37",2020,"DC15",455,null,null,null,null,null,null,null,null,null,null,null,null,null,null,null,null,null,null,"~"]
["SA37",2020,"DC15",456,null,null,null,null,null,null,null,null,null,null,null,null,null,null,null,null,null,null,"~"]
["SA37",2020,"DC15",457,null,null,null,null,null,null,null,null,null,null,null,null,null,null,null,null,null,null,"~"]
["SA37",2020,"DC15",458,null,null,null,null,null,null,null,null,null,null,null,null,null,null,null,null,null,null,"~"]
["SA37",2020,"DC15",459,null,null,null,null,null,null,null,null,null,null,null,null,null,null,null,null,null,null,"~"]
["SA37",2020,"DC15",460,null,null,null,null,null,null,null,null,null,null,null,null,null,null,null,null,null,null,"~"]
["SA37",2020,"DC15",461,null,null,null,null,null,null,null,null,null,null,null,null,null,null,null,null,null,null,"~"]
["SA37",2020,"DC15",462,null,null,null,null,null,null,null,null,null,null,null,null,null,null,null,null,null,null,"~"]
["SA37",2020,"DC15",463,null,null,null,null,null,null,null,null,null,null,null,null,null,null,null,null,null,null,"~"]
["SA37",2020,"DC15",464,null,null,null,null,null,null,null,null,null,null,null,null,null,null,null,null,null,null,"~"]
["SA37",2020,"DC15",465,null,null,null,null,null,null,null,null,null,null,null,null,null,null,null,null,null,null,"~"]
["SA37",2020,"DC15",466,null,null,null,null,null,null,null,null,null,null,null,null,null,null,null,null,null,null,"~"]
["SA37",2020,"DC15",467,null,null,null,null,null,null,null,null,null,null,null,null,null,null,null,null,null,null,"~"]
["SA37",2020,"DC15",468,null,null,null,null,null,null,null,null,null,null,null,null,null,null,null,null,null,null,"~"]
["SA37",2020,"DC15",469,null,null,null,null,null,null,null,null,null,null,null,null,null,null,null,null,null,null,"~"]
["SA37",2020,"DC15",470,null,null,null,null,null,null,null,null,null,null,null,null,null,null,null,null,null,null,"~"]
["SA37",2020,"DC15",471,null,null,null,null,null,null,null,null,null,null,null,null,null,null,null,null,null,null,"~"]
["SA37",2020,"DC15",472,null,null,null,null,null,null,null,null,null,null,null,null,null,null,null,null,null,null,"~"]
["SA37",2020,"DC15",473,null,null,null,null,null,null,null,null,null,null,null,null,null,null,null,null,null,null,"~"]
["SA37",2020,"DC15",474,null,null,null,null,null,null,null,null,null,null,null,null,null,null,null,null,null,null,"~"]
["SA37",2020,"DC15",475,null,null,null,null,null,null,null,null,null,null,null,null,null,null,null,null,null,null,"~"]
["SA37",2020,"DC15",476,null,null,null,null,null,null,null,null,null,null,null,null,null,null,null,null,null,null,"~"]
["SA37",2020,"DC15",477,null,null,null,null,null,null,null,null,null,null,null,null,null,null,null,null,null,null,"~"]
["SA37",2020,"DC15",478,null,null,null,null,null,null,null,null,null,null,null,null,null,null,null,null,null,null,"~"]
["SA37",2020,"DC15",479,null,null,null,null,null,null,null,null,null,null,null,null,null,null,null,null,null,null,"~"]
["SA37",2020,"DC15",480,null,null,null,null,null,null,null,null,null,null,null,null,null,null,null,null,null,null,"~"]
["SA37",2020,"DC15",481,null,null,null,null,null,null,null,null,null,null,null,null,null,null,null,null,null,null,"~"]
["SA37",2020,"DC15",482,null,null,null,null,null,null,null,null,null,null,null,null,null,null,null,null,null,null,"~"]
["SA37",2020,"DC15",483,null,null,null,null,null,null,null,null,null,null,null,null,null,null,null,null,null,null,"~"]
["SA37",2020,"DC15",484,null,null,null,null,null,null,null,null,null,null,null,null,null,null,null,null,null,null,"~"]
["SA37",2020,"DC15",485,null,null,null,null,null,null,null,null,null,null,null,null,null,null,null,null,null,null,"~"]
["SA37",2020,"DC15",486,null,null,null,null,null,null,null,null,null,null,null,null,null,null,null,null,null,null,"~"]
["SA37",2020,"DC15",487,null,null,null,null,null,null,null,null,null,null,null,null,null,null,null,null,null,null,"~"]
["SA37",2020,"DC15",488,null,null,null,null,null,null,null,null,null,null,null,null,null,null,null,null,null,null,"~"]
["SA37",2020,"DC15",489,null,null,null,null,null,null,null,null,null,null,null,null,null,null,null,null,null,null,"~"]
["SA37",2020,"DC15",490,null,null,null,null,null,null,null,null,null,null,null,null,null,null,null,null,null,null,"~"]
["SA37",2020,"DC15",491,null,null,null,null,null,null,null,null,null,null,null,null,null,null,null,null,null,null,"~"]
["SA37",2020,"DC15",492,null,null,null,null,null,null,null,null,null,null,null,null,null,null,null,null,null,null,"~"]
["SA37",2020,"DC15",493,null,null,null,null,null,null,null,null,null,null,null,null,null,null,null,null,null,null,"~"]
["SA37",2020,"DC15",494,null,null,null,null,null,null,null,null,null,null,null,null,null,null,null,null,null,null,"~"]
["SA37",2020,"DC15",495,null,null,null,null,null,null,null,null,null,null,null,null,null,null,null,null,null,null,"~"]
["SA37",{"$f":"+MTREF","v":2020},{"$f":"LEFT(muni,(FIND(\" \",muni,1)-1))","v":"DC15"},496,null,null,null,null,null,null,null,null,null,null,null,null,null,null,null,null,null,null,"~"]
["SA37",2020,"DC15",497,null,null,null,null,null,null,null,null,null,null,null,null,null,null,null,null,null,null,"~"]
["SA37",2020,"DC15",498,null,null,null,null,null,null,null,null,null,null,null,null,null,null,null,null,null,null,"~"]
["SA37",2020,"DC15",499,null,null,null,null,null,null,null,null,null,null,null,null,null,null,null,null,null,null,"~"]
["SA37",2020,"DC15",500,null,null,null,null,null,null,null,null,null,null,null,null,null,null,null,null,null,null,"~"]
["SA37",2020,"DC15",501,null,null,null,null,null,null,null,null,null,null,null,null,null,null,null,null,null,null,"~"]
["SA37",2020,"DC15",502,null,null,null,null,null,null,null,null,null,null,null,null,null,null,null,null,null,null,"~"]
["SA37",2020,"DC15",503,null,null,null,null,null,null,null,null,null,null,null,null,null,null,null,null,null,null,"~"]
["SA37",2020,"DC15",504,null,null,null,null,null,null,null,null,null,null,null,null,null,null,null,null,null,null,"~"]
["SA37",2020,"DC15",505,null,null,null,null,null,null,null,null,null,null,null,null,null,null,null,null,null,null,"~"]
["SA37",2020,"DC15",506,null,null,null,null,null,null,null,null,null,null,null,null,null,null,null,null,null,null,"~"]
["SA37",2020,"DC15",507,null,null,null,null,null,null,null,null,null,null,null,null,null,null,null,null,null,null,"~"]
["SA37",2020,"DC15",508,null,null,null,null,null,null,null,null,null,null,null,null,null,null,null,null,null,null,"~"]
["SA37",2020,"DC15",509,null,null,null,null,null,null,null,null,null,null,null,null,null,null,null,null,null,null,"~"]
["SA37",2020,"DC15",510,null,null,null,null,null,null,null,null,null,null,null,null,null,null,null,null,null,null,"~"]
["SA37",2020,"DC15",511,null,null,null,null,null,null,null,null,null,null,null,null,null,null,null,null,null,null,"~"]
["SA37",2020,"DC15",512,null,null,null,null,null,null,null,null,null,null,null,null,null,null,null,null,null,null,"~"]
["SA37",2020,"DC15",513,null,null,null,null,null,null,null,null,null,null,null,null,null,null,null,null,null,null,"~"]
["SA37",2020,"DC15",514,null,null,null,null,null,null,null,null,null,null,null,null,null,null,null,null,null,null,"~"]
["SA37",2020,"DC15",515,null,null,null,null,null,null,null,null,null,null,null,null,null,null,null,null,null,null,"~"]
["SA37",2020,"DC15",516,null,null,null,null,null,null,null,null,null,null,null,null,null,null,null,null,null,null,"~"]
["SA37",2020,"DC15",517,null,null,null,null,null,null,null,null,null,null,null,null,null,null,null,null,null,null,"~"]
["SA37",2020,"DC15",518,null,null,null,null,null,null,null,null,null,null,null,null,null,null,null,null,null,null,"~"]
["SA37",2020,"DC15",519,null,null,null,null,null,null,null,null,null,null,null,null,null,null,null,null,null,null,"~"]
["SA37",2020,"DC15",520,null,null,null,null,null,null,null,null,null,null,null,null,null,null,null,null,null,null,"~"]
["SA37",2020,"DC15",521,null,null,null,null,null,null,null,null,null,null,null,null,null,null,null,null,null,null,"~"]
["SA37",2020,"DC15",522,null,null,null,null,null,null,null,null,null,null,null,null,null,null,null,null,null,null,"~"]
["SA37",2020,"DC15",523,null,null,null,null,null,null,null,null,null,null,null,null,null,null,null,null,null,null,"~"]
["SA37",2020,"DC15",524,null,null,null,null,null,null,null,null,null,null,null,null,null,null,null,null,null,null,"~"]
["SA37",2020,"DC15",525,null,null,null,null,null,null,null,null,null,null,null,null,null,null,null,null,null,null,"~"]
["SA37",2020,"DC15",526,null,null,null,null,null,null,null,null,null,null,null,null,null,null,null,null,null,null,"~"]
["SA37",2020,"DC15",527,null,null,null,null,null,null,null,null,null,null,null,null,null,null,null,null,null,null,"~"]
["SA37",2020,"DC15",528,null,null,null,null,null,null,null,null,null,null,null,null,null,null,null,null,null,null,"~"]
["SA37",2020,"DC15",529,null,null,null,null,null,null,null,null,null,null,null,null,null,null,null,null,null,null,"~"]
["SA37",2020,"DC15",530,null,null,null,null,null,null,null,null,null,null,null,null,null,null,null,null,null,null,"~"]
["SA37",2020,"DC15",531,null,null,null,null,null,null,null,null,null,null,null,null,null,null,null,null,null,null,"~"]
["SA37",2020,"DC15",532,null,null,null,null,null,null,null,null,null,null,null,null,null,null,null,null,null,null,"~"]
["SA37",2020,"DC15",533,null,null,null,null,null,null,null,null,null,null,null,null,null,null,null,null,null,null,"~"]
["SA37",2020,"DC15",534,null,null,null,null,null,null,null,null,null,null,null,null,null,null,null,null,null,null,"~"]
["SA37",2020,"DC15",535,null,null,null,null,null,null,null,null,null,null,null,null,null,null,null,null,null,null,"~"]
["SA37",2020,"DC15",536,null,null,null,null,null,null,null,null,null,null,null,null,null,null,null,null,null,null,"~"]
["SA37",2020,"DC15",537,null,null,null,null,null,null,null,null,null,null,null,null,null,null,null,null,null,null,"~"]
["SA37",2020,"DC15",538,null,null,null,null,null,null,null,null,null,null,null,null,null,null,null,null,null,null,"~"]
["SA37",2020,"DC15",539,null,null,null,null,null,null,null,null,null,null,null,null,null,null,null,null,null,null,"~"]
["SA37",2020,"DC15",540,null,null,null,null,null,null,null,null,null,null,null,null,null,null,null,null,null,null,"~"]
["SA37",2020,"DC15",541,null,null,null,null,null,null,null,null,null,null,null,null,null,null,null,null,null,null,"~"]
["SA37",2020,"DC15",542,null,null,null,null,null,null,null,null,null,null,null,null,null,null,null,null,null,null,"~"]
["SA37",2020,"DC15",543,null,null,null,null,null,null,null,null,null,null,null,null,null,null,null,null,null,null,"~"]
["SA37",2020,"DC15",544,null,null,null,null,null,null,null,null,null,null,null,null,null,null,null,null,null,null,"~"]
["SA37",2020,"DC15",545,null,null,null,null,null,null,null,null,null,null,null,null,null,null,null,null,null,null,"~"]
["SA37",2020,"DC15",546,null,null,null,null,null,null,null,null,null,null,null,null,null,null,null,null,null,null,"~"]
["SA37",2020,"DC15",547,null,null,null,null,null,null,null,null,null,null,null,null,null,null,null,null,null,null,"~"]
["SA37",2020,"DC15",548,null,null,null,null,null,null,null,null,null,null,null,null,null,null,null,null,null,null,"~"]
["SA37",2020,"DC15",549,null,null,null,null,null,null,null,null,null,null,null,null,null,null,null,null,null,null,"~"]
["SA37",2020,"DC15",550,null,null,null,null,null,null,null,null,null,null,null,null,null,null,null,null,null,null,"~"]
["SA37",2020,"DC15",551,null,null,null,null,null,null,null,null,null,null,null,null,null,null,null,null,null,null,"~"]
["SA37",2020,"DC15",552,null,null,null,null,null,null,null,null,null,null,null,null,null,null,null,null,null,null,"~"]
["SA37",2020,"DC15",553,null,null,null,null,null,null,null,null,null,null,null,null,null,null,null,null,null,null,"~"]
["SA37",2020,"DC15",554,null,null,null,null,null,null,null,null,null,null,null,null,null,null,null,null,null,null,"~"]
["SA37",2020,"DC15",555,null,null,null,null,null,null,null,null,null,null,null,null,null,null,null,null,null,null,"~"]
["SA37",2020,"DC15",556,null,null,null,null,null,null,null,null,null,null,null,null,null,null,null,null,null,null,"~"]
["SA37",2020,"DC15",557,null,null,null,null,null,null,null,null,null,null,null,null,null,null,null,null,null,null,"~"]
["SA37",2020,"DC15",558,null,null,null,null,null,null,null,null,null,null,null,null,null,null,null,null,null,null,"~"]
["SA37",2020,"DC15",559,null,null,null,null,null,null,null,null,null,null,null,null,null,null,null,null,null,null,"~"]
["SA37",{"$f":"+MTREF","v":2020},{"$f":"LEFT(muni,(FIND(\" \",muni,1)-1))","v":"DC15"},560,null,null,null,null,null,null,null,null,null,null,null,null,null,null,null,null,null,null,"~"]
["SA37",2020,"DC15",561,null,null,null,null,null,null,null,null,null,null,null,null,null,null,null,null,null,null,"~"]
["SA37",2020,"DC15",562,null,null,null,null,null,null,null,null,null,null,null,null,null,null,null,null,null,null,"~"]
["SA37",2020,"DC15",563,null,null,null,null,null,null,null,null,null,null,null,null,null,null,null,null,null,null,"~"]
["SA37",2020,"DC15",564,null,null,null,null,null,null,null,null,null,null,null,null,null,null,null,null,null,null,"~"]
["SA37",2020,"DC15",565,null,null,null,null,null,null,null,null,null,null,null,null,null,null,null,null,null,null,"~"]
["SA37",2020,"DC15",566,null,null,null,null,null,null,null,null,null,null,null,null,null,null,null,null,null,null,"~"]
["SA37",2020,"DC15",567,null,null,null,null,null,null,null,null,null,null,null,null,null,null,null,null,null,null,"~"]
["SA37",2020,"DC15",568,null,null,null,null,null,null,null,null,null,null,null,null,null,null,null,null,null,null,"~"]
["SA37",2020,"DC15",569,null,null,null,null,null,null,null,null,null,null,null,null,null,null,null,null,null,null,"~"]
["SA37",2020,"DC15",570,null,null,null,null,null,null,null,null,null,null,null,null,null,null,null,null,null,null,"~"]
["SA37",2020,"DC15",571,null,null,null,null,null,null,null,null,null,null,null,null,null,null,null,null,null,null,"~"]
["SA37",2020,"DC15",572,null,null,null,null,null,null,null,null,null,null,null,null,null,null,null,null,null,null,"~"]
["SA37",2020,"DC15",573,null,null,null,null,null,null,null,null,null,null,null,null,null,null,null,null,null,null,"~"]
["SA37",2020,"DC15",574,null,null,null,null,null,null,null,null,null,null,null,null,null,null,null,null,null,null,"~"]
["SA37",2020,"DC15",575,null,null,null,null,null,null,null,null,null,null,null,null,null,null,null,null,null,null,"~"]
["SA37",2020,"DC15",576,null,null,null,null,null,null,null,null,null,null,null,null,null,null,null,null,null,null,"~"]
["SA37",2020,"DC15",577,null,null,null,null,null,null,null,null,null,null,null,null,null,null,null,null,null,null,"~"]
["SA37",2020,"DC15",578,null,null,null,null,null,null,null,null,null,null,null,null,null,null,null,null,null,null,"~"]
["SA37",2020,"DC15",579,null,null,null,null,null,null,null,null,null,null,null,null,null,null,null,null,null,null,"~"]
["SA37",2020,"DC15",580,null,null,null,null,null,null,null,null,null,null,null,null,null,null,null,null,null,null,"~"]
["SA37",2020,"DC15",581,null,null,null,null,null,null,null,null,null,null,null,null,null,null,null,null,null,null,"~"]
["SA37",2020,"DC15",582,null,null,null,null,null,null,null,null,null,null,null,null,null,null,null,null,null,null,"~"]
["SA37",2020,"DC15",583,null,null,null,null,null,null,null,null,null,null,null,null,null,null,null,null,null,null,"~"]
["SA37",2020,"DC15",584,null,null,null,null,null,null,null,null,null,null,null,null,null,null,null,null,null,null,"~"]
["SA37",2020,"DC15",585,null,null,null,null,null,null,null,null,null,null,null,null,null,null,null,null,null,null,"~"]
["SA37",2020,"DC15",586,null,null,null,null,null,null,null,null,null,null,null,null,null,null,null,null,null,null,"~"]
["SA37",2020,"DC15",587,null,null,null,null,null,null,null,null,null,null,null,null,null,null,null,null,null,null,"~"]
["SA37",2020,"DC15",588,null,null,null,null,null,null,null,null,null,null,null,null,null,null,null,null,null,null,"~"]
["SA37",2020,"DC15",589,null,null,null,null,null,null,null,null,null,null,null,null,null,null,null,null,null,null,"~"]
["SA37",2020,"DC15",590,null,null,null,null,null,null,null,null,null,null,null,null,null,null,null,null,null,null,"~"]
["SA37",2020,"DC15",591,null,null,null,null,null,null,null,null,null,null,null,null,null,null,null,null,null,null,"~"]
["SA37",2020,"DC15",592,null,null,null,null,null,null,null,null,null,null,null,null,null,null,null,null,null,null,"~"]
["SA37",2020,"DC15",593,null,null,null,null,null,null,null,null,null,null,null,null,null,null,null,null,null,null,"~"]
["SA37",2020,"DC15",594,null,null,null,null,null,null,null,null,null,null,null,null,null,null,null,null,null,null,"~"]
["SA37",2020,"DC15",595,null,null,null,null,null,null,null,null,null,null,null,null,null,null,null,null,null,null,"~"]
["SA37",2020,"DC15",596,null,null,null,null,null,null,null,null,null,null,null,null,null,null,null,null,null,null,"~"]
["SA37",2020,"DC15",597,null,null,null,null,null,null,null,null,null,null,null,null,null,null,null,null,null,null,"~"]
["SA37",2020,"DC15",598,null,null,null,null,null,null,null,null,null,null,null,null,null,null,null,null,null,null,"~"]
["SA37",2020,"DC15",599,null,null,null,null,null,null,null,null,null,null,null,null,null,null,null,null,null,null,"~"]
["SA37",2020,"DC15",600,null,null,null,null,null,null,null,null,null,null,null,null,null,null,null,null,null,null,"~"]
["SA37",2020,"DC15",601,null,null,null,null,null,null,null,null,null,null,null,null,null,null,null,null,null,null,"~"]
["SA37",2020,"DC15",602,null,null,null,null,null,null,null,null,null,null,null,null,null,null,null,null,null,null,"~"]
["SA37",2020,"DC15",603,null,null,null,null,null,null,null,null,null,null,null,null,null,null,null,null,null,null,"~"]
["SA37",2020,"DC15",604,null,null,null,null,null,null,null,null,null,null,null,null,null,null,null,null,null,null,"~"]
["SA37",2020,"DC15",605,null,null,null,null,null,null,null,null,null,null,null,null,null,null,null,null,null,null,"~"]
["SA37",2020,"DC15",606,null,null,null,null,null,null,null,null,null,null,null,null,null,null,null,null,null,null,"~"]
["SA37",2020,"DC15",607,null,null,null,null,null,null,null,null,null,null,null,null,null,null,null,null,null,null,"~"]
["SA37",2020,"DC15",608,null,null,null,null,null,null,null,null,null,null,null,null,null,null,null,null,null,null,"~"]
["SA37",2020,"DC15",609,null,null,null,null,null,null,null,null,null,null,null,null,null,null,null,null,null,null,"~"]
["SA37",2020,"DC15",610,null,null,null,null,null,null,null,null,null,null,null,null,null,null,null,null,null,null,"~"]
["SA37",2020,"DC15",611,null,null,null,null,null,null,null,null,null,null,null,null,null,null,null,null,null,null,"~"]
["SA37",2020,"DC15",612,null,null,null,null,null,null,null,null,null,null,null,null,null,null,null,null,null,null,"~"]
["SA37",2020,"DC15",613,null,null,null,null,null,null,null,null,null,null,null,null,null,null,null,null,null,null,"~"]
["SA37",2020,"DC15",614,null,null,null,null,null,null,null,null,null,null,null,null,null,null,null,null,null,null,"~"]
["SA37",2020,"DC15",615,null,null,null,null,null,null,null,null,null,null,null,null,null,null,null,null,null,null,"~"]
["SA37",2020,"DC15",616,null,null,null,null,null,null,null,null,null,null,null,null,null,null,null,null,null,null,"~"]
["SA37",2020,"DC15",617,null,null,null,null,null,null,null,null,null,null,null,null,null,null,null,null,null,null,"~"]
["SA37",2020,"DC15",618,null,null,null,null,null,null,null,null,null,null,null,null,null,null,null,null,null,null,"~"]
["SA37",2020,"DC15",619,null,null,null,null,null,null,null,null,null,null,null,null,null,null,null,null,null,null,"~"]
["SA37",2020,"DC15",620,null,null,null,null,null,null,null,null,null,null,null,null,null,null,null,null,null,null,"~"]
["SA37",2020,"DC15",621,null,null,null,null,null,null,null,null,null,null,null,null,null,null,null,null,null,null,"~"]
["SA37",2020,"DC15",622,null,null,null,null,null,null,null,null,null,null,null,null,null,null,null,null,null,null,"~"]
["SA37",2020,"DC15",623,null,null,null,null,null,null,null,null,null,null,null,null,null,null,null,null,null,null,"~"]
["SA37",{"$f":"+MTREF","v":2020},{"$f":"LEFT(muni,(FIND(\" \",muni,1)-1))","v":"DC15"},624,null,null,null,null,null,null,null,null,null,null,null,null,null,null,null,null,null,null,"~"]
["SA37",2020,"DC15",625,null,null,null,null,null,null,null,null,null,null,null,null,null,null,null,null,null,null,"~"]
["SA37",2020,"DC15",626,null,null,null,null,null,null,null,null,null,null,null,null,null,null,null,null,null,null,"~"]
["SA37",2020,"DC15",627,null,null,null,null,null,null,null,null,null,null,null,null,null,null,null,null,null,null,"~"]
["SA37",2020,"DC15",628,null,null,null,null,null,null,null,null,null,null,null,null,null,null,null,null,null,null,"~"]
["SA37",2020,"DC15",629,null,null,null,null,null,null,null,null,null,null,null,null,null,null,null,null,null,null,"~"]
["SA37",2020,"DC15",630,null,null,null,null,null,null,null,null,null,null,null,null,null,null,null,null,null,null,"~"]
["SA37",2020,"DC15",631,null,null,null,null,null,null,null,null,null,null,null,null,null,null,null,null,null,null,"~"]
["SA37",2020,"DC15",632,null,null,null,null,null,null,null,null,null,null,null,null,null,null,null,null,null,null,"~"]
["SA37",2020,"DC15",633,null,null,null,null,null,null,null,null,null,null,null,null,null,null,null,null,null,null,"~"]
["SA37",2020,"DC15",634,null,null,null,null,null,null,null,null,null,null,null,null,null,null,null,null,null,null,"~"]
["SA37",2020,"DC15",635,null,null,null,null,null,null,null,null,null,null,null,null,null,null,null,null,null,null,"~"]
["SA37",2020,"DC15",636,null,null,null,null,null,null,null,null,null,null,null,null,null,null,null,null,null,null,"~"]
["SA37",2020,"DC15",637,null,null,null,null,null,null,null,null,null,null,null,null,null,null,null,null,null,null,"~"]
["SA37",2020,"DC15",638,null,null,null,null,null,null,null,null,null,null,null,null,null,null,null,null,null,null,"~"]
["SA37",2020,"DC15",639,null,null,null,null,null,null,null,null,null,null,null,null,null,null,null,null,null,null,"~"]
["SA37",2020,"DC15",640,null,null,null,null,null,null,null,null,null,null,null,null,null,null,null,null,null,null,"~"]
["SA37",2020,"DC15",641,null,null,null,null,null,null,null,null,null,null,null,null,null,null,null,null,null,null,"~"]
["SA37",2020,"DC15",642,null,null,null,null,null,null,null,null,null,null,null,null,null,null,null,null,null,null,"~"]
["SA37",2020,"DC15",643,null,null,null,null,null,null,null,null,null,null,null,null,null,null,null,null,null,null,"~"]
["SA37",2020,"DC15",644,null,null,null,null,null,null,null,null,null,null,null,null,null,null,null,null,null,null,"~"]
["SA37",2020,"DC15",645,null,null,null,null,null,null,null,null,null,null,null,null,null,null,null,null,null,null,"~"]
["SA37",2020,"DC15",646,null,null,null,null,null,null,null,null,null,null,null,null,null,null,null,null,null,null,"~"]
["SA37",2020,"DC15",647,null,null,null,null,null,null,null,null,null,null,null,null,null,null,null,null,null,null,"~"]
["SA37",2020,"DC15",648,null,null,null,null,null,null,null,null,null,null,null,null,null,null,null,null,null,null,"~"]
["SA37",2020,"DC15",649,null,null,null,null,null,null,null,null,null,null,null,null,null,null,null,null,null,null,"~"]
["SA37",2020,"DC15",650,null,null,null,null,null,null,null,null,null,null,null,null,null,null,null,null,null,null,"~"]
["SA37",2020,"DC15",651,null,null,null,null,null,null,null,null,null,null,null,null,null,null,null,null,null,null,"~"]
["SA37",2020,"DC15",652,null,null,null,null,null,null,null,null,null,null,null,null,null,null,null,null,null,null,"~"]
["SA37",2020,"DC15",653,null,null,null,null,null,null,null,null,null,null,null,null,null,null,null,null,null,null,"~"]
["SA37",2020,"DC15",654,null,null,null,null,null,null,null,null,null,null,null,null,null,null,null,null,null,null,"~"]
["SA37",2020,"DC15",655,null,null,null,null,null,null,null,null,null,null,null,null,null,null,null,null,null,null,"~"]
["SA37",2020,"DC15",656,null,null,null,null,null,null,null,null,null,null,null,null,null,null,null,null,null,null,"~"]
["SA37",2020,"DC15",657,null,null,null,null,null,null,null,null,null,null,null,null,null,null,null,null,null,null,"~"]
["SA37",2020,"DC15",658,null,null,null,null,null,null,null,null,null,null,null,null,null,null,null,null,null,null,"~"]
["SA37",2020,"DC15",659,null,null,null,null,null,null,null,null,null,null,null,null,null,null,null,null,null,null,"~"]
["SA37",2020,"DC15",660,null,null,null,null,null,null,null,null,null,null,null,null,null,null,null,null,null,null,"~"]
["SA37",2020,"DC15",661,null,null,null,null,null,null,null,null,null,null,null,null,null,null,null,null,null,null,"~"]
["SA37",2020,"DC15",662,null,null,null,null,null,null,null,null,null,null,null,null,null,null,null,null,null,null,"~"]
["SA37",2020,"DC15",663,null,null,null,null,null,null,null,null,null,null,null,null,null,null,null,null,null,null,"~"]
["SA37",2020,"DC15",664,null,null,null,null,null,null,null,null,null,null,null,null,null,null,null,null,null,null,"~"]
["SA37",2020,"DC15",665,null,null,null,null,null,null,null,null,null,null,null,null,null,null,null,null,null,null,"~"]
["SA37",2020,"DC15",666,null,null,null,null,null,null,null,null,null,null,null,null,null,null,null,null,null,null,"~"]
["SA37",2020,"DC15",667,null,null,null,null,null,null,null,null,null,null,null,null,null,null,null,null,null,null,"~"]
["SA37",2020,"DC15",668,null,null,null,null,null,null,null,null,null,null,null,null,null,null,null,null,null,null,"~"]
["SA37",2020,"DC15",669,null,null,null,null,null,null,null,null,null,null,null,null,null,null,null,null,null,null,"~"]
["SA37",2020,"DC15",670,null,null,null,null,null,null,null,null,null,null,null,null,null,null,null,null,null,null,"~"]
["SA37",2020,"DC15",671,null,null,null,null,null,null,null,null,null,null,null,null,null,null,null,null,null,null,"~"]
["SA37",2020,"DC15",672,null,null,null,null,null,null,null,null,null,null,null,null,null,null,null,null,null,null,"~"]
["SA37",2020,"DC15",673,null,null,null,null,null,null,null,null,null,null,null,null,null,null,null,null,null,null,"~"]
["SA37",2020,"DC15",674,null,null,null,null,null,null,null,null,null,null,null,null,null,null,null,null,null,null,"~"]
["SA37",2020,"DC15",675,null,null,null,null,null,null,null,null,null,null,null,null,null,null,null,null,null,null,"~"]
["SA37",2020,"DC15",676,null,null,null,null,null,null,null,null,null,null,null,null,null,null,null,null,null,null,"~"]
["SA37",2020,"DC15",677,null,null,null,null,null,null,null,null,null,null,null,null,null,null,null,null,null,null,"~"]
["SA37",2020,"DC15",678,null,null,null,null,null,null,null,null,null,null,null,null,null,null,null,null,null,null,"~"]
["SA37",2020,"DC15",679,null,null,null,null,null,null,null,null,null,null,null,null,null,null,null,null,null,null,"~"]
["SA37",2020,"DC15",680,null,null,null,null,null,null,null,null,null,null,null,null,null,null,null,null,null,null,"~"]
["SA37",2020,"DC15",681,null,null,null,null,null,null,null,null,null,null,null,null,null,null,null,null,null,null,"~"]
["SA37",2020,"DC15",682,null,null,null,null,null,null,null,null,null,null,null,null,null,null,null,null,null,null,"~"]
["SA37",2020,"DC15",683,null,null,null,null,null,null,null,null,null,null,null,null,null,null,null,null,null,null,"~"]
["SA37",2020,"DC15",684,null,null,null,null,null,null,null,null,null,null,null,null,null,null,null,null,null,null,"~"]
["SA37",2020,"DC15",685,null,null,null,null,null,null,null,null,null,null,null,null,null,null,null,null,null,null,"~"]
["SA37",2020,"DC15",686,null,null,null,null,null,null,null,null,null,null,null,null,null,null,null,null,null,null,"~"]
["SA37",2020,"DC15",687,null,null,null,null,null,null,null,null,null,null,null,null,null,null,null,null,null,null,"~"]
["SA37",{"$f":"+MTREF","v":2020},{"$f":"LEFT(muni,(FIND(\" \",muni,1)-1))","v":"DC15"},688,null,null,null,null,null,null,null,null,null,null,null,null,null,null,null,null,null,null,"~"]
["SA37",2020,"DC15",689,null,null,null,null,null,null,null,null,null,null,null,null,null,null,null,null,null,null,"~"]
["SA37",2020,"DC15",690,null,null,null,null,null,null,null,null,null,null,null,null,null,null,null,null,null,null,"~"]
["SA37",2020,"DC15",691,null,null,null,null,null,null,null,null,null,null,null,null,null,null,null,null,null,null,"~"]
["SA37",2020,"DC15",692,null,null,null,null,null,null,null,null,null,null,null,null,null,null,null,null,null,null,"~"]
["SA37",2020,"DC15",693,null,null,null,null,null,null,null,null,null,null,null,null,null,null,null,null,null,null,"~"]
["SA37",2020,"DC15",694,null,null,null,null,null,null,null,null,null,null,null,null,null,null,null,null,null,null,"~"]
["SA37",2020,"DC15",695,null,null,null,null,null,null,null,null,null,null,null,null,null,null,null,null,null,null,"~"]
["SA37",2020,"DC15",696,null,null,null,null,null,null,null,null,null,null,null,null,null,null,null,null,null,null,"~"]
["SA37",2020,"DC15",697,null,null,null,null,null,null,null,null,null,null,null,null,null,null,null,null,null,null,"~"]
["SA37",2020,"DC15",698,null,null,null,null,null,null,null,null,null,null,null,null,null,null,null,null,null,null,"~"]
["SA37",2020,"DC15",699,null,null,null,null,null,null,null,null,null,null,null,null,null,null,null,null,null,null,"~"]
["SA37",2020,"DC15",700,null,null,null,null,null,null,null,null,null,null,null,null,null,null,null,null,null,null,"~"]
["SA37",2020,"DC15",701,null,null,null,null,null,null,null,null,null,null,null,null,null,null,null,null,null,null,"~"]
["SA37",2020,"DC15",702,null,null,null,null,null,null,null,null,null,null,null,null,null,null,null,null,null,null,"~"]
["SA37",2020,"DC15",703,null,null,null,null,null,null,null,null,null,null,null,null,null,null,null,null,null,null,"~"]
["SA37",2020,"DC15",704,null,null,null,null,null,null,null,null,null,null,null,null,null,null,null,null,null,null,"~"]
["SA37",2020,"DC15",705,null,null,null,null,null,null,null,null,null,null,null,null,null,null,null,null,null,null,"~"]
["SA37",2020,"DC15",706,null,null,null,null,null,null,null,null,null,null,null,null,null,null,null,null,null,null,"~"]
["SA37",2020,"DC15",707,null,null,null,null,null,null,null,null,null,null,null,null,null,null,null,null,null,null,"~"]
["SA37",2020,"DC15",708,null,null,null,null,null,null,null,null,null,null,null,null,null,null,null,null,null,null,"~"]
["SA37",2020,"DC15",709,null,null,null,null,null,null,null,null,null,null,null,null,null,null,null,null,null,null,"~"]
["SA37",2020,"DC15",710,null,null,null,null,null,null,null,null,null,null,null,null,null,null,null,null,null,null,"~"]
["SA37",2020,"DC15",711,null,null,null,null,null,null,null,null,null,null,null,null,null,null,null,null,null,null,"~"]
["SA37",2020,"DC15",712,null,null,null,null,null,null,null,null,null,null,null,null,null,null,null,null,null,null,"~"]
["SA37",2020,"DC15",713,null,null,null,null,null,null,null,null,null,null,null,null,null,null,null,null,null,null,"~"]
["SA37",2020,"DC15",714,null,null,null,null,null,null,null,null,null,null,null,null,null,null,null,null,null,null,"~"]
["SA37",2020,"DC15",715,null,null,null,null,null,null,null,null,null,null,null,null,null,null,null,null,null,null,"~"]
["SA37",2020,"DC15",716,null,null,null,null,null,null,null,null,null,null,null,null,null,null,null,null,null,null,"~"]
["SA37",2020,"DC15",717,null,null,null,null,null,null,null,null,null,null,null,null,null,null,null,null,null,null,"~"]
["SA37",2020,"DC15",718,null,null,null,null,null,null,null,null,null,null,null,null,null,null,null,null,null,null,"~"]
["SA37",2020,"DC15",719,null,null,null,null,null,null,null,null,null,null,null,null,null,null,null,null,null,null,"~"]
["SA37",2020,"DC15",720,null,null,null,null,null,null,null,null,null,null,null,null,null,null,null,null,null,null,"~"]
["SA37",2020,"DC15",721,null,null,null,null,null,null,null,null,null,null,null,null,null,null,null,null,null,null,"~"]
["SA37",2020,"DC15",722,null,null,null,null,null,null,null,null,null,null,null,null,null,null,null,null,null,null,"~"]
["SA37",2020,"DC15",723,null,null,null,null,null,null,null,null,null,null,null,null,null,null,null,null,null,null,"~"]
["SA37",2020,"DC15",724,null,null,null,null,null,null,null,null,null,null,null,null,null,null,null,null,null,null,"~"]
["SA37",2020,"DC15",725,null,null,null,null,null,null,null,null,null,null,null,null,null,null,null,null,null,null,"~"]
["SA37",2020,"DC15",726,null,null,null,null,null,null,null,null,null,null,null,null,null,null,null,null,null,null,"~"]
["SA37",2020,"DC15",727,null,null,null,null,null,null,null,null,null,null,null,null,null,null,null,null,null,null,"~"]
["SA37",2020,"DC15",728,null,null,null,null,null,null,null,null,null,null,null,null,null,null,null,null,null,null,"~"]
["SA37",2020,"DC15",729,null,null,null,null,null,null,null,null,null,null,null,null,null,null,null,null,null,null,"~"]
["SA37",2020,"DC15",730,null,null,null,null,null,null,null,null,null,null,null,null,null,null,null,null,null,null,"~"]
["SA37",2020,"DC15",731,null,null,null,null,null,null,null,null,null,null,null,null,null,null,null,null,null,null,"~"]
["SA37",2020,"DC15",732,null,null,null,null,null,null,null,null,null,null,null,null,null,null,null,null,null,null,"~"]
["SA37",2020,"DC15",733,null,null,null,null,null,null,null,null,null,null,null,null,null,null,null,null,null,null,"~"]
["SA37",2020,"DC15",734,null,null,null,null,null,null,null,null,null,null,null,null,null,null,null,null,null,null,"~"]
["SA37",2020,"DC15",735,null,null,null,null,null,null,null,null,null,null,null,null,null,null,null,null,null,null,"~"]
["SA37",2020,"DC15",736,null,null,null,null,null,null,null,null,null,null,null,null,null,null,null,null,null,null,"~"]
["SA37",2020,"DC15",737,null,null,null,null,null,null,null,null,null,null,null,null,null,null,null,null,null,null,"~"]
["SA37",2020,"DC15",738,null,null,null,null,null,null,null,null,null,null,null,null,null,null,null,null,null,null,"~"]
["SA37",2020,"DC15",739,null,null,null,null,null,null,null,null,null,null,null,null,null,null,null,null,null,null,"~"]
["SA37",2020,"DC15",740,null,null,null,null,null,null,null,null,null,null,null,null,null,null,null,null,null,null,"~"]
["SA37",2020,"DC15",741,null,null,null,null,null,null,null,null,null,null,null,null,null,null,null,null,null,null,"~"]
["SA37",2020,"DC15",742,null,null,null,null,null,null,null,null,null,null,null,null,null,null,null,null,null,null,"~"]
["SA37",2020,"DC15",743,null,null,null,null,null,null,null,null,null,null,null,null,null,null,null,null,null,null,"~"]
["SA37",2020,"DC15",744,null,null,null,null,null,null,null,null,null,null,null,null,null,null,null,null,null,null,"~"]
["SA37",2020,"DC15",745,null,null,null,null,null,null,null,null,null,null,null,null,null,null,null,null,null,null,"~"]
["SA37",2020,"DC15",746,null,null,null,null,null,null,null,null,null,null,null,null,null,null,null,null,null,null,"~"]
["SA37",2020,"DC15",747,null,null,null,null,null,null,null,null,null,null,null,null,null,null,null,null,null,null,"~"]
["SA37",2020,"DC15",748,null,null,null,null,null,null,null,null,null,null,null,null,null,null,null,null,null,null,"~"]
["SA37",2020,"DC15",749,null,null,null,null,null,null,null,null,null,null,null,null,null,null,null,null,null,null,"~"]
["SA37",2020,"DC15",750,null,null,null,null,null,null,null,null,null,null,null,null,null,null,null,null,null,null,"~"]
["SA37",2020,"DC15",751,null,null,null,null,null,null,null,null,null,null,null,null,null,null,null,null,null,null,"~"]
["SA37",{"$f":"+MTREF","v":2020},{"$f":"LEFT(muni,(FIND(\" \",muni,1)-1))","v":"DC15"},752,null,null,null,null,null,null,null,null,null,null,null,null,null,null,null,null,null,null,"~"]
["SA37",2020,"DC15",753,null,null,null,null,null,null,null,null,null,null,null,null,null,null,null,null,null,null,"~"]
["SA37",2020,"DC15",754,null,null,null,null,null,null,null,null,null,null,null,null,null,null,null,null,null,null,"~"]
["SA37",2020,"DC15",755,null,null,null,null,null,null,null,null,null,null,null,null,null,null,null,null,null,null,"~"]
["SA37",2020,"DC15",756,null,null,null,null,null,null,null,null,null,null,null,null,null,null,null,null,null,null,"~"]
["SA37",2020,"DC15",757,null,null,null,null,null,null,null,null,null,null,null,null,null,null,null,null,null,null,"~"]
["SA37",2020,"DC15",758,null,null,null,null,null,null,null,null,null,null,null,null,null,null,null,null,null,null,"~"]
["SA37",2020,"DC15",759,null,null,null,null,null,null,null,null,null,null,null,null,null,null,null,null,null,null,"~"]
["SA37",2020,"DC15",760,null,null,null,null,null,null,null,null,null,null,null,null,null,null,null,null,null,null,"~"]
["SA37",2020,"DC15",761,null,null,null,null,null,null,null,null,null,null,null,null,null,null,null,null,null,null,"~"]
["SA37",2020,"DC15",762,null,null,null,null,null,null,null,null,null,null,null,null,null,null,null,null,null,null,"~"]
["SA37",2020,"DC15",763,null,null,null,null,null,null,null,null,null,null,null,null,null,null,null,null,null,null,"~"]
["SA37",2020,"DC15",764,null,null,null,null,null,null,null,null,null,null,null,null,null,null,null,null,null,null,"~"]
["SA37",2020,"DC15",765,null,null,null,null,null,null,null,null,null,null,null,null,null,null,null,null,null,null,"~"]
["SA37",2020,"DC15",766,null,null,null,null,null,null,null,null,null,null,null,null,null,null,null,null,null,null,"~"]
["SA37",2020,"DC15",767,null,null,null,null,null,null,null,null,null,null,null,null,null,null,null,null,null,null,"~"]
["SA37",2020,"DC15",768,null,null,null,null,null,null,null,null,null,null,null,null,null,null,null,null,null,null,"~"]
["SA37",2020,"DC15",769,null,null,null,null,null,null,null,null,null,null,null,null,null,null,null,null,null,null,"~"]
["SA37",2020,"DC15",770,null,null,null,null,null,null,null,null,null,null,null,null,null,null,null,null,null,null,"~"]
["SA37",2020,"DC15",771,null,null,null,null,null,null,null,null,null,null,null,null,null,null,null,null,null,null,"~"]
["SA37",2020,"DC15",772,null,null,null,null,null,null,null,null,null,null,null,null,null,null,null,null,null,null,"~"]
["SA37",2020,"DC15",773,null,null,null,null,null,null,null,null,null,null,null,null,null,null,null,null,null,null,"~"]
["SA37",2020,"DC15",774,null,null,null,null,null,null,null,null,null,null,null,null,null,null,null,null,null,null,"~"]
["SA37",2020,"DC15",775,null,null,null,null,null,null,null,null,null,null,null,null,null,null,null,null,null,null,"~"]
["SA37",2020,"DC15",776,null,null,null,null,null,null,null,null,null,null,null,null,null,null,null,null,null,null,"~"]
["SA37",2020,"DC15",777,null,null,null,null,null,null,null,null,null,null,null,null,null,null,null,null,null,null,"~"]
["SA37",2020,"DC15",778,null,null,null,null,null,null,null,null,null,null,null,null,null,null,null,null,null,null,"~"]
["SA37",2020,"DC15",779,null,null,null,null,null,null,null,null,null,null,null,null,null,null,null,null,null,null,"~"]
["SA37",2020,"DC15",780,null,null,null,null,null,null,null,null,null,null,null,null,null,null,null,null,null,null,"~"]
["SA37",2020,"DC15",781,null,null,null,null,null,null,null,null,null,null,null,null,null,null,null,null,null,null,"~"]
["SA37",2020,"DC15",782,null,null,null,null,null,null,null,null,null,null,null,null,null,null,null,null,null,null,"~"]
["SA37",2020,"DC15",783,null,null,null,null,null,null,null,null,null,null,null,null,null,null,null,null,null,null,"~"]
["SA37",2020,"DC15",784,null,null,null,null,null,null,null,null,null,null,null,null,null,null,null,null,null,null,"~"]
["SA37",2020,"DC15",785,null,null,null,null,null,null,null,null,null,null,null,null,null,null,null,null,null,null,"~"]
["SA37",2020,"DC15",786,null,null,null,null,null,null,null,null,null,null,null,null,null,null,null,null,null,null,"~"]
["SA37",2020,"DC15",787,null,null,null,null,null,null,null,null,null,null,null,null,null,null,null,null,null,null,"~"]
["SA37",2020,"DC15",788,null,null,null,null,null,null,null,null,null,null,null,null,null,null,null,null,null,null,"~"]
["SA37",2020,"DC15",789,null,null,null,null,null,null,null,null,null,null,null,null,null,null,null,null,null,null,"~"]
["SA37",2020,"DC15",790,null,null,null,null,null,null,null,null,null,null,null,null,null,null,null,null,null,null,"~"]
["SA37",2020,"DC15",791,null,null,null,null,null,null,null,null,null,null,null,null,null,null,null,null,null,null,"~"]
["SA37",2020,"DC15",792,null,null,null,null,null,null,null,null,null,null,null,null,null,null,null,null,null,null,"~"]
["SA37",2020,"DC15",793,null,null,null,null,null,null,null,null,null,null,null,null,null,null,null,null,null,null,"~"]
["SA37",2020,"DC15",794,null,null,null,null,null,null,null,null,null,null,null,null,null,null,null,null,null,null,"~"]
["SA37",2020,"DC15",795,null,null,null,null,null,null,null,null,null,null,null,null,null,null,null,null,null,null,"~"]
["SA37",2020,"DC15",796,null,null,null,null,null,null,null,null,null,null,null,null,null,null,null,null,null,null,"~"]
["SA37",2020,"DC15",797,null,null,null,null,null,null,null,null,null,null,null,null,null,null,null,null,null,null,"~"]
["SA37",2020,"DC15",798,null,null,null,null,null,null,null,null,null,null,null,null,null,null,null,null,null,null,"~"]
["SA37",2020,"DC15",799,null,null,null,null,null,null,null,null,null,null,null,null,null,null,null,null,null,null,"~"]
["SA37",2020,"DC15",800,null,null,null,null,null,null,null,null,null,null,null,null,null,null,null,null,null,null,"~"]
["SA37",2020,"DC15",801,null,null,null,null,null,null,null,null,null,null,null,null,null,null,null,null,null,null,"~"]
["SA37",2020,"DC15",802,null,null,null,null,null,null,null,null,null,null,null,null,null,null,null,null,null,null,"~"]
["SA37",2020,"DC15",803,null,null,null,null,null,null,null,null,null,null,null,null,null,null,null,null,null,null,"~"]
["SA37",2020,"DC15",804,null,null,null,null,null,null,null,null,null,null,null,null,null,null,null,null,null,null,"~"]
["SA37",2020,"DC15",805,null,null,null,null,null,null,null,null,null,null,null,null,null,null,null,null,null,null,"~"]
["SA37",2020,"DC15",806,null,null,null,null,null,null,null,null,null,null,null,null,null,null,null,null,null,null,"~"]
["SA37",2020,"DC15",807,null,null,null,null,null,null,null,null,null,null,null,null,null,null,null,null,null,null,"~"]
["SA37",2020,"DC15",808,null,null,null,null,null,null,null,null,null,null,null,null,null,null,null,null,null,null,"~"]
["SA37",2020,"DC15",809,null,null,null,null,null,null,null,null,null,null,null,null,null,null,null,null,null,null,"~"]
["SA37",2020,"DC15",810,null,null,null,null,null,null,null,null,null,null,null,null,null,null,null,null,null,null,"~"]
["SA37",2020,"DC15",811,null,null,null,null,null,null,null,null,null,null,null,null,null,null,null,null,null,null,"~"]
["SA37",2020,"DC15",812,null,null,null,null,null,null,null,null,null,null,null,null,null,null,null,null,null,null,"~"]
["SA37",2020,"DC15",813,null,null,null,null,null,null,null,null,null,null,null,null,null,null,null,null,null,null,"~"]
["SA37",2020,"DC15",814,null,null,null,null,null,null,null,null,null,null,null,null,null,null,null,null,null,null,"~"]
["SA37",2020,"DC15",815,null,null,null,null,null,null,null,null,null,null,null,null,null,null,null,null,null,null,"~"]
["SA37",{"$f":"+MTREF","v":2020},{"$f":"LEFT(muni,(FIND(\" \",muni,1)-1))","v":"DC15"},816,null,null,null,null,null,null,null,null,null,null,null,null,null,null,null,null,null,null,"~"]
["SA37",2020,"DC15",817,null,null,null,null,null,null,null,null,null,null,null,null,null,null,null,null,null,null,"~"]
["SA37",2020,"DC15",818,null,null,null,null,null,null,null,null,null,null,null,null,null,null,null,null,null,null,"~"]
["SA37",2020,"DC15",819,null,null,null,null,null,null,null,null,null,null,null,null,null,null,null,null,null,null,"~"]
["SA37",2020,"DC15",820,null,null,null,null,null,null,null,null,null,null,null,null,null,null,null,null,null,null,"~"]
["SA37",2020,"DC15",821,null,null,null,null,null,null,null,null,null,null,null,null,null,null,null,null,null,null,"~"]
["SA37",2020,"DC15",822,null,null,null,null,null,null,null,null,null,null,null,null,null,null,null,null,null,null,"~"]
["SA37",2020,"DC15",823,null,null,null,null,null,null,null,null,null,null,null,null,null,null,null,null,null,null,"~"]
["SA37",2020,"DC15",824,null,null,null,null,null,null,null,null,null,null,null,null,null,null,null,null,null,null,"~"]
["SA37",2020,"DC15",825,null,null,null,null,null,null,null,null,null,null,null,null,null,null,null,null,null,null,"~"]
["SA37",2020,"DC15",826,null,null,null,null,null,null,null,null,null,null,null,null,null,null,null,null,null,null,"~"]
["SA37",2020,"DC15",827,null,null,null,null,null,null,null,null,null,null,null,null,null,null,null,null,null,null,"~"]
["SA37",2020,"DC15",828,null,null,null,null,null,null,null,null,null,null,null,null,null,null,null,null,null,null,"~"]
["SA37",2020,"DC15",829,null,null,null,null,null,null,null,null,null,null,null,null,null,null,null,null,null,null,"~"]
["SA37",2020,"DC15",830,null,null,null,null,null,null,null,null,null,null,null,null,null,null,null,null,null,null,"~"]
["SA37",2020,"DC15",831,null,null,null,null,null,null,null,null,null,null,null,null,null,null,null,null,null,null,"~"]
["SA37",2020,"DC15",832,null,null,null,null,null,null,null,null,null,null,null,null,null,null,null,null,null,null,"~"]
["SA37",2020,"DC15",833,null,null,null,null,null,null,null,null,null,null,null,null,null,null,null,null,null,null,"~"]
["SA37",2020,"DC15",834,null,null,null,null,null,null,null,null,null,null,null,null,null,null,null,null,null,null,"~"]
["SA37",2020,"DC15",835,null,null,null,null,null,null,null,null,null,null,null,null,null,null,null,null,null,null,"~"]
["SA37",2020,"DC15",836,null,null,null,null,null,null,null,null,null,null,null,null,null,null,null,null,null,null,"~"]
["SA37",2020,"DC15",837,null,null,null,null,null,null,null,null,null,null,null,null,null,null,null,null,null,null,"~"]
["SA37",2020,"DC15",838,null,null,null,null,null,null,null,null,null,null,null,null,null,null,null,null,null,null,"~"]
["SA37",2020,"DC15",839,null,null,null,null,null,null,null,null,null,null,null,null,null,null,null,null,null,null,"~"]
["SA37",2020,"DC15",840,null,null,null,null,null,null,null,null,null,null,null,null,null,null,null,null,null,null,"~"]
["SA37",2020,"DC15",841,null,null,null,null,null,null,null,null,null,null,null,null,null,null,null,null,null,null,"~"]
["SA37",2020,"DC15",842,null,null,null,null,null,null,null,null,null,null,null,null,null,null,null,null,null,null,"~"]
["SA37",2020,"DC15",843,null,null,null,null,null,null,null,null,null,null,null,null,null,null,null,null,null,null,"~"]
["SA37",2020,"DC15",844,null,null,null,null,null,null,null,null,null,null,null,null,null,null,null,null,null,null,"~"]
["SA37",2020,"DC15",845,null,null,null,null,null,null,null,null,null,null,null,null,null,null,null,null,null,null,"~"]
["SA37",2020,"DC15",846,null,null,null,null,null,null,null,null,null,null,null,null,null,null,null,null,null,null,"~"]
["SA37",2020,"DC15",847,null,null,null,null,null,null,null,null,null,null,null,null,null,null,null,null,null,null,"~"]
["SA37",2020,"DC15",848,null,null,null,null,null,null,null,null,null,null,null,null,null,null,null,null,null,null,"~"]
["SA37",2020,"DC15",849,null,null,null,null,null,null,null,null,null,null,null,null,null,null,null,null,null,null,"~"]
["SA37",2020,"DC15",850,null,null,null,null,null,null,null,null,null,null,null,null,null,null,null,null,null,null,"~"]
["SA37",2020,"DC15",851,null,null,null,null,null,null,null,null,null,null,null,null,null,null,null,null,null,null,"~"]
["SA37",2020,"DC15",852,null,null,null,null,null,null,null,null,null,null,null,null,null,null,null,null,null,null,"~"]
["SA37",2020,"DC15",853,null,null,null,null,null,null,null,null,null,null,null,null,null,null,null,null,null,null,"~"]
["SA37",2020,"DC15",854,null,null,null,null,null,null,null,null,null,null,null,null,null,null,null,null,null,null,"~"]
["SA37",2020,"DC15",855,null,null,null,null,null,null,null,null,null,null,null,null,null,null,null,null,null,null,"~"]
["SA37",2020,"DC15",856,null,null,null,null,null,null,null,null,null,null,null,null,null,null,null,null,null,null,"~"]
["SA37",2020,"DC15",857,null,null,null,null,null,null,null,null,null,null,null,null,null,null,null,null,null,null,"~"]
["SA37",2020,"DC15",858,null,null,null,null,null,null,null,null,null,null,null,null,null,null,null,null,null,null,"~"]
["SA37",2020,"DC15",859,null,null,null,null,null,null,null,null,null,null,null,null,null,null,null,null,null,null,"~"]
["SA37",2020,"DC15",860,null,null,null,null,null,null,null,null,null,null,null,null,null,null,null,null,null,null,"~"]
["SA37",2020,"DC15",861,null,null,null,null,null,null,null,null,null,null,null,null,null,null,null,null,null,null,"~"]
["SA37",2020,"DC15",862,null,null,null,null,null,null,null,null,null,null,null,null,null,null,null,null,null,null,"~"]
["SA37",2020,"DC15",863,null,null,null,null,null,null,null,null,null,null,null,null,null,null,null,null,null,null,"~"]
["SA37",2020,"DC15",864,null,null,null,null,null,null,null,null,null,null,null,null,null,null,null,null,null,null,"~"]
["SA37",2020,"DC15",865,null,null,null,null,null,null,null,null,null,null,null,null,null,null,null,null,null,null,"~"]
["SA37",2020,"DC15",866,null,null,null,null,null,null,null,null,null,null,null,null,null,null,null,null,null,null,"~"]
["SA37",2020,"DC15",867,null,null,null,null,null,null,null,null,null,null,null,null,null,null,null,null,null,null,"~"]
["SA37",2020,"DC15",868,null,null,null,null,null,null,null,null,null,null,null,null,null,null,null,null,null,null,"~"]
["SA37",2020,"DC15",869,null,null,null,null,null,null,null,null,null,null,null,null,null,null,null,null,null,null,"~"]
["SA37",2020,"DC15",870,null,null,null,null,null,null,null,null,null,null,null,null,null,null,null,null,null,null,"~"]
["SA37",2020,"DC15",871,null,null,null,null,null,null,null,null,null,null,null,null,null,null,null,null,null,null,"~"]
["SA37",2020,"DC15",872,null,null,null,null,null,null,null,null,null,null,null,null,null,null,null,null,null,null,"~"]
["SA37",2020,"DC15",873,null,null,null,null,null,null,null,null,null,null,null,null,null,null,null,null,null,null,"~"]
["SA37",2020,"DC15",874,null,null,null,null,null,null,null,null,null,null,null,null,null,null,null,null,null,null,"~"]
["SA37",2020,"DC15",875,null,null,null,null,null,null,null,null,null,null,null,null,null,null,null,null,null,null,"~"]
["SA37",2020,"DC15",876,null,null,null,null,null,null,null,null,null,null,null,null,null,null,null,null,null,null,"~"]
["SA37",2020,"DC15",877,null,null,null,null,null,null,null,null,null,null,null,null,null,null,null,null,null,null,"~"]
["SA37",2020,"DC15",878,null,null,null,null,null,null,null,null,null,null,null,null,null,null,null,null,null,null,"~"]
["SA37",2020,"DC15",879,null,null,null,null,null,null,null,null,null,null,null,null,null,null,null,null,null,null,"~"]
["SA37",{"$f":"+MTREF","v":2020},{"$f":"LEFT(muni,(FIND(\" \",muni,1)-1))","v":"DC15"},880,null,null,null,null,null,null,null,null,null,null,null,null,null,null,null,null,null,null,"~"]
["SA37",2020,"DC15",881,null,null,null,null,null,null,null,null,null,null,null,null,null,null,null,null,null,null,"~"]
["SA37",2020,"DC15",882,null,null,null,null,null,null,null,null,null,null,null,null,null,null,null,null,null,null,"~"]
["SA37",2020,"DC15",883,null,null,null,null,null,null,null,null,null,null,null,null,null,null,null,null,null,null,"~"]
["SA37",2020,"DC15",884,null,null,null,null,null,null,null,null,null,null,null,null,null,null,null,null,null,null,"~"]
["SA37",2020,"DC15",885,null,null,null,null,null,null,null,null,null,null,null,null,null,null,null,null,null,null,"~"]
["SA37",2020,"DC15",886,null,null,null,null,null,null,null,null,null,null,null,null,null,null,null,null,null,null,"~"]
["SA37",2020,"DC15",887,null,null,null,null,null,null,null,null,null,null,null,null,null,null,null,null,null,null,"~"]
["SA37",2020,"DC15",888,null,null,null,null,null,null,null,null,null,null,null,null,null,null,null,null,null,null,"~"]
["SA37",2020,"DC15",889,null,null,null,null,null,null,null,null,null,null,null,null,null,null,null,null,null,null,"~"]
["SA37",2020,"DC15",890,null,null,null,null,null,null,null,null,null,null,null,null,null,null,null,null,null,null,"~"]
["SA37",2020,"DC15",891,null,null,null,null,null,null,null,null,null,null,null,null,null,null,null,null,null,null,"~"]
["SA37",2020,"DC15",892,null,null,null,null,null,null,null,null,null,null,null,null,null,null,null,null,null,null,"~"]
["SA37",2020,"DC15",893,null,null,null,null,null,null,null,null,null,null,null,null,null,null,null,null,null,null,"~"]
["SA37",2020,"DC15",894,null,null,null,null,null,null,null,null,null,null,null,null,null,null,null,null,null,null,"~"]
["SA37",2020,"DC15",895,null,null,null,null,null,null,null,null,null,null,null,null,null,null,null,null,null,null,"~"]
["SA37",2020,"DC15",896,null,null,null,null,null,null,null,null,null,null,null,null,null,null,null,null,null,null,"~"]
["SA37",2020,"DC15",897,null,null,null,null,null,null,null,null,null,null,null,null,null,null,null,null,null,null,"~"]
["SA37",2020,"DC15",898,null,null,null,null,null,null,null,null,null,null,null,null,null,null,null,null,null,null,"~"]
["SA37",2020,"DC15",899,null,null,null,null,null,null,null,null,null,null,null,null,null,null,null,null,null,null,"~"]
["SA37",2020,"DC15",900,null,null,null,null,null,null,null,null,null,null,null,null,null,null,null,null,null,null,"~"]
["SA37",2020,"DC15",901,null,null,null,null,null,null,null,null,null,null,null,null,null,null,null,null,null,null,"~"]
["SA37",2020,"DC15",902,null,null,null,null,null,null,null,null,null,null,null,null,null,null,null,null,null,null,"~"]
["SA37",2020,"DC15",903,null,null,null,null,null,null,null,null,null,null,null,null,null,null,null,null,null,null,"~"]
["SA37",2020,"DC15",904,null,null,null,null,null,null,null,null,null,null,null,null,null,null,null,null,null,null,"~"]
["SA37",2020,"DC15",905,null,null,null,null,null,null,null,null,null,null,null,null,null,null,null,null,null,null,"~"]
["SA37",2020,"DC15",906,null,null,null,null,null,null,null,null,null,null,null,null,null,null,null,null,null,null,"~"]
["SA37",2020,"DC15",907,null,null,null,null,null,null,null,null,null,null,null,null,null,null,null,null,null,null,"~"]
["SA37",2020,"DC15",908,null,null,null,null,null,null,null,null,null,null,null,null,null,null,null,null,null,null,"~"]
["SA37",2020,"DC15",909,null,null,null,null,null,null,null,null,null,null,null,null,null,null,null,null,null,null,"~"]
["SA37",2020,"DC15",910,null,null,null,null,null,null,null,null,null,null,null,null,null,null,null,null,null,null,"~"]
["SA37",2020,"DC15",911,null,null,null,null,null,null,null,null,null,null,null,null,null,null,null,null,null,null,"~"]
["SA37",2020,"DC15",912,null,null,null,null,null,null,null,null,null,null,null,null,null,null,null,null,null,null,"~"]
["SA37",2020,"DC15",913,null,null,null,null,null,null,null,null,null,null,null,null,null,null,null,null,null,null,"~"]
["SA37",2020,"DC15",914,null,null,null,null,null,null,null,null,null,null,null,null,null,null,null,null,null,null,"~"]
["SA37",2020,"DC15",915,null,null,null,null,null,null,null,null,null,null,null,null,null,null,null,null,null,null,"~"]
["SA37",2020,"DC15",916,null,null,null,null,null,null,null,null,null,null,null,null,null,null,null,null,null,null,"~"]
["SA37",2020,"DC15",917,null,null,null,null,null,null,null,null,null,null,null,null,null,null,null,null,null,null,"~"]
["SA37",2020,"DC15",918,null,null,null,null,null,null,null,null,null,null,null,null,null,null,null,null,null,null,"~"]
["SA37",2020,"DC15",919,null,null,null,null,null,null,null,null,null,null,null,null,null,null,null,null,null,null,"~"]
["SA37",2020,"DC15",920,null,null,null,null,null,null,null,null,null,null,null,null,null,null,null,null,null,null,"~"]
["SA37",2020,"DC15",921,null,null,null,null,null,null,null,null,null,null,null,null,null,null,null,null,null,null,"~"]
["SA37",2020,"DC15",922,null,null,null,null,null,null,null,null,null,null,null,null,null,null,null,null,null,null,"~"]
["SA37",2020,"DC15",923,null,null,null,null,null,null,null,null,null,null,null,null,null,null,null,null,null,null,"~"]
["SA37",2020,"DC15",924,null,null,null,null,null,null,null,null,null,null,null,null,null,null,null,null,null,null,"~"]
["SA37",2020,"DC15",925,null,null,null,null,null,null,null,null,null,null,null,null,null,null,null,null,null,null,"~"]
["SA37",2020,"DC15",926,null,null,null,null,null,null,null,null,null,null,null,null,null,null,null,null,null,null,"~"]
["SA37",2020,"DC15",927,null,null,null,null,null,null,null,null,null,null,null,null,null,null,null,null,null,null,"~"]
["SA37",2020,"DC15",928,null,null,null,null,null,null,null,null,null,null,null,null,null,null,null,null,null,null,"~"]
["SA37",2020,"DC15",929,null,null,null,null,null,null,null,null,null,null,null,null,null,null,null,null,null,null,"~"]
["SA37",2020,"DC15",930,null,null,null,null,null,null,null,null,null,null,null,null,null,null,null,null,null,null,"~"]
["SA37",2020,"DC15",931,null,null,null,null,null,null,null,null,null,null,null,null,null,null,null,null,null,null,"~"]
["SA37",2020,"DC15",932,null,null,null,null,null,null,null,null,null,null,null,null,null,null,null,null,null,null,"~"]
["SA37",2020,"DC15",933,null,null,null,null,null,null,null,null,null,null,null,null,null,null,null,null,null,null,"~"]
["SA37",2020,"DC15",934,null,null,null,null,null,null,null,null,null,null,null,null,null,null,null,null,null,null,"~"]
["SA37",2020,"DC15",935,null,null,null,null,null,null,null,null,null,null,null,null,null,null,null,null,null,null,"~"]
["SA37",2020,"DC15",936,null,null,null,null,null,null,null,null,null,null,null,null,null,null,null,null,null,null,"~"]
["SA37",2020,"DC15",937,null,null,null,null,null,null,null,null,null,null,null,null,null,null,null,null,null,null,"~"]
["SA37",2020,"DC15",938,null,null,null,null,null,null,null,null,null,null,null,null,null,null,null,null,null,null,"~"]
["SA37",2020,"DC15",939,null,null,null,null,null,null,null,null,null,null,null,null,null,null,null,null,null,null,"~"]
["SA37",2020,"DC15",940,null,null,null,null,null,null,null,null,null,null,null,null,null,null,null,null,null,null,"~"]
["SA37",2020,"DC15",941,null,null,null,null,null,null,null,null,null,null,null,null,null,null,null,null,null,null,"~"]
["SA37",2020,"DC15",942,null,null,null,null,null,null,null,null,null,null,null,null,null,null,null,null,null,null,"~"]
["SA37",2020,"DC15",943,null,null,null,null,null,null,null,null,null,null,null,null,null,null,null,null,null,null,"~"]
["SA37",{"$f":"+MTREF","v":2020},{"$f":"LEFT(muni,(FIND(\" \",muni,1)-1))","v":"DC15"},944,null,null,null,null,null,null,null,null,null,null,null,null,null,null,null,null,null,null,"~"]
["SA37",2020,"DC15",945,null,null,null,null,null,null,null,null,null,null,null,null,null,null,null,null,null,null,"~"]
["SA37",2020,"DC15",946,null,null,null,null,null,null,null,null,null,null,null,null,null,null,null,null,null,null,"~"]
["SA37",2020,"DC15",947,null,null,null,null,null,null,null,null,null,null,null,null,null,null,null,null,null,null,"~"]
["SA37",2020,"DC15",948,null,null,null,null,null,null,null,null,null,null,null,null,null,null,null,null,null,null,"~"]
["SA37",2020,"DC15",949,null,null,null,null,null,null,null,null,null,null,null,null,null,null,null,null,null,null,"~"]
["SA37",2020,"DC15",950,null,null,null,null,null,null,null,null,null,null,null,null,null,null,null,null,null,null,"~"]
["SA37",2020,"DC15",951,null,null,null,null,null,null,null,null,null,null,null,null,null,null,null,null,null,null,"~"]
["SA37",2020,"DC15",952,null,null,null,null,null,null,null,null,null,null,null,null,null,null,null,null,null,null,"~"]
["SA37",2020,"DC15",953,null,null,null,null,null,null,null,null,null,null,null,null,null,null,null,null,null,null,"~"]
["SA37",2020,"DC15",954,null,null,null,null,null,null,null,null,null,null,null,null,null,null,null,null,null,null,"~"]
["SA37",2020,"DC15",955,null,null,null,null,null,null,null,null,null,null,null,null,null,null,null,null,null,null,"~"]
["SA37",2020,"DC15",956,null,null,null,null,null,null,null,null,null,null,null,null,null,null,null,null,null,null,"~"]
["SA37",2020,"DC15",957,null,null,null,null,null,null,null,null,null,null,null,null,null,null,null,null,null,null,"~"]
["SA37",2020,"DC15",958,null,null,null,null,null,null,null,null,null,null,null,null,null,null,null,null,null,null,"~"]
["SA37",2020,"DC15",959,null,null,null,null,null,null,null,null,null,null,null,null,null,null,null,null,null,null,"~"]
["SA37",2020,"DC15",960,null,null,null,null,null,null,null,null,null,null,null,null,null,null,null,null,null,null,"~"]
["SA37",2020,"DC15",961,null,null,null,null,null,null,null,null,null,null,null,null,null,null,null,null,null,null,"~"]
["SA37",2020,"DC15",962,null,null,null,null,null,null,null,null,null,null,null,null,null,null,null,null,null,null,"~"]
["SA37",2020,"DC15",963,null,null,null,null,null,null,null,null,null,null,null,null,null,null,null,null,null,null,"~"]
["SA37",2020,"DC15",964,null,null,null,null,null,null,null,null,null,null,null,null,null,null,null,null,null,null,"~"]
["SA37",2020,"DC15",965,null,null,null,null,null,null,null,null,null,null,null,null,null,null,null,null,null,null,"~"]
["SA37",2020,"DC15",966,null,null,null,null,null,null,null,null,null,null,null,null,null,null,null,null,null,null,"~"]
["SA37",2020,"DC15",967,null,null,null,null,null,null,null,null,null,null,null,null,null,null,null,null,null,null,"~"]
["SA37",2020,"DC15",968,null,null,null,null,null,null,null,null,null,null,null,null,null,null,null,null,null,null,"~"]
["SA37",2020,"DC15",969,null,null,null,null,null,null,null,null,null,null,null,null,null,null,null,null,null,null,"~"]
["SA37",2020,"DC15",970,null,null,null,null,null,null,null,null,null,null,null,null,null,null,null,null,null,null,"~"]
["SA37",2020,"DC15",971,null,null,null,null,null,null,null,null,null,null,null,null,null,null,null,null,null,null,"~"]
["SA37",2020,"DC15",972,null,null,null,null,null,null,null,null,null,null,null,null,null,null,null,null,null,null,"~"]
["SA37",2020,"DC15",973,null,null,null,null,null,null,null,null,null,null,null,null,null,null,null,null,null,null,"~"]
["SA37",2020,"DC15",974,null,null,null,null,null,null,null,null,null,null,null,null,null,null,null,null,null,null,"~"]
["SA37",2020,"DC15",975,null,null,null,null,null,null,null,null,null,null,null,null,null,null,null,null,null,null,"~"]
["SA37",2020,"DC15",976,null,null,null,null,null,null,null,null,null,null,null,null,null,null,null,null,null,null,"~"]
["SA37",2020,"DC15",977,null,null,null,null,null,null,null,null,null,null,null,null,null,null,null,null,null,null,"~"]
["SA37",2020,"DC15",978,null,null,null,null,null,null,null,null,null,null,null,null,null,null,null,null,null,null,"~"]
["SA37",2020,"DC15",979,null,null,null,null,null,null,null,null,null,null,null,null,null,null,null,null,null,null,"~"]
["SA37",2020,"DC15",980,null,null,null,null,null,null,null,null,null,null,null,null,null,null,null,null,null,null,"~"]
["SA37",2020,"DC15",981,null,null,null,null,null,null,null,null,null,null,null,null,null,null,null,null,null,null,"~"]
["SA37",2020,"DC15",982,null,null,null,null,null,null,null,null,null,null,null,null,null,null,null,null,null,null,"~"]
["SA37",2020,"DC15",983,null,null,null,null,null,null,null,null,null,null,null,null,null,null,null,null,null,null,"~"]
["SA37",2020,"DC15",984,null,null,null,null,null,null,null,null,null,null,null,null,null,null,null,null,null,null,"~"]
["SA37",2020,"DC15",985,null,null,null,null,null,null,null,null,null,null,null,null,null,null,null,null,null,null,"~"]
["SA37",2020,"DC15",986,null,null,null,null,null,null,null,null,null,null,null,null,null,null,null,null,null,null,"~"]
["SA37",2020,"DC15",987,null,null,null,null,null,null,null,null,null,null,null,null,null,null,null,null,null,null,"~"]
["SA37",2020,"DC15",988,null,null,null,null,null,null,null,null,null,null,null,null,null,null,null,null,null,null,"~"]
["SA37",2020,"DC15",989,null,null,null,null,null,null,null,null,null,null,null,null,null,null,null,null,null,null,"~"]
["SA37",2020,"DC15",990,null,null,null,null,null,null,null,null,null,null,null,null,null,null,null,null,null,null,"~"]
["SA37",2020,"DC15",991,null,null,null,null,null,null,null,null,null,null,null,null,null,null,null,null,null,null,"~"]
["SA37",2020,"DC15",992,null,null,null,null,null,null,null,null,null,null,null,null,null,null,null,null,null,null,"~"]
["SA37",2020,"DC15",993,null,null,null,null,null,null,null,null,null,null,null,null,null,null,null,null,null,null,"~"]
["SA37",2020,"DC15",994,null,null,null,null,null,null,null,null,null,null,null,null,null,null,null,null,null,null,"~"]
["SA37",2020,"DC15",995,null,null,null,null,null,null,null,null,null,null,null,null,null,null,null,null,null,null,"~"]
["SA37",2020,"DC15",996,null,null,null,null,null,null,null,null,null,null,null,null,null,null,null,null,null,null,"~"]
["SA37",2020,"DC15",997,null,null,null,null,null,null,null,null,null,null,null,null,null,null,null,null,null,null,"~"]
["SA37",2020,"DC15",998,null,null,null,null,null,null,null,null,null,null,null,null,null,null,null,null,null,null,"~"]
["SA37",2020,"DC15",999,null,null,null,null,null,null,null,null,null,null,null,null,null,null,null,null,null,null,"~"]
["SA37",2020,"DC15",1000,null,null,null,null,null,null,null,null,null,null,null,null,null,null,null,null,null,null,"~"]
["CONTACT",2020,"DC15",1,null,null,null,null,null,null,null,null,null,null,null,null,null,null,null,null,null,null,"~"]
["CONTACT",2020,"DC15",2,null,null,null,null,null,null,null,null,null,null,null,null,null,null,null,null,null,null,"~"]
["CONTACT",2020,"DC15",3,null,null,null,null,null,null,null,null,null,null,null,null,null,null,null,null,null,null,"~"]
["CONTACT",2020,"DC15",4,null,null,null,null,null,null,null,null,null,null,null,null,null,null,null,null,null,null,"~"]
["CONTACT",2020,"DC15",5,null,null,null,null,null,null,null,null,null,null,null,null,null,null,null,null,null,null,"~"]
["CONTACT",2020,"DC15",6,null,null,null,null,null,null,null,null,null,null,null,null,null,null,null,null,null,null,"~"]
["CONTACT",2020,"DC15",7,null,null,null,null,null,null,null,null,null,null,null,null,null,null,null,null,null,null,"~"]
["CONTACT",{"$f":"+MTREF","v":2020},{"$f":"LEFT(muni,(FIND(\" \",muni,1)-1))","v":"DC15"},8,null,null,null,null,null,null,null,null,null,null,null,null,null,null,null,null,null,null,"~"]
["CONTACT",2020,"DC15",9,null,null,null,null,null,null,null,null,null,null,null,null,null,null,null,null,null,null,"~"]
["CONTACT",2020,"DC15",10,null,null,null,null,null,null,null,null,null,null,null,null,null,null,null,null,null,null,"~"]
["CONTACT",2020,"DC15",11,null,null,null,null,null,null,null,null,null,null,null,null,null,null,null,null,null,null,"~"]
["CONTACT",2020,"DC15",12,null,null,null,null,null,null,null,null,null,null,null,null,null,null,null,null,null,null,"~"]
["CONTACT",2020,"DC15",13,null,null,null,null,null,null,null,null,null,null,null,null,null,null,null,null,null,null,"~"]
["CONTACT",2020,"DC15",14,null,null,null,null,null,null,null,null,null,null,null,null,null,null,null,null,null,null,"~"]
["CONTACT",2020,"DC15",15,null,null,null,null,null,null,null,null,null,null,null,null,null,null,null,null,null,null,"~"]
["CONTACT",2020,"DC15",16,null,null,null,null,null,null,null,null,null,null,null,null,null,null,null,null,null,null,"~"]
["CONTACT",2020,"DC15",17,null,null,null,null,null,null,null,null,null,null,null,null,null,null,null,null,null,null,"~"]
["CONTACT",2020,"DC15",18,null,null,null,null,null,null,null,null,null,null,null,null,null,null,null,null,null,null,"~"]
["CONTACT",2020,"DC15",19,null,null,null,null,null,null,null,null,null,null,null,null,null,null,null,null,null,null,"~"]
["CONTACT",2020,"DC15",20,null,null,null,null,null,null,null,null,null,null,null,null,null,null,null,null,null,null,"~"]
["CONTACT",2020,"DC15",21,null,null,null,null,null,null,null,null,null,null,null,null,null,null,null,null,null,null,"~"]
["CONTACT",2020,"DC15",22,null,null,null,null,null,null,null,null,null,null,null,null,null,null,null,null,null,null,"~"]
["CONTACT",2020,"DC15",23,null,null,null,null,null,null,null,null,null,null,null,null,null,null,null,null,null,null,"~"]
["CONTACT",2020,"DC15",24,null,null,null,null,null,null,null,null,null,null,null,null,null,null,null,null,null,null,"~"]
["CONTACT",2020,"DC15",25,null,null,null,null,null,null,null,null,null,null,null,null,null,null,null,null,null,null,"~"]
["CONTACT",2020,"DC15",26,null,null,null,null,null,null,null,null,null,null,null,null,null,null,null,null,null,null,"~"]
["CONTACT",2020,"DC15",27,null,null,null,null,null,null,null,null,null,null,null,null,null,null,null,null,null,null,"~"]
["CONTACT",2020,"DC15",28,null,null,null,null,null,null,null,null,null,null,null,null,null,null,null,null,null,null,"~"]
["CONTACT",2020,"DC15",29,null,null,null,null,null,null,null,null,null,null,null,null,null,null,null,null,null,null,"~"]
["CONTACT",2020,"DC15",30,null,null,null,null,null,null,null,null,null,null,null,null,null,null,null,null,null,null,"~"]
["CONTACT",2020,"DC15",31,null,null,null,null,null,null,null,null,null,null,null,null,null,null,null,null,null,null,"~"]
["CONTACT",2020,"DC15",32,null,null,null,null,null,null,null,null,null,null,null,null,null,null,null,null,null,null,"~"]
["CONTACT",2020,"DC15",33,null,null,null,null,null,null,null,null,null,null,null,null,null,null,null,null,null,null,"~"]
["CONTACT",2020,"DC15",34,null,null,null,null,null,null,null,null,null,null,null,null,null,null,null,null,null,null,"~"]
["CONTACT",2020,"DC15",35,null,null,null,null,null,null,null,null,null,null,null,null,null,null,null,null,null,null,"~"]
["CONTACT",2020,"DC15",36,null,null,null,null,null,null,null,null,null,null,null,null,null,null,null,null,null,null,"~"]
["CONTACT",2020,"DC15",37,null,null,null,null,null,null,null,null,null,null,null,null,null,null,null,null,null,null,"~"]
["CONTACT",2020,"DC15",38,null,null,null,null,null,null,null,null,null,null,null,null,null,null,null,null,null,null,"~"]
["CONTACT",2020,"DC15",39,null,null,null,null,null,null,null,null,null,null,null,null,null,null,null,null,null,null,"~"]
["CONTACT",2020,"DC15",40,null,null,null,null,null,null,null,null,null,null,null,null,null,null,null,null,null,null,"~"]
["CONTACT",2020,"DC15",41,null,null,null,null,null,null,null,null,null,null,null,null,null,null,null,null,null,null,"~"]
["CONTACT",2020,"DC15",42,null,null,null,null,null,null,null,null,null,null,null,null,null,null,null,null,null,null,"~"]
["CONTACT",2020,"DC15",43,null,null,null,null,null,null,null,null,null,null,null,null,null,null,null,null,null,null,"~"]
["CONTACT",2020,"DC15",44,null,null,null,null,null,null,null,null,null,null,null,null,null,null,null,null,null,null,"~"]
["CONTACT",2020,"DC15",45,null,null,null,null,null,null,null,null,null,null,null,null,null,null,null,null,null,null,"~"]
["CONTACT",2020,"DC15",46,null,null,null,null,null,null,null,null,null,null,null,null,null,null,null,null,null,null,"~"]
["CONTACT",2020,"DC15",47,null,null,null,null,null,null,null,null,null,null,null,null,null,null,null,null,null,null,"~"]
["CONTACT",2020,"DC15",48,null,null,null,null,null,null,null,null,null,null,null,null,null,null,null,null,null,null,"~"]
["CONTACT",2020,"DC15",49,null,null,null,null,null,null,null,null,null,null,null,null,null,null,null,null,null,null,"~"]
["CONTACT",2020,"DC15",50,null,null,null,null,null,null,null,null,null,null,null,null,null,null,null,null,null,null,"~"]
["CONTACT",2020,"DC15",51,null,null,null,null,null,null,null,null,null,null,null,null,null,null,null,null,null,null,"~"]
["CONTACT",2020,"DC15",52,null,null,null,null,null,null,null,null,null,null,null,null,null,null,null,null,null,null,"~"]
["CONTACT",2020,"DC15",53,null,null,null,null,null,null,null,null,null,null,null,null,null,null,null,null,null,null,"~"]
["CONTACT",2020,"DC15",54,null,null,null,null,null,null,null,null,null,null,null,null,null,null,null,null,null,null,"~"]
["CONTACT",2020,"DC15",55,null,null,null,null,null,null,null,null,null,null,null,null,null,null,null,null,null,null,"~"]
["CONTACT",2020,"DC15",56,null,null,null,null,null,null,null,null,null,null,null,null,null,null,null,null,null,null,"~"]
["CONTACT",2020,"DC15",57,null,null,null,null,null,null,null,null,null,null,null,null,null,null,null,null,null,null,"~"]
["CONTACT",2020,"DC15",58,null,null,null,null,null,null,null,null,null,null,null,null,null,null,null,null,null,null,"~"]
["CONTACT",2020,"DC15",59,null,null,null,null,null,null,null,null,null,null,null,null,null,null,null,null,null,null,"~"]
["CONTACT",2020,"DC15",60,null,null,null,null,null,null,null,null,null,null,null,null,null,null,null,null,null,null,"~"]
["CONTACT",2020,"DC15",61,null,null,null,null,null,null,null,null,null,null,null,null,null,null,null,null,null,null,"~"]
["CONTACT",2020,"DC15",62,null,null,null,null,null,null,null,null,null,null,null,null,null,null,null,null,null,null,"~"]
["CONTACT",2020,"DC15",63,null,null,null,null,null,null,null,null,null,null,null,null,null,null,null,null,null,null,"~"]
["CONTACT",2020,"DC15",64,null,null,null,null,null,null,null,null,null,null,null,null,null,null,null,null,null,null,"~"]
["CONTACT",2020,"DC15",65,null,null,null,null,null,null,null,null,null,null,null,null,null,null,null,null,null,null,"~"]
["CONTACT",2020,"DC15",66,null,null,null,null,null,null,null,null,null,null,null,null,null,null,null,null,null,null,"~"]
["CONTACT",2020,"DC15",67,null,null,null,null,null,null,null,null,null,null,null,null,null,null,null,null,null,null,"~"]
["CONTACT",2020,"DC15",68,null,null,null,null,null,null,null,null,null,null,null,null,null,null,null,null,null,null,"~"]
["CONTACT",2020,"DC15",69,null,null,null,null,null,null,null,null,null,null,null,null,null,null,null,null,null,null,"~"]
["CONTACT",2020,"DC15",70,null,null,null,null,null,null,null,null,null,null,null,null,null,null,null,null,null,null,"~"]
["CONTACT",2020,"DC15",71,null,null,null,null,null,null,null,null,null,null,null,null,null,null,null,null,null,null,"~"]
["CONTACT",{"$f":"+MTREF","v":2020},{"$f":"LEFT(muni,(FIND(\" \",muni,1)-1))","v":"DC15"},72,null,null,null,null,null,null,null,null,null,null,null,null,null,null,null,null,null,null,"~"]
["CONTACT",2020,"DC15",73,null,null,null,null,null,null,null,null,null,null,null,null,null,null,null,null,null,null,"~"]
["CONTACT",2020,"DC15",74,null,null,null,null,null,null,null,null,null,null,null,null,null,null,null,null,null,null,"~"]
["CONTACT",2020,"DC15",75,null,null,null,null,null,null,null,null,null,null,null,null,null,null,null,null,null,null,"~"]
["CONTACT",2020,"DC15",76,null,null,null,null,null,null,null,null,null,null,null,null,null,null,null,null,null,null,"~"]
["CONTACT",2020,"DC15",77,null,null,null,null,null,null,null,null,null,null,null,null,null,null,null,null,null,null,"~"]
["CONTACT",2020,"DC15",78,null,null,null,null,null,null,null,null,null,null,null,null,null,null,null,null,null,null,"~"]
["CONTACT",2020,"DC15",79,null,null,null,null,null,null,null,null,null,null,null,null,null,null,null,null,null,null,"~"]
["CONTACT",2020,"DC15",80,null,null,null,null,null,null,null,null,null,null,null,null,null,null,null,null,null,null,"~"]
["CONTACT",2020,"DC15",81,null,null,null,null,null,null,null,null,null,null,null,null,null,null,null,null,null,null,"~"]
["CONTACT",2020,"DC15",82,null,null,null,null,null,null,null,null,null,null,null,null,null,null,null,null,null,null,"~"]
["CONTACT",2020,"DC15",83,null,null,null,null,null,null,null,null,null,null,null,null,null,null,null,null,null,null,"~"]
["CONTACT",2020,"DC15",84,null,null,null,null,null,null,null,null,null,null,null,null,null,null,null,null,null,null,"~"]
["CONTACT",2020,"DC15",85,null,null,null,null,null,null,null,null,null,null,null,null,null,null,null,null,null,null,"~"]
["CONTACT",2020,"DC15",86,null,null,null,null,null,null,null,null,null,null,null,null,null,null,null,null,null,null,"~"]
["CONTACT",2020,"DC15",87,null,null,null,null,null,null,null,null,null,null,null,null,null,null,null,null,null,null,"~"]
["CONTACT",2020,"DC15",88,null,null,null,null,null,null,null,null,null,null,null,null,null,null,null,null,null,null,"~"]
["CONTACT",2020,"DC15",89,null,null,null,null,null,null,null,null,null,null,null,null,null,null,null,null,null,null,"~"]
["CONTACT",2020,"DC15",90,null,null,null,null,null,null,null,null,null,null,null,null,null,null,null,null,null,null,"~"]
["CONTACT",2020,"DC15",91,null,null,null,null,null,null,null,null,null,null,null,null,null,null,null,null,null,null,"~"]
["CONTACT",2020,"DC15",92,null,null,null,null,null,null,null,null,null,null,null,null,null,null,null,null,null,null,"~"]
["CONTACT",2020,"DC15",93,null,null,null,null,null,null,null,null,null,null,null,null,null,null,null,null,null,null,"~"]
["CONTACT",2020,"DC15",94,null,null,null,null,null,null,null,null,null,null,null,null,null,null,null,null,null,null,"~"]
["CONTACT",2020,"DC15",95,null,null,null,null,null,null,null,null,null,null,null,null,null,null,null,null,null,null,"~"]
["CONTACT",2020,"DC15",96,null,null,null,null,null,null,null,null,null,null,null,null,null,null,null,null,null,null,"~"]
["CONTACT",2020,"DC15",97,null,null,null,null,null,null,null,null,null,null,null,null,null,null,null,null,null,null,"~"]
["CONTACT",2020,"DC15",98,null,null,null,null,null,null,null,null,null,null,null,null,null,null,null,null,null,null,"~"]
["CONTACT",2020,"DC15",99,null,null,null,null,null,null,null,null,null,null,null,null,null,null,null,null,null,null,"~"]
["CONTACT",2020,"DC15",100,null,null,null,null,null,null,null,null,null,null,null,null,null,null,null,null,null,null,"~"]
["CONTACT",2020,"DC15",101,null,null,null,null,null,null,null,null,null,null,null,null,null,null,null,null,null,null,"~"]
["CONTACT",2020,"DC15",102,null,null,null,null,null,null,null,null,null,null,null,null,null,null,null,null,null,null,"~"]
["CONTACT",2020,"DC15",103,null,null,null,null,null,null,null,null,null,null,null,null,null,null,null,null,null,null,"~"]
["CONTACT",2020,"DC15",104,null,null,null,null,null,null,null,null,null,null,null,null,null,null,null,null,null,null,"~"]
["CONTACT",2020,"DC15",105,null,null,null,null,null,null,null,null,null,null,null,null,null,null,null,null,null,null,"~"]
["CONTACT",2020,"DC15",106,null,null,null,null,null,null,null,null,null,null,null,null,null,null,null,null,null,null,"~"]
["CONTACT",2020,"DC15",107,null,null,null,null,null,null,null,null,null,null,null,null,null,null,null,null,null,null,"~"]
["CONTACT",2020,"DC15",108,null,null,null,null,null,null,null,null,null,null,null,null,null,null,null,null,null,null,"~"]
["CONTACT",2020,"DC15",109,null,null,null,null,null,null,null,null,null,null,null,null,null,null,null,null,null,null,"~"]
["CONTACT",2020,"DC15",110,null,null,null,null,null,null,null,null,null,null,null,null,null,null,null,null,null,null,"~"]
["CONTACT",2020,"DC15",111,null,null,null,null,null,null,null,null,null,null,null,null,null,null,null,null,null,null,"~"]
["CONTACT",2020,"DC15",112,null,null,null,null,null,null,null,null,null,null,null,null,null,null,null,null,null,null,"~"]
["CONTACT",2020,"DC15",113,null,null,null,null,null,null,null,null,null,null,null,null,null,null,null,null,null,null,"~"]
["CONTACT",2020,"DC15",114,null,null,null,null,null,null,null,null,null,null,null,null,null,null,null,null,null,null,"~"]
["CONTACT",2020,"DC15",115,null,null,null,null,null,null,null,null,null,null,null,null,null,null,null,null,null,null,"~"]
["CONTACT",2020,"DC15",116,null,null,null,null,null,null,null,null,null,null,null,null,null,null,null,null,null,null,"~"]
["CONTACT",2020,"DC15",117,null,null,null,null,null,null,null,null,null,null,null,null,null,null,null,null,null,null,"~"]
["CONTACT",2020,"DC15",118,null,null,null,null,null,null,null,null,null,null,null,null,null,null,null,null,null,null,"~"]
["CONTACT",2020,"DC15",119,null,null,null,null,null,null,null,null,null,null,null,null,null,null,null,null,null,null,"~"]
["CONTACT",2020,"DC15",120,null,null,null,null,null,null,null,null,null,null,null,null,null,null,null,null,null,null,"~"]
["CONTACT",2020,"DC15",121,null,null,null,null,null,null,null,null,null,null,null,null,null,null,null,null,null,null,"~"]
["CONTACT",2020,"DC15",122,null,null,null,null,null,null,null,null,null,null,null,null,null,null,null,null,null,null,"~"]
["CONTACT",2020,"DC15",123,null,null,null,null,null,null,null,null,null,null,null,null,null,null,null,null,null,null,"~"]
["CONTACT",2020,"DC15",124,null,null,null,null,null,null,null,null,null,null,null,null,null,null,null,null,null,null,"~"]
["CONTACT",2020,"DC15",125,null,null,null,null,null,null,null,null,null,null,null,null,null,null,null,null,null,null,"~"]
["CONTACT",2020,"DC15",126,null,null,null,null,null,null,null,null,null,null,null,null,null,null,null,null,null,null,"~"]
["CONTACT",2020,"DC15",127,null,null,null,null,null,null,null,null,null,null,null,null,null,null,null,null,null,null,"~"]
["CONTACT",2020,"DC15",128,null,null,null,null,null,null,null,null,null,null,null,null,null,null,null,null,null,null,"~"]
["CONTACT",2020,"DC15",129,null,null,null,null,null,null,null,null,null,null,null,null,null,null,null,null,null,null,"~"]
["CONTACT",2020,"DC15",130,null,null,null,null,null,null,null,null,null,null,null,null,null,null,null,null,null,null,"~"]
["CONTACT",2020,"DC15",131,null,null,null,null,null,null,null,null,null,null,null,null,null,null,null,null,null,null,"~"]
["CONTACT",2020,"DC15",132,null,null,null,null,null,null,null,null,null,null,null,null,null,null,null,null,null,null,"~"]
["CONTACT",2020,"DC15",133,null,null,null,null,null,null,null,null,null,null,null,null,null,null,null,null,null,null,"~"]
["CONTACT",2020,"DC15",134,null,null,null,null,null,null,null,null,null,null,null,null,null,null,null,null,null,null,"~"]
["CONTACT",2020,"DC15",135,null,null,null,null,null,null,null,null,null,null,null,null,null,null,null,null,null,null,"~"]
["CONTACT",2020,"DC15",136,null,null,null,null,null,null,null,null,null,null,null,null,null,null,null,null,null,null,"~"]
["CONTACT",2020,"DC15",137,null,null,null,null,null,null,null,null,null,null,null,null,null,null,null,null,null,null,"~"]
["CONTACT",2020,"DC15",138,null,null,null,null,null,null,null,null,null,null,null,null,null,null,null,null,null,null,"~"]
["SA25",2020,"DC15",0,1,"Revenue By Source",null,null,null,null,null,null,null,null,null,null,null,null,null,null,null,null,"~"]
["SA25",2020,"DC15",0,2,"Property rates",null,null,null,null,null,null,null,null,null,null,null,null,null,null,null,null,"~"]
["SA25",2020,"DC15",0,3,"Property rates - penalties & collection charges",null,null,null,null,null,null,null,null,null,null,null,null,null,null,null,null,"~"]
["SA25",2020,"DC15",0,4,"Service charges - electricity revenue",null,null,null,null,null,null,null,null,null,null,null,null,null,null,null,null,"~"]
["SA25",2020,"DC15",0,5,"Service charges - water revenue",null,null,null,null,null,null,null,null,null,null,null,null,null,null,null,null,"~"]
["SA25",2020,"DC15",0,6,"Service charges - sanitation revenue",null,null,null,null,null,null,null,null,null,null,null,null,null,null,null,null,"~"]
["SA25",2020,"DC15",0,7,"Service charges - refuse revenue",null,null,null,null,null,null,null,null,null,null,null,null,null,null,null,null,"~"]
["SA25",2020,"DC15",0,8,"Service charges - other",null,null,null,null,null,null,null,null,null,null,null,null,null,null,null,null,"~"]
["SA25",2020,"DC15",0,9,"Rental of facilities and equipment",null,null,null,null,null,null,null,null,null,null,null,null,null,null,null,null,"~"]
["SA25",2020,"DC15",0,10,"Interest earned - external investments",null,null,null,null,null,null,null,null,null,null,null,null,null,null,null,null,"~"]
["SA25",2020,"DC15",0,11,"Interest earned - outstanding debtors",null,null,null,null,null,null,null,null,null,null,null,null,null,null,null,null,"~"]
["SA25",2020,"DC15",0,12,"Dividends received",null,null,null,null,null,null,null,null,null,null,null,null,null,null,null,null,"~"]
["SA25",2020,"DC15",0,13,"Fines",null,null,null,null,null,null,null,null,null,null,null,null,null,null,null,null,"~"]
["SA25",2020,"DC15",0,14,"Licences and permits",null,null,null,null,null,null,null,null,null,null,null,null,null,null,null,null,"~"]
["SA25",2020,"DC15",0,15,"Agency services",null,null,null,null,null,null,null,null,null,null,null,null,null,null,null,null,"~"]
["SA25",2020,"DC15",0,16,"Transfers recognised - operational",null,null,null,null,null,null,null,null,null,null,null,null,null,null,null,null,"~"]
["SA25",2020,"DC15",0,17,"Other revenue",null,null,null,null,null,null,null,null,null,null,null,null,null,null,null,null,"~"]
["SA25",2020,"DC15",0,18,"Gains on disposal of PPE",null,null,null,null,null,null,null,null,null,null,null,null,null,null,null,null,"~"]
["SA25",2020,"DC15",0,19,"Total Revenue (excluding capital transfers and contributions)",null,null,null,null,null,null,null,null,null,null,null,null,null,null,null,null,"~"]
["SA25",2020,"DC15",0,20,null,null,null,null,null,null,null,null,null,null,null,null,null,null,null,null,null,"~"]
["SA25",2020,"DC15",0,21,"Expenditure By Type",null,null,null,null,null,null,null,null,null,null,null,null,null,null,null,null,"~"]
["SA25",2020,"DC15",0,22,"Employee related costs",null,null,null,null,null,null,null,null,null,null,null,null,null,null,null,null,"~"]
["SA25",2020,"DC15",0,23,"Remuneration of councillors",null,null,null,null,null,null,null,null,null,null,null,null,null,null,null,null,"~"]
["SA25",2020,"DC15",0,24,"Debt impairment",null,null,null,null,null,null,null,null,null,null,null,null,null,null,null,null,"~"]
["SA25",2020,"DC15",0,25,"Depreciation & asset impairment",null,null,null,null,null,null,null,null,null,null,null,null,null,null,null,null,"~"]
["SA25",2020,"DC15",0,26,"Finance charges",null,null,null,null,null,null,null,null,null,null,null,null,null,null,null,null,"~"]
["SA25",2020,"DC15",0,27,"Bulk purchases",null,null,null,null,null,null,null,null,null,null,null,null,null,null,null,null,"~"]
["SA25",2020,"DC15",0,28,"Other materials",null,null,null,null,null,null,null,null,null,null,null,null,null,null,null,null,"~"]
["SA25",2020,"DC15",0,29,"Contracted services",null,null,null,null,null,null,null,null,null,null,null,null,null,null,null,null,"~"]
["SA25",2020,"DC15",0,30,"Transfers and grants",null,null,null,null,null,null,null,null,null,null,null,null,null,null,null,null,"~"]
["SA25",2020,"DC15",0,31,"Other expenditure",null,null,null,null,null,null,null,null,null,null,null,null,null,null,null,null,"~"]
["SA25",2020,"DC15",0,32,"Loss on disposal of PPE",null,null,null,null,null,null,null,null,null,null,null,null,null,null,null,null,"~"]
["SA25",2020,"DC15",0,33,"Total Expenditure",null,null,null,null,null,null,null,null,null,null,null,null,null,null,null,null,"~"]
["SA25",2020,"DC15",0,34,null,null,null,null,null,null,null,null,null,null,null,null,null,null,null,null,null,"~"]
["SA25",2020,"DC15",0,35,"Surplus/(Deficit)",null,null,null,null,null,null,null,null,null,null,null,null,null,null,null,null,"~"]
["SA25",{"$f":"+MTREF","v":2020},{"$f":"LEFT(muni,(FIND(\" \",muni,1)-1))","v":"DC15"},0,36,"Transfers recognised - capital",null,null,null,null,null,null,null,null,null,null,null,null,null,null,null,null,"~"]
["SA25",2020,"DC15",0,37,"Contributions recognised - capital",null,null,null,null,null,null,null,null,null,null,null,null,null,null,null,null,"~"]
["SA25",2020,"DC15",0,38,"Contributed assets",null,null,null,null,null,null,null,null,null,null,null,null,null,null,null,null,"~"]
["SA25",2020,"DC15",0,39,"Surplus/(Deficit) after capital transfers & contributions",null,null,null,null,null,null,null,null,null,null,null,null,null,null,null,null,"~"]
["SA25",2020,"DC15",0,40,"Taxation",null,null,null,null,null,null,null,null,null,null,null,null,null,null,null,null,"~"]
["SA25",2020,"DC15",0,41,"Attributable to minorities",null,null,null,null,null,null,null,null,null,null,null,null,null,null,null,null,"~"]
["SA25",2020,"DC15",0,44,"Share of surplus/ (deficit) of associate",null,null,null,null,null,null,null,null,null,null,null,null,null,null,null,null,"~"]
["SA27",2020,"DC15",null,null,"Revenue - Standard",null,null,null,null,null,null,null,null,null,null,null,null,null,null,null,null,"~"]
["SA27",2020,"DC15",null,null,"Governance and administration",null,null,null,null,null,null,null,null,null,null,null,null,null,null,null,null,"~"]
["SA27",2020,"DC15",1,11,"Executive and council",null,null,null,null,null,null,null,null,null,null,null,null,null,null,null,null,"~"]
["SA27",2020,"DC15",1,12,"Budget and treasury office",null,null,null,null,null,null,null,null,null,null,null,null,null,null,null,null,"~"]
["SA27",2020,"DC15",1,13,"Corporate services",null,null,null,null,null,null,null,null,null,null,null,null,null,null,null,null,"~"]
["SA27",2020,"DC15",null,null,"Community and public safety",null,null,null,null,null,null,null,null,null,null,null,null,null,null,null,null,"~"]
["SA27",2020,"DC15",1,21,"Community and social services",null,null,null,null,null,null,null,null,null,null,null,null,null,null,null,null,"~"]
["SA27",2020,"DC15",1,22,"Sport and recreation",null,null,null,null,null,null,null,null,null,null,null,null,null,null,null,null,"~"]
["SA27",2020,"DC15",1,23,"Public safety",null,null,null,null,null,null,null,null,null,null,null,null,null,null,null,null,"~"]
["SA27",2020,"DC15",1,24,"Housing",null,null,null,null,null,null,null,null,null,null,null,null,null,null,null,null,"~"]
["SA27",2020,"DC15",1,25,"Health",null,null,null,null,null,null,null,null,null,null,null,null,null,null,null,null,"~"]
["SA27",2020,"DC15",null,null,"Economic and environmental services",null,null,null,null,null,null,null,null,null,null,null,null,null,null,null,null,"~"]
["SA27",2020,"DC15",1,31,"Planning and development",null,null,null,null,null,null,null,null,null,null,null,null,null,null,null,null,"~"]
["SA27",2020,"DC15",1,32,"Road transport",null,null,null,null,null,null,null,null,null,null,null,null,null,null,null,null,"~"]
["SA27",2020,"DC15",1,33,"Environmental protection",null,null,null,null,null,null,null,null,null,null,null,null,null,null,null,null,"~"]
["SA27",2020,"DC15",null,null,"Trading services",null,null,null,null,null,null,null,null,null,null,null,null,null,null,null,null,"~"]
["SA27",2020,"DC15",1,41,"Electricity",null,null,null,null,null,null,null,null,null,null,null,null,null,null,null,null,"~"]
["SA27",2020,"DC15",1,42,"Water",null,null,null,null,null,null,null,null,null,null,null,null,null,null,null,null,"~"]
["SA27",2020,"DC15",1,43,"Waste water management",null,null,null,null,null,null,null,null,null,null,null,null,null,null,null,null,"~"]
["SA27",2020,"DC15",1,44,"Waste management",null,null,null,null,null,null,null,null,null,null,null,null,null,null,null,null,"~"]
["SA27",2020,"DC15",1,45,"Other",null,null,null,null,null,null,null,null,null,null,null,null,null,null,null,null,"~"]
["SA27",2020,"DC15",null,null,"Total Revenue - Standard",null,null,null,null,null,null,null,null,null,null,null,null,null,null,null,null,"~"]
["SA27",2020,"DC15",null,null,null,null,null,null,null,null,null,null,null,null,null,null,null,null,null,null,null,"~"]
["SA27",2020,"DC15",null,null,"Expenditure - Standard",null,null,null,null,null,null,null,null,null,null,null,null,null,null,null,null,"~"]
["SA27",2020,"DC15",null,null,"Governance and administration",null,null,null,null,null,null,null,null,null,null,null,null,null,null,null,null,"~"]
["SA27",2020,"DC15",2,11,"Executive and council",null,null,null,null,null,null,null,null,null,null,null,null,null,null,null,null,"~"]
["SA27",2020,"DC15",2,12,"Budget and treasury office",null,null,null,null,null,null,null,null,null,null,null,null,null,null,null,null,"~"]
["SA27",2020,"DC15",2,13,"Corporate services",null,null,null,null,null,null,null,null,null,null,null,null,null,null,null,null,"~"]
["SA27",2020,"DC15",null,null,"Community and public safety",null,null,null,null,null,null,null,null,null,null,null,null,null,null,null,null,"~"]
["SA27",2020,"DC15",2,21,"Community and social services",null,null,null,null,null,null,null,null,null,null,null,null,null,null,null,null,"~"]
["SA27",2020,"DC15",2,22,"Sport and recreation",null,null,null,null,null,null,null,null,null,null,null,null,null,null,null,null,"~"]
["SA27",2020,"DC15",2,23,"Public safety",null,null,null,null,null,null,null,null,null,null,null,null,null,null,null,null,"~"]
["SA27",2020,"DC15",2,24,"Housing",null,null,null,null,null,null,null,null,null,null,null,null,null,null,null,null,"~"]
["SA27",2020,"DC15",2,25,"Health",null,null,null,null,null,null,null,null,null,null,null,null,null,null,null,null,"~"]
["SA27",2020,"DC15",null,null,"Economic and environmental services",null,null,null,null,null,null,null,null,null,null,null,null,null,null,null,null,"~"]
["SA27",2020,"DC15",2,31,"Planning and development",null,null,null,null,null,null,null,null,null,null,null,null,null,null,null,null,"~"]
["SA27",2020,"DC15",2,32,"Road transport",null,null,null,null,null,null,null,null,null,null,null,null,null,null,null,null,"~"]
["SA27",2020,"DC15",2,33,"Environmental protection",null,null,null,null,null,null,null,null,null,null,null,null,null,null,null,null,"~"]
["SA27",2020,"DC15",null,null,"Trading services",null,null,null,null,null,null,null,null,null,null,null,null,null,null,null,null,"~"]
["SA27",2020,"DC15",2,41,"Electricity",null,null,null,null,null,null,null,null,null,null,null,null,null,null,null,null,"~"]
["SA27",2020,"DC15",2,42,"Water",null,null,null,null,null,null,null,null,null,null,null,null,null,null,null,null,"~"]
["SA27",2020,"DC15",2,43,"Waste water management",null,null,null,null,null,null,null,null,null,null,null,null,null,null,null,null,"~"]
["SA27",2020,"DC15",2,44,"Waste management",null,null,null,null,null,null,null,null,null,null,null,null,null,null,null,null,"~"]
["SA27",2020,"DC15",2,45,"Other",null,null,null,null,null,null,null,null,null,null,null,null,null,null,null,null,"~"]
["SA27",2020,"DC15",null,null,"Total Expenditure - Standard",null,null,null,null,null,null,null,null,null,null,null,null,null,null,null,null,"~"]
["SA29",2020,"DC15",null,null,"Capital Expenditure - Standard",null,null,null,null,null,null,null,null,null,null,null,null,null,null,null,null,"~"]
["SA29",2020,"DC15",null,null,"Governance and administration",null,null,null,null,null,null,null,null,null,null,null,null,null,null,null,null,"~"]
["SA29",2020,"DC15",1,11,"Executive and council",null,null,null,null,null,null,null,null,null,null,null,null,null,null,null,null,"~"]
["SA29",2020,"DC15",1,12,"Budget and treasury office",null,null,null,null,null,null,null,null,null,null,null,null,null,null,null,null,"~"]
["SA29",2020,"DC15",1,13,"Corporate services",null,null,null,null,null,null,null,null,null,null,null,null,null,null,null,null,"~"]
["SA29",2020,"DC15",null,null,"Community and public safety",null,null,null,null,null,null,null,null,null,null,null,null,null,null,null,null,"~"]
["SA29",2020,"DC15",1,21,"Community and social services",null,null,null,null,null,null,null,null,null,null,null,null,null,null,null,null,"~"]
["SA29",2020,"DC15",1,22,"Sport and recreation",null,null,null,null,null,null,null,null,null,null,null,null,null,null,null,null,"~"]
["SA29",2020,"DC15",1,23,"Public safety",null,null,null,null,null,null,null,null,null,null,null,null,null,null,null,null,"~"]
["SA29",2020,"DC15",1,24,"Housing",null,null,null,null,null,null,null,null,null,null,null,null,null,null,null,null,"~"]
["SA29",2020,"DC15",1,25,"Health",null,null,null,null,null,null,null,null,null,null,null,null,null,null,null,null,"~"]
["SA29",2020,"DC15",null,null,"Economic and environmental services",null,null,null,null,null,null,null,null,null,null,null,null,null,null,null,null,"~"]
["SA29",{"$f":"+MTREF","v":2020},{"$f":"LEFT(muni,(FIND(\" \",muni,1)-1))","v":"DC15"},1,31,"Planning and development",null,null,null,null,null,null,null,null,null,null,null,null,null,null,null,null,"~"]
["SA29",2020,"DC15",1,32,"Road transport",null,null,null,null,null,null,null,null,null,null,null,null,null,null,null,null,"~"]
["SA29",2020,"DC15",1,33,"Environmental protection",null,null,null,null,null,null,null,null,null,null,null,null,null,null,null,null,"~"]
["SA29",2020,"DC15",null,null,"Trading services",null,null,null,null,null,null,null,null,null,null,null,null,null,null,null,null,"~"]
["SA29",2020,"DC15",1,41,"Electricity",null,null,null,null,null,null,null,null,null,null,null,null,null,null,null,null,"~"]
["SA29",2020,"DC15",1,42,"Water",null,null,null,null,null,null,null,null,null,null,null,null,null,null,null,null,"~"]
["SA29",2020,"DC15",1,43,"Waste water management",null,null,null,null,null,null,null,null,null,null,null,null,null,null,null,null,"~"]
["SA29",2020,"DC15",1,44,"Waste management",null,null,null,null,null,null,null,null,null,null,null,null,null,null,null,null,"~"]
["SA29",2020,"DC15",1,45,"Other",null,null,null,null,null,null,null,null,null,null,null,null,null,null,null,null,"~"]
["SA29",2020,"DC15",null,null,"Total Capital Expenditure - Standard",null,null,null,null,null,null,null,null,null,null,null,null,null,null,null,null,"~"]
["SA29",2020,"DC15",null,null,null,null,null,null,null,null,null,null,null,null,null,null,null,null,null,null,null,"~"]
["SA29",2020,"DC15",2,50,"Funded by:",null,null,null,null,null,null,null,null,null,null,null,null,null,null,null,null,"~"]
["SA29",2020,"DC15",2,51,"National Government",null,null,null,null,null,null,null,null,null,null,null,null,null,null,null,null,"~"]
["SA29",2020,"DC15",2,52,"Provincial Government",null,null,null,null,null,null,null,null,null,null,null,null,null,null,null,null,"~"]
["SA29",2020,"DC15",2,53,"District Municipality",null,null,null,null,null,null,null,null,null,null,null,null,null,null,null,null,"~"]
["SA29",2020,"DC15",2,54,"Other transfers and grants",null,null,null,null,null,null,null,null,null,null,null,null,null,null,null,null,"~"]
["SA29",2020,"DC15",2,55,"Transfers recognised - capital",null,null,null,null,null,null,null,null,null,null,null,null,null,null,null,null,"~"]
["SA29",2020,"DC15",2,56,"Public contributions & donations",null,null,null,null,null,null,null,null,null,null,null,null,null,null,null,null,"~"]
["SA29",2020,"DC15",2,57,"Borrowing",null,null,null,null,null,null,null,null,null,null,null,null,null,null,null,null,"~"]
["SA29",2020,"DC15",2,58,"Internally generated funds",null,null,null,null,null,null,null,null,null,null,null,null,null,null,null,null,"~"]
["SA29",2020,"DC15",2,59,"Total Capital Funding",null,null,null,null,null,null,null,null,null,null,null,null,null,null,null,null,"~"]